Workbook

Sheet samle
A1: Kommune | B1: 2024 grp. 200 | C1: 2024 6.45 | D1: 2024 i alt | E1: 2024 i alt (2025 p/l) | F1: 2024 pr. indb. (2025 p/l) | G1: Indeks 2024 | H1: 2025 grp.200 | I1: 2025 6.45 | J1: 2025 i alt | K1: 2025 pr. indb. | L1: Indeks 2025 | M1: 2024-2025 | N1: 2024-2025 pct. | O1: 2024-2025 pr. indb. | P1: Difference indeks
A2: Hele landet | B2: =_xlfn.XLOOKUP(A2,grp.200!E:E,grp.200!F:F) -> 10420079 | C2: =_xlfn.XLOOKUP(A2,'6.45'!A:A,'6.45'!B:B) -> 38876171 | D2: =C2+B2 -> 49296250 | E2: =D2*1.037 -> 51120211 | F2: =E2*1000/_xlfn.XLOOKUP(A2,FOLK1A!A:A,FOLK1A!B:B) -> 8575.4196 | G2: =(F2/$F$2*100) -> 100 | H2: =_xlfn.XLOOKUP(A2,grp.200!E:E,grp.200!G:G) -> 11099914 | I2: =_xlfn.XLOOKUP(A2,'6.45'!A:A,'6.45'!C:C) -> 41021869 | J2: =I2+H2 -> 52121783 | K2: =J2*1000/_xlfn.XLOOKUP(A2,FOLK1A!A:A,FOLK1A!C:C) -> 8697.4965 | L2: =(K2/$K$2*100) -> 100 | M2: =J2-E2 -> 1001571.8 | N2: =M2/E2*100 -> 1.9592481 | O2: =K2-F2 -> 122.07695 | P2: =L2-G2 -> 0
A3: København | B3: =_xlfn.XLOOKUP(A3,grp.200!E:E,grp.200!F:F) -> 656961 | C3: =_xlfn.XLOOKUP(A3,'6.45'!A:A,'6.45'!B:B) -> 4813408 | D3: =C3+B3 -> 5470369 | E3: =D3*1.037 -> 5672772.7 | F3: =E3*1000/_xlfn.XLOOKUP(A3,FOLK1A!A:A,FOLK1A!B:B) -> 8603.5833 | G3: =(F3/$F$2*100) -> 100.32842 | H3: =_xlfn.XLOOKUP(A3,grp.200!E:E,grp.200!G:G) -> 777700 | I3: =_xlfn.XLOOKUP(A3,'6.45'!A:A,'6.45'!C:C) -> 5235596 | J3: =I3+H3 -> 6013296 | K3: =J3*1000/_xlfn.XLOOKUP(A3,FOLK1A!A:A,FOLK1A!C:C) -> 9014.0984 | L3: =(K3/$K$2*100) -> 103.64015 | M3: =J3-E3 -> 340523.35 | N3: =M3/E3*100 -> 6.0027674 | O3: =K3-F3 -> 410.51505 | P3: =L3-G3 -> 3.3117251 | T3: Antal kommuner der bruger mere i 2025 | U3: =COUNTIF(O3:O100,">0") -> 65
A4: Frederiksberg | B4: =_xlfn.XLOOKUP(A4,grp.200!E:E,grp.200!F:F) -> 71394 | C4: =_xlfn.XLOOKUP(A4,'6.45'!A:A,'6.45'!B:B) -> 653412 | D4: =C4+B4 -> 724806 | E4: =D4*1.037 -> 751623.82 | F4: =E4*1000/_xlfn.XLOOKUP(A4,FOLK1A!A:A,FOLK1A!B:B) -> 7165.2144 | G4: =(F4/$F$2*100) -> 83.555263 | H4: =_xlfn.XLOOKUP(A4,grp.200!E:E,grp.200!G:G) -> 73451 | I4: =_xlfn.XLOOKUP(A4,'6.45'!A:A,'6.45'!C:C) -> 671271 | J4: =I4+H4 -> 744722 | K4: =J4*1000/_xlfn.XLOOKUP(A4,FOLK1A!A:A,FOLK1A!C:C) -> 7036.3001 | L4: =(K4/$K$2*100) -> 80.900292 | M4: =J4-E4 -> -6901.822 | N4: =M4/E4*100 -> -0.91825482 | O4: =K4-F4 -> -128.91429 | P4: =L4-G4 -> -2.654971 | T4: Antal kommuner der bruger mindre i 2025 | U4: =COUNTIF(O3:O100,"<0") -> 33
A5: Dragør | B5: =_xlfn.XLOOKUP(A5,grp.200!E:E,grp.200!F:F) -> 33680 | C5: =_xlfn.XLOOKUP(A5,'6.45'!A:A,'6.45'!B:B) -> 118391 | D5: =C5+B5 -> 152071 | E5: =D5*1.037 -> 157697.63 | F5: =E5*1000/_xlfn.XLOOKUP(A5,FOLK1A!A:A,FOLK1A!B:B) -> 10824.19 | G5: =(F5/$F$2*100) -> 126.22345 | H5: =_xlfn.XLOOKUP(A5,grp.200!E:E,grp.200!G:G) -> 42590 | I5: =_xlfn.XLOOKUP(A5,'6.45'!A:A,'6.45'!C:C) -> 124626 | J5: =I5+H5 -> 167216 | K5: =J5*1000/_xlfn.XLOOKUP(A5,FOLK1A!A:A,FOLK1A!C:C) -> 11572.042 | L5: =(K5/$K$2*100) -> 133.05026 | M5: =J5-E5 -> 9518.373 | N5: =M5/E5*100 -> 6.0358378 | O5: =K5-F5 -> 747.85132 | P5: =L5-G5 -> 6.8268104
A6: Tårnby | B6: =_xlfn.XLOOKUP(A6,grp.200!E:E,grp.200!F:F) -> 82558 | C6: =_xlfn.XLOOKUP(A6,'6.45'!A:A,'6.45'!B:B) -> 287100 | D6: =C6+B6 -> 369658 | E6: =D6*1.037 -> 383335.35 | F6: =E6*1000/_xlfn.XLOOKUP(A6,FOLK1A!A:A,FOLK1A!B:B) -> 8729.0299 | G6: =(F6/$F$2*100) -> 101.79129 | H6: =_xlfn.XLOOKUP(A6,grp.200!E:E,grp.200!G:G) -> 100757 | I6: =_xlfn.XLOOKUP(A6,'6.45'!A:A,'6.45'!C:C) -> 297966 | J6: =I6+H6 -> 398723 | K6: =J6*1000/_xlfn.XLOOKUP(A6,FOLK1A!A:A,FOLK1A!C:C) -> 9054.8894 | L6: =(K6/$K$2*100) -> 104.10915 | M6: =J6-E6 -> 15387.654 | N6: =M6/E6*100 -> 4.0141495 | O6: =K6-F6 -> 325.85955 | P6: =L6-G6 -> 2.3178607
A7: Albertslund | B7: =_xlfn.XLOOKUP(A7,grp.200!E:E,grp.200!F:F) -> 49719 | C7: =_xlfn.XLOOKUP(A7,'6.45'!A:A,'6.45'!B:B) -> 245996 | D7: =C7+B7 -> 295715 | E7: =D7*1.037 -> 306656.45 | F7: =E7*1000/_xlfn.XLOOKUP(A7,FOLK1A!A:A,FOLK1A!B:B) -> 11079.83 | G7: =(F7/$F$2*100) -> 129.20452 | H7: =_xlfn.XLOOKUP(A7,grp.200!E:E,grp.200!G:G) -> 50549 | I7: =_xlfn.XLOOKUP(A7,'6.45'!A:A,'6.45'!C:C) -> 256456 | J7: =I7+H7 -> 307005 | K7: =J7*1000/_xlfn.XLOOKUP(A7,FOLK1A!A:A,FOLK1A!C:C) -> 10918.839 | L7: =(K7/$K$2*100) -> 125.54002 | M7: =J7-E7 -> 348.545 | N7: =M7/E7*100 -> 0.11365976 | O7: =K7-F7 -> -160.99087 | P7: =L7-G7 -> -3.6645005
A8: Ballerup | B8: =_xlfn.XLOOKUP(A8,grp.200!E:E,grp.200!F:F) -> 158391 | C8: =_xlfn.XLOOKUP(A8,'6.45'!A:A,'6.45'!B:B) -> 384897 | D8: =C8+B8 -> 543288 | E8: =D8*1.037 -> 563389.66 | F8: =E8*1000/_xlfn.XLOOKUP(A8,FOLK1A!A:A,FOLK1A!B:B) -> 10995.758 | G8: =(F8/$F$2*100) -> 128.22414 | H8: =_xlfn.XLOOKUP(A8,grp.200!E:E,grp.200!G:G) -> 180080 | I8: =_xlfn.XLOOKUP(A8,'6.45'!A:A,'6.45'!C:C) -> 423665 | J8: =I8+H8 -> 603745 | K8: =J8*1000/_xlfn.XLOOKUP(A8,FOLK1A!A:A,FOLK1A!C:C) -> 11404.541 | L8: =(K8/$K$2*100) -> 131.12441 | M8: =J8-E8 -> 40355.344 | N8: =M8/E8*100 -> 7.1629544 | O8: =K8-F8 -> 408.78301 | P8: =L8-G8 -> 2.9002701
A9: Brøndby | B9: =_xlfn.XLOOKUP(A9,grp.200!E:E,grp.200!F:F) -> 115992 | C9: =_xlfn.XLOOKUP(A9,'6.45'!A:A,'6.45'!B:B) -> 283121 | D9: =C9+B9 -> 399113 | E9: =D9*1.037 -> 413880.18 | F9: =E9*1000/_xlfn.XLOOKUP(A9,FOLK1A!A:A,FOLK1A!B:B) -> 10594.112 | G9: =(F9/$F$2*100) -> 123.54045 | H9: =_xlfn.XLOOKUP(A9,grp.200!E:E,grp.200!G:G) -> 125235 | I9: =_xlfn.XLOOKUP(A9,'6.45'!A:A,'6.45'!C:C) -> 304321 | J9: =I9+H9 -> 429556 | K9: =J9*1000/_xlfn.XLOOKUP(A9,FOLK1A!A:A,FOLK1A!C:C) -> 10632.311 | L9: =(K9/$K$2*100) -> 122.24565 | M9: =J9-E9 -> 15675.819 | N9: =M9/E9*100 -> 3.7875259 | O9: =K9-F9 -> 38.19889 | P9: =L9-G9 -> -1.2948039
A10: Gentofte | B10: =_xlfn.XLOOKUP(A10,grp.200!E:E,grp.200!F:F) -> 59314 | C10: =_xlfn.XLOOKUP(A10,'6.45'!A:A,'6.45'!B:B) -> 400379 | D10: =C10+B10 -> 459693 | E10: =D10*1.037 -> 476701.64 | F10: =E10*1000/_xlfn.XLOOKUP(A10,FOLK1A!A:A,FOLK1A!B:B) -> 6353.2265 | G10: =(F10/$F$2*100) -> 74.08648 | H10: =_xlfn.XLOOKUP(A10,grp.200!E:E,grp.200!G:G) -> 71432 | I10: =_xlfn.XLOOKUP(A10,'6.45'!A:A,'6.45'!C:C) -> 430235 | J10: =I10+H10 -> 501667 | K10: =J10*1000/_xlfn.XLOOKUP(A10,FOLK1A!A:A,FOLK1A!C:C) -> 6682.1221 | L10: =(K10/$K$2*100) -> 76.828109 | M10: =J10-E10 -> 24965.359 | N10: =M10/E10*100 -> 5.2371036 | O10: =K10-F10 -> 328.89566 | P10: =L10-G10 -> 2.7416297
A11: Gladsaxe | B11: =_xlfn.XLOOKUP(A11,grp.200!E:E,grp.200!F:F) -> 134079 | C11: =_xlfn.XLOOKUP(A11,'6.45'!A:A,'6.45'!B:B) -> 487055 | D11: =C11+B11 -> 621134 | E11: =D11*1.037 -> 644115.96 | F11: =E11*1000/_xlfn.XLOOKUP(A11,FOLK1A!A:A,FOLK1A!B:B) -> 9123.4555 | G11: =(F11/$F$2*100) -> 106.39078 | H11: =_xlfn.XLOOKUP(A11,grp.200!E:E,grp.200!G:G) -> 123861 | I11: =_xlfn.XLOOKUP(A11,'6.45'!A:A,'6.45'!C:C) -> 543275 | J11: =I11+H11 -> 667136 | K11: =J11*1000/_xlfn.XLOOKUP(A11,FOLK1A!A:A,FOLK1A!C:C) -> 9401.8433 | L11: =(K11/$K$2*100) -> 108.09827 | M11: =J11-E11 -> 23020.042 | N11: =M11/E11*100 -> 3.5738972 | O11: =K11-F11 -> 278.38785 | P11: =L11-G11 -> 1.7074941
A12: Glostrup | B12: =_xlfn.XLOOKUP(A12,grp.200!E:E,grp.200!F:F) -> 63145 | C12: =_xlfn.XLOOKUP(A12,'6.45'!A:A,'6.45'!B:B) -> 169210 | D12: =C12+B12 -> 232355 | E12: =D12*1.037 -> 240952.13 | F12: =E12*1000/_xlfn.XLOOKUP(A12,FOLK1A!A:A,FOLK1A!B:B) -> 10186.097 | G12: =(F12/$F$2*100) -> 118.7825 | H12: =_xlfn.XLOOKUP(A12,grp.200!E:E,grp.200!G:G) -> 67023 | I12: =_xlfn.XLOOKUP(A12,'6.45'!A:A,'6.45'!C:C) -> 174431 | J12: =I12+H12 -> 241454 | K12: =J12*1000/_xlfn.XLOOKUP(A12,FOLK1A!A:A,FOLK1A!C:C) -> 9709.0353 | L12: =(K12/$K$2*100) -> 111.63023 | M12: =J12-E12 -> 501.865 | N12: =M12/E12*100 -> 0.20828411 | O12: =K12-F12 -> -477.0621 | P12: =L12-G12 -> -7.1522666
A13: Herlev | B13: =_xlfn.XLOOKUP(A13,grp.200!E:E,grp.200!F:F) -> 59349 | C13: =_xlfn.XLOOKUP(A13,'6.45'!A:A,'6.45'!B:B) -> 207431 | D13: =C13+B13 -> 266780 | E13: =D13*1.037 -> 276650.86 | F13: =E13*1000/_xlfn.XLOOKUP(A13,FOLK1A!A:A,FOLK1A!B:B) -> 9259.9699 | G13: =(F13/$F$2*100) -> 107.9827 | H13: =_xlfn.XLOOKUP(A13,grp.200!E:E,grp.200!G:G) -> 67445 | I13: =_xlfn.XLOOKUP(A13,'6.45'!A:A,'6.45'!C:C) -> 206236 | J13: =I13+H13 -> 273681 | K13: =J13*1000/_xlfn.XLOOKUP(A13,FOLK1A!A:A,FOLK1A!C:C) -> 8890.3651 | L13: =(K13/$K$2*100) -> 102.21752 | M13: =J13-E13 -> -2969.86 | N13: =M13/E13*100 -> -1.0735047 | O13: =K13-F13 -> -369.60475 | P13: =L13-G13 -> -5.7651847
A14: Hvidovre | B14: =_xlfn.XLOOKUP(A14,grp.200!E:E,grp.200!F:F) -> 133524 | C14: =_xlfn.XLOOKUP(A14,'6.45'!A:A,'6.45'!B:B) -> 396873 | D14: =C14+B14 -> 530397 | E14: =D14*1.037 -> 550021.69 | F14: =E14*1000/_xlfn.XLOOKUP(A14,FOLK1A!A:A,FOLK1A!B:B) -> 10231.058 | G14: =(F14/$F$2*100) -> 119.30679 | H14: =_xlfn.XLOOKUP(A14,grp.200!E:E,grp.200!G:G) -> 144447 | I14: =_xlfn.XLOOKUP(A14,'6.45'!A:A,'6.45'!C:C) -> 413763 | J14: =I14+H14 -> 558210 | K14: =J14*1000/_xlfn.XLOOKUP(A14,FOLK1A!A:A,FOLK1A!C:C) -> 10383.371 | L14: =(K14/$K$2*100) -> 119.38344 | M14: =J14-E14 -> 8188.311 | N14: =M14/E14*100 -> 1.4887251 | O14: =K14-F14 -> 152.31233 | P14: =L14-G14 -> 0.076645517
A15: Høje-Taastrup | B15: =_xlfn.XLOOKUP(A15,grp.200!E:E,grp.200!F:F) -> 105893 | C15: =_xlfn.XLOOKUP(A15,'6.45'!A:A,'6.45'!B:B) -> 401332 | D15: =C15+B15 -> 507225 | E15: =D15*1.037 -> 525992.32 | F15: =E15*1000/_xlfn.XLOOKUP(A15,FOLK1A!A:A,FOLK1A!B:B) -> 9141.3334 | G15: =(F15/$F$2*100) -> 106.59926 | H15: =_xlfn.XLOOKUP(A15,grp.200!E:E,grp.200!G:G) -> 108195 | I15: =_xlfn.XLOOKUP(A15,'6.45'!A:A,'6.45'!C:C) -> 423721 | J15: =I15+H15 -> 531916 | K15: =J15*1000/_xlfn.XLOOKUP(A15,FOLK1A!A:A,FOLK1A!C:C) -> 9006.5189 | L15: =(K15/$K$2*100) -> 103.553 | M15: =J15-E15 -> 5923.675 | N15: =M15/E15*100 -> 1.1261904 | O15: =K15-F15 -> -134.81452 | P15: =L15-G15 -> -3.0462517
A16: Ishøj | B16: =_xlfn.XLOOKUP(A16,grp.200!E:E,grp.200!F:F) -> 56942 | C16: =_xlfn.XLOOKUP(A16,'6.45'!A:A,'6.45'!B:B) -> 213611 | D16: =C16+B16 -> 270553 | E16: =D16*1.037 -> 280563.46 | F16: =E16*1000/_xlfn.XLOOKUP(A16,FOLK1A!A:A,FOLK1A!B:B) -> 11856.631 | G16: =(F16/$F$2*100) -> 138.26299 | H16: =_xlfn.XLOOKUP(A16,grp.200!E:E,grp.200!G:G) -> 62927 | I16: =_xlfn.XLOOKUP(A16,'6.45'!A:A,'6.45'!C:C) -> 240545 | J16: =I16+H16 -> 303472 | K16: =J16*1000/_xlfn.XLOOKUP(A16,FOLK1A!A:A,FOLK1A!C:C) -> 12455.243 | L16: =(K16/$K$2*100) -> 143.20492 | M16: =J16-E16 -> 22908.539 | N16: =M16/E16*100 -> 8.1651898 | O16: =K16-F16 -> 598.61211 | P16: =L16-G16 -> 4.9419379
... A100: Aalborg | B100: =_xlfn.XLOOKUP(A100,grp.200!E:E,grp.200!F:F) -> 245558 | C100: =_xlfn.XLOOKUP(A100,'6.45'!A:A,'6.45'!B:B) -> 1271247 | D100: =C100+B100 -> 1516805 | E100: =D100*1.037 -> 1572926.8 | F100: =E100*1000/_xlfn.XLOOKUP(A100,FOLK1A!A:A,FOLK1A!B:B) -> 7047.984 | G100: =(F100/$F$2*100) -> 82.188212 | H100: =_xlfn.XLOOKUP(A100,grp.200!E:E,grp.200!G:G) -> 307873 | I100: =_xlfn.XLOOKUP(A100,'6.45'!A:A,'6.45'!C:C) -> 1326710 | J100: =I100+H100 -> 1634583 | K100: =J100*1000/_xlfn.XLOOKUP(A100,FOLK1A!A:A,FOLK1A!C:C) -> 7277.3627 | L100: =(K100/$K$2*100) -> 83.671925 | M100: =J100-E100 -> 61656.215 | N100: =M100/E100*100 -> 3.9198401 | O100: =K100-F100 -> 229.37872 | P100: =L100-G100 -> 1.4837128

Sheet grp.200
A1: Kommunernes regnskaber på gruppering uden tekst efter prisenhed, art,
A2: gruppering, dranst, område og tid
A5: Løbende priser (1.000 kr.)
B6: I alt (netto)
C7: 200
D8: 1 Driftskonti | E8: Kommune | F8: 2024 | G8: 2025
E9: Hele landet | F9: 10420079 | G9: 11099914
E10: København | F10: 656961 | G10: 777700
E11: Frederiksberg | F11: 71394 | G11: 73451
E12: Dragør | F12: 33680 | G12: 42590
E13: Tårnby | F13: 82558 | G13: 100757
E14: Albertslund | F14: 49719 | G14: 50549
E15: Ballerup | F15: 158391 | G15: 180080
E16: Brøndby | F16: 115992 | G16: 125235
E17: Gentofte | F17: 59314 | G17: 71432
E18: Gladsaxe | F18: 134079 | G18: 123861
E19: Glostrup | F19: 63145 | G19: 67023
E20: Herlev | F20: 59349 | G20: 67445
... E107: Aalborg | F107: 245558 | G107: 307873
A109: Data bliver ikke revideret. Senere rettelser kan dog forekomme, hvis
A110: der opdages fejl i data eller databehandlingen. Disse rettelser vil
A111: slå igennem i statistikken som enten ekstraordinære rettelser eller i
A112: forbindelse med planlagte opdateringer af statistikken. Se alle
A113: ændringer i tabellerne siden december 2020 vedrørende budgetter og
A114: årsregnskaber for kommuner og regioner i Statistikdokumentationen
A115: under &quot;Præcision og pålidelighed&quot; (Praksis for revisioner):
A116: https://www.dst.dk/da/Statistik/dokumentation/statistikdokumentation/-
A117: budgetter-og-aarsregnskaber-for-kommuner-og-regioner/praecision-og-pa-
A118: alidelighed
A120: Beregnet værdi: grp.200
A121: Sum (værdi nr. 1 + 2 + 3 + 4 + 5 + 6 + 7 + 8 + 9 + 10 + 11 + 12 +
... A124: 41 + 42) for variablen funktion. Udelad oprindelige værdier

Sheet FOLK1A
A1: Befolkningen den 1. i kvartalet efter område og tid
A2: Enhed: Antal
B3: 2024K1 | C3: 2025K1
A4: Hele landet | B4: 5961249 | C4: 5992734
A5: København | B5: 659350 | C5: 667099
A6: Frederiksberg | B6: 104899 | C6: 105840
A7: Dragør | B7: 14569 | C7: 14450
A8: Tårnby | B8: 43915 | C8: 44034
A9: Albertslund | B9: 27677 | C9: 28117
A10: Ballerup | B10: 51237 | C10: 52939
A11: Brøndby | B11: 39067 | C11: 40401
A12: Gentofte | B12: 75033 | C12: 75076
A13: Gladsaxe | B13: 70600 | C13: 70958
A14: Glostrup | B14: 23655 | C14: 24869
A15: Herlev | B15: 29876 | C15: 30784
... A103: Aalborg | B103: 223174 | C103: 224612

Sheet 6.45
B1: 2024 | C1: 2025
A2: Hele landet | B2: 38876171 | C2: 41021869
A3: København | B3: 4813408 | C3: 5235596
A4: Frederiksberg | B4: 653412 | C4: 671271
A5: Dragør | B5: 118391 | C5: 124626
A6: Tårnby | B6: 287100 | C6: 297966
A7: Albertslund | B7: 245996 | C7: 256456
A8: Ballerup | B8: 384897 | C8: 423665
A9: Brøndby | B9: 283121 | C9: 304321
A10: Gentofte | B10: 400379 | C10: 430235
A11: Gladsaxe | B11: 487055 | C11: 543275
A12: Glostrup | B12: 169210 | C12: 174431
A13: Herlev | B13: 207431 | C13: 206236
... A100: Aalborg | B100: 1271247 | C100: 1326710
