Workbook

Sheet AdministrativeStillinger
A1: Kommune | B1: Adm. Støtte og ledelse 2024 | C1: Adm. Støtte og ledelse 2025 | D1: Adm. Støtte og ledelse 2024-2025 | E1: Adm. Støtte og ledelse 2024-2025 pct | F1: Decentrale ledere 2024 | G1: Decentrale ledere 2025 | H1: Decentrale ledere 2024-2025 | I1: Decentrale ledere 2024-2025 pct. | J1: Myndighedspersonale 2024 | K1: Myndighedspersonale 2025 | L1: Myndighedspersonale 2024-2025 | M1: Myndighedspersonale 2024-2025 pct. | N1: I alt 2024 | O1: I alt 2025 | P1: 2024-2025 I alt | Q1: 2024-2025 I alt pct. | R1: 2024 alle stillinger | S1: 2025 alle stillinger | T1: 2024-2025 alle stillinger | U1: 2024-2025 alle stillinger pct. | V1: 2024 andel af alle stillinger | W1: 2025 andel af alle stillinger | X1: 2024-2025 andel af alle stillinger
A2: Udvalgte population | B2: =_xlfn.XLOOKUP($A2,AdministrativeStoettefunktioner!$A:$A,AdministrativeStoettefunktioner!B:B) -> 46683.921 | C2: =_xlfn.XLOOKUP($A2,AdministrativeStoettefunktioner!$A:$A,AdministrativeStoettefunktioner!C:C) -> 47905.119 | D2: =C2-B2 -> 1221.1973 | E2: =D2/B2*100 -> 2.6158841 | F2: =_xlfn.XLOOKUP($A2,Decentraleledere!$A:$A,Decentraleledere!B:B) -> 18349.189 | G2: =_xlfn.XLOOKUP($A2,Decentraleledere!$A:$A,Decentraleledere!C:C) -> 18756.443 | H2: =G2-F2 -> 407.25438 | I2: =H2/F2*100 -> 2.2194681 | J2: =_xlfn.XLOOKUP($A2,Myndighedspersonale!$A:$A,Myndighedspersonale!B:B) -> 22815.268 | K2: =_xlfn.XLOOKUP($A2,Myndighedspersonale!$A:$A,Myndighedspersonale!C:C) -> 22946.184 | L2: =K2-J2 -> 130.91573 | M2: =L2/J2*100 -> 0.57380754 | N2: =SUM(B2,F2,J2) -> 87848.378 | O2: =SUM(C2,G2,K2) -> 89607.745 | P2: =O2-N2 -> 1759.3674 | Q2: =P2/N2*100 -> 2.0027318 | R2: =_xlfn.XLOOKUP($A2,'Alle stillinger'!$A:$A,'Alle stillinger'!B:B) -> 417092.65 | S2: =_xlfn.XLOOKUP($A2,'Alle stillinger'!$A:$A,'Alle stillinger'!C:C) -> 422971.17 | T2: =S2-R2 -> 5878.5214 | U2: =T2/R2*100 -> 1.4094042 | V2: =N2/_xlfn.XLOOKUP($A2,'Alle stillinger'!$A:$A,'Alle stillinger'!B:B)*100 -> 21.062078 | W2: =O2/_xlfn.XLOOKUP($A2,'Alle stillinger'!$A:$A,'Alle stillinger'!C:C)*100 -> 21.185308 | X2: =W2-V2 -> 0.1232303 | AA2: Kommuner med flere stillinger i 2025 | AB2: =COUNTIF(P3:P100,">0") -> 80
A3: Aabenraa | B3: =_xlfn.XLOOKUP($A3,AdministrativeStoettefunktioner!$A:$A,AdministrativeStoettefunktioner!B:B) -> 442.21085 | C3: =_xlfn.XLOOKUP($A3,AdministrativeStoettefunktioner!$A:$A,AdministrativeStoettefunktioner!C:C) -> 457.98194 | D3: =C3-B3 -> 15.771089 | E3: =D3/B3*100 -> 3.5664184 | F3: =_xlfn.XLOOKUP($A3,Decentraleledere!$A:$A,Decentraleledere!B:B) -> 173.42186 | G3: =_xlfn.XLOOKUP($A3,Decentraleledere!$A:$A,Decentraleledere!C:C) -> 182.70063 | H3: =G3-F3 -> 9.2787746 | I3: =H3/F3*100 -> 5.3504067 | J3: =_xlfn.XLOOKUP($A3,Myndighedspersonale!$A:$A,Myndighedspersonale!B:B) -> 176.46331 | K3: =_xlfn.XLOOKUP($A3,Myndighedspersonale!$A:$A,Myndighedspersonale!C:C) -> 169.24449 | L3: =K3-J3 -> -7.2188141 | M3: =L3/J3*100 -> -4.0908301 | N3: =SUM(B3,F3,J3) -> 792.09602 | O3: =SUM(C3,G3,K3) -> 809.92707 | P3: =O3-N3 -> 17.83105 | Q3: =P3/N3*100 -> 2.2511223 | R3: =_xlfn.XLOOKUP($A3,'Alle stillinger'!$A:$A,'Alle stillinger'!B:B) -> 3987.9794 | S3: =_xlfn.XLOOKUP($A3,'Alle stillinger'!$A:$A,'Alle stillinger'!C:C) -> 4047.0319 | T3: =S3-R3 -> 59.052499 | U3: =T3/R3*100 -> 1.4807624 | V3: =N3/_xlfn.XLOOKUP($A3,'Alle stillinger'!$A:$A,'Alle stillinger'!B:B)*100 -> 19.862089 | W3: =O3/_xlfn.XLOOKUP($A3,'Alle stillinger'!$A:$A,'Alle stillinger'!C:C)*100 -> 20.012866 | X3: =W3-V3 -> 0.15077692 | AA3: Kommuner med færre stillinger i 2025 | AB3: =COUNTIF(P3:P100,"<0") -> 18
A4: Aalborg | B4: =_xlfn.XLOOKUP($A4,AdministrativeStoettefunktioner!$A:$A,AdministrativeStoettefunktioner!B:B) -> 1428.1315 | C4: =_xlfn.XLOOKUP($A4,AdministrativeStoettefunktioner!$A:$A,AdministrativeStoettefunktioner!C:C) -> 1472.4078 | D4: =C4-B4 -> 44.276317 | E4: =D4/B4*100 -> 3.1002969 | F4: =_xlfn.XLOOKUP($A4,Decentraleledere!$A:$A,Decentraleledere!B:B) -> 746.29743 | G4: =_xlfn.XLOOKUP($A4,Decentraleledere!$A:$A,Decentraleledere!C:C) -> 758.89495 | H4: =G4-F4 -> 12.59752 | I4: =H4/F4*100 -> 1.6880026 | J4: =_xlfn.XLOOKUP($A4,Myndighedspersonale!$A:$A,Myndighedspersonale!B:B) -> 1095.7217 | K4: =_xlfn.XLOOKUP($A4,Myndighedspersonale!$A:$A,Myndighedspersonale!C:C) -> 1109.1476 | L4: =K4-J4 -> 13.425868 | M4: =L4/J4*100 -> 1.225299 | N4: =SUM(B4,F4,J4) -> 3270.1507 | O4: =SUM(C4,G4,K4) -> 3340.4504 | P4: =O4-N4 -> 70.299705 | Q4: =P4/N4*100 -> 2.149739 | R4: =_xlfn.XLOOKUP($A4,'Alle stillinger'!$A:$A,'Alle stillinger'!B:B) -> 15496.204 | S4: =_xlfn.XLOOKUP($A4,'Alle stillinger'!$A:$A,'Alle stillinger'!C:C) -> 15692.203 | T4: =S4-R4 -> 195.99852 | U4: =T4/R4*100 -> 1.2648163 | V4: =N4/_xlfn.XLOOKUP($A4,'Alle stillinger'!$A:$A,'Alle stillinger'!B:B)*100 -> 21.102914 | W4: =O4/_xlfn.XLOOKUP($A4,'Alle stillinger'!$A:$A,'Alle stillinger'!C:C)*100 -> 21.287326 | X4: =W4-V4 -> 0.184412
A5: Albertslund | B5: =_xlfn.XLOOKUP($A5,AdministrativeStoettefunktioner!$A:$A,AdministrativeStoettefunktioner!B:B) -> 242.82323 | C5: =_xlfn.XLOOKUP($A5,AdministrativeStoettefunktioner!$A:$A,AdministrativeStoettefunktioner!C:C) -> 268.46376 | D5: =C5-B5 -> 25.640536 | E5: =D5/B5*100 -> 10.559342 | F5: =_xlfn.XLOOKUP($A5,Decentraleledere!$A:$A,Decentraleledere!B:B) -> 65.409777 | G5: =_xlfn.XLOOKUP($A5,Decentraleledere!$A:$A,Decentraleledere!C:C) -> 74 | H5: =G5-F5 -> 8.5902226 | I5: =H5/F5*100 -> 13.132934 | J5: =_xlfn.XLOOKUP($A5,Myndighedspersonale!$A:$A,Myndighedspersonale!B:B) -> 120.09819 | K5: =_xlfn.XLOOKUP($A5,Myndighedspersonale!$A:$A,Myndighedspersonale!C:C) -> 108.68244 | L5: =K5-J5 -> -11.415753 | M5: =L5/J5*100 -> -9.5053493 | N5: =SUM(B5,F5,J5) -> 428.3312 | O5: =SUM(C5,G5,K5) -> 451.1462 | P5: =O5-N5 -> 22.815006 | Q5: =P5/N5*100 -> 5.3264871 | R5: =_xlfn.XLOOKUP($A5,'Alle stillinger'!$A:$A,'Alle stillinger'!B:B) -> 2138.3087 | S5: =_xlfn.XLOOKUP($A5,'Alle stillinger'!$A:$A,'Alle stillinger'!C:C) -> 2154.191 | T5: =S5-R5 -> 15.882338 | U5: =T5/R5*100 -> 0.74275232 | V5: =N5/_xlfn.XLOOKUP($A5,'Alle stillinger'!$A:$A,'Alle stillinger'!B:B)*100 -> 20.031308 | W5: =O5/_xlfn.XLOOKUP($A5,'Alle stillinger'!$A:$A,'Alle stillinger'!C:C)*100 -> 20.94272 | X5: =W5-V5 -> 0.91141248
A6: Allerød | B6: =_xlfn.XLOOKUP($A6,AdministrativeStoettefunktioner!$A:$A,AdministrativeStoettefunktioner!B:B) -> 167.34594 | C6: =_xlfn.XLOOKUP($A6,AdministrativeStoettefunktioner!$A:$A,AdministrativeStoettefunktioner!C:C) -> 178.80665 | D6: =C6-B6 -> 11.460705 | E6: =D6/B6*100 -> 6.8485108 | F6: =_xlfn.XLOOKUP($A6,Decentraleledere!$A:$A,Decentraleledere!B:B) -> 73 | G6: =_xlfn.XLOOKUP($A6,Decentraleledere!$A:$A,Decentraleledere!C:C) -> 73 | H6: =G6-F6 -> 0 | I6: =H6/F6*100 -> 0 | J6: =_xlfn.XLOOKUP($A6,Myndighedspersonale!$A:$A,Myndighedspersonale!B:B) -> 61.412474 | K6: =_xlfn.XLOOKUP($A6,Myndighedspersonale!$A:$A,Myndighedspersonale!C:C) -> 61.162198 | L6: =K6-J6 -> -0.2502764 | M6: =L6/J6*100 -> -0.40753349 | N6: =SUM(B6,F6,J6) -> 301.75842 | O6: =SUM(C6,G6,K6) -> 312.96884 | P6: =O6-N6 -> 11.210428 | Q6: =P6/N6*100 -> 3.7150342 | R6: =_xlfn.XLOOKUP($A6,'Alle stillinger'!$A:$A,'Alle stillinger'!B:B) -> 1722.2029 | S6: =_xlfn.XLOOKUP($A6,'Alle stillinger'!$A:$A,'Alle stillinger'!C:C) -> 1779.3544 | T6: =S6-R6 -> 57.151498 | U6: =T6/R6*100 -> 3.3185114 | V6: =N6/_xlfn.XLOOKUP($A6,'Alle stillinger'!$A:$A,'Alle stillinger'!B:B)*100 -> 17.521653 | W6: =O6/_xlfn.XLOOKUP($A6,'Alle stillinger'!$A:$A,'Alle stillinger'!C:C)*100 -> 17.588899 | X6: =W6-V6 -> 0.067245802
A7: Assens | B7: =_xlfn.XLOOKUP($A7,AdministrativeStoettefunktioner!$A:$A,AdministrativeStoettefunktioner!B:B) -> 222.35042 | C7: =_xlfn.XLOOKUP($A7,AdministrativeStoettefunktioner!$A:$A,AdministrativeStoettefunktioner!C:C) -> 230.72447 | D7: =C7-B7 -> 8.3740528 | E7: =D7/B7*100 -> 3.7661512 | F7: =_xlfn.XLOOKUP($A7,Decentraleledere!$A:$A,Decentraleledere!B:B) -> 73 | G7: =_xlfn.XLOOKUP($A7,Decentraleledere!$A:$A,Decentraleledere!C:C) -> 75 | H7: =G7-F7 -> 2 | I7: =H7/F7*100 -> 2.739726 | J7: =_xlfn.XLOOKUP($A7,Myndighedspersonale!$A:$A,Myndighedspersonale!B:B) -> 162.21166 | K7: =_xlfn.XLOOKUP($A7,Myndighedspersonale!$A:$A,Myndighedspersonale!C:C) -> 151.59652 | L7: =K7-J7 -> -10.615136 | M7: =L7/J7*100 -> -6.5440034 | N7: =SUM(B7,F7,J7) -> 457.56207 | O7: =SUM(C7,G7,K7) -> 457.32099 | P7: =O7-N7 -> -0.24108367 | Q7: =P7/N7*100 -> -0.052688736 | R7: =_xlfn.XLOOKUP($A7,'Alle stillinger'!$A:$A,'Alle stillinger'!B:B) -> 2416.5738 | S7: =_xlfn.XLOOKUP($A7,'Alle stillinger'!$A:$A,'Alle stillinger'!C:C) -> 2432.0122 | T7: =S7-R7 -> 15.43835 | U7: =T7/R7*100 -> 0.63885281 | V7: =N7/_xlfn.XLOOKUP($A7,'Alle stillinger'!$A:$A,'Alle stillinger'!B:B)*100 -> 18.934331 | W7: =O7/_xlfn.XLOOKUP($A7,'Alle stillinger'!$A:$A,'Alle stillinger'!C:C)*100 -> 18.804223 | X7: =W7-V7 -> -0.13010757
A8: Ballerup | B8: =_xlfn.XLOOKUP($A8,AdministrativeStoettefunktioner!$A:$A,AdministrativeStoettefunktioner!B:B) -> 508.94427 | C8: =_xlfn.XLOOKUP($A8,AdministrativeStoettefunktioner!$A:$A,AdministrativeStoettefunktioner!C:C) -> 553.01722 | D8: =C8-B8 -> 44.072942 | E8: =D8/B8*100 -> 8.6596793 | F8: =_xlfn.XLOOKUP($A8,Decentraleledere!$A:$A,Decentraleledere!B:B) -> 187.24735 | G8: =_xlfn.XLOOKUP($A8,Decentraleledere!$A:$A,Decentraleledere!C:C) -> 196.78846 | H8: =G8-F8 -> 9.5411168 | I8: =H8/F8*100 -> 5.0954616 | J8: =_xlfn.XLOOKUP($A8,Myndighedspersonale!$A:$A,Myndighedspersonale!B:B) -> 179.07458 | K8: =_xlfn.XLOOKUP($A8,Myndighedspersonale!$A:$A,Myndighedspersonale!C:C) -> 207.6577 | L8: =K8-J8 -> 28.583111 | M8: =L8/J8*100 -> 15.961568 | N8: =SUM(B8,F8,J8) -> 875.26621 | O8: =SUM(C8,G8,K8) -> 957.46338 | P8: =O8-N8 -> 82.19717 | Q8: =P8/N8*100 -> 9.3911052 | R8: =_xlfn.XLOOKUP($A8,'Alle stillinger'!$A:$A,'Alle stillinger'!B:B) -> 4324.2979 | S8: =_xlfn.XLOOKUP($A8,'Alle stillinger'!$A:$A,'Alle stillinger'!C:C) -> 4468.4322 | T8: =S8-R8 -> 144.13432 | U8: =T8/R8*100 -> 3.3331266 | V8: =N8/_xlfn.XLOOKUP($A8,'Alle stillinger'!$A:$A,'Alle stillinger'!B:B)*100 -> 20.240655 | W8: =O8/_xlfn.XLOOKUP($A8,'Alle stillinger'!$A:$A,'Alle stillinger'!C:C)*100 -> 21.427278 | X8: =W8-V8 -> 1.1866229
A9: Billund | B9: =_xlfn.XLOOKUP($A9,AdministrativeStoettefunktioner!$A:$A,AdministrativeStoettefunktioner!B:B) -> 166.95679 | C9: =_xlfn.XLOOKUP($A9,AdministrativeStoettefunktioner!$A:$A,AdministrativeStoettefunktioner!C:C) -> 179.38837 | D9: =C9-B9 -> 12.431576 | E9: =D9/B9*100 -> 7.4459841 | F9: =_xlfn.XLOOKUP($A9,Decentraleledere!$A:$A,Decentraleledere!B:B) -> 79.4594 | G9: =_xlfn.XLOOKUP($A9,Decentraleledere!$A:$A,Decentraleledere!C:C) -> 76.6486 | H9: =G9-F9 -> -2.8108 | I9: =H9/F9*100 -> -3.537404 | J9: =_xlfn.XLOOKUP($A9,Myndighedspersonale!$A:$A,Myndighedspersonale!B:B) -> 104.33173 | K9: =_xlfn.XLOOKUP($A9,Myndighedspersonale!$A:$A,Myndighedspersonale!C:C) -> 102.10772 | L9: =K9-J9 -> -2.2240068 | M9: =L9/J9*100 -> -2.1316687 | N9: =SUM(B9,F9,J9) -> 350.74792 | O9: =SUM(C9,G9,K9) -> 358.14469 | P9: =O9-N9 -> 7.3967695 | Q9: =P9/N9*100 -> 2.1088562 | R9: =_xlfn.XLOOKUP($A9,'Alle stillinger'!$A:$A,'Alle stillinger'!B:B) -> 1757.8679 | S9: =_xlfn.XLOOKUP($A9,'Alle stillinger'!$A:$A,'Alle stillinger'!C:C) -> 1791.9352 | T9: =S9-R9 -> 34.067319 | U9: =T9/R9*100 -> 1.9379909 | V9: =N9/_xlfn.XLOOKUP($A9,'Alle stillinger'!$A:$A,'Alle stillinger'!B:B)*100 -> 19.953031 | W9: =O9/_xlfn.XLOOKUP($A9,'Alle stillinger'!$A:$A,'Alle stillinger'!C:C)*100 -> 19.986476 | X9: =W9-V9 -> 0.033444662
A10: Bornholm | B10: =_xlfn.XLOOKUP($A10,AdministrativeStoettefunktioner!$A:$A,AdministrativeStoettefunktioner!B:B) -> 373.9158 | C10: =_xlfn.XLOOKUP($A10,AdministrativeStoettefunktioner!$A:$A,AdministrativeStoettefunktioner!C:C) -> 393.29604 | D10: =C10-B10 -> 19.380238 | E10: =D10/B10*100 -> 5.1830485 | F10: =_xlfn.XLOOKUP($A10,Decentraleledere!$A:$A,Decentraleledere!B:B) -> 88.413287 | G10: =_xlfn.XLOOKUP($A10,Decentraleledere!$A:$A,Decentraleledere!C:C) -> 90.8649 | H10: =G10-F10 -> 2.4516129 | I10: =H10/F10*100 -> 2.772901 | J10: =_xlfn.XLOOKUP($A10,Myndighedspersonale!$A:$A,Myndighedspersonale!B:B) -> 153.84309 | K10: =_xlfn.XLOOKUP($A10,Myndighedspersonale!$A:$A,Myndighedspersonale!C:C) -> 149.74999 | L10: =K10-J10 -> -4.0930915 | M10: =L10/J10*100 -> -2.6605626 | N10: =SUM(B10,F10,J10) -> 616.17218 | O10: =SUM(C10,G10,K10) -> 633.91093 | P10: =O10-N10 -> 17.738759 | Q10: =P10/N10*100 -> 2.878864 | R10: =_xlfn.XLOOKUP($A10,'Alle stillinger'!$A:$A,'Alle stillinger'!B:B) -> 3158.1616 | S10: =_xlfn.XLOOKUP($A10,'Alle stillinger'!$A:$A,'Alle stillinger'!C:C) -> 3153.3287 | T10: =S10-R10 -> -4.8329023 | U10: =T10/R10*100 -> -0.15302897 | V10: =N10/_xlfn.XLOOKUP($A10,'Alle stillinger'!$A:$A,'Alle stillinger'!B:B)*100 -> 19.51047 | W10: =O10/_xlfn.XLOOKUP($A10,'Alle stillinger'!$A:$A,'Alle stillinger'!C:C)*100 -> 20.102913 | X10: =W10-V10 -> 0.59244318
A11: Brøndby | B11: =_xlfn.XLOOKUP($A11,AdministrativeStoettefunktioner!$A:$A,AdministrativeStoettefunktioner!B:B) -> 335.71011 | C11: =_xlfn.XLOOKUP($A11,AdministrativeStoettefunktioner!$A:$A,AdministrativeStoettefunktioner!C:C) -> 342.68677 | D11: =C11-B11 -> 6.9766676 | E11: =D11/B11*100 -> 2.0781822 | F11: =_xlfn.XLOOKUP($A11,Decentraleledere!$A:$A,Decentraleledere!B:B) -> 133.27034 | G11: =_xlfn.XLOOKUP($A11,Decentraleledere!$A:$A,Decentraleledere!C:C) -> 126.77132 | H11: =G11-F11 -> -6.4990256 | I11: =H11/F11*100 -> -4.8765729 | J11: =_xlfn.XLOOKUP($A11,Myndighedspersonale!$A:$A,Myndighedspersonale!B:B) -> 143.32425 | K11: =_xlfn.XLOOKUP($A11,Myndighedspersonale!$A:$A,Myndighedspersonale!C:C) -> 149.7911 | L11: =K11-J11 -> 6.4668471 | M11: =L11/J11*100 -> 4.5120396 | N11: =SUM(B11,F11,J11) -> 612.3047 | O11: =SUM(C11,G11,K11) -> 619.24919 | P11: =O11-N11 -> 6.9444892 | Q11: =P11/N11*100 -> 1.1341558 | R11: =_xlfn.XLOOKUP($A11,'Alle stillinger'!$A:$A,'Alle stillinger'!B:B) -> 3113.256 | S11: =_xlfn.XLOOKUP($A11,'Alle stillinger'!$A:$A,'Alle stillinger'!C:C) -> 3267.9554 | T11: =S11-R11 -> 154.69946 | U11: =T11/R11*100 -> 4.9690569 | V11: =N11/_xlfn.XLOOKUP($A11,'Alle stillinger'!$A:$A,'Alle stillinger'!B:B)*100 -> 19.667663 | W11: =O11/_xlfn.XLOOKUP($A11,'Alle stillinger'!$A:$A,'Alle stillinger'!C:C)*100 -> 18.949132 | X11: =W11-V11 -> -0.71853121
A12: Brønderslev | B12: =_xlfn.XLOOKUP($A12,AdministrativeStoettefunktioner!$A:$A,AdministrativeStoettefunktioner!B:B) -> 199.27775 | C12: =_xlfn.XLOOKUP($A12,AdministrativeStoettefunktioner!$A:$A,AdministrativeStoettefunktioner!C:C) -> 197.79014 | D12: =C12-B12 -> -1.487606 | E12: =D12/B12*100 -> -0.74649881 | F12: =_xlfn.XLOOKUP($A12,Decentraleledere!$A:$A,Decentraleledere!B:B) -> 82.863403 | G12: =_xlfn.XLOOKUP($A12,Decentraleledere!$A:$A,Decentraleledere!C:C) -> 74.369231 | H12: =G12-F12 -> -8.4941722 | I12: =H12/F12*100 -> -10.250813 | J12: =_xlfn.XLOOKUP($A12,Myndighedspersonale!$A:$A,Myndighedspersonale!B:B) -> 142.01353 | K12: =_xlfn.XLOOKUP($A12,Myndighedspersonale!$A:$A,Myndighedspersonale!C:C) -> 140.19716 | L12: =K12-J12 -> -1.8163717 | M12: =L12/J12*100 -> -1.2790132 | N12: =SUM(B12,F12,J12) -> 424.15468 | O12: =SUM(C12,G12,K12) -> 412.35653 | P12: =O12-N12 -> -11.79815 | Q12: =P12/N12*100 -> -2.7815678 | R12: =_xlfn.XLOOKUP($A12,'Alle stillinger'!$A:$A,'Alle stillinger'!B:B) -> 2544.9016 | S12: =_xlfn.XLOOKUP($A12,'Alle stillinger'!$A:$A,'Alle stillinger'!C:C) -> 2534.4098 | T12: =S12-R12 -> -10.491881 | U12: =T12/R12*100 -> -0.41227059 | V12: =N12/_xlfn.XLOOKUP($A12,'Alle stillinger'!$A:$A,'Alle stillinger'!B:B)*100 -> 16.66684 | W12: =O12/_xlfn.XLOOKUP($A12,'Alle stillinger'!$A:$A,'Alle stillinger'!C:C)*100 -> 16.270318 | X12: =W12-V12 -> -0.39652171
A13: Dragør | B13: =_xlfn.XLOOKUP($A13,AdministrativeStoettefunktioner!$A:$A,AdministrativeStoettefunktioner!B:B) -> 86.505227 | C13: =_xlfn.XLOOKUP($A13,AdministrativeStoettefunktioner!$A:$A,AdministrativeStoettefunktioner!C:C) -> 90.152749 | D13: =C13-B13 -> 3.6475217 | E13: =D13/B13*100 -> 4.2165333 | F13: =_xlfn.XLOOKUP($A13,Decentraleledere!$A:$A,Decentraleledere!B:B) -> 26.88281 | G13: =_xlfn.XLOOKUP($A13,Decentraleledere!$A:$A,Decentraleledere!C:C) -> 28.7297 | H13: =G13-F13 -> 1.8468904 | I13: =H13/F13*100 -> 6.8701539 | J13: =_xlfn.XLOOKUP($A13,Myndighedspersonale!$A:$A,Myndighedspersonale!B:B) -> 10.374237 | K13: =_xlfn.XLOOKUP($A13,Myndighedspersonale!$A:$A,Myndighedspersonale!C:C) -> 8.0281367 | L13: =K13-J13 -> -2.3460999 | M13: =L13/J13*100 -> -22.614676 | N13: =SUM(B13,F13,J13) -> 123.76227 | O13: =SUM(C13,G13,K13) -> 126.91059 | P13: =O13-N13 -> 3.1483121 | Q13: =P13/N13*100 -> 2.5438383 | R13: =_xlfn.XLOOKUP($A13,'Alle stillinger'!$A:$A,'Alle stillinger'!B:B) -> 768.08817 | S13: =_xlfn.XLOOKUP($A13,'Alle stillinger'!$A:$A,'Alle stillinger'!C:C) -> 795.35051 | T13: =S13-R13 -> 27.262335 | U13: =T13/R13*100 -> 3.5493758 | V13: =N13/_xlfn.XLOOKUP($A13,'Alle stillinger'!$A:$A,'Alle stillinger'!B:B)*100 -> 16.113029 | W13: =O13/_xlfn.XLOOKUP($A13,'Alle stillinger'!$A:$A,'Alle stillinger'!C:C)*100 -> 15.956561 | X13: =W13-V13 -> -0.15646887
A14: Egedal | B14: =_xlfn.XLOOKUP($A14,AdministrativeStoettefunktioner!$A:$A,AdministrativeStoettefunktioner!B:B) -> 280.02991 | C14: =_xlfn.XLOOKUP($A14,AdministrativeStoettefunktioner!$A:$A,AdministrativeStoettefunktioner!C:C) -> 281.37724 | D14: =C14-B14 -> 1.3473274 | E14: =D14/B14*100 -> 0.48113694 | F14: =_xlfn.XLOOKUP($A14,Decentraleledere!$A:$A,Decentraleledere!B:B) -> 135.6486 | G14: =_xlfn.XLOOKUP($A14,Decentraleledere!$A:$A,Decentraleledere!C:C) -> 138.48395 | H14: =G14-F14 -> 2.8353542 | I14: =H14/F14*100 -> 2.0902201 | J14: =_xlfn.XLOOKUP($A14,Myndighedspersonale!$A:$A,Myndighedspersonale!B:B) -> 116.61065 | K14: =_xlfn.XLOOKUP($A14,Myndighedspersonale!$A:$A,Myndighedspersonale!C:C) -> 117.3312 | L14: =K14-J14 -> 0.72055148 | M14: =L14/J14*100 -> 0.61791223 | N14: =SUM(B14,F14,J14) -> 532.28917 | O14: =SUM(C14,G14,K14) -> 537.1924 | P14: =O14-N14 -> 4.9032331 | Q14: =P14/N14*100 -> 0.92115966 | R14: =_xlfn.XLOOKUP($A14,'Alle stillinger'!$A:$A,'Alle stillinger'!B:B) -> 2865.6159 | S14: =_xlfn.XLOOKUP($A14,'Alle stillinger'!$A:$A,'Alle stillinger'!C:C) -> 2991.5203 | T14: =S14-R14 -> 125.90442 | U14: =T14/R14*100 -> 4.3936252 | V14: =N14/_xlfn.XLOOKUP($A14,'Alle stillinger'!$A:$A,'Alle stillinger'!B:B)*100 -> 18.575035 | W14: =O14/_xlfn.XLOOKUP($A14,'Alle stillinger'!$A:$A,'Alle stillinger'!C:C)*100 -> 17.95717 | X14: =W14-V14 -> -0.61786503
A15: Esbjerg | B15: =_xlfn.XLOOKUP($A15,AdministrativeStoettefunktioner!$A:$A,AdministrativeStoettefunktioner!B:B) -> 751.67561 | C15: =_xlfn.XLOOKUP($A15,AdministrativeStoettefunktioner!$A:$A,AdministrativeStoettefunktioner!C:C) -> 741.36147 | D15: =C15-B15 -> -10.314145 | E15: =D15/B15*100 -> -1.3721537 | F15: =_xlfn.XLOOKUP($A15,Decentraleledere!$A:$A,Decentraleledere!B:B) -> 306.2947 | G15: =_xlfn.XLOOKUP($A15,Decentraleledere!$A:$A,Decentraleledere!C:C) -> 308.26676 | H15: =G15-F15 -> 1.972058 | I15: =H15/F15*100 -> 0.64384335 | J15: =_xlfn.XLOOKUP($A15,Myndighedspersonale!$A:$A,Myndighedspersonale!B:B) -> 515.37662 | K15: =_xlfn.XLOOKUP($A15,Myndighedspersonale!$A:$A,Myndighedspersonale!C:C) -> 491.59916 | L15: =K15-J15 -> -23.777456 | M15: =L15/J15*100 -> -4.6136079 | N15: =SUM(B15,F15,J15) -> 1573.3469 | O15: =SUM(C15,G15,K15) -> 1541.2274 | P15: =O15-N15 -> -32.119543 | Q15: =P15/N15*100 -> -2.0414788 | R15: =_xlfn.XLOOKUP($A15,'Alle stillinger'!$A:$A,'Alle stillinger'!B:B) -> 8843.7644 | S15: =_xlfn.XLOOKUP($A15,'Alle stillinger'!$A:$A,'Alle stillinger'!C:C) -> 8755.3066 | T15: =S15-R15 -> -88.45784 | U15: =T15/R15*100 -> -1.0002284 | V15: =N15/_xlfn.XLOOKUP($A15,'Alle stillinger'!$A:$A,'Alle stillinger'!B:B)*100 -> 17.790466 | W15: =O15/_xlfn.XLOOKUP($A15,'Alle stillinger'!$A:$A,'Alle stillinger'!C:C)*100 -> 17.603351 | X15: =W15-V15 -> -0.18711488
... A100: Ærø | B100: =_xlfn.XLOOKUP($A100,AdministrativeStoettefunktioner!$A:$A,AdministrativeStoettefunktioner!B:B) -> 50.564798 | C100: =_xlfn.XLOOKUP($A100,AdministrativeStoettefunktioner!$A:$A,AdministrativeStoettefunktioner!C:C) -> 58.465008 | D100: =C100-B100 -> 7.9002094 | E100: =D100/B100*100 -> 15.623931 | F100: =_xlfn.XLOOKUP($A100,Decentraleledere!$A:$A,Decentraleledere!B:B) -> 0 | G100: =_xlfn.XLOOKUP($A100,Decentraleledere!$A:$A,Decentraleledere!C:C) -> 0 | H100: =G100-F100 -> 0 | I100: =H100/F100*100 -> #DIV/0! | J100: =_xlfn.XLOOKUP($A100,Myndighedspersonale!$A:$A,Myndighedspersonale!B:B) -> 14.946 | K100: =_xlfn.XLOOKUP($A100,Myndighedspersonale!$A:$A,Myndighedspersonale!C:C) -> 10.919 | L100: =K100-J100 -> -4.027 | M100: =L100/J100*100 -> -26.943664 | N100: =SUM(B100,F100,J100) -> 65.510798 | O100: =SUM(C100,G100,K100) -> 69.384008 | P100: =O100-N100 -> 3.8732094 | Q100: =P100/N100*100 -> 5.912322 | R100: =_xlfn.XLOOKUP($A100,'Alle stillinger'!$A:$A,'Alle stillinger'!B:B) -> 470.62828 | S100: =_xlfn.XLOOKUP($A100,'Alle stillinger'!$A:$A,'Alle stillinger'!C:C) -> 461.04893 | T100: =S100-R100 -> -9.5793456 | U100: =T100/R100*100 -> -2.0354377 | V100: =N100/_xlfn.XLOOKUP($A100,'Alle stillinger'!$A:$A,'Alle stillinger'!B:B)*100 -> 13.91986 | W100: =O100/_xlfn.XLOOKUP($A100,'Alle stillinger'!$A:$A,'Alle stillinger'!C:C)*100 -> 15.049164 | X100: =W100-V100 -> 1.1293033

Sheet AdministrativeStoettefunktioner
A1: Kommune | B1: I alt dec 2024 | C1: I alt dec 2025 | D1: 2024-2025
A2: Udvalgte population | B2: =_xlfn.XLOOKUP($A2,AdministrativeStoette_raa!$D$2:$DC$2,AdministrativeStoette_raa!$D$39:$DC$39) -> 46683.921 | C2: =_xlfn.XLOOKUP($A2,AdministrativeStoette_raa!$D$2:$DC$2,AdministrativeStoette_raa!$D$75:$DC$75) -> 47905.119 | D2: =C2-B2 -> 1221.1973
A3: Aabenraa | B3: =_xlfn.XLOOKUP($A3,AdministrativeStoette_raa!$D$2:$DC$2,AdministrativeStoette_raa!$D$39:$DC$39) -> 442.21085 | C3: =_xlfn.XLOOKUP($A3,AdministrativeStoette_raa!$D$2:$DC$2,AdministrativeStoette_raa!$D$75:$DC$75) -> 457.98194 | D3: =C3-B3 -> 15.771089
A4: Aalborg | B4: =_xlfn.XLOOKUP($A4,AdministrativeStoette_raa!$D$2:$DC$2,AdministrativeStoette_raa!$D$39:$DC$39) -> 1428.1315 | C4: =_xlfn.XLOOKUP($A4,AdministrativeStoette_raa!$D$2:$DC$2,AdministrativeStoette_raa!$D$75:$DC$75) -> 1472.4078 | D4: =C4-B4 -> 44.276317
A5: Albertslund | B5: =_xlfn.XLOOKUP($A5,AdministrativeStoette_raa!$D$2:$DC$2,AdministrativeStoette_raa!$D$39:$DC$39) -> 242.82323 | C5: =_xlfn.XLOOKUP($A5,AdministrativeStoette_raa!$D$2:$DC$2,AdministrativeStoette_raa!$D$75:$DC$75) -> 268.46376 | D5: =C5-B5 -> 25.640536
A6: Allerød | B6: =_xlfn.XLOOKUP($A6,AdministrativeStoette_raa!$D$2:$DC$2,AdministrativeStoette_raa!$D$39:$DC$39) -> 167.34594 | C6: =_xlfn.XLOOKUP($A6,AdministrativeStoette_raa!$D$2:$DC$2,AdministrativeStoette_raa!$D$75:$DC$75) -> 178.80665 | D6: =C6-B6 -> 11.460705
A7: Assens | B7: =_xlfn.XLOOKUP($A7,AdministrativeStoette_raa!$D$2:$DC$2,AdministrativeStoette_raa!$D$39:$DC$39) -> 222.35042 | C7: =_xlfn.XLOOKUP($A7,AdministrativeStoette_raa!$D$2:$DC$2,AdministrativeStoette_raa!$D$75:$DC$75) -> 230.72447 | D7: =C7-B7 -> 8.3740528
A8: Ballerup | B8: =_xlfn.XLOOKUP($A8,AdministrativeStoette_raa!$D$2:$DC$2,AdministrativeStoette_raa!$D$39:$DC$39) -> 508.94427 | C8: =_xlfn.XLOOKUP($A8,AdministrativeStoette_raa!$D$2:$DC$2,AdministrativeStoette_raa!$D$75:$DC$75) -> 553.01722 | D8: =C8-B8 -> 44.072942
A9: Billund | B9: =_xlfn.XLOOKUP($A9,AdministrativeStoette_raa!$D$2:$DC$2,AdministrativeStoette_raa!$D$39:$DC$39) -> 166.95679 | C9: =_xlfn.XLOOKUP($A9,AdministrativeStoette_raa!$D$2:$DC$2,AdministrativeStoette_raa!$D$75:$DC$75) -> 179.38837 | D9: =C9-B9 -> 12.431576
A10: Bornholm | B10: =_xlfn.XLOOKUP($A10,AdministrativeStoette_raa!$D$2:$DC$2,AdministrativeStoette_raa!$D$39:$DC$39) -> 373.9158 | C10: =_xlfn.XLOOKUP($A10,AdministrativeStoette_raa!$D$2:$DC$2,AdministrativeStoette_raa!$D$75:$DC$75) -> 393.29604 | D10: =C10-B10 -> 19.380238
A11: Brøndby | B11: =_xlfn.XLOOKUP($A11,AdministrativeStoette_raa!$D$2:$DC$2,AdministrativeStoette_raa!$D$39:$DC$39) -> 335.71011 | C11: =_xlfn.XLOOKUP($A11,AdministrativeStoette_raa!$D$2:$DC$2,AdministrativeStoette_raa!$D$75:$DC$75) -> 342.68677 | D11: =C11-B11 -> 6.9766676
A12: Brønderslev | B12: =_xlfn.XLOOKUP($A12,AdministrativeStoette_raa!$D$2:$DC$2,AdministrativeStoette_raa!$D$39:$DC$39) -> 199.27775 | C12: =_xlfn.XLOOKUP($A12,AdministrativeStoette_raa!$D$2:$DC$2,AdministrativeStoette_raa!$D$75:$DC$75) -> 197.79014 | D12: =C12-B12 -> -1.487606
A13: Dragør | B13: =_xlfn.XLOOKUP($A13,AdministrativeStoette_raa!$D$2:$DC$2,AdministrativeStoette_raa!$D$39:$DC$39) -> 86.505227 | C13: =_xlfn.XLOOKUP($A13,AdministrativeStoette_raa!$D$2:$DC$2,AdministrativeStoette_raa!$D$75:$DC$75) -> 90.152749 | D13: =C13-B13 -> 3.6475217
... A105: Ærø | B105: =_xlfn.XLOOKUP($A105,AdministrativeStoette_raa!$D$2:$DC$2,AdministrativeStoette_raa!$D$39:$DC$39) -> 50.564798 | C105: =_xlfn.XLOOKUP($A105,AdministrativeStoette_raa!$D$2:$DC$2,AdministrativeStoette_raa!$D$75:$DC$75) -> 58.465008 | D105: =C105-B105 -> 7.9002094

Sheet Myndighedspersonale
B1: 2024 | C1: 2025
A2: Udvalgte population | B2: =_xlfn.XLOOKUP($A2,Myndighedspersonale_raa!$D$2:$DC$2,Myndighedspersonale_raa!$D$18:$DC$18) -> 22815.268 | C2: =_xlfn.XLOOKUP($A2,Myndighedspersonale_raa!$D$2:$DC$2,Myndighedspersonale_raa!$D$34:$DC$34) -> 22946.184
A3: Aabenraa | B3: =_xlfn.XLOOKUP($A3,Myndighedspersonale_raa!$D$2:$DC$2,Myndighedspersonale_raa!$D$18:$DC$18) -> 176.46331 | C3: =_xlfn.XLOOKUP($A3,Myndighedspersonale_raa!$D$2:$DC$2,Myndighedspersonale_raa!$D$34:$DC$34) -> 169.24449
A4: Aalborg | B4: =_xlfn.XLOOKUP($A4,Myndighedspersonale_raa!$D$2:$DC$2,Myndighedspersonale_raa!$D$18:$DC$18) -> 1095.7217 | C4: =_xlfn.XLOOKUP($A4,Myndighedspersonale_raa!$D$2:$DC$2,Myndighedspersonale_raa!$D$34:$DC$34) -> 1109.1476
A5: Albertslund | B5: =_xlfn.XLOOKUP($A5,Myndighedspersonale_raa!$D$2:$DC$2,Myndighedspersonale_raa!$D$18:$DC$18) -> 120.09819 | C5: =_xlfn.XLOOKUP($A5,Myndighedspersonale_raa!$D$2:$DC$2,Myndighedspersonale_raa!$D$34:$DC$34) -> 108.68244
A6: Allerød | B6: =_xlfn.XLOOKUP($A6,Myndighedspersonale_raa!$D$2:$DC$2,Myndighedspersonale_raa!$D$18:$DC$18) -> 61.412474 | C6: =_xlfn.XLOOKUP($A6,Myndighedspersonale_raa!$D$2:$DC$2,Myndighedspersonale_raa!$D$34:$DC$34) -> 61.162198
A7: Assens | B7: =_xlfn.XLOOKUP($A7,Myndighedspersonale_raa!$D$2:$DC$2,Myndighedspersonale_raa!$D$18:$DC$18) -> 162.21166 | C7: =_xlfn.XLOOKUP($A7,Myndighedspersonale_raa!$D$2:$DC$2,Myndighedspersonale_raa!$D$34:$DC$34) -> 151.59652
A8: Ballerup | B8: =_xlfn.XLOOKUP($A8,Myndighedspersonale_raa!$D$2:$DC$2,Myndighedspersonale_raa!$D$18:$DC$18) -> 179.07458 | C8: =_xlfn.XLOOKUP($A8,Myndighedspersonale_raa!$D$2:$DC$2,Myndighedspersonale_raa!$D$34:$DC$34) -> 207.6577
A9: Billund | B9: =_xlfn.XLOOKUP($A9,Myndighedspersonale_raa!$D$2:$DC$2,Myndighedspersonale_raa!$D$18:$DC$18) -> 104.33173 | C9: =_xlfn.XLOOKUP($A9,Myndighedspersonale_raa!$D$2:$DC$2,Myndighedspersonale_raa!$D$34:$DC$34) -> 102.10772
A10: Bornholm | B10: =_xlfn.XLOOKUP($A10,Myndighedspersonale_raa!$D$2:$DC$2,Myndighedspersonale_raa!$D$18:$DC$18) -> 153.84309 | C10: =_xlfn.XLOOKUP($A10,Myndighedspersonale_raa!$D$2:$DC$2,Myndighedspersonale_raa!$D$34:$DC$34) -> 149.74999
A11: Brøndby | B11: =_xlfn.XLOOKUP($A11,Myndighedspersonale_raa!$D$2:$DC$2,Myndighedspersonale_raa!$D$18:$DC$18) -> 143.32425 | C11: =_xlfn.XLOOKUP($A11,Myndighedspersonale_raa!$D$2:$DC$2,Myndighedspersonale_raa!$D$34:$DC$34) -> 149.7911
A12: Brønderslev | B12: =_xlfn.XLOOKUP($A12,Myndighedspersonale_raa!$D$2:$DC$2,Myndighedspersonale_raa!$D$18:$DC$18) -> 142.01353 | C12: =_xlfn.XLOOKUP($A12,Myndighedspersonale_raa!$D$2:$DC$2,Myndighedspersonale_raa!$D$34:$DC$34) -> 140.19716
A13: Dragør | B13: =_xlfn.XLOOKUP($A13,Myndighedspersonale_raa!$D$2:$DC$2,Myndighedspersonale_raa!$D$18:$DC$18) -> 10.374237 | C13: =_xlfn.XLOOKUP($A13,Myndighedspersonale_raa!$D$2:$DC$2,Myndighedspersonale_raa!$D$34:$DC$34) -> 8.0281367
... A105: Ærø | B105: =_xlfn.XLOOKUP($A105,Myndighedspersonale_raa!$D$2:$DC$2,Myndighedspersonale_raa!$D$18:$DC$18) -> 14.946 | C105: =_xlfn.XLOOKUP($A105,Myndighedspersonale_raa!$D$2:$DC$2,Myndighedspersonale_raa!$D$34:$DC$34) -> 10.919

Sheet Decentraleledere
B1: 2024 | C1: 2025
A2: Udvalgte population | B2: =_xlfn.XLOOKUP($A2,Decentraleledere_raa!$D$2:$DC$2,Decentraleledere_raa!$D$53:$DC$53) -> 18349.189 | C2: =_xlfn.XLOOKUP($A2,Decentraleledere_raa!$D$2:$DC$2,Decentraleledere_raa!$D$105:$DC$105) -> 18756.443
A3: Aabenraa | B3: =_xlfn.XLOOKUP($A3,Decentraleledere_raa!$D$2:$DC$2,Decentraleledere_raa!$D$53:$DC$53) -> 173.42186 | C3: =_xlfn.XLOOKUP($A3,Decentraleledere_raa!$D$2:$DC$2,Decentraleledere_raa!$D$105:$DC$105) -> 182.70063
A4: Aalborg | B4: =_xlfn.XLOOKUP($A4,Decentraleledere_raa!$D$2:$DC$2,Decentraleledere_raa!$D$53:$DC$53) -> 746.29743 | C4: =_xlfn.XLOOKUP($A4,Decentraleledere_raa!$D$2:$DC$2,Decentraleledere_raa!$D$105:$DC$105) -> 758.89495
A5: Albertslund | B5: =_xlfn.XLOOKUP($A5,Decentraleledere_raa!$D$2:$DC$2,Decentraleledere_raa!$D$53:$DC$53) -> 65.409777 | C5: =_xlfn.XLOOKUP($A5,Decentraleledere_raa!$D$2:$DC$2,Decentraleledere_raa!$D$105:$DC$105) -> 74
A6: Allerød | B6: =_xlfn.XLOOKUP($A6,Decentraleledere_raa!$D$2:$DC$2,Decentraleledere_raa!$D$53:$DC$53) -> 73 | C6: =_xlfn.XLOOKUP($A6,Decentraleledere_raa!$D$2:$DC$2,Decentraleledere_raa!$D$105:$DC$105) -> 73
A7: Assens | B7: =_xlfn.XLOOKUP($A7,Decentraleledere_raa!$D$2:$DC$2,Decentraleledere_raa!$D$53:$DC$53) -> 73 | C7: =_xlfn.XLOOKUP($A7,Decentraleledere_raa!$D$2:$DC$2,Decentraleledere_raa!$D$105:$DC$105) -> 75
A8: Ballerup | B8: =_xlfn.XLOOKUP($A8,Decentraleledere_raa!$D$2:$DC$2,Decentraleledere_raa!$D$53:$DC$53) -> 187.24735 | C8: =_xlfn.XLOOKUP($A8,Decentraleledere_raa!$D$2:$DC$2,Decentraleledere_raa!$D$105:$DC$105) -> 196.78846
A9: Billund | B9: =_xlfn.XLOOKUP($A9,Decentraleledere_raa!$D$2:$DC$2,Decentraleledere_raa!$D$53:$DC$53) -> 79.4594 | C9: =_xlfn.XLOOKUP($A9,Decentraleledere_raa!$D$2:$DC$2,Decentraleledere_raa!$D$105:$DC$105) -> 76.6486
A10: Bornholm | B10: =_xlfn.XLOOKUP($A10,Decentraleledere_raa!$D$2:$DC$2,Decentraleledere_raa!$D$53:$DC$53) -> 88.413287 | C10: =_xlfn.XLOOKUP($A10,Decentraleledere_raa!$D$2:$DC$2,Decentraleledere_raa!$D$105:$DC$105) -> 90.8649
A11: Brøndby | B11: =_xlfn.XLOOKUP($A11,Decentraleledere_raa!$D$2:$DC$2,Decentraleledere_raa!$D$53:$DC$53) -> 133.27034 | C11: =_xlfn.XLOOKUP($A11,Decentraleledere_raa!$D$2:$DC$2,Decentraleledere_raa!$D$105:$DC$105) -> 126.77132
A12: Brønderslev | B12: =_xlfn.XLOOKUP($A12,Decentraleledere_raa!$D$2:$DC$2,Decentraleledere_raa!$D$53:$DC$53) -> 82.863403 | C12: =_xlfn.XLOOKUP($A12,Decentraleledere_raa!$D$2:$DC$2,Decentraleledere_raa!$D$105:$DC$105) -> 74.369231
A13: Dragør | B13: =_xlfn.XLOOKUP($A13,Decentraleledere_raa!$D$2:$DC$2,Decentraleledere_raa!$D$53:$DC$53) -> 26.88281 | C13: =_xlfn.XLOOKUP($A13,Decentraleledere_raa!$D$2:$DC$2,Decentraleledere_raa!$D$105:$DC$105) -> 28.7297
... A105: Ærø | B105: =_xlfn.XLOOKUP($A105,Decentraleledere_raa!$D$2:$DC$2,Decentraleledere_raa!$D$53:$DC$53) -> 0 | C105: =_xlfn.XLOOKUP($A105,Decentraleledere_raa!$D$2:$DC$2,Decentraleledere_raa!$D$105:$DC$105) -> 0

Sheet Alle stillinger
A1: Kommune | B1: I alt 2024 | C1: I alt 2025 | D1: 2024-2025 | E1: 2024-2025 pct.
A2: Udvalgte population | B2: 417092.65 | C2: 422971.17 | D2: =C2-B2 -> 5878.5214 | E2: =D2/B2*100 -> 1.4094042
A3: Aabenraa | B3: 3987.9794 | C3: 4047.0319 | D3: =C3-B3 -> 59.052499 | E3: =D3/B3*100 -> 1.4807624
A4: Aalborg | B4: 15496.204 | C4: 15692.203 | D4: =C4-B4 -> 195.99852 | E4: =D4/B4*100 -> 1.2648163
A5: Albertslund | B5: 2138.3087 | C5: 2154.191 | D5: =C5-B5 -> 15.882338 | E5: =D5/B5*100 -> 0.74275232
A6: Allerød | B6: 1722.2029 | C6: 1779.3544 | D6: =C6-B6 -> 57.151498 | E6: =D6/B6*100 -> 3.3185114
A7: Assens | B7: 2416.5738 | C7: 2432.0122 | D7: =C7-B7 -> 15.43835 | E7: =D7/B7*100 -> 0.63885281
A8: Ballerup | B8: 4324.2979 | C8: 4468.4322 | D8: =C8-B8 -> 144.13432 | E8: =D8/B8*100 -> 3.3331266
A9: Billund | B9: 1757.8679 | C9: 1791.9352 | D9: =C9-B9 -> 34.067319 | E9: =D9/B9*100 -> 1.9379909
A10: Bornholm | B10: 3158.1616 | C10: 3153.3287 | D10: =C10-B10 -> -4.8329023 | E10: =D10/B10*100 -> -0.15302897
A11: Brøndby | B11: 3113.256 | C11: 3267.9554 | D11: =C11-B11 -> 154.69946 | E11: =D11/B11*100 -> 4.9690569
A12: Brønderslev | B12: 2544.9016 | C12: 2534.4098 | D12: =C12-B12 -> -10.491881 | E12: =D12/B12*100 -> -0.41227059
A13: Dragør | B13: 768.08817 | C13: 795.35051 | D13: =C13-B13 -> 27.262335 | E13: =D13/B13*100 -> 3.5493758
... A105: Ærø | B105: 470.62828 | C105: 461.04893 | D105: =C105-B105 -> -9.5793456 | E105: =D105/B105*100 -> -2.0354377

Sheet AdministrativeStoette_raa
A1: Antal ansatte - dec 2025
A2: Måned | B2: Overenskomstområde | C2: Stilling | D2: Udvalgte population | E2: Aabenraa | F2: Aalborg | G2: Albertslund | H2: Allerød | I2: Assens | J2: Ballerup | K2: Billund | L2: Bornholm | M2: Brøndby | N2: Brønderslev | O2: Dragør | P2: Egedal | Q2: Esbjerg | R2: Faaborg-Midtfyn | S2: Fanø | T2: Favrskov | U2: Faxe | V2: Fredensborg | W2: Fredericia | X2: Frederiksberg | Y2: Frederikshavn | Z2: Frederikssund | AA2: Furesø | AB2: Gentofte | AC2: Gladsaxe | AD2: Glostrup | AE2: Greve | AF2: Gribskov | AG2: Guldborgsund | AH2: Haderslev | AI2: Halsnæs | AJ2: Hedensted | AK2: Helsingør | AL2: Herlev | AM2: Herning | AN2: Hillerød | AO2: Hjørring | AP2: Holbæk | AQ2: Holstebro | AR2: Horsens | AS2: Hvidovre | AT2: Høje-Taastrup | AU2: Hørsholm | AV2: Ikast-Brande | AW2: Ishøj | AX2: Jammerbugt | AY2: Kalundborg | AZ2: Kerteminde | BA2: Kolding | BB2: København | BC2: Køge | BD2: Langeland | BE2: Lejre | BF2: Lemvig | BG2: Lolland | BH2: Lyngby-Taarbæk | BI2: Læsø | BJ2: Mariagerfjord | BK2: Middelfart | BL2: Morsø | BM2: Norddjurs | BN2: Nordfyn | BO2: Nyborg | BP2: Næstved | BQ2: Odder | BR2: Odense | BS2: Odsherred | BT2: Randers | BU2: Rebild | BV2: Region Hovedstaden | BW2: Region Midtjylland | BX2: Region Nordjylland | BY2: Region Sjælland | BZ2: Region Syddanmark | CA2: Ringkøbing-Skjern | CB2: Ringsted | CC2: Roskilde | CD2: Rudersdal | CE2: Rødovre | CF2: Samsø | CG2: Silkeborg | CH2: Skanderborg | CI2: Skive | CJ2: Slagelse | CK2: Solrød | CL2: Sorø | CM2: Stevns | CN2: Struer | CO2: Svendborg | CP2: Syddjurs | CQ2: Sønderborg | CR2: Thisted | CS2: Tårnby | CT2: Tønder | CU2: Vallensbæk | CV2: Varde | CW2: Vejen | CX2: Vejle | CY2: Vesthimmerland | CZ2: Viborg | DA2: Vordingborg | DB2: Århus | DC2: Ærø
A3: 2024-12 | B3: Administration og it mv., KL | C3: Administrationsøkonomer | D3: 79.072364 | E3: 0 | F3: 0 | G3: 0 | H3: 0 | I3: 0 | J3: 0 | K3: 0 | L3: 0 | M3: 0 | N3: 0 | O3: 0 | P3: 0 | Q3: 0 | R3: 0 | S3: 0 | T3: 0 | U3: 0 | V3: 0 | W3: 0 | X3: 0 | Y3: 0 | Z3: 0 | AA3: 0 | AB3: 0 | AC3: 0 | AD3: 0 | AE3: 0 | AF3: 0 | AG3: 0 | AH3: 0 | AI3: 0 | AJ3: 0 | AK3: 0 | AL3: 0 | AM3: 0 | AN3: 0 | AO3: 0 | AP3: 0 | AQ3: 0 | AR3: 0 | AS3: 0 | AT3: 0 | AU3: 0 | AV3: 0 | AW3: 0 | AX3: 0 | AY3: 0 | AZ3: 0 | BA3: 0 | BB3: 9.9157767 | BC3: 0 | BD3: 0 | BE3: 0 | BF3: 0 | BG3: 0 | BH3: 0 | BI3: 0 | BJ3: 0 | BK3: 0 | BL3: 0 | BM3: 0 | BN3: 0 | BO3: 0 | BP3: 0 | BQ3: 0 | BR3: 0 | BS3: 0 | BT3: 0 | BU3: 0 | BV3: 0 | BW3: 0 | BX3: 0 | BY3: 0 | BZ3: 0 | CA3: 0 | CB3: 0 | CC3: 0 | CD3: 0 | CE3: 0 | CF3: 0 | CG3: 0 | CH3: 0 | CI3: 0 | CJ3: 0 | CK3: 0 | CL3: 0 | CM3: 0 | CN3: 0 | CO3: 0 | CP3: 0 | CQ3: 0 | CR3: 0 | CS3: 0 | CT3: 0 | CU3: 0 | CV3: 0 | CW3: 0 | CX3: 0 | CY3: 0 | CZ3: 7.7568 | DA3: 0 | DB3: 9.9189 | DC3: 0
A4: 2024-12 | B4: Administration og it mv., KL | C4: Assistenter | D4: 4423.7039 | E4: 45.27039 | F4: 153.84728 | G4: 17.8852 | H4: 10.3514 | I4: 33.5002 | J4: 8.6757 | K4: 19.3026 | L4: 43.4218 | M4: 62.513571 | N4: 23.2934 | O4: 5.7702 | P4: 29.45786 | Q4: 132.7163 | R4: 21.8286 | S4: 0 | T4: 35.0946 | U4: 19.46109 | V4: 13.4324 | W4: 37.376581 | X4: 33.403574 | Y4: 63.330297 | Z4: 18.5879 | AA4: 18.457349 | AB4: 38.057254 | AC4: 29.324203 | AD4: 17.043584 | AE4: 22.934688 | AF4: 39.4237 | AG4: 26.405348 | AH4: 41.028971 | AI4: 16.232229 | AJ4: 61.708513 | AK4: 30.9457 | AL4: 13.3243 | AM4: 111.34408 | AN4: 6.7297 | AO4: 40.3784 | AP4: 12.619572 | AQ4: 86.009498 | AR4: 123.94808 | AS4: 32.8244 | AT4: 25.513306 | AU4: 13.668856 | AV4: 40.058649 | AW4: 34.5677 | AX4: 15.0089 | AY4: 23.2837 | AZ4: 6.5001 | BA4: 70.792519 | BB4: 495.49475 | BC4: 36.158197 | BD4: 14.7569 | BE4: 15.8378 | BF4: 38.8704 | BG4: 21.27041 | BH4: 21.398416 | BI4: 0 | BJ4: 61.381455 | BK4: 37.83473 | BL4: 18.567475 | BM4: 22.5445 | BN4: 28.2973 | BO4: 17.704445 | BP4: 62.300945 | BQ4: 27.51744 | BR4: 199.7841 | BS4: 22.966829 | BT4: 76.374878 | BU4: 29.2973 | BV4: 0 | BW4: 0 | BX4: 0 | BY4: 0 | BZ4: 0 | CA4: 17.5026 | CB4: 34.780307 | CC4: 53.67783 | CD4: 28.008039 | CE4: 20.5343 | CF4: 0 | CG4: 73.950511 | CH4: 23.5272 | CI4: 66.963971 | CJ4: 40.4865 | CK4: 20.839862 | CL4: 8.1644086 | CM4: 23.0945 | CN4: 11.8928 | CO4: 11.5811 | CP4: 17.4167 | CQ4: 28.3514 | CR4: 63.659146 | CS4: 32.2613 | CT4: 42.184505 | CU4: 20.6224 | CV4: 37.629065 | CW4: 23.9054 | CX4: 101.87921 | CY4: 44.357439 | CZ4: 55.3304 | DA4: 17.330836 | DB4: 218.53479 | DC4: 21.979715
A5: 2024-12 | B5: Administration og it mv., KL | C5: Datamatikere/Datanomer/AU´ere, ex. Frb | D5: 88.235171 | E5: 0 | F5: 0 | G5: 0 | H5: 0 | I5: 0 | J5: 0 | K5: 0 | L5: 0 | M5: 0 | N5: 0 | O5: 0 | P5: 0 | Q5: 7 | R5: 0 | S5: 0 | T5: 0 | U5: 0 | V5: 0 | W5: 0 | X5: 0 | Y5: 0 | Z5: 0 | AA5: 0 | AB5: 0 | AC5: 0 | AD5: 0 | AE5: 0 | AF5: 0 | AG5: 0 | AH5: 0 | AI5: 0 | AJ5: 0 | AK5: 0 | AL5: 0 | AM5: 0 | AN5: 0 | AO5: 0 | AP5: 0 | AQ5: 0 | AR5: 0 | AS5: 0 | AT5: 0 | AU5: 0 | AV5: 0 | AW5: 0 | AX5: 0 | AY5: 0 | AZ5: 0 | BA5: 0 | BB5: 0 | BC5: 0 | BD5: 0 | BE5: 0 | BF5: 0 | BG5: 0 | BH5: 0 | BI5: 0 | BJ5: 0 | BK5: 0 | BL5: 0 | BM5: 0 | BN5: 0 | BO5: 0 | BP5: 0 | BQ5: 0 | BR5: 8 | BS5: 0 | BT5: 0 | BU5: 0 | BV5: 0 | BW5: 0 | BX5: 0 | BY5: 0 | BZ5: 0 | CA5: 0 | CB5: 0 | CC5: 0 | CD5: 0 | CE5: 0 | CF5: 0 | CG5: 0 | CH5: 0 | CI5: 5.3243 | CJ5: 0 | CK5: 0 | CL5: 0 | CM5: 0 | CN5: 0 | CO5: 0 | CP5: 0 | CQ5: 0 | CR5: 0 | CS5: 0 | CT5: 0 | CU5: 0 | CV5: 0 | CW5: 0 | CX5: 0 | CY5: 0 | CZ5: 0 | DA5: 0 | DB5: 0 | DC5: 0
A6: 2024-12 | B6: Administration og it mv., KL | C6: Edb-medarbejdere, Kbh, lukket gruppe | D6: 8.3783 | E6: 0 | F6: 0 | G6: 0 | H6: 0 | I6: 0 | J6: 0 | K6: 0 | L6: 0 | M6: 0 | N6: 0 | O6: 0 | P6: 0 | Q6: 0 | R6: 0 | S6: 0 | T6: 0 | U6: 0 | V6: 0 | W6: 0 | X6: 0 | Y6: 0 | Z6: 0 | AA6: 0 | AB6: 0 | AC6: 0 | AD6: 0 | AE6: 0 | AF6: 0 | AG6: 0 | AH6: 0 | AI6: 0 | AJ6: 0 | AK6: 0 | AL6: 0 | AM6: 0 | AN6: 0 | AO6: 0 | AP6: 0 | AQ6: 0 | AR6: 0 | AS6: 0 | AT6: 0 | AU6: 0 | AV6: 0 | AW6: 0 | AX6: 0 | AY6: 0 | AZ6: 0 | BA6: 0 | BB6: 8.3783 | BC6: 0 | BD6: 0 | BE6: 0 | BF6: 0 | BG6: 0 | BH6: 0 | BI6: 0 | BJ6: 0 | BK6: 0 | BL6: 0 | BM6: 0 | BN6: 0 | BO6: 0 | BP6: 0 | BQ6: 0 | BR6: 0 | BS6: 0 | BT6: 0 | BU6: 0 | BV6: 0 | BW6: 0 | BX6: 0 | BY6: 0 | BZ6: 0 | CA6: 0 | CB6: 0 | CC6: 0 | CD6: 0 | CE6: 0 | CF6: 0 | CG6: 0 | CH6: 0 | CI6: 0 | CJ6: 0 | CK6: 0 | CL6: 0 | CM6: 0 | CN6: 0 | CO6: 0 | CP6: 0 | CQ6: 0 | CR6: 0 | CS6: 0 | CT6: 0 | CU6: 0 | CV6: 0 | CW6: 0 | CX6: 0 | CY6: 0 | CZ6: 0 | DA6: 0 | DB6: 0 | DC6: 0
A7: 2024-12 | B7: Administration og it mv., KL | C7: Financial Controller | D7: 11.7567 | E7: 0 | F7: 0 | G7: 0 | H7: 0 | I7: 0 | J7: 0 | K7: 0 | L7: 0 | M7: 0 | N7: 0 | O7: 0 | P7: 0 | Q7: 0 | R7: 0 | S7: 0 | T7: 0 | U7: 0 | V7: 0 | W7: 0 | X7: 0 | Y7: 0 | Z7: 0 | AA7: 0 | AB7: 0 | AC7: 0 | AD7: 0 | AE7: 0 | AF7: 0 | AG7: 0 | AH7: 0 | AI7: 0 | AJ7: 0 | AK7: 0 | AL7: 0 | AM7: 0 | AN7: 0 | AO7: 0 | AP7: 0 | AQ7: 0 | AR7: 0 | AS7: 0 | AT7: 0 | AU7: 0 | AV7: 0 | AW7: 0 | AX7: 0 | AY7: 0 | AZ7: 0 | BA7: 0 | BB7: 0 | BC7: 0 | BD7: 0 | BE7: 0 | BF7: 0 | BG7: 0 | BH7: 0 | BI7: 0 | BJ7: 0 | BK7: 0 | BL7: 0 | BM7: 0 | BN7: 0 | BO7: 0 | BP7: 0 | BQ7: 0 | BR7: 0 | BS7: 0 | BT7: 0 | BU7: 0 | BV7: 0 | BW7: 0 | BX7: 0 | BY7: 0 | BZ7: 0 | CA7: 0 | CB7: 0 | CC7: 0 | CD7: 0 | CE7: 0 | CF7: 0 | CG7: 0 | CH7: 0 | CI7: 0 | CJ7: 0 | CK7: 0 | CL7: 0 | CM7: 0 | CN7: 0 | CO7: 0 | CP7: 0 | CQ7: 0 | CR7: 0 | CS7: 0 | CT7: 0 | CU7: 0 | CV7: 0 | CW7: 0 | CX7: 0 | CY7: 0 | CZ7: 0 | DA7: 0 | DB7: 0 | DC7: 0
A8: 2024-12 | B8: Administration og it mv., KL | C8: Finansøkonomer | D8: 94.7077 | E8: 0 | F8: 5 | G8: 0 | H8: 0 | I8: 0 | J8: 0 | K8: 0 | L8: 0 | M8: 0 | N8: 0 | O8: 0 | P8: 0 | Q8: 0 | R8: 0 | S8: 0 | T8: 0 | U8: 0 | V8: 0 | W8: 0 | X8: 0 | Y8: 0 | Z8: 0 | AA8: 0 | AB8: 0 | AC8: 0 | AD8: 0 | AE8: 0 | AF8: 0 | AG8: 0 | AH8: 0 | AI8: 0 | AJ8: 0 | AK8: 0 | AL8: 0 | AM8: 0 | AN8: 0 | AO8: 0 | AP8: 0 | AQ8: 6.7297 | AR8: 0 | AS8: 0 | AT8: 0 | AU8: 0 | AV8: 0 | AW8: 0 | AX8: 0 | AY8: 0 | AZ8: 0 | BA8: 0 | BB8: 5.8108 | BC8: 0 | BD8: 0 | BE8: 0 | BF8: 0 | BG8: 0 | BH8: 0 | BI8: 0 | BJ8: 0 | BK8: 0 | BL8: 0 | BM8: 0 | BN8: 0 | BO8: 0 | BP8: 0 | BQ8: 0 | BR8: 0 | BS8: 0 | BT8: 0 | BU8: 0 | BV8: 0 | BW8: 0 | BX8: 0 | BY8: 0 | BZ8: 0 | CA8: 0 | CB8: 0 | CC8: 0 | CD8: 0 | CE8: 0 | CF8: 0 | CG8: 0 | CH8: 0 | CI8: 0 | CJ8: 0 | CK8: 0 | CL8: 0 | CM8: 0 | CN8: 0 | CO8: 0 | CP8: 0 | CQ8: 0 | CR8: 0 | CS8: 0 | CT8: 0 | CU8: 0 | CV8: 0 | CW8: 0 | CX8: 0 | CY8: 0 | CZ8: 0 | DA8: 0 | DB8: 0 | DC8: 0
A9: 2024-12 | B9: Administration og it mv., KL | C9: IT-medarbejdere, ex. Frb | D9: 178.60073 | E9: 0 | F9: 0 | G9: 0 | H9: 0 | I9: 0 | J9: 0 | K9: 0 | L9: 0 | M9: 0 | N9: 0 | O9: 0 | P9: 0 | Q9: 0 | R9: 0 | S9: 0 | T9: 0 | U9: 0 | V9: 0 | W9: 0 | X9: 0 | Y9: 0 | Z9: 0 | AA9: 0 | AB9: 0 | AC9: 0 | AD9: 0 | AE9: 0 | AF9: 0 | AG9: 0 | AH9: 0 | AI9: 0 | AJ9: 0 | AK9: 0 | AL9: 0 | AM9: 0 | AN9: 0 | AO9: 0 | AP9: 0 | AQ9: 0 | AR9: 0 | AS9: 0 | AT9: 0 | AU9: 0 | AV9: 0 | AW9: 0 | AX9: 0 | AY9: 0 | AZ9: 0 | BA9: 0 | BB9: 49.574435 | BC9: 0 | BD9: 0 | BE9: 0 | BF9: 0 | BG9: 0 | BH9: 0 | BI9: 0 | BJ9: 0 | BK9: 0 | BL9: 0 | BM9: 0 | BN9: 0 | BO9: 0 | BP9: 0 | BQ9: 0 | BR9: 0 | BS9: 0 | BT9: 0 | BU9: 5.8919 | BV9: 0 | BW9: 0 | BX9: 0 | BY9: 0 | BZ9: 0 | CA9: 0 | CB9: 0 | CC9: 7 | CD9: 0 | CE9: 0 | CF9: 0 | CG9: 0 | CH9: 0 | CI9: 0 | CJ9: 0 | CK9: 0 | CL9: 0 | CM9: 0 | CN9: 0 | CO9: 0 | CP9: 0 | CQ9: 0 | CR9: 0 | CS9: 0 | CT9: 0 | CU9: 0 | CV9: 0 | CW9: 0 | CX9: 0 | CY9: 0 | CZ9: 0 | DA9: 0 | DB9: 13.2702 | DC9: 0
A10: 2024-12 | B10: Administration og it mv., KL | C10: Kontorassistenter | D10: 1395.5928 | E10: 9.3514 | F10: 28.875676 | G10: 0 | H10: 0 | I10: 8.1081 | J10: 0 | K10: 7.6279538 | L10: 15.2058 | M10: 13.14981 | N10: 0 | O10: 0 | P10: 0 | Q10: 23.525216 | R10: 15.63129 | S10: 0 | T10: 0 | U10: 7.3222512 | V10: 0 | W10: 13.212325 | X10: 0 | Y10: 8.4324 | Z10: 0 | AA10: 7.0602362 | AB10: 27.266428 | AC10: 8.8378 | AD10: 8.0692202 | AE10: 6.446 | AF10: 0 | AG10: 11.470937 | AH10: 8.3784 | AI10: 0 | AJ10: 7.1958 | AK10: 19.890644 | AL10: 0 | AM10: 22.700209 | AN10: 6.0675 | AO10: 19.7027 | AP10: 8.6816732 | AQ10: 10.18464 | AR10: 14.539335 | AS10: 0 | AT10: 0 | AU10: 6.2997788 | AV10: 8.9923958 | AW10: 6.8611 | AX10: 6.4283064 | AY10: 6.2433 | AZ10: 5.8108 | BA10: 13.19571 | BB10: 321.59729 | BC10: 10.425523 | BD10: 0 | BE10: 0 | BF10: 6.2225302 | BG10: 6.8108 | BH10: 9.563662 | BI10: 0 | BJ10: 5.0572171 | BK10: 10.419974 | BL10: 0 | BM10: 5.7829628 | BN10: 0 | BO10: 7.2432 | BP10: 15.644506 | BQ10: 0 | BR10: 41.038036 | BS10: 6.6216 | BT10: 17.442481 | BU10: 0 | BV10: 0 | BW10: 0 | BX10: 0 | BY10: 0 | BZ10: 0 | CA10: 8.0881857 | CB10: 9.0566258 | CC10: 22.633825 | CD10: 15.7568 | CE10: 14.972749 | CF10: 0 | CG10: 15.520335 | CH10: 8.9458 | CI10: 13.208 | CJ10: 5.0539 | CK10: 0 | CL10: 0 | CM10: 0 | CN10: 0 | CO10: 11.361779 | CP10: 7.108 | CQ10: 7.4219 | CR10: 11.899089 | CS10: 0 | CT10: 7.8628 | CU10: 0 | CV10: 7.9163774 | CW10: 10.204836 | CX10: 19.800407 | CY10: 0 | CZ10: 14.298406 | DA10: 0 | DB10: 60.844398 | DC10: 0
A11: 2024-12 | B11: Administration og it mv., KL | C11: Kontorfunktionærer, Fkka+Frb+Gentofte | D11: 14.174026 | E11: 0 | F11: 0 | G11: 0 | H11: 0 | I11: 0 | J11: 0 | K11: 0 | L11: 0 | M11: 0 | N11: 0 | O11: 0 | P11: 0 | Q11: 0 | R11: 0 | S11: 0 | T11: 0 | U11: 0 | V11: 0 | W11: 0 | X11: 12.092926 | Y11: 0 | Z11: 0 | AA11: 0 | AB11: 0 | AC11: 0 | AD11: 0 | AE11: 0 | AF11: 0 | AG11: 0 | AH11: 0 | AI11: 0 | AJ11: 0 | AK11: 0 | AL11: 0 | AM11: 0 | AN11: 0 | AO11: 0 | AP11: 0 | AQ11: 0 | AR11: 0 | AS11: 0 | AT11: 0 | AU11: 0 | AV11: 0 | AW11: 0 | AX11: 0 | AY11: 0 | AZ11: 0 | BA11: 0 | BB11: 0 | BC11: 0 | BD11: 0 | BE11: 0 | BF11: 0 | BG11: 0 | BH11: 0 | BI11: 0 | BJ11: 0 | BK11: 0 | BL11: 0 | BM11: 0 | BN11: 0 | BO11: 0 | BP11: 0 | BQ11: 0 | BR11: 0 | BS11: 0 | BT11: 0 | BU11: 0 | BV11: 0 | BW11: 0 | BX11: 0 | BY11: 0 | BZ11: 0 | CA11: 0 | CB11: 0 | CC11: 0 | CD11: 0 | CE11: 0 | CF11: 0 | CG11: 0 | CH11: 0 | CI11: 0 | CJ11: 0 | CK11: 0 | CL11: 0 | CM11: 0 | CN11: 0 | CO11: 0 | CP11: 0 | CQ11: 0 | CR11: 0 | CS11: 0 | CT11: 0 | CU11: 0 | CV11: 0 | CW11: 0 | CX11: 0 | CY11: 0 | CZ11: 0 | DA11: 0 | DB11: 0 | DC11: 0
A12: 2024-12 | B12: Administration og it mv., KL | C12: Ledere | D12: 1523.5397 | E12: 16 | F12: 30 | G12: 6 | H12: 0 | I12: 0 | J12: 15 | K12: 0 | L12: 14 | M12: 8 | N12: 6 | O12: 0 | P12: 5 | Q12: 17 | R12: 5 | S12: 0 | T12: 5.8648644 | U12: 12.021834 | V12: 8 | W12: 16 | X12: 31.5946 | Y12: 13 | Z12: 8 | AA12: 10 | AB12: 41.8649 | AC12: 27.8108 | AD12: 7 | AE12: 9.9459 | AF12: 8.1138 | AG12: 22.9111 | AH12: 21 | AI12: 0 | AJ12: 8 | AK12: 10 | AL12: 0 | AM12: 17 | AN12: 7.8378 | AO12: 27 | AP12: 25 | AQ12: 20.053026 | AR12: 15 | AS12: 14 | AT12: 21 | AU12: 0 | AV12: 5.7703 | AW12: 8 | AX12: 7 | AY12: 13.9189 | AZ12: 8 | BA12: 24 | BB12: 121.62161 | BC12: 8.8649 | BD12: 0 | BE12: 0 | BF12: 5.9268 | BG12: 16 | BH12: 23.75603 | BI12: 0 | BJ12: 12.134025 | BK12: 0 | BL12: 14.729664 | BM12: 10 | BN12: 5 | BO12: 9 | BP12: 19.8514 | BQ12: 0 | BR12: 45 | BS12: 10.8919 | BT12: 25.8649 | BU12: 8 | BV12: 0 | BW12: 0 | BX12: 0 | BY12: 0 | BZ12: 0 | CA12: 11.8649 | CB12: 6 | CC12: 17 | CD12: 13.7792 | CE12: 7 | CF12: 0 | CG12: 32 | CH12: 22.9332 | CI12: 13 | CJ12: 14.925675 | CK12: 8.8378 | CL12: 10.021834 | CM12: 0 | CN12: 8 | CO12: 10 | CP12: 23.1351 | CQ12: 16.675711 | CR12: 16 | CS12: 17.3664 | CT12: 15 | CU12: 10.999999 | CV12: 13 | CW12: 8 | CX12: 38.405364 | CY12: 9 | CZ12: 22.8108 | DA12: 12 | DB12: 71.162151 | DC12: 0
A13: 2024-12 | B13: Administration og it mv., KL | C13: Markedsføringsøkonomer | D13: 38.338462 | E13: 0 | F13: 0 | G13: 0 | H13: 0 | I13: 0 | J13: 0 | K13: 0 | L13: 0 | M13: 0 | N13: 0 | O13: 0 | P13: 0 | Q13: 0 | R13: 0 | S13: 0 | T13: 0 | U13: 0 | V13: 0 | W13: 0 | X13: 0 | Y13: 0 | Z13: 0 | AA13: 0 | AB13: 0 | AC13: 0 | AD13: 0 | AE13: 0 | AF13: 0 | AG13: 0 | AH13: 0 | AI13: 0 | AJ13: 0 | AK13: 0 | AL13: 0 | AM13: 0 | AN13: 0 | AO13: 0 | AP13: 0 | AQ13: 0 | AR13: 0 | AS13: 0 | AT13: 0 | AU13: 0 | AV13: 0 | AW13: 0 | AX13: 0 | AY13: 0 | AZ13: 0 | BA13: 0 | BB13: 0 | BC13: 0 | BD13: 0 | BE13: 0 | BF13: 0 | BG13: 0 | BH13: 0 | BI13: 0 | BJ13: 0 | BK13: 0 | BL13: 0 | BM13: 0 | BN13: 0 | BO13: 0 | BP13: 0 | BQ13: 0 | BR13: 0 | BS13: 0 | BT13: 0 | BU13: 0 | BV13: 0 | BW13: 0 | BX13: 0 | BY13: 0 | BZ13: 0 | CA13: 0 | CB13: 0 | CC13: 0 | CD13: 0 | CE13: 0 | CF13: 0 | CG13: 0 | CH13: 0 | CI13: 0 | CJ13: 0 | CK13: 0 | CL13: 0 | CM13: 0 | CN13: 0 | CO13: 0 | CP13: 0 | CQ13: 0 | CR13: 0 | CS13: 0 | CT13: 0 | CU13: 0 | CV13: 0 | CW13: 0 | CX13: 0 | CY13: 0 | CZ13: 0 | DA13: 0 | DB13: 0 | DC13: 0
A14: 2024-12 | B14: Administration og it mv., KL | C14: Overassistenter, Frb | D14: 92.149285 | E14: 0 | F14: 0 | G14: 0 | H14: 0 | I14: 0 | J14: 0 | K14: 0 | L14: 0 | M14: 0 | N14: 0 | O14: 0 | P14: 0 | Q14: 0 | R14: 0 | S14: 0 | T14: 0 | U14: 0 | V14: 0 | W14: 0 | X14: 92.149285 | Y14: 0 | Z14: 0 | AA14: 0 | AB14: 0 | AC14: 0 | AD14: 0 | AE14: 0 | AF14: 0 | AG14: 0 | AH14: 0 | AI14: 0 | AJ14: 0 | AK14: 0 | AL14: 0 | AM14: 0 | AN14: 0 | AO14: 0 | AP14: 0 | AQ14: 0 | AR14: 0 | AS14: 0 | AT14: 0 | AU14: 0 | AV14: 0 | AW14: 0 | AX14: 0 | AY14: 0 | AZ14: 0 | BA14: 0 | BB14: 0 | BC14: 0 | BD14: 0 | BE14: 0 | BF14: 0 | BG14: 0 | BH14: 0 | BI14: 0 | BJ14: 0 | BK14: 0 | BL14: 0 | BM14: 0 | BN14: 0 | BO14: 0 | BP14: 0 | BQ14: 0 | BR14: 0 | BS14: 0 | BT14: 0 | BU14: 0 | BV14: 0 | BW14: 0 | BX14: 0 | BY14: 0 | BZ14: 0 | CA14: 0 | CB14: 0 | CC14: 0 | CD14: 0 | CE14: 0 | CF14: 0 | CG14: 0 | CH14: 0 | CI14: 0 | CJ14: 0 | CK14: 0 | CL14: 0 | CM14: 0 | CN14: 0 | CO14: 0 | CP14: 0 | CQ14: 0 | CR14: 0 | CS14: 0 | CT14: 0 | CU14: 0 | CV14: 0 | CW14: 0 | CX14: 0 | CY14: 0 | CZ14: 0 | DA14: 0 | DB14: 0 | DC14: 0
... A38: 2024-12 | B38: Ledere m.fl., undervisningsområdet | C38: Ledere, forvaltningen | D38: 87 | E38: 0 | F38: 0 | G38: 0 | H38: 0 | I38: 0 | J38: 0 | K38: 0 | L38: 0 | M38: 0 | N38: 0 | O38: 0 | P38: 0 | Q38: 0 | R38: 0 | S38: 0 | T38: 10 | U38: 0 | V38: 0 | W38: 0 | X38: 0 | Y38: 0 | Z38: 0 | AA38: 0 | AB38: 0 | AC38: 0 | AD38: 0 | AE38: 0 | AF38: 0 | AG38: 0 | AH38: 0 | AI38: 0 | AJ38: 0 | AK38: 0 | AL38: 0 | AM38: 0 | AN38: 0 | AO38: 0 | AP38: 0 | AQ38: 0 | AR38: 0 | AS38: 0 | AT38: 0 | AU38: 0 | AV38: 0 | AW38: 0 | AX38: 0 | AY38: 0 | AZ38: 0 | BA38: 0 | BB38: 6 | BC38: 0 | BD38: 0 | BE38: 0 | BF38: 0 | BG38: 0 | BH38: 0 | BI38: 0 | BJ38: 0 | BK38: 0 | BL38: 0 | BM38: 0 | BN38: 0 | BO38: 0 | BP38: 0 | BQ38: 0 | BR38: 0 | BS38: 0 | BT38: 0 | BU38: 0 | BV38: 0 | BW38: 0 | BX38: 0 | BY38: 0 | BZ38: 0 | CA38: 0 | CB38: 0 | CC38: 0 | CD38: 0 | CE38: 0 | CF38: 0 | CG38: 0 | CH38: 0 | CI38: 0 | CJ38: 0 | CK38: 0 | CL38: 0 | CM38: 0 | CN38: 0 | CO38: 0 | CP38: 0 | CQ38: 0 | CR38: 0 | CS38: 0 | CT38: 0 | CU38: 0 | CV38: 0 | CW38: 0 | CX38: 0 | CY38: 0 | CZ38: 0 | DA38: 0 | DB38: 0 | DC38: 0
A39: 2024-12 | B39: I alt | C39: I alt | D39: =SUM(D3:D38) -> 46683.921 | E39: =SUM(E3:E38) -> 442.21085 | F39: =SUM(F3:F38) -> 1428.1315 | G39: =SUM(G3:G38) -> 242.82323 | H39: =SUM(H3:H38) -> 167.34594 | I39: =SUM(I3:I38) -> 222.35042 | J39: =SUM(J3:J38) -> 508.94427 | K39: =SUM(K3:K38) -> 166.95679 | ... DC39: =SUM(DC3:DC38) -> 50.564798
A40: 2025-12 | B40: Administration og it mv., KL | C40: Administrationsøkonomer | D40: 77.027063 | E40: 0 | F40: 0 | G40: 0 | H40: 0 | I40: 0 | J40: 0 | K40: 0 | L40: 0 | M40: 0 | N40: 0 | O40: 0 | P40: 0 | Q40: 0 | R40: 0 | S40: 0 | T40: 0 | U40: 0 | V40: 0 | W40: 0 | X40: 0 | Y40: 0 | Z40: 0 | AA40: 0 | AB40: 0 | AC40: 0 | AD40: 0 | AE40: 0 | AF40: 0 | AG40: 0 | AH40: 0 | AI40: 0 | AJ40: 0 | AK40: 0 | AL40: 0 | AM40: 0 | AN40: 0 | AO40: 0 | AP40: 0 | AQ40: 0 | AR40: 0 | AS40: 0 | AT40: 0 | AU40: 0 | AV40: 0 | AW40: 0 | AX40: 0 | AY40: 0 | AZ40: 0 | BA40: 0 | BB40: 8.9386852 | BC40: 0 | BD40: 0 | BE40: 0 | BF40: 0 | BG40: 0 | BH40: 0 | BI40: 0 | BJ40: 0 | BK40: 0 | BL40: 0 | BM40: 0 | BN40: 0 | BO40: 0 | BP40: 0 | BQ40: 0 | BR40: 0 | BS40: 0 | BT40: 0 | BU40: 0 | BV40: 0 | BW40: 0 | BX40: 0 | BY40: 0 | BZ40: 0 | CA40: 0 | CB40: 0 | CC40: 0 | CD40: 0 | CE40: 0 | CF40: 0 | CG40: 0 | CH40: 0 | CI40: 0 | CJ40: 0 | CK40: 0 | CL40: 0 | CM40: 0 | CN40: 0 | CO40: 0 | CP40: 0 | CQ40: 0 | CR40: 0 | CS40: 0 | CT40: 0 | CU40: 0 | CV40: 0 | CW40: 0 | CX40: 0 | CY40: 0 | CZ40: 8 | DA40: 0 | DB40: 8.8108 | DC40: 0
A41: 2025-12 | B41: Administration og it mv., KL | C41: Assistenter | D41: 4179.2214 | E41: 43.516292 | F41: 136.62137 | G41: 22.6756 | H41: 8.1321664 | I41: 32.7163 | J41: 6.8649 | K41: 17 | L41: 45.042606 | M41: 56.5676 | N41: 24.4826 | O41: 6.581 | P41: 28.106562 | Q41: 117.32321 | R41: 21.287002 | S41: 0 | T41: 32.4324 | U41: 14.039477 | V41: 15.1045 | W41: 35.675712 | X41: 32.054 | Y41: 57.835387 | Z41: 19.543718 | AA41: 16.431651 | AB41: 35.9834 | AC41: 30.88381 | AD41: 12.933745 | AE41: 15.266163 | AF41: 42.5134 | AG41: 25.541349 | AH41: 41.254347 | AI41: 16.957679 | AJ41: 65.201011 | AK41: 27.308551 | AL41: 11.3243 | AM41: 106.90663 | AN41: 5.9189 | AO41: 36.3784 | AP41: 9.1897362 | AQ41: 86.933224 | AR41: 111.68924 | AS41: 29.3446 | AT41: 25.7776 | AU41: 9.4751 | AV41: 43.296577 | AW41: 35.5677 | AX41: 13.7117 | AY41: 25.2296 | AZ41: 0 | BA41: 69.232095 | BB41: 446.66303 | BC41: 33.237983 | BD41: 16.0541 | BE41: 17.724587 | BF41: 39.712302 | BG41: 20.679948 | BH41: 17.25066 | BI41: 0 | BJ41: 59.671955 | BK41: 39.322302 | BL41: 23.041529 | BM41: 22.3553 | BN41: 26.378348 | BO41: 13.7351 | BP41: 51.978498 | BQ41: 24.801176 | BR41: 187.10495 | BS41: 25.964 | BT41: 67.829283 | BU41: 28.912606 | BV41: 0 | BW41: 0 | BX41: 0 | BY41: 0 | BZ41: 0 | CA41: 19.009491 | CB41: 31.7974 | CC41: 50.967819 | CD41: 27.321536 | CE41: 23.1559 | CF41: 0 | CG41: 74.820776 | CH41: 21.544666 | CI41: 62.463753 | CJ41: 42.030841 | CK41: 19.1081 | CL41: 5.9200543 | CM41: 22.4054 | CN41: 10.8522 | CO41: 10.297396 | CP41: 17.4573 | CQ41: 33.108 | CR41: 63.002333 | CS41: 31.1803 | CT41: 42.486567 | CU41: 18.6224 | CV41: 35.716247 | CW41: 23.145584 | CX41: 93.712477 | CY41: 39.4864 | CZ41: 56.311436 | DA41: 15.0542 | DB41: 200.00242 | DC41: 13.899827
A42: 2025-12 | B42: Administration og it mv., KL | C42: Datamatikere/Datanomer/AU´ere, ex. Frb | D42: 73.95928 | E42: 0 | F42: 0 | G42: 0 | H42: 0 | I42: 0 | J42: 0 | K42: 0 | L42: 0 | M42: 0 | N42: 0 | O42: 0 | P42: 0 | Q42: 6.7568 | R42: 0 | S42: 0 | T42: 0 | U42: 0 | V42: 0 | W42: 0 | X42: 0 | Y42: 0 | Z42: 0 | AA42: 0 | AB42: 0 | AC42: 0 | AD42: 0 | AE42: 0 | AF42: 0 | AG42: 0 | AH42: 0 | AI42: 0 | AJ42: 0 | AK42: 0 | AL42: 0 | AM42: 0 | AN42: 0 | AO42: 0 | AP42: 0 | AQ42: 0 | AR42: 0 | AS42: 0 | AT42: 0 | AU42: 0 | AV42: 0 | AW42: 0 | AX42: 0 | AY42: 0 | AZ42: 0 | BA42: 0 | BB42: 0 | BC42: 0 | BD42: 0 | BE42: 0 | BF42: 0 | BG42: 0 | BH42: 0 | BI42: 0 | BJ42: 0 | BK42: 0 | BL42: 0 | BM42: 0 | BN42: 0 | BO42: 0 | BP42: 0 | BQ42: 0 | BR42: 7 | BS42: 0 | BT42: 0 | BU42: 0 | BV42: 0 | BW42: 0 | BX42: 0 | BY42: 0 | BZ42: 0 | CA42: 0 | CB42: 0 | CC42: 0 | CD42: 0 | CE42: 0 | CF42: 0 | CG42: 0 | CH42: 0 | CI42: 5.3243 | CJ42: 0 | CK42: 0 | CL42: 0 | CM42: 0 | CN42: 0 | CO42: 0 | CP42: 0 | CQ42: 0 | CR42: 0 | CS42: 0 | CT42: 0 | CU42: 0 | CV42: 0 | CW42: 0 | CX42: 0 | CY42: 0 | CZ42: 0 | DA42: 0 | DB42: 0 | DC42: 0
A43: 2025-12 | B43: Administration og it mv., KL | C43: Edb-medarbejdere, Kbh, lukket gruppe | D43: 8.3513403 | E43: 0 | F43: 0 | G43: 0 | H43: 0 | I43: 0 | J43: 0 | K43: 0 | L43: 0 | M43: 0 | N43: 0 | O43: 0 | P43: 0 | Q43: 0 | R43: 0 | S43: 0 | T43: 0 | U43: 0 | V43: 0 | W43: 0 | X43: 0 | Y43: 0 | Z43: 0 | AA43: 0 | AB43: 0 | AC43: 0 | AD43: 0 | AE43: 0 | AF43: 0 | AG43: 0 | AH43: 0 | AI43: 0 | AJ43: 0 | AK43: 0 | AL43: 0 | AM43: 0 | AN43: 0 | AO43: 0 | AP43: 0 | AQ43: 0 | AR43: 0 | AS43: 0 | AT43: 0 | AU43: 0 | AV43: 0 | AW43: 0 | AX43: 0 | AY43: 0 | AZ43: 0 | BA43: 0 | BB43: 8.3513403 | BC43: 0 | BD43: 0 | BE43: 0 | BF43: 0 | BG43: 0 | BH43: 0 | BI43: 0 | BJ43: 0 | BK43: 0 | BL43: 0 | BM43: 0 | BN43: 0 | BO43: 0 | BP43: 0 | BQ43: 0 | BR43: 0 | BS43: 0 | BT43: 0 | BU43: 0 | BV43: 0 | BW43: 0 | BX43: 0 | BY43: 0 | BZ43: 0 | CA43: 0 | CB43: 0 | CC43: 0 | CD43: 0 | CE43: 0 | CF43: 0 | CG43: 0 | CH43: 0 | CI43: 0 | CJ43: 0 | CK43: 0 | CL43: 0 | CM43: 0 | CN43: 0 | CO43: 0 | CP43: 0 | CQ43: 0 | CR43: 0 | CS43: 0 | CT43: 0 | CU43: 0 | CV43: 0 | CW43: 0 | CX43: 0 | CY43: 0 | CZ43: 0 | DA43: 0 | DB43: 0 | DC43: 0
A44: 2025-12 | B44: Administration og it mv., KL | C44: Financial Controller | D44: 12.1081 | E44: 0 | F44: 0 | G44: 0 | H44: 0 | I44: 0 | J44: 0 | K44: 0 | L44: 0 | M44: 0 | N44: 0 | O44: 0 | P44: 0 | Q44: 0 | R44: 0 | S44: 0 | T44: 0 | U44: 0 | V44: 0 | W44: 0 | X44: 0 | Y44: 0 | Z44: 0 | AA44: 0 | AB44: 0 | AC44: 0 | AD44: 0 | AE44: 0 | AF44: 0 | AG44: 0 | AH44: 0 | AI44: 0 | AJ44: 0 | AK44: 0 | AL44: 0 | AM44: 0 | AN44: 0 | AO44: 0 | AP44: 0 | AQ44: 0 | AR44: 0 | AS44: 0 | AT44: 0 | AU44: 0 | AV44: 0 | AW44: 0 | AX44: 0 | AY44: 0 | AZ44: 0 | BA44: 0 | BB44: 0 | BC44: 0 | BD44: 0 | BE44: 0 | BF44: 0 | BG44: 0 | BH44: 0 | BI44: 0 | BJ44: 0 | BK44: 0 | BL44: 0 | BM44: 0 | BN44: 0 | BO44: 0 | BP44: 0 | BQ44: 0 | BR44: 0 | BS44: 0 | BT44: 0 | BU44: 0 | BV44: 0 | BW44: 0 | BX44: 0 | BY44: 0 | BZ44: 0 | CA44: 0 | CB44: 0 | CC44: 0 | CD44: 0 | CE44: 0 | CF44: 0 | CG44: 0 | CH44: 0 | CI44: 0 | CJ44: 0 | CK44: 0 | CL44: 0 | CM44: 0 | CN44: 0 | CO44: 0 | CP44: 0 | CQ44: 0 | CR44: 0 | CS44: 0 | CT44: 0 | CU44: 0 | CV44: 0 | CW44: 0 | CX44: 0 | CY44: 0 | CZ44: 0 | DA44: 0 | DB44: 0 | DC44: 0
A45: 2025-12 | B45: Administration og it mv., KL | C45: Finansøkonomer | D45: 88.812861 | E45: 0 | F45: 0 | G45: 0 | H45: 0 | I45: 0 | J45: 0 | K45: 0 | L45: 0 | M45: 0 | N45: 0 | O45: 0 | P45: 0 | Q45: 0 | R45: 0 | S45: 0 | T45: 0 | U45: 0 | V45: 0 | W45: 0 | X45: 0 | Y45: 0 | Z45: 0 | AA45: 0 | AB45: 0 | AC45: 0 | AD45: 0 | AE45: 0 | AF45: 0 | AG45: 0 | AH45: 0 | AI45: 0 | AJ45: 0 | AK45: 0 | AL45: 0 | AM45: 0 | AN45: 0 | AO45: 0 | AP45: 0 | AQ45: 8.6756 | AR45: 0 | AS45: 0 | AT45: 0 | AU45: 0 | AV45: 0 | AW45: 0 | AX45: 0 | AY45: 0 | AZ45: 0 | BA45: 0 | BB45: 0 | BC45: 0 | BD45: 0 | BE45: 0 | BF45: 0 | BG45: 0 | BH45: 0 | BI45: 0 | BJ45: 0 | BK45: 0 | BL45: 0 | BM45: 0 | BN45: 0 | BO45: 0 | BP45: 0 | BQ45: 0 | BR45: 0 | BS45: 0 | BT45: 0 | BU45: 0 | BV45: 0 | BW45: 0 | BX45: 0 | BY45: 0 | BZ45: 0 | CA45: 0 | CB45: 0 | CC45: 0 | CD45: 0 | CE45: 0 | CF45: 0 | CG45: 0 | CH45: 0 | CI45: 0 | CJ45: 0 | CK45: 0 | CL45: 0 | CM45: 0 | CN45: 0 | CO45: 0 | CP45: 0 | CQ45: 0 | CR45: 0 | CS45: 0 | CT45: 0 | CU45: 0 | CV45: 0 | CW45: 0 | CX45: 0 | CY45: 0 | CZ45: 0 | DA45: 0 | DB45: 0 | DC45: 0
A46: 2025-12 | B46: Administration og it mv., KL | C46: IT-medarbejdere, ex. Frb | D46: 163.95182 | E46: 0 | F46: 0 | G46: 0 | H46: 0 | I46: 0 | J46: 0 | K46: 0 | L46: 0 | M46: 0 | N46: 0 | O46: 0 | P46: 0 | Q46: 0 | R46: 0 | S46: 0 | T46: 0 | U46: 0 | V46: 0 | W46: 0 | X46: 0 | Y46: 0 | Z46: 0 | AA46: 0 | AB46: 0 | AC46: 0 | AD46: 0 | AE46: 0 | AF46: 0 | AG46: 0 | AH46: 0 | AI46: 0 | AJ46: 0 | AK46: 0 | AL46: 0 | AM46: 0 | AN46: 0 | AO46: 0 | AP46: 0 | AQ46: 0 | AR46: 0 | AS46: 0 | AT46: 0 | AU46: 0 | AV46: 0 | AW46: 0 | AX46: 0 | AY46: 0 | AZ46: 0 | BA46: 0 | BB46: 42.2378 | BC46: 0 | BD46: 0 | BE46: 0 | BF46: 0 | BG46: 0 | BH46: 0 | BI46: 0 | BJ46: 0 | BK46: 0 | BL46: 0 | BM46: 0 | BN46: 0 | BO46: 0 | BP46: 0 | BQ46: 0 | BR46: 0 | BS46: 0 | BT46: 0 | BU46: 5.8919 | BV46: 0 | BW46: 0 | BX46: 0 | BY46: 0 | BZ46: 0 | CA46: 0 | CB46: 0 | CC46: 8 | CD46: 0 | CE46: 0 | CF46: 0 | CG46: 0 | CH46: 0 | CI46: 0 | CJ46: 0 | CK46: 0 | CL46: 0 | CM46: 0 | CN46: 0 | CO46: 0 | CP46: 0 | CQ46: 0 | CR46: 0 | CS46: 0 | CT46: 0 | CU46: 0 | CV46: 0 | CW46: 0 | CX46: 0 | CY46: 0 | CZ46: 0 | DA46: 0 | DB46: 12.7297 | DC46: 0
A47: 2025-12 | B47: Administration og it mv., KL | C47: Kontorassistenter | D47: 1386.6124 | E47: 9.4324 | F47: 30.199638 | G47: 5.7901342 | H47: 0 | I47: 5.6756 | J47: 0 | K47: 9.5074329 | L47: 21.783711 | M47: 17.0139 | N47: 0 | O47: 0 | P47: 0 | Q47: 18.616945 | R47: 8.6131726 | S47: 0 | T47: 0 | U47: 6.4479937 | V47: 0 | W47: 14.291573 | X47: 0 | Y47: 8.6216 | Z47: 0 | AA47: 9.2098535 | AB47: 23.873754 | AC47: 5.8607044 | AD47: 6.6554007 | AE47: 0 | AF47: 0 | AG47: 12.797291 | AH47: 9.0421921 | AI47: 0 | AJ47: 7.1692537 | AK47: 12.371363 | AL47: 0 | AM47: 26.069353 | AN47: 5.9864 | AO47: 16.21641 | AP47: 6.1131093 | AQ47: 11.39357 | AR47: 17.119302 | AS47: 6.2294766 | AT47: 0 | AU47: 0 | AV47: 10.029037 | AW47: 7.699 | AX47: 0 | AY47: 7.3243 | AZ47: 7.4123742 | BA47: 12.205366 | BB47: 332.14029 | BC47: 10.386611 | BD47: 0 | BE47: 0 | BF47: 8.5699062 | BG47: 8 | BH47: 8.1674902 | BI47: 0 | BJ47: 0 | BK47: 9.5329032 | BL47: 0 | BM47: 5.4667066 | BN47: 5.0811 | BO47: 0 | BP47: 16.008759 | BQ47: 0 | BR47: 47.136762 | BS47: 0 | BT47: 17.381434 | BU47: 0 | BV47: 0 | BW47: 0 | BX47: 0 | BY47: 0 | BZ47: 0 | CA47: 7.7072269 | CB47: 6.8470801 | CC47: 20.92637 | CD47: 11.0272 | CE47: 13.506606 | CF47: 0 | CG47: 15.063017 | CH47: 5.4053 | CI47: 13.213521 | CJ47: 5.5404 | CK47: 0 | CL47: 0 | CM47: 0 | CN47: 0 | CO47: 8.8961386 | CP47: 7.1081 | CQ47: 8.2868 | CR47: 10.923679 | CS47: 8.5288978 | CT47: 10.133111 | CU47: 0 | CV47: 6.3314806 | CW47: 9.1622 | CX47: 24.859915 | CY47: 0 | CZ47: 12.252739 | DA47: 0 | DB47: 58.05047 | DC47: 5.8377
