Workbook

Sheet AdministrativeStillinger
A1: Kommune | B1: Adm. Støtte og ledelse 2024 | C1: Adm. Støtte og ledelse 2025 | D1: Adm. Støtte og ledelse 2024-2025 | E1: Adm. Støtte og ledelse 2024-2025 pct | F1: Decentrale ledere 2024 | G1: Decentrale ledere 2025 | H1: Decentrale ledere 2024-2025 | I1: Decentrale ledere 2024-2025 pct. | J1: Myndighedspersonale 2024 | K1: Myndighedspersonale 2025 | L1: Myndighedspersonale 2024-2025 | M1: Myndighedspersonale 2024-2025 pct. | N1: I alt 2024 | O1: I alt 2025 | P1: 2024-2025 I alt | Q1: 2024-2025 I alt pct. | R1: 2024 alle stillinger | S1: 2025 alle stillinger | T1: 2024-2025 alle stillinger | U1: 2024-2025 alle stillinger pct. | V1: 2024 andel af alle stillinger | W1: 2025 andel af alle stillinger | X1: 2024-2025 andel af alle stillinger
A2: Udvalgte population | B2: =_xlfn.XLOOKUP($A2,AdministrativeStoettefunktioner!$A:$A,AdministrativeStoettefunktioner!B:B) -> 46683.921 | C2: =_xlfn.XLOOKUP($A2,AdministrativeStoettefunktioner!$A:$A,AdministrativeStoettefunktioner!C:C) -> 47905.119 | D2: =C2-B2 -> 1221.1973 | E2: =D2/B2*100 -> 2.6158841 | F2: =_xlfn.XLOOKUP($A2,Decentraleledere!$A:$A,Decentraleledere!B:B) -> 18349.189 | G2: =_xlfn.XLOOKUP($A2,Decentraleledere!$A:$A,Decentraleledere!C:C) -> 18756.443 | H2: =G2-F2 -> 407.25438 | I2: =H2/F2*100 -> 2.2194681 | J2: =_xlfn.XLOOKUP($A2,Myndighedspersonale!$A:$A,Myndighedspersonale!B:B) -> 22815.268 | K2: =_xlfn.XLOOKUP($A2,Myndighedspersonale!$A:$A,Myndighedspersonale!C:C) -> 22946.184 | L2: =K2-J2 -> 130.91573 | M2: =L2/J2*100 -> 0.57380754 | N2: =SUM(B2,F2,J2) -> 87848.378 | O2: =SUM(C2,G2,K2) -> 89607.745 | P2: =O2-N2 -> 1759.3674 | Q2: =P2/N2*100 -> 2.0027318 | R2: =_xlfn.XLOOKUP($A2,'Alle stillinger'!$A:$A,'Alle stillinger'!B:B) -> 417092.65 | S2: =_xlfn.XLOOKUP($A2,'Alle stillinger'!$A:$A,'Alle stillinger'!C:C) -> 422971.17 | T2: =S2-R2 -> 5878.5214 | U2: =T2/R2*100 -> 1.4094042 | V2: =N2/_xlfn.XLOOKUP($A2,'Alle stillinger'!$A:$A,'Alle stillinger'!B:B)*100 -> 21.062078 | W2: =O2/_xlfn.XLOOKUP($A2,'Alle stillinger'!$A:$A,'Alle stillinger'!C:C)*100 -> 21.185308 | X2: =W2-V2 -> 0.1232303 | AA2: Kommuner med flere stillinger i 2025 | AB2: =COUNTIF(P3:P100,">0") -> 80
A3: Aabenraa | B3: =_xlfn.XLOOKUP($A3,AdministrativeStoettefunktioner!$A:$A,AdministrativeStoettefunktioner!B:B) -> 442.21085 | C3: =_xlfn.XLOOKUP($A3,AdministrativeStoettefunktioner!$A:$A,AdministrativeStoettefunktioner!C:C) -> 457.98194 | D3: =C3-B3 -> 15.771089 | E3: =D3/B3*100 -> 3.5664184 | F3: =_xlfn.XLOOKUP($A3,Decentraleledere!$A:$A,Decentraleledere!B:B) -> 173.42186 | G3: =_xlfn.XLOOKUP($A3,Decentraleledere!$A:$A,Decentraleledere!C:C) -> 182.70063 | H3: =G3-F3 -> 9.2787746 | I3: =H3/F3*100 -> 5.3504067 | J3: =_xlfn.XLOOKUP($A3,Myndighedspersonale!$A:$A,Myndighedspersonale!B:B) -> 176.46331 | K3: =_xlfn.XLOOKUP($A3,Myndighedspersonale!$A:$A,Myndighedspersonale!C:C) -> 169.24449 | L3: =K3-J3 -> -7.2188141 | M3: =L3/J3*100 -> -4.0908301 | N3: =SUM(B3,F3,J3) -> 792.09602 | O3: =SUM(C3,G3,K3) -> 809.92707 | P3: =O3-N3 -> 17.83105 | Q3: =P3/N3*100 -> 2.2511223 | R3: =_xlfn.XLOOKUP($A3,'Alle stillinger'!$A:$A,'Alle stillinger'!B:B) -> 3987.9794 | S3: =_xlfn.XLOOKUP($A3,'Alle stillinger'!$A:$A,'Alle stillinger'!C:C) -> 4047.0319 | T3: =S3-R3 -> 59.052499 | U3: =T3/R3*100 -> 1.4807624 | V3: =N3/_xlfn.XLOOKUP($A3,'Alle stillinger'!$A:$A,'Alle stillinger'!B:B)*100 -> 19.862089 | W3: =O3/_xlfn.XLOOKUP($A3,'Alle stillinger'!$A:$A,'Alle stillinger'!C:C)*100 -> 20.012866 | X3: =W3-V3 -> 0.15077692 | AA3: Kommuner med færre stillinger i 2025 | AB3: =COUNTIF(P3:P100,"<0") -> 18
A4: Aalborg | B4: =_xlfn.XLOOKUP($A4,AdministrativeStoettefunktioner!$A:$A,AdministrativeStoettefunktioner!B:B) -> 1428.1315 | C4: =_xlfn.XLOOKUP($A4,AdministrativeStoettefunktioner!$A:$A,AdministrativeStoettefunktioner!C:C) -> 1472.4078 | D4: =C4-B4 -> 44.276317 | E4: =D4/B4*100 -> 3.1002969 | F4: =_xlfn.XLOOKUP($A4,Decentraleledere!$A:$A,Decentraleledere!B:B) -> 746.29743 | G4: =_xlfn.XLOOKUP($A4,Decentraleledere!$A:$A,Decentraleledere!C:C) -> 758.89495 | H4: =G4-F4 -> 12.59752 | I4: =H4/F4*100 -> 1.6880026 | J4: =_xlfn.XLOOKUP($A4,Myndighedspersonale!$A:$A,Myndighedspersonale!B:B) -> 1095.7217 | K4: =_xlfn.XLOOKUP($A4,Myndighedspersonale!$A:$A,Myndighedspersonale!C:C) -> 1109.1476 | L4: =K4-J4 -> 13.425868 | M4: =L4/J4*100 -> 1.225299 | N4: =SUM(B4,F4,J4) -> 3270.1507 | O4: =SUM(C4,G4,K4) -> 3340.4504 | P4: =O4-N4 -> 70.299705 | Q4: =P4/N4*100 -> 2.149739 | R4: =_xlfn.XLOOKUP($A4,'Alle stillinger'!$A:$A,'Alle stillinger'!B:B) -> 15496.204 | S4: =_xlfn.XLOOKUP($A4,'Alle stillinger'!$A:$A,'Alle stillinger'!C:C) -> 15692.203 | T4: =S4-R4 -> 195.99852 | U4: =T4/R4*100 -> 1.2648163 | V4: =N4/_xlfn.XLOOKUP($A4,'Alle stillinger'!$A:$A,'Alle stillinger'!B:B)*100 -> 21.102914 | W4: =O4/_xlfn.XLOOKUP($A4,'Alle stillinger'!$A:$A,'Alle stillinger'!C:C)*100 -> 21.287326 | X4: =W4-V4 -> 0.184412
A5: Albertslund | B5: =_xlfn.XLOOKUP($A5,AdministrativeStoettefunktioner!$A:$A,AdministrativeStoettefunktioner!B:B) -> 242.82323 | C5: =_xlfn.XLOOKUP($A5,AdministrativeStoettefunktioner!$A:$A,AdministrativeStoettefunktioner!C:C) -> 268.46376 | D5: =C5-B5 -> 25.640536 | E5: =D5/B5*100 -> 10.559342 | F5: =_xlfn.XLOOKUP($A5,Decentraleledere!$A:$A,Decentraleledere!B:B) -> 65.409777 | G5: =_xlfn.XLOOKUP($A5,Decentraleledere!$A:$A,Decentraleledere!C:C) -> 74 | H5: =G5-F5 -> 8.5902226 | I5: =H5/F5*100 -> 13.132934 | J5: =_xlfn.XLOOKUP($A5,Myndighedspersonale!$A:$A,Myndighedspersonale!B:B) -> 120.09819 | K5: =_xlfn.XLOOKUP($A5,Myndighedspersonale!$A:$A,Myndighedspersonale!C:C) -> 108.68244 | L5: =K5-J5 -> -11.415753 | M5: =L5/J5*100 -> -9.5053493 | N5: =SUM(B5,F5,J5) -> 428.3312 | O5: =SUM(C5,G5,K5) -> 451.1462 | P5: =O5-N5 -> 22.815006 | Q5: =P5/N5*100 -> 5.3264871 | R5: =_xlfn.XLOOKUP($A5,'Alle stillinger'!$A:$A,'Alle stillinger'!B:B) -> 2138.3087 | S5: =_xlfn.XLOOKUP($A5,'Alle stillinger'!$A:$A,'Alle stillinger'!C:C) -> 2154.191 | T5: =S5-R5 -> 15.882338 | U5: =T5/R5*100 -> 0.74275232 | V5: =N5/_xlfn.XLOOKUP($A5,'Alle stillinger'!$A:$A,'Alle stillinger'!B:B)*100 -> 20.031308 | W5: =O5/_xlfn.XLOOKUP($A5,'Alle stillinger'!$A:$A,'Alle stillinger'!C:C)*100 -> 20.94272 | X5: =W5-V5 -> 0.91141248
A6: Allerød | B6: =_xlfn.XLOOKUP($A6,AdministrativeStoettefunktioner!$A:$A,AdministrativeStoettefunktioner!B:B) -> 167.34594 | C6: =_xlfn.XLOOKUP($A6,AdministrativeStoettefunktioner!$A:$A,AdministrativeStoettefunktioner!C:C) -> 178.80665 | D6: =C6-B6 -> 11.460705 | E6: =D6/B6*100 -> 6.8485108 | F6: =_xlfn.XLOOKUP($A6,Decentraleledere!$A:$A,Decentraleledere!B:B) -> 73 | G6: =_xlfn.XLOOKUP($A6,Decentraleledere!$A:$A,Decentraleledere!C:C) -> 73 | H6: =G6-F6 -> 0 | I6: =H6/F6*100 -> 0 | J6: =_xlfn.XLOOKUP($A6,Myndighedspersonale!$A:$A,Myndighedspersonale!B:B) -> 61.412474 | K6: =_xlfn.XLOOKUP($A6,Myndighedspersonale!$A:$A,Myndighedspersonale!C:C) -> 61.162198 | L6: =K6-J6 -> -0.2502764 | M6: =L6/J6*100 -> -0.40753349 | N6: =SUM(B6,F6,J6) -> 301.75842 | O6: =SUM(C6,G6,K6) -> 312.96884 | P6: =O6-N6 -> 11.210428 | Q6: =P6/N6*100 -> 3.7150342 | R6: =_xlfn.XLOOKUP($A6,'Alle stillinger'!$A:$A,'Alle stillinger'!B:B) -> 1722.2029 | S6: =_xlfn.XLOOKUP($A6,'Alle stillinger'!$A:$A,'Alle stillinger'!C:C) -> 1779.3544 | T6: =S6-R6 -> 57.151498 | U6: =T6/R6*100 -> 3.3185114 | V6: =N6/_xlfn.XLOOKUP($A6,'Alle stillinger'!$A:$A,'Alle stillinger'!B:B)*100 -> 17.521653 | W6: =O6/_xlfn.XLOOKUP($A6,'Alle stillinger'!$A:$A,'Alle stillinger'!C:C)*100 -> 17.588899 | X6: =W6-V6 -> 0.067245802
A7: Assens | B7: =_xlfn.XLOOKUP($A7,AdministrativeStoettefunktioner!$A:$A,AdministrativeStoettefunktioner!B:B) -> 222.35042 | C7: =_xlfn.XLOOKUP($A7,AdministrativeStoettefunktioner!$A:$A,AdministrativeStoettefunktioner!C:C) -> 230.72447 | D7: =C7-B7 -> 8.3740528 | E7: =D7/B7*100 -> 3.7661512 | F7: =_xlfn.XLOOKUP($A7,Decentraleledere!$A:$A,Decentraleledere!B:B) -> 73 | G7: =_xlfn.XLOOKUP($A7,Decentraleledere!$A:$A,Decentraleledere!C:C) -> 75 | H7: =G7-F7 -> 2 | I7: =H7/F7*100 -> 2.739726 | J7: =_xlfn.XLOOKUP($A7,Myndighedspersonale!$A:$A,Myndighedspersonale!B:B) -> 162.21166 | K7: =_xlfn.XLOOKUP($A7,Myndighedspersonale!$A:$A,Myndighedspersonale!C:C) -> 151.59652 | L7: =K7-J7 -> -10.615136 | M7: =L7/J7*100 -> -6.5440034 | N7: =SUM(B7,F7,J7) -> 457.56207 | O7: =SUM(C7,G7,K7) -> 457.32099 | P7: =O7-N7 -> -0.24108367 | Q7: =P7/N7*100 -> -0.052688736 | R7: =_xlfn.XLOOKUP($A7,'Alle stillinger'!$A:$A,'Alle stillinger'!B:B) -> 2416.5738 | S7: =_xlfn.XLOOKUP($A7,'Alle stillinger'!$A:$A,'Alle stillinger'!C:C) -> 2432.0122 | T7: =S7-R7 -> 15.43835 | U7: =T7/R7*100 -> 0.63885281 | V7: =N7/_xlfn.XLOOKUP($A7,'Alle stillinger'!$A:$A,'Alle stillinger'!B:B)*100 -> 18.934331 | W7: =O7/_xlfn.XLOOKUP($A7,'Alle stillinger'!$A:$A,'Alle stillinger'!C:C)*100 -> 18.804223 | X7: =W7-V7 -> -0.13010757
A8: Ballerup | B8: =_xlfn.XLOOKUP($A8,AdministrativeStoettefunktioner!$A:$A,AdministrativeStoettefunktioner!B:B) -> 508.94427 | C8: =_xlfn.XLOOKUP($A8,AdministrativeStoettefunktioner!$A:$A,AdministrativeStoettefunktioner!C:C) -> 553.01722 | D8: =C8-B8 -> 44.072942 | E8: =D8/B8*100 -> 8.6596793 | F8: =_xlfn.XLOOKUP($A8,Decentraleledere!$A:$A,Decentraleledere!B:B) -> 187.24735 | G8: =_xlfn.XLOOKUP($A8,Decentraleledere!$A:$A,Decentraleledere!C:C) -> 196.78846 | H8: =G8-F8 -> 9.5411168 | I8: =H8/F8*100 -> 5.0954616 | J8: =_xlfn.XLOOKUP($A8,Myndighedspersonale!$A:$A,Myndighedspersonale!B:B) -> 179.07458 | K8: =_xlfn.XLOOKUP($A8,Myndighedspersonale!$A:$A,Myndighedspersonale!C:C) -> 207.6577 | L8: =K8-J8 -> 28.583111 | M8: =L8/J8*100 -> 15.961568 | N8: =SUM(B8,F8,J8) -> 875.26621 | O8: =SUM(C8,G8,K8) -> 957.46338 | P8: =O8-N8 -> 82.19717 | Q8: =P8/N8*100 -> 9.3911052 | R8: =_xlfn.XLOOKUP($A8,'Alle stillinger'!$A:$A,'Alle stillinger'!B:B) -> 4324.2979 | S8: =_xlfn.XLOOKUP($A8,'Alle stillinger'!$A:$A,'Alle stillinger'!C:C) -> 4468.4322 | T8: =S8-R8 -> 144.13432 | U8: =T8/R8*100 -> 3.3331266 | V8: =N8/_xlfn.XLOOKUP($A8,'Alle stillinger'!$A:$A,'Alle stillinger'!B:B)*100 -> 20.240655 | W8: =O8/_xlfn.XLOOKUP($A8,'Alle stillinger'!$A:$A,'Alle stillinger'!C:C)*100 -> 21.427278 | X8: =W8-V8 -> 1.1866229
A9: Billund | B9: =_xlfn.XLOOKUP($A9,AdministrativeStoettefunktioner!$A:$A,AdministrativeStoettefunktioner!B:B) -> 166.95679 | C9: =_xlfn.XLOOKUP($A9,AdministrativeStoettefunktioner!$A:$A,AdministrativeStoettefunktioner!C:C) -> 179.38837 | D9: =C9-B9 -> 12.431576 | E9: =D9/B9*100 -> 7.4459841 | F9: =_xlfn.XLOOKUP($A9,Decentraleledere!$A:$A,Decentraleledere!B:B) -> 79.4594 | G9: =_xlfn.XLOOKUP($A9,Decentraleledere!$A:$A,Decentraleledere!C:C) -> 76.6486 | H9: =G9-F9 -> -2.8108 | I9: =H9/F9*100 -> -3.537404 | J9: =_xlfn.XLOOKUP($A9,Myndighedspersonale!$A:$A,Myndighedspersonale!B:B) -> 104.33173 | K9: =_xlfn.XLOOKUP($A9,Myndighedspersonale!$A:$A,Myndighedspersonale!C:C) -> 102.10772 | L9: =K9-J9 -> -2.2240068 | M9: =L9/J9*100 -> -2.1316687 | N9: =SUM(B9,F9,J9) -> 350.74792 | O9: =SUM(C9,G9,K9) -> 358.14469 | P9: =O9-N9 -> 7.3967695 | Q9: =P9/N9*100 -> 2.1088562 | R9: =_xlfn.XLOOKUP($A9,'Alle stillinger'!$A:$A,'Alle stillinger'!B:B) -> 1757.8679 | S9: =_xlfn.XLOOKUP($A9,'Alle stillinger'!$A:$A,'Alle stillinger'!C:C) -> 1791.9352 | T9: =S9-R9 -> 34.067319 | U9: =T9/R9*100 -> 1.9379909 | V9: =N9/_xlfn.XLOOKUP($A9,'Alle stillinger'!$A:$A,'Alle stillinger'!B:B)*100 -> 19.953031 | W9: =O9/_xlfn.XLOOKUP($A9,'Alle stillinger'!$A:$A,'Alle stillinger'!C:C)*100 -> 19.986476 | X9: =W9-V9 -> 0.033444662
A10: Bornholm | B10: =_xlfn.XLOOKUP($A10,AdministrativeStoettefunktioner!$A:$A,AdministrativeStoettefunktioner!B:B) -> 373.9158 | C10: =_xlfn.XLOOKUP($A10,AdministrativeStoettefunktioner!$A:$A,AdministrativeStoettefunktioner!C:C) -> 393.29604 | D10: =C10-B10 -> 19.380238 | E10: =D10/B10*100 -> 5.1830485 | F10: =_xlfn.XLOOKUP($A10,Decentraleledere!$A:$A,Decentraleledere!B:B) -> 88.413287 | G10: =_xlfn.XLOOKUP($A10,Decentraleledere!$A:$A,Decentraleledere!C:C) -> 90.8649 | H10: =G10-F10 -> 2.4516129 | I10: =H10/F10*100 -> 2.772901 | J10: =_xlfn.XLOOKUP($A10,Myndighedspersonale!$A:$A,Myndighedspersonale!B:B) -> 153.84309 | K10: =_xlfn.XLOOKUP($A10,Myndighedspersonale!$A:$A,Myndighedspersonale!C:C) -> 149.74999 | L10: =K10-J10 -> -4.0930915 | M10: =L10/J10*100 -> -2.6605626 | N10: =SUM(B10,F10,J10) -> 616.17218 | O10: =SUM(C10,G10,K10) -> 633.91093 | P10: =O10-N10 -> 17.738759 | Q10: =P10/N10*100 -> 2.878864 | R10: =_xlfn.XLOOKUP($A10,'Alle stillinger'!$A:$A,'Alle stillinger'!B:B) -> 3158.1616 | S10: =_xlfn.XLOOKUP($A10,'Alle stillinger'!$A:$A,'Alle stillinger'!C:C) -> 3153.3287 | T10: =S10-R10 -> -4.8329023 | U10: =T10/R10*100 -> -0.15302897 | V10: =N10/_xlfn.XLOOKUP($A10,'Alle stillinger'!$A:$A,'Alle stillinger'!B:B)*100 -> 19.51047 | W10: =O10/_xlfn.XLOOKUP($A10,'Alle stillinger'!$A:$A,'Alle stillinger'!C:C)*100 -> 20.102913 | X10: =W10-V10 -> 0.59244318
A11: Brøndby | B11: =_xlfn.XLOOKUP($A11,AdministrativeStoettefunktioner!$A:$A,AdministrativeStoettefunktioner!B:B) -> 335.71011 | C11: =_xlfn.XLOOKUP($A11,AdministrativeStoettefunktioner!$A:$A,AdministrativeStoettefunktioner!C:C) -> 342.68677 | D11: =C11-B11 -> 6.9766676 | E11: =D11/B11*100 -> 2.0781822 | F11: =_xlfn.XLOOKUP($A11,Decentraleledere!$A:$A,Decentraleledere!B:B) -> 133.27034 | G11: =_xlfn.XLOOKUP($A11,Decentraleledere!$A:$A,Decentraleledere!C:C) -> 126.77132 | H11: =G11-F11 -> -6.4990256 | I11: =H11/F11*100 -> -4.8765729 | J11: =_xlfn.XLOOKUP($A11,Myndighedspersonale!$A:$A,Myndighedspersonale!B:B) -> 143.32425 | K11: =_xlfn.XLOOKUP($A11,Myndighedspersonale!$A:$A,Myndighedspersonale!C:C) -> 149.7911 | L11: =K11-J11 -> 6.4668471 | M11: =L11/J11*100 -> 4.5120396 | N11: =SUM(B11,F11,J11) -> 612.3047 | O11: =SUM(C11,G11,K11) -> 619.24919 | P11: =O11-N11 -> 6.9444892 | Q11: =P11/N11*100 -> 1.1341558 | R11: =_xlfn.XLOOKUP($A11,'Alle stillinger'!$A:$A,'Alle stillinger'!B:B) -> 3113.256 | S11: =_xlfn.XLOOKUP($A11,'Alle stillinger'!$A:$A,'Alle stillinger'!C:C) -> 3267.9554 | T11: =S11-R11 -> 154.69946 | U11: =T11/R11*100 -> 4.9690569 | V11: =N11/_xlfn.XLOOKUP($A11,'Alle stillinger'!$A:$A,'Alle stillinger'!B:B)*100 -> 19.667663 | W11: =O11/_xlfn.XLOOKUP($A11,'Alle stillinger'!$A:$A,'Alle stillinger'!C:C)*100 -> 18.949132 | X11: =W11-V11 -> -0.71853121
A12: Brønderslev | B12: =_xlfn.XLOOKUP($A12,AdministrativeStoettefunktioner!$A:$A,AdministrativeStoettefunktioner!B:B) -> 199.27775 | C12: =_xlfn.XLOOKUP($A12,AdministrativeStoettefunktioner!$A:$A,AdministrativeStoettefunktioner!C:C) -> 197.79014 | D12: =C12-B12 -> -1.487606 | E12: =D12/B12*100 -> -0.74649881 | F12: =_xlfn.XLOOKUP($A12,Decentraleledere!$A:$A,Decentraleledere!B:B) -> 82.863403 | G12: =_xlfn.XLOOKUP($A12,Decentraleledere!$A:$A,Decentraleledere!C:C) -> 74.369231 | H12: =G12-F12 -> -8.4941722 | I12: =H12/F12*100 -> -10.250813 | J12: =_xlfn.XLOOKUP($A12,Myndighedspersonale!$A:$A,Myndighedspersonale!B:B) -> 142.01353 | K12: =_xlfn.XLOOKUP($A12,Myndighedspersonale!$A:$A,Myndighedspersonale!C:C) -> 140.19716 | L12: =K12-J12 -> -1.8163717 | M12: =L12/J12*100 -> -1.2790132 | N12: =SUM(B12,F12,J12) -> 424.15468 | O12: =SUM(C12,G12,K12) -> 412.35653 | P12: =O12-N12 -> -11.79815 | Q12: =P12/N12*100 -> -2.7815678 | R12: =_xlfn.XLOOKUP($A12,'Alle stillinger'!$A:$A,'Alle stillinger'!B:B) -> 2544.9016 | S12: =_xlfn.XLOOKUP($A12,'Alle stillinger'!$A:$A,'Alle stillinger'!C:C) -> 2534.4098 | T12: =S12-R12 -> -10.491881 | U12: =T12/R12*100 -> -0.41227059 | V12: =N12/_xlfn.XLOOKUP($A12,'Alle stillinger'!$A:$A,'Alle stillinger'!B:B)*100 -> 16.66684 | W12: =O12/_xlfn.XLOOKUP($A12,'Alle stillinger'!$A:$A,'Alle stillinger'!C:C)*100 -> 16.270318 | X12: =W12-V12 -> -0.39652171
A13: Dragør | B13: =_xlfn.XLOOKUP($A13,AdministrativeStoettefunktioner!$A:$A,AdministrativeStoettefunktioner!B:B) -> 86.505227 | C13: =_xlfn.XLOOKUP($A13,AdministrativeStoettefunktioner!$A:$A,AdministrativeStoettefunktioner!C:C) -> 90.152749 | D13: =C13-B13 -> 3.6475217 | E13: =D13/B13*100 -> 4.2165333 | F13: =_xlfn.XLOOKUP($A13,Decentraleledere!$A:$A,Decentraleledere!B:B) -> 26.88281 | G13: =_xlfn.XLOOKUP($A13,Decentraleledere!$A:$A,Decentraleledere!C:C) -> 28.7297 | H13: =G13-F13 -> 1.8468904 | I13: =H13/F13*100 -> 6.8701539 | J13: =_xlfn.XLOOKUP($A13,Myndighedspersonale!$A:$A,Myndighedspersonale!B:B) -> 10.374237 | K13: =_xlfn.XLOOKUP($A13,Myndighedspersonale!$A:$A,Myndighedspersonale!C:C) -> 8.0281367 | L13: =K13-J13 -> -2.3460999 | M13: =L13/J13*100 -> -22.614676 | N13: =SUM(B13,F13,J13) -> 123.76227 | O13: =SUM(C13,G13,K13) -> 126.91059 | P13: =O13-N13 -> 3.1483121 | Q13: =P13/N13*100 -> 2.5438383 | R13: =_xlfn.XLOOKUP($A13,'Alle stillinger'!$A:$A,'Alle stillinger'!B:B) -> 768.08817 | S13: =_xlfn.XLOOKUP($A13,'Alle stillinger'!$A:$A,'Alle stillinger'!C:C) -> 795.35051 | T13: =S13-R13 -> 27.262335 | U13: =T13/R13*100 -> 3.5493758 | V13: =N13/_xlfn.XLOOKUP($A13,'Alle stillinger'!$A:$A,'Alle stillinger'!B:B)*100 -> 16.113029 | W13: =O13/_xlfn.XLOOKUP($A13,'Alle stillinger'!$A:$A,'Alle stillinger'!C:C)*100 -> 15.956561 | X13: =W13-V13 -> -0.15646887
A14: Egedal | B14: =_xlfn.XLOOKUP($A14,AdministrativeStoettefunktioner!$A:$A,AdministrativeStoettefunktioner!B:B) -> 280.02991 | C14: =_xlfn.XLOOKUP($A14,AdministrativeStoettefunktioner!$A:$A,AdministrativeStoettefunktioner!C:C) -> 281.37724 | D14: =C14-B14 -> 1.3473274 | E14: =D14/B14*100 -> 0.48113694 | F14: =_xlfn.XLOOKUP($A14,Decentraleledere!$A:$A,Decentraleledere!B:B) -> 135.6486 | G14: =_xlfn.XLOOKUP($A14,Decentraleledere!$A:$A,Decentraleledere!C:C) -> 138.48395 | H14: =G14-F14 -> 2.8353542 | I14: =H14/F14*100 -> 2.0902201 | J14: =_xlfn.XLOOKUP($A14,Myndighedspersonale!$A:$A,Myndighedspersonale!B:B) -> 116.61065 | K14: =_xlfn.XLOOKUP($A14,Myndighedspersonale!$A:$A,Myndighedspersonale!C:C) -> 117.3312 | L14: =K14-J14 -> 0.72055148 | M14: =L14/J14*100 -> 0.61791223 | N14: =SUM(B14,F14,J14) -> 532.28917 | O14: =SUM(C14,G14,K14) -> 537.1924 | P14: =O14-N14 -> 4.9032331 | Q14: =P14/N14*100 -> 0.92115966 | R14: =_xlfn.XLOOKUP($A14,'Alle stillinger'!$A:$A,'Alle stillinger'!B:B) -> 2865.6159 | S14: =_xlfn.XLOOKUP($A14,'Alle stillinger'!$A:$A,'Alle stillinger'!C:C) -> 2991.5203 | T14: =S14-R14 -> 125.90442 | U14: =T14/R14*100 -> 4.3936252 | V14: =N14/_xlfn.XLOOKUP($A14,'Alle stillinger'!$A:$A,'Alle stillinger'!B:B)*100 -> 18.575035 | W14: =O14/_xlfn.XLOOKUP($A14,'Alle stillinger'!$A:$A,'Alle stillinger'!C:C)*100 -> 17.95717 | X14: =W14-V14 -> -0.61786503
A15: Esbjerg | B15: =_xlfn.XLOOKUP($A15,AdministrativeStoettefunktioner!$A:$A,AdministrativeStoettefunktioner!B:B) -> 751.67561 | C15: =_xlfn.XLOOKUP($A15,AdministrativeStoettefunktioner!$A:$A,AdministrativeStoettefunktioner!C:C) -> 741.36147 | D15: =C15-B15 -> -10.314145 | E15: =D15/B15*100 -> -1.3721537 | F15: =_xlfn.XLOOKUP($A15,Decentraleledere!$A:$A,Decentraleledere!B:B) -> 306.2947 | G15: =_xlfn.XLOOKUP($A15,Decentraleledere!$A:$A,Decentraleledere!C:C) -> 308.26676 | H15: =G15-F15 -> 1.972058 | I15: =H15/F15*100 -> 0.64384335 | J15: =_xlfn.XLOOKUP($A15,Myndighedspersonale!$A:$A,Myndighedspersonale!B:B) -> 515.37662 | K15: =_xlfn.XLOOKUP($A15,Myndighedspersonale!$A:$A,Myndighedspersonale!C:C) -> 491.59916 | L15: =K15-J15 -> -23.777456 | M15: =L15/J15*100 -> -4.6136079 | N15: =SUM(B15,F15,J15) -> 1573.3469 | O15: =SUM(C15,G15,K15) -> 1541.2274 | P15: =O15-N15 -> -32.119543 | Q15: =P15/N15*100 -> -2.0414788 | R15: =_xlfn.XLOOKUP($A15,'Alle stillinger'!$A:$A,'Alle stillinger'!B:B) -> 8843.7644 | S15: =_xlfn.XLOOKUP($A15,'Alle stillinger'!$A:$A,'Alle stillinger'!C:C) -> 8755.3066 | T15: =S15-R15 -> -88.45784 | U15: =T15/R15*100 -> -1.0002284 | V15: =N15/_xlfn.XLOOKUP($A15,'Alle stillinger'!$A:$A,'Alle stillinger'!B:B)*100 -> 17.790466 | W15: =O15/_xlfn.XLOOKUP($A15,'Alle stillinger'!$A:$A,'Alle stillinger'!C:C)*100 -> 17.603351 | X15: =W15-V15 -> -0.18711488
... A100: Ærø | B100: =_xlfn.XLOOKUP($A100,AdministrativeStoettefunktioner!$A:$A,AdministrativeStoettefunktioner!B:B) -> 50.564798 | C100: =_xlfn.XLOOKUP($A100,AdministrativeStoettefunktioner!$A:$A,AdministrativeStoettefunktioner!C:C) -> 58.465008 | D100: =C100-B100 -> 7.9002094 | E100: =D100/B100*100 -> 15.623931 | F100: =_xlfn.XLOOKUP($A100,Decentraleledere!$A:$A,Decentraleledere!B:B) -> 0 | G100: =_xlfn.XLOOKUP($A100,Decentraleledere!$A:$A,Decentraleledere!C:C) -> 0 | H100: =G100-F100 -> 0 | I100: =H100/F100*100 -> #DIV/0! | J100: =_xlfn.XLOOKUP($A100,Myndighedspersonale!$A:$A,Myndighedspersonale!B:B) -> 14.946 | K100: =_xlfn.XLOOKUP($A100,Myndighedspersonale!$A:$A,Myndighedspersonale!C:C) -> 10.919 | L100: =K100-J100 -> -4.027 | M100: =L100/J100*100 -> -26.943664 | N100: =SUM(B100,F100,J100) -> 65.510798 | O100: =SUM(C100,G100,K100) -> 69.384008 | P100: =O100-N100 -> 3.8732094 | Q100: =P100/N100*100 -> 5.912322 | R100: =_xlfn.XLOOKUP($A100,'Alle stillinger'!$A:$A,'Alle stillinger'!B:B) -> 470.62828 | S100: =_xlfn.XLOOKUP($A100,'Alle stillinger'!$A:$A,'Alle stillinger'!C:C) -> 461.04893 | T100: =S100-R100 -> -9.5793456 | U100: =T100/R100*100 -> -2.0354377 | V100: =N100/_xlfn.XLOOKUP($A100,'Alle stillinger'!$A:$A,'Alle stillinger'!B:B)*100 -> 13.91986 | W100: =O100/_xlfn.XLOOKUP($A100,'Alle stillinger'!$A:$A,'Alle stillinger'!C:C)*100 -> 15.049164 | X100: =W100-V100 -> 1.1293033

Sheet AdministrativeStoettefunktioner
A1: Kommune | B1: I alt dec 2024 | C1: I alt dec 2025 | D1: 2024-2025
A2: Udvalgte population | B2: =_xlfn.XLOOKUP($A2,AdministrativeStoette_raa!$D$2:$DC$2,AdministrativeStoette_raa!$D$39:$DC$39) -> 46683.921 | C2: =_xlfn.XLOOKUP($A2,AdministrativeStoette_raa!$D$2:$DC$2,AdministrativeStoette_raa!$D$75:$DC$75) -> 47905.119 | D2: =C2-B2 -> 1221.1973
A3: Aabenraa | B3: =_xlfn.XLOOKUP($A3,AdministrativeStoette_raa!$D$2:$DC$2,AdministrativeStoette_raa!$D$39:$DC$39) -> 442.21085 | C3: =_xlfn.XLOOKUP($A3,AdministrativeStoette_raa!$D$2:$DC$2,AdministrativeStoette_raa!$D$75:$DC$75) -> 457.98194 | D3: =C3-B3 -> 15.771089
A4: Aalborg | B4: =_xlfn.XLOOKUP($A4,AdministrativeStoette_raa!$D$2:$DC$2,AdministrativeStoette_raa!$D$39:$DC$39) -> 1428.1315 | C4: =_xlfn.XLOOKUP($A4,AdministrativeStoette_raa!$D$2:$DC$2,AdministrativeStoette_raa!$D$75:$DC$75) -> 1472.4078 | D4: =C4-B4 -> 44.276317
A5: Albertslund | B5: =_xlfn.XLOOKUP($A5,AdministrativeStoette_raa!$D$2:$DC$2,AdministrativeStoette_raa!$D$39:$DC$39) -> 242.82323 | C5: =_xlfn.XLOOKUP($A5,AdministrativeStoette_raa!$D$2:$DC$2,AdministrativeStoette_raa!$D$75:$DC$75) -> 268.46376 | D5: =C5-B5 -> 25.640536
A6: Allerød | B6: =_xlfn.XLOOKUP($A6,AdministrativeStoette_raa!$D$2:$DC$2,AdministrativeStoette_raa!$D$39:$DC$39) -> 167.34594 | C6: =_xlfn.XLOOKUP($A6,AdministrativeStoette_raa!$D$2:$DC$2,AdministrativeStoette_raa!$D$75:$DC$75) -> 178.80665 | D6: =C6-B6 -> 11.460705
A7: Assens | B7: =_xlfn.XLOOKUP($A7,AdministrativeStoette_raa!$D$2:$DC$2,AdministrativeStoette_raa!$D$39:$DC$39) -> 222.35042 | C7: =_xlfn.XLOOKUP($A7,AdministrativeStoette_raa!$D$2:$DC$2,AdministrativeStoette_raa!$D$75:$DC$75) -> 230.72447 | D7: =C7-B7 -> 8.3740528
A8: Ballerup | B8: =_xlfn.XLOOKUP($A8,AdministrativeStoette_raa!$D$2:$DC$2,AdministrativeStoette_raa!$D$39:$DC$39) -> 508.94427 | C8: =_xlfn.XLOOKUP($A8,AdministrativeStoette_raa!$D$2:$DC$2,AdministrativeStoette_raa!$D$75:$DC$75) -> 553.01722 | D8: =C8-B8 -> 44.072942
A9: Billund | B9: =_xlfn.XLOOKUP($A9,AdministrativeStoette_raa!$D$2:$DC$2,AdministrativeStoette_raa!$D$39:$DC$39) -> 166.95679 | C9: =_xlfn.XLOOKUP($A9,AdministrativeStoette_raa!$D$2:$DC$2,AdministrativeStoette_raa!$D$75:$DC$75) -> 179.38837 | D9: =C9-B9 -> 12.431576
A10: Bornholm | B10: =_xlfn.XLOOKUP($A10,AdministrativeStoette_raa!$D$2:$DC$2,AdministrativeStoette_raa!$D$39:$DC$39) -> 373.9158 | C10: =_xlfn.XLOOKUP($A10,AdministrativeStoette_raa!$D$2:$DC$2,AdministrativeStoette_raa!$D$75:$DC$75) -> 393.29604 | D10: =C10-B10 -> 19.380238
A11: Brøndby | B11: =_xlfn.XLOOKUP($A11,AdministrativeStoette_raa!$D$2:$DC$2,AdministrativeStoette_raa!$D$39:$DC$39) -> 335.71011 | C11: =_xlfn.XLOOKUP($A11,AdministrativeStoette_raa!$D$2:$DC$2,AdministrativeStoette_raa!$D$75:$DC$75) -> 342.68677 | D11: =C11-B11 -> 6.9766676
A12: Brønderslev | B12: =_xlfn.XLOOKUP($A12,AdministrativeStoette_raa!$D$2:$DC$2,AdministrativeStoette_raa!$D$39:$DC$39) -> 199.27775 | C12: =_xlfn.XLOOKUP($A12,AdministrativeStoette_raa!$D$2:$DC$2,AdministrativeStoette_raa!$D$75:$DC$75) -> 197.79014 | D12: =C12-B12 -> -1.487606
A13: Dragør | B13: =_xlfn.XLOOKUP($A13,AdministrativeStoette_raa!$D$2:$DC$2,AdministrativeStoette_raa!$D$39:$DC$39) -> 86.505227 | C13: =_xlfn.XLOOKUP($A13,AdministrativeStoette_raa!$D$2:$DC$2,AdministrativeStoette_raa!$D$75:$DC$75) -> 90.152749 | D13: =C13-B13 -> 3.6475217
... A105: Ærø | B105: =_xlfn.XLOOKUP($A105,AdministrativeStoette_raa!$D$2:$DC$2,AdministrativeStoette_raa!$D$39:$DC$39) -> 50.564798 | C105: =_xlfn.XLOOKUP($A105,AdministrativeStoette_raa!$D$2:$DC$2,AdministrativeStoette_raa!$D$75:$DC$75) -> 58.465008 | D105: =C105-B105 -> 7.9002094

Sheet Myndighedspersonale
B1: 2024 | C1: 2025
A2: Udvalgte population | B2: =_xlfn.XLOOKUP($A2,Myndighedspersonale_raa!$D$2:$DC$2,Myndighedspersonale_raa!$D$18:$DC$18) -> 22815.268 | C2: =_xlfn.XLOOKUP($A2,Myndighedspersonale_raa!$D$2:$DC$2,Myndighedspersonale_raa!$D$34:$DC$34) -> 22946.184
A3: Aabenraa | B3: =_xlfn.XLOOKUP($A3,Myndighedspersonale_raa!$D$2:$DC$2,Myndighedspersonale_raa!$D$18:$DC$18) -> 176.46331 | C3: =_xlfn.XLOOKUP($A3,Myndighedspersonale_raa!$D$2:$DC$2,Myndighedspersonale_raa!$D$34:$DC$34) -> 169.24449
A4: Aalborg | B4: =_xlfn.XLOOKUP($A4,Myndighedspersonale_raa!$D$2:$DC$2,Myndighedspersonale_raa!$D$18:$DC$18) -> 1095.7217 | C4: =_xlfn.XLOOKUP($A4,Myndighedspersonale_raa!$D$2:$DC$2,Myndighedspersonale_raa!$D$34:$DC$34) -> 1109.1476
A5: Albertslund | B5: =_xlfn.XLOOKUP($A5,Myndighedspersonale_raa!$D$2:$DC$2,Myndighedspersonale_raa!$D$18:$DC$18) -> 120.09819 | C5: =_xlfn.XLOOKUP($A5,Myndighedspersonale_raa!$D$2:$DC$2,Myndighedspersonale_raa!$D$34:$DC$34) -> 108.68244
A6: Allerød | B6: =_xlfn.XLOOKUP($A6,Myndighedspersonale_raa!$D$2:$DC$2,Myndighedspersonale_raa!$D$18:$DC$18) -> 61.412474 | C6: =_xlfn.XLOOKUP($A6,Myndighedspersonale_raa!$D$2:$DC$2,Myndighedspersonale_raa!$D$34:$DC$34) -> 61.162198
A7: Assens | B7: =_xlfn.XLOOKUP($A7,Myndighedspersonale_raa!$D$2:$DC$2,Myndighedspersonale_raa!$D$18:$DC$18) -> 162.21166 | C7: =_xlfn.XLOOKUP($A7,Myndighedspersonale_raa!$D$2:$DC$2,Myndighedspersonale_raa!$D$34:$DC$34) -> 151.59652
A8: Ballerup | B8: =_xlfn.XLOOKUP($A8,Myndighedspersonale_raa!$D$2:$DC$2,Myndighedspersonale_raa!$D$18:$DC$18) -> 179.07458 | C8: =_xlfn.XLOOKUP($A8,Myndighedspersonale_raa!$D$2:$DC$2,Myndighedspersonale_raa!$D$34:$DC$34) -> 207.6577
A9: Billund | B9: =_xlfn.XLOOKUP($A9,Myndighedspersonale_raa!$D$2:$DC$2,Myndighedspersonale_raa!$D$18:$DC$18) -> 104.33173 | C9: =_xlfn.XLOOKUP($A9,Myndighedspersonale_raa!$D$2:$DC$2,Myndighedspersonale_raa!$D$34:$DC$34) -> 102.10772
A10: Bornholm | B10: =_xlfn.XLOOKUP($A10,Myndighedspersonale_raa!$D$2:$DC$2,Myndighedspersonale_raa!$D$18:$DC$18) -> 153.84309 | C10: =_xlfn.XLOOKUP($A10,Myndighedspersonale_raa!$D$2:$DC$2,Myndighedspersonale_raa!$D$34:$DC$34) -> 149.74999
A11: Brøndby | B11: =_xlfn.XLOOKUP($A11,Myndighedspersonale_raa!$D$2:$DC$2,Myndighedspersonale_raa!$D$18:$DC$18) -> 143.32425 | C11: =_xlfn.XLOOKUP($A11,Myndighedspersonale_raa!$D$2:$DC$2,Myndighedspersonale_raa!$D$34:$DC$34) -> 149.7911
A12: Brønderslev | B12: =_xlfn.XLOOKUP($A12,Myndighedspersonale_raa!$D$2:$DC$2,Myndighedspersonale_raa!$D$18:$DC$18) -> 142.01353 | C12: =_xlfn.XLOOKUP($A12,Myndighedspersonale_raa!$D$2:$DC$2,Myndighedspersonale_raa!$D$34:$DC$34) -> 140.19716
A13: Dragør | B13: =_xlfn.XLOOKUP($A13,Myndighedspersonale_raa!$D$2:$DC$2,Myndighedspersonale_raa!$D$18:$DC$18) -> 10.374237 | C13: =_xlfn.XLOOKUP($A13,Myndighedspersonale_raa!$D$2:$DC$2,Myndighedspersonale_raa!$D$34:$DC$34) -> 8.0281367
... A105: Ærø | B105: =_xlfn.XLOOKUP($A105,Myndighedspersonale_raa!$D$2:$DC$2,Myndighedspersonale_raa!$D$18:$DC$18) -> 14.946 | C105: =_xlfn.XLOOKUP($A105,Myndighedspersonale_raa!$D$2:$DC$2,Myndighedspersonale_raa!$D$34:$DC$34) -> 10.919

Sheet Decentraleledere
B1: 2024 | C1: 2025
A2: Udvalgte population | B2: =_xlfn.XLOOKUP($A2,Decentraleledere_raa!$D$2:$DC$2,Decentraleledere_raa!$D$53:$DC$53) -> 18349.189 | C2: =_xlfn.XLOOKUP($A2,Decentraleledere_raa!$D$2:$DC$2,Decentraleledere_raa!$D$105:$DC$105) -> 18756.443
A3: Aabenraa | B3: =_xlfn.XLOOKUP($A3,Decentraleledere_raa!$D$2:$DC$2,Decentraleledere_raa!$D$53:$DC$53) -> 173.42186 | C3: =_xlfn.XLOOKUP($A3,Decentraleledere_raa!$D$2:$DC$2,Decentraleledere_raa!$D$105:$DC$105) -> 182.70063
A4: Aalborg | B4: =_xlfn.XLOOKUP($A4,Decentraleledere_raa!$D$2:$DC$2,Decentraleledere_raa!$D$53:$DC$53) -> 746.29743 | C4: =_xlfn.XLOOKUP($A4,Decentraleledere_raa!$D$2:$DC$2,Decentraleledere_raa!$D$105:$DC$105) -> 758.89495
A5: Albertslund | B5: =_xlfn.XLOOKUP($A5,Decentraleledere_raa!$D$2:$DC$2,Decentraleledere_raa!$D$53:$DC$53) -> 65.409777 | C5: =_xlfn.XLOOKUP($A5,Decentraleledere_raa!$D$2:$DC$2,Decentraleledere_raa!$D$105:$DC$105) -> 74
A6: Allerød | B6: =_xlfn.XLOOKUP($A6,Decentraleledere_raa!$D$2:$DC$2,Decentraleledere_raa!$D$53:$DC$53) -> 73 | C6: =_xlfn.XLOOKUP($A6,Decentraleledere_raa!$D$2:$DC$2,Decentraleledere_raa!$D$105:$DC$105) -> 73
A7: Assens | B7: =_xlfn.XLOOKUP($A7,Decentraleledere_raa!$D$2:$DC$2,Decentraleledere_raa!$D$53:$DC$53) -> 73 | C7: =_xlfn.XLOOKUP($A7,Decentraleledere_raa!$D$2:$DC$2,Decentraleledere_raa!$D$105:$DC$105) -> 75
A8: Ballerup | B8: =_xlfn.XLOOKUP($A8,Decentraleledere_raa!$D$2:$DC$2,Decentraleledere_raa!$D$53:$DC$53) -> 187.24735 | C8: =_xlfn.XLOOKUP($A8,Decentraleledere_raa!$D$2:$DC$2,Decentraleledere_raa!$D$105:$DC$105) -> 196.78846
A9: Billund | B9: =_xlfn.XLOOKUP($A9,Decentraleledere_raa!$D$2:$DC$2,Decentraleledere_raa!$D$53:$DC$53) -> 79.4594 | C9: =_xlfn.XLOOKUP($A9,Decentraleledere_raa!$D$2:$DC$2,Decentraleledere_raa!$D$105:$DC$105) -> 76.6486
A10: Bornholm | B10: =_xlfn.XLOOKUP($A10,Decentraleledere_raa!$D$2:$DC$2,Decentraleledere_raa!$D$53:$DC$53) -> 88.413287 | C10: =_xlfn.XLOOKUP($A10,Decentraleledere_raa!$D$2:$DC$2,Decentraleledere_raa!$D$105:$DC$105) -> 90.8649
A11: Brøndby | B11: =_xlfn.XLOOKUP($A11,Decentraleledere_raa!$D$2:$DC$2,Decentraleledere_raa!$D$53:$DC$53) -> 133.27034 | C11: =_xlfn.XLOOKUP($A11,Decentraleledere_raa!$D$2:$DC$2,Decentraleledere_raa!$D$105:$DC$105) -> 126.77132
A12: Brønderslev | B12: =_xlfn.XLOOKUP($A12,Decentraleledere_raa!$D$2:$DC$2,Decentraleledere_raa!$D$53:$DC$53) -> 82.863403 | C12: =_xlfn.XLOOKUP($A12,Decentraleledere_raa!$D$2:$DC$2,Decentraleledere_raa!$D$105:$DC$105) -> 74.369231
A13: Dragør | B13: =_xlfn.XLOOKUP($A13,Decentraleledere_raa!$D$2:$DC$2,Decentraleledere_raa!$D$53:$DC$53) -> 26.88281 | C13: =_xlfn.XLOOKUP($A13,Decentraleledere_raa!$D$2:$DC$2,Decentraleledere_raa!$D$105:$DC$105) -> 28.7297
... A105: Ærø | B105: =_xlfn.XLOOKUP($A105,Decentraleledere_raa!$D$2:$DC$2,Decentraleledere_raa!$D$53:$DC$53) -> 0 | C105: =_xlfn.XLOOKUP($A105,Decentraleledere_raa!$D$2:$DC$2,Decentraleledere_raa!$D$105:$DC$105) -> 0

Sheet Alle stillinger
A1: Kommune | B1: I alt 2024 | C1: I alt 2025 | D1: 2024-2025 | E1: 2024-2025 pct.
A2: Udvalgte population | B2: 417092.65 | C2: 422971.17 | D2: =C2-B2 -> 5878.5214 | E2: =D2/B2*100 -> 1.4094042
A3: Aabenraa | B3: 3987.9794 | C3: 4047.0319 | D3: =C3-B3 -> 59.052499 | E3: =D3/B3*100 -> 1.4807624
A4: Aalborg | B4: 15496.204 | C4: 15692.203 | D4: =C4-B4 -> 195.99852 | E4: =D4/B4*100 -> 1.2648163
A5: Albertslund | B5: 2138.3087 | C5: 2154.191 | D5: =C5-B5 -> 15.882338 | E5: =D5/B5*100 -> 0.74275232
A6: Allerød | B6: 1722.2029 | C6: 1779.3544 | D6: =C6-B6 -> 57.151498 | E6: =D6/B6*100 -> 3.3185114
A7: Assens | B7: 2416.5738 | C7: 2432.0122 | D7: =C7-B7 -> 15.43835 | E7: =D7/B7*100 -> 0.63885281
A8: Ballerup | B8: 4324.2979 | C8: 4468.4322 | D8: =C8-B8 -> 144.13432 | E8: =D8/B8*100 -> 3.3331266
A9: Billund | B9: 1757.8679 | C9: 1791.9352 | D9: =C9-B9 -> 34.067319 | E9: =D9/B9*100 -> 1.9379909
A10: Bornholm | B10: 3158.1616 | C10: 3153.3287 | D10: =C10-B10 -> -4.8329023 | E10: =D10/B10*100 -> -0.15302897
A11: Brøndby | B11: 3113.256 | C11: 3267.9554 | D11: =C11-B11 -> 154.69946 | E11: =D11/B11*100 -> 4.9690569
A12: Brønderslev | B12: 2544.9016 | C12: 2534.4098 | D12: =C12-B12 -> -10.491881 | E12: =D12/B12*100 -> -0.41227059
A13: Dragør | B13: 768.08817 | C13: 795.35051 | D13: =C13-B13 -> 27.262335 | E13: =D13/B13*100 -> 3.5493758
... A105: Ærø | B105: 470.62828 | C105: 461.04893 | D105: =C105-B105 -> -9.5793456 | E105: =D105/B105*100 -> -2.0354377

Sheet AdministrativeStoette_raa
A1: Antal ansatte - dec 2025
A2: Måned | B2: Overenskomstområde | C2: Stilling | D2: Udvalgte population | E2: Aabenraa | F2: Aalborg | G2: Albertslund | H2: Allerød | I2: Assens | J2: Ballerup | K2: Billund | L2: Bornholm | M2: Brøndby | N2: Brønderslev | O2: Dragør | P2: Egedal | Q2: Esbjerg | R2: Faaborg-Midtfyn | S2: Fanø | T2: Favrskov | U2: Faxe | V2: Fredensborg | W2: Fredericia | X2: Frederiksberg | Y2: Frederikshavn | Z2: Frederikssund | AA2: Furesø | AB2: Gentofte | AC2: Gladsaxe | AD2: Glostrup | AE2: Greve | AF2: Gribskov | AG2: Guldborgsund | AH2: Haderslev | AI2: Halsnæs | AJ2: Hedensted | AK2: Helsingør | AL2: Herlev | AM2: Herning | AN2: Hillerød | AO2: Hjørring | AP2: Holbæk | AQ2: Holstebro | AR2: Horsens | AS2: Hvidovre | AT2: Høje-Taastrup | AU2: Hørsholm | AV2: Ikast-Brande | AW2: Ishøj | AX2: Jammerbugt | AY2: Kalundborg | AZ2: Kerteminde | BA2: Kolding | BB2: København | BC2: Køge | BD2: Langeland | BE2: Lejre | BF2: Lemvig | BG2: Lolland | BH2: Lyngby-Taarbæk | BI2: Læsø | BJ2: Mariagerfjord | BK2: Middelfart | BL2: Morsø | BM2: Norddjurs | BN2: Nordfyn | BO2: Nyborg | BP2: Næstved | BQ2: Odder | BR2: Odense | BS2: Odsherred | BT2: Randers | BU2: Rebild | BV2: Region Hovedstaden | BW2: Region Midtjylland | BX2: Region Nordjylland | BY2: Region Sjælland | BZ2: Region Syddanmark | CA2: Ringkøbing-Skjern | CB2: Ringsted | CC2: Roskilde | CD2: Rudersdal | CE2: Rødovre | CF2: Samsø | CG2: Silkeborg | CH2: Skanderborg | CI2: Skive | CJ2: Slagelse | CK2: Solrød | CL2: Sorø | CM2: Stevns | CN2: Struer | CO2: Svendborg | CP2: Syddjurs | CQ2: Sønderborg | CR2: Thisted | CS2: Tårnby | CT2: Tønder | CU2: Vallensbæk | CV2: Varde | CW2: Vejen | CX2: Vejle | CY2: Vesthimmerland | CZ2: Viborg | DA2: Vordingborg | DB2: Århus | DC2: Ærø
A3: 2024-12 | B3: Administration og it mv., KL | C3: Administrationsøkonomer | D3: 79.072364 | E3: 0 | F3: 0 | G3: 0 | H3: 0 | I3: 0 | J3: 0 | K3: 0 | L3: 0 | M3: 0 | N3: 0 | O3: 0 | P3: 0 | Q3: 0 | R3: 0 | S3: 0 | T3: 0 | U3: 0 | V3: 0 | W3: 0 | X3: 0 | Y3: 0 | Z3: 0 | AA3: 0 | AB3: 0 | AC3: 0 | AD3: 0 | AE3: 0 | AF3: 0 | AG3: 0 | AH3: 0 | AI3: 0 | AJ3: 0 | AK3: 0 | AL3: 0 | AM3: 0 | AN3: 0 | AO3: 0 | AP3: 0 | AQ3: 0 | AR3: 0 | AS3: 0 | AT3: 0 | AU3: 0 | AV3: 0 | AW3: 0 | AX3: 0 | AY3: 0 | AZ3: 0 | BA3: 0 | BB3: 9.9157767 | BC3: 0 | BD3: 0 | BE3: 0 | BF3: 0 | BG3: 0 | BH3: 0 | BI3: 0 | BJ3: 0 | BK3: 0 | BL3: 0 | BM3: 0 | BN3: 0 | BO3: 0 | BP3: 0 | BQ3: 0 | BR3: 0 | BS3: 0 | BT3: 0 | BU3: 0 | BV3: 0 | BW3: 0 | BX3: 0 | BY3: 0 | BZ3: 0 | CA3: 0 | CB3: 0 | CC3: 0 | CD3: 0 | CE3: 0 | CF3: 0 | CG3: 0 | CH3: 0 | CI3: 0 | CJ3: 0 | CK3: 0 | CL3: 0 | CM3: 0 | CN3: 0 | CO3: 0 | CP3: 0 | CQ3: 0 | CR3: 0 | CS3: 0 | CT3: 0 | CU3: 0 | CV3: 0 | CW3: 0 | CX3: 0 | CY3: 0 | CZ3: 7.7568 | DA3: 0 | DB3: 9.9189 | DC3: 0
A4: 2024-12 | B4: Administration og it mv., KL | C4: Assistenter | D4: 4423.7039 | E4: 45.27039 | F4: 153.84728 | G4: 17.8852 | H4: 10.3514 | I4: 33.5002 | J4: 8.6757 | K4: 19.3026 | L4: 43.4218 | M4: 62.513571 | N4: 23.2934 | O4: 5.7702 | P4: 29.45786 | Q4: 132.7163 | R4: 21.8286 | S4: 0 | T4: 35.0946 | U4: 19.46109 | V4: 13.4324 | W4: 37.376581 | X4: 33.403574 | Y4: 63.330297 | Z4: 18.5879 | AA4: 18.457349 | AB4: 38.057254 | AC4: 29.324203 | AD4: 17.043584 | AE4: 22.934688 | AF4: 39.4237 | AG4: 26.405348 | AH4: 41.028971 | AI4: 16.232229 | AJ4: 61.708513 | AK4: 30.9457 | AL4: 13.3243 | AM4: 111.34408 | AN4: 6.7297 | AO4: 40.3784 | AP4: 12.619572 | AQ4: 86.009498 | AR4: 123.94808 | AS4: 32.8244 | AT4: 25.513306 | AU4: 13.668856 | AV4: 40.058649 | AW4: 34.5677 | AX4: 15.0089 | AY4: 23.2837 | AZ4: 6.5001 | BA4: 70.792519 | BB4: 495.49475 | BC4: 36.158197 | BD4: 14.7569 | BE4: 15.8378 | BF4: 38.8704 | BG4: 21.27041 | BH4: 21.398416 | BI4: 0 | BJ4: 61.381455 | BK4: 37.83473 | BL4: 18.567475 | BM4: 22.5445 | BN4: 28.2973 | BO4: 17.704445 | BP4: 62.300945 | BQ4: 27.51744 | BR4: 199.7841 | BS4: 22.966829 | BT4: 76.374878 | BU4: 29.2973 | BV4: 0 | BW4: 0 | BX4: 0 | BY4: 0 | BZ4: 0 | CA4: 17.5026 | CB4: 34.780307 | CC4: 53.67783 | CD4: 28.008039 | CE4: 20.5343 | CF4: 0 | CG4: 73.950511 | CH4: 23.5272 | CI4: 66.963971 | CJ4: 40.4865 | CK4: 20.839862 | CL4: 8.1644086 | CM4: 23.0945 | CN4: 11.8928 | CO4: 11.5811 | CP4: 17.4167 | CQ4: 28.3514 | CR4: 63.659146 | CS4: 32.2613 | CT4: 42.184505 | CU4: 20.6224 | CV4: 37.629065 | CW4: 23.9054 | CX4: 101.87921 | CY4: 44.357439 | CZ4: 55.3304 | DA4: 17.330836 | DB4: 218.53479 | DC4: 21.979715
A5: 2024-12 | B5: Administration og it mv., KL | C5: Datamatikere/Datanomer/AU´ere, ex. Frb | D5: 88.235171 | E5: 0 | F5: 0 | G5: 0 | H5: 0 | I5: 0 | J5: 0 | K5: 0 | L5: 0 | M5: 0 | N5: 0 | O5: 0 | P5: 0 | Q5: 7 | R5: 0 | S5: 0 | T5: 0 | U5: 0 | V5: 0 | W5: 0 | X5: 0 | Y5: 0 | Z5: 0 | AA5: 0 | AB5: 0 | AC5: 0 | AD5: 0 | AE5: 0 | AF5: 0 | AG5: 0 | AH5: 0 | AI5: 0 | AJ5: 0 | AK5: 0 | AL5: 0 | AM5: 0 | AN5: 0 | AO5: 0 | AP5: 0 | AQ5: 0 | AR5: 0 | AS5: 0 | AT5: 0 | AU5: 0 | AV5: 0 | AW5: 0 | AX5: 0 | AY5: 0 | AZ5: 0 | BA5: 0 | BB5: 0 | BC5: 0 | BD5: 0 | BE5: 0 | BF5: 0 | BG5: 0 | BH5: 0 | BI5: 0 | BJ5: 0 | BK5: 0 | BL5: 0 | BM5: 0 | BN5: 0 | BO5: 0 | BP5: 0 | BQ5: 0 | BR5: 8 | BS5: 0 | BT5: 0 | BU5: 0 | BV5: 0 | BW5: 0 | BX5: 0 | BY5: 0 | BZ5: 0 | CA5: 0 | CB5: 0 | CC5: 0 | CD5: 0 | CE5: 0 | CF5: 0 | CG5: 0 | CH5: 0 | CI5: 5.3243 | CJ5: 0 | CK5: 0 | CL5: 0 | CM5: 0 | CN5: 0 | CO5: 0 | CP5: 0 | CQ5: 0 | CR5: 0 | CS5: 0 | CT5: 0 | CU5: 0 | CV5: 0 | CW5: 0 | CX5: 0 | CY5: 0 | CZ5: 0 | DA5: 0 | DB5: 0 | DC5: 0
A6: 2024-12 | B6: Administration og it mv., KL | C6: Edb-medarbejdere, Kbh, lukket gruppe | D6: 8.3783 | E6: 0 | F6: 0 | G6: 0 | H6: 0 | I6: 0 | J6: 0 | K6: 0 | L6: 0 | M6: 0 | N6: 0 | O6: 0 | P6: 0 | Q6: 0 | R6: 0 | S6: 0 | T6: 0 | U6: 0 | V6: 0 | W6: 0 | X6: 0 | Y6: 0 | Z6: 0 | AA6: 0 | AB6: 0 | AC6: 0 | AD6: 0 | AE6: 0 | AF6: 0 | AG6: 0 | AH6: 0 | AI6: 0 | AJ6: 0 | AK6: 0 | AL6: 0 | AM6: 0 | AN6: 0 | AO6: 0 | AP6: 0 | AQ6: 0 | AR6: 0 | AS6: 0 | AT6: 0 | AU6: 0 | AV6: 0 | AW6: 0 | AX6: 0 | AY6: 0 | AZ6: 0 | BA6: 0 | BB6: 8.3783 | BC6: 0 | BD6: 0 | BE6: 0 | BF6: 0 | BG6: 0 | BH6: 0 | BI6: 0 | BJ6: 0 | BK6: 0 | BL6: 0 | BM6: 0 | BN6: 0 | BO6: 0 | BP6: 0 | BQ6: 0 | BR6: 0 | BS6: 0 | BT6: 0 | BU6: 0 | BV6: 0 | BW6: 0 | BX6: 0 | BY6: 0 | BZ6: 0 | CA6: 0 | CB6: 0 | CC6: 0 | CD6: 0 | CE6: 0 | CF6: 0 | CG6: 0 | CH6: 0 | CI6: 0 | CJ6: 0 | CK6: 0 | CL6: 0 | CM6: 0 | CN6: 0 | CO6: 0 | CP6: 0 | CQ6: 0 | CR6: 0 | CS6: 0 | CT6: 0 | CU6: 0 | CV6: 0 | CW6: 0 | CX6: 0 | CY6: 0 | CZ6: 0 | DA6: 0 | DB6: 0 | DC6: 0
A7: 2024-12 | B7: Administration og it mv., KL | C7: Financial Controller | D7: 11.7567 | E7: 0 | F7: 0 | G7: 0 | H7: 0 | I7: 0 | J7: 0 | K7: 0 | L7: 0 | M7: 0 | N7: 0 | O7: 0 | P7: 0 | Q7: 0 | R7: 0 | S7: 0 | T7: 0 | U7: 0 | V7: 0 | W7: 0 | X7: 0 | Y7: 0 | Z7: 0 | AA7: 0 | AB7: 0 | AC7: 0 | AD7: 0 | AE7: 0 | AF7: 0 | AG7: 0 | AH7: 0 | AI7: 0 | AJ7: 0 | AK7: 0 | AL7: 0 | AM7: 0 | AN7: 0 | AO7: 0 | AP7: 0 | AQ7: 0 | AR7: 0 | AS7: 0 | AT7: 0 | AU7: 0 | AV7: 0 | AW7: 0 | AX7: 0 | AY7: 0 | AZ7: 0 | BA7: 0 | BB7: 0 | BC7: 0 | BD7: 0 | BE7: 0 | BF7: 0 | BG7: 0 | BH7: 0 | BI7: 0 | BJ7: 0 | BK7: 0 | BL7: 0 | BM7: 0 | BN7: 0 | BO7: 0 | BP7: 0 | BQ7: 0 | BR7: 0 | BS7: 0 | BT7: 0 | BU7: 0 | BV7: 0 | BW7: 0 | BX7: 0 | BY7: 0 | BZ7: 0 | CA7: 0 | CB7: 0 | CC7: 0 | CD7: 0 | CE7: 0 | CF7: 0 | CG7: 0 | CH7: 0 | CI7: 0 | CJ7: 0 | CK7: 0 | CL7: 0 | CM7: 0 | CN7: 0 | CO7: 0 | CP7: 0 | CQ7: 0 | CR7: 0 | CS7: 0 | CT7: 0 | CU7: 0 | CV7: 0 | CW7: 0 | CX7: 0 | CY7: 0 | CZ7: 0 | DA7: 0 | DB7: 0 | DC7: 0
A8: 2024-12 | B8: Administration og it mv., KL | C8: Finansøkonomer | D8: 94.7077 | E8: 0 | F8: 5 | G8: 0 | H8: 0 | I8: 0 | J8: 0 | K8: 0 | L8: 0 | M8: 0 | N8: 0 | O8: 0 | P8: 0 | Q8: 0 | R8: 0 | S8: 0 | T8: 0 | U8: 0 | V8: 0 | W8: 0 | X8: 0 | Y8: 0 | Z8: 0 | AA8: 0 | AB8: 0 | AC8: 0 | AD8: 0 | AE8: 0 | AF8: 0 | AG8: 0 | AH8: 0 | AI8: 0 | AJ8: 0 | AK8: 0 | AL8: 0 | AM8: 0 | AN8: 0 | AO8: 0 | AP8: 0 | AQ8: 6.7297 | AR8: 0 | AS8: 0 | AT8: 0 | AU8: 0 | AV8: 0 | AW8: 0 | AX8: 0 | AY8: 0 | AZ8: 0 | BA8: 0 | BB8: 5.8108 | BC8: 0 | BD8: 0 | BE8: 0 | BF8: 0 | BG8: 0 | BH8: 0 | BI8: 0 | BJ8: 0 | BK8: 0 | BL8: 0 | BM8: 0 | BN8: 0 | BO8: 0 | BP8: 0 | BQ8: 0 | BR8: 0 | BS8: 0 | BT8: 0 | BU8: 0 | BV8: 0 | BW8: 0 | BX8: 0 | BY8: 0 | BZ8: 0 | CA8: 0 | CB8: 0 | CC8: 0 | CD8: 0 | CE8: 0 | CF8: 0 | CG8: 0 | CH8: 0 | CI8: 0 | CJ8: 0 | CK8: 0 | CL8: 0 | CM8: 0 | CN8: 0 | CO8: 0 | CP8: 0 | CQ8: 0 | CR8: 0 | CS8: 0 | CT8: 0 | CU8: 0 | CV8: 0 | CW8: 0 | CX8: 0 | CY8: 0 | CZ8: 0 | DA8: 0 | DB8: 0 | DC8: 0
A9: 2024-12 | B9: Administration og it mv., KL | C9: IT-medarbejdere, ex. Frb | D9: 178.60073 | E9: 0 | F9: 0 | G9: 0 | H9: 0 | I9: 0 | J9: 0 | K9: 0 | L9: 0 | M9: 0 | N9: 0 | O9: 0 | P9: 0 | Q9: 0 | R9: 0 | S9: 0 | T9: 0 | U9: 0 | V9: 0 | W9: 0 | X9: 0 | Y9: 0 | Z9: 0 | AA9: 0 | AB9: 0 | AC9: 0 | AD9: 0 | AE9: 0 | AF9: 0 | AG9: 0 | AH9: 0 | AI9: 0 | AJ9: 0 | AK9: 0 | AL9: 0 | AM9: 0 | AN9: 0 | AO9: 0 | AP9: 0 | AQ9: 0 | AR9: 0 | AS9: 0 | AT9: 0 | AU9: 0 | AV9: 0 | AW9: 0 | AX9: 0 | AY9: 0 | AZ9: 0 | BA9: 0 | BB9: 49.574435 | BC9: 0 | BD9: 0 | BE9: 0 | BF9: 0 | BG9: 0 | BH9: 0 | BI9: 0 | BJ9: 0 | BK9: 0 | BL9: 0 | BM9: 0 | BN9: 0 | BO9: 0 | BP9: 0 | BQ9: 0 | BR9: 0 | BS9: 0 | BT9: 0 | BU9: 5.8919 | BV9: 0 | BW9: 0 | BX9: 0 | BY9: 0 | BZ9: 0 | CA9: 0 | CB9: 0 | CC9: 7 | CD9: 0 | CE9: 0 | CF9: 0 | CG9: 0 | CH9: 0 | CI9: 0 | CJ9: 0 | CK9: 0 | CL9: 0 | CM9: 0 | CN9: 0 | CO9: 0 | CP9: 0 | CQ9: 0 | CR9: 0 | CS9: 0 | CT9: 0 | CU9: 0 | CV9: 0 | CW9: 0 | CX9: 0 | CY9: 0 | CZ9: 0 | DA9: 0 | DB9: 13.2702 | DC9: 0
A10: 2024-12 | B10: Administration og it mv., KL | C10: Kontorassistenter | D10: 1395.5928 | E10: 9.3514 | F10: 28.875676 | G10: 0 | H10: 0 | I10: 8.1081 | J10: 0 | K10: 7.6279538 | L10: 15.2058 | M10: 13.14981 | N10: 0 | O10: 0 | P10: 0 | Q10: 23.525216 | R10: 15.63129 | S10: 0 | T10: 0 | U10: 7.3222512 | V10: 0 | W10: 13.212325 | X10: 0 | Y10: 8.4324 | Z10: 0 | AA10: 7.0602362 | AB10: 27.266428 | AC10: 8.8378 | AD10: 8.0692202 | AE10: 6.446 | AF10: 0 | AG10: 11.470937 | AH10: 8.3784 | AI10: 0 | AJ10: 7.1958 | AK10: 19.890644 | AL10: 0 | AM10: 22.700209 | AN10: 6.0675 | AO10: 19.7027 | AP10: 8.6816732 | AQ10: 10.18464 | AR10: 14.539335 | AS10: 0 | AT10: 0 | AU10: 6.2997788 | AV10: 8.9923958 | AW10: 6.8611 | AX10: 6.4283064 | AY10: 6.2433 | AZ10: 5.8108 | BA10: 13.19571 | BB10: 321.59729 | BC10: 10.425523 | BD10: 0 | BE10: 0 | BF10: 6.2225302 | BG10: 6.8108 | BH10: 9.563662 | BI10: 0 | BJ10: 5.0572171 | BK10: 10.419974 | BL10: 0 | BM10: 5.7829628 | BN10: 0 | BO10: 7.2432 | BP10: 15.644506 | BQ10: 0 | BR10: 41.038036 | BS10: 6.6216 | BT10: 17.442481 | BU10: 0 | BV10: 0 | BW10: 0 | BX10: 0 | BY10: 0 | BZ10: 0 | CA10: 8.0881857 | CB10: 9.0566258 | CC10: 22.633825 | CD10: 15.7568 | CE10: 14.972749 | CF10: 0 | CG10: 15.520335 | CH10: 8.9458 | CI10: 13.208 | CJ10: 5.0539 | CK10: 0 | CL10: 0 | CM10: 0 | CN10: 0 | CO10: 11.361779 | CP10: 7.108 | CQ10: 7.4219 | CR10: 11.899089 | CS10: 0 | CT10: 7.8628 | CU10: 0 | CV10: 7.9163774 | CW10: 10.204836 | CX10: 19.800407 | CY10: 0 | CZ10: 14.298406 | DA10: 0 | DB10: 60.844398 | DC10: 0
A11: 2024-12 | B11: Administration og it mv., KL | C11: Kontorfunktionærer, Fkka+Frb+Gentofte | D11: 14.174026 | E11: 0 | F11: 0 | G11: 0 | H11: 0 | I11: 0 | J11: 0 | K11: 0 | L11: 0 | M11: 0 | N11: 0 | O11: 0 | P11: 0 | Q11: 0 | R11: 0 | S11: 0 | T11: 0 | U11: 0 | V11: 0 | W11: 0 | X11: 12.092926 | Y11: 0 | Z11: 0 | AA11: 0 | AB11: 0 | AC11: 0 | AD11: 0 | AE11: 0 | AF11: 0 | AG11: 0 | AH11: 0 | AI11: 0 | AJ11: 0 | AK11: 0 | AL11: 0 | AM11: 0 | AN11: 0 | AO11: 0 | AP11: 0 | AQ11: 0 | AR11: 0 | AS11: 0 | AT11: 0 | AU11: 0 | AV11: 0 | AW11: 0 | AX11: 0 | AY11: 0 | AZ11: 0 | BA11: 0 | BB11: 0 | BC11: 0 | BD11: 0 | BE11: 0 | BF11: 0 | BG11: 0 | BH11: 0 | BI11: 0 | BJ11: 0 | BK11: 0 | BL11: 0 | BM11: 0 | BN11: 0 | BO11: 0 | BP11: 0 | BQ11: 0 | BR11: 0 | BS11: 0 | BT11: 0 | BU11: 0 | BV11: 0 | BW11: 0 | BX11: 0 | BY11: 0 | BZ11: 0 | CA11: 0 | CB11: 0 | CC11: 0 | CD11: 0 | CE11: 0 | CF11: 0 | CG11: 0 | CH11: 0 | CI11: 0 | CJ11: 0 | CK11: 0 | CL11: 0 | CM11: 0 | CN11: 0 | CO11: 0 | CP11: 0 | CQ11: 0 | CR11: 0 | CS11: 0 | CT11: 0 | CU11: 0 | CV11: 0 | CW11: 0 | CX11: 0 | CY11: 0 | CZ11: 0 | DA11: 0 | DB11: 0 | DC11: 0
A12: 2024-12 | B12: Administration og it mv., KL | C12: Ledere | D12: 1523.5397 | E12: 16 | F12: 30 | G12: 6 | H12: 0 | I12: 0 | J12: 15 | K12: 0 | L12: 14 | M12: 8 | N12: 6 | O12: 0 | P12: 5 | Q12: 17 | R12: 5 | S12: 0 | T12: 5.8648644 | U12: 12.021834 | V12: 8 | W12: 16 | X12: 31.5946 | Y12: 13 | Z12: 8 | AA12: 10 | AB12: 41.8649 | AC12: 27.8108 | AD12: 7 | AE12: 9.9459 | AF12: 8.1138 | AG12: 22.9111 | AH12: 21 | AI12: 0 | AJ12: 8 | AK12: 10 | AL12: 0 | AM12: 17 | AN12: 7.8378 | AO12: 27 | AP12: 25 | AQ12: 20.053026 | AR12: 15 | AS12: 14 | AT12: 21 | AU12: 0 | AV12: 5.7703 | AW12: 8 | AX12: 7 | AY12: 13.9189 | AZ12: 8 | BA12: 24 | BB12: 121.62161 | BC12: 8.8649 | BD12: 0 | BE12: 0 | BF12: 5.9268 | BG12: 16 | BH12: 23.75603 | BI12: 0 | BJ12: 12.134025 | BK12: 0 | BL12: 14.729664 | BM12: 10 | BN12: 5 | BO12: 9 | BP12: 19.8514 | BQ12: 0 | BR12: 45 | BS12: 10.8919 | BT12: 25.8649 | BU12: 8 | BV12: 0 | BW12: 0 | BX12: 0 | BY12: 0 | BZ12: 0 | CA12: 11.8649 | CB12: 6 | CC12: 17 | CD12: 13.7792 | CE12: 7 | CF12: 0 | CG12: 32 | CH12: 22.9332 | CI12: 13 | CJ12: 14.925675 | CK12: 8.8378 | CL12: 10.021834 | CM12: 0 | CN12: 8 | CO12: 10 | CP12: 23.1351 | CQ12: 16.675711 | CR12: 16 | CS12: 17.3664 | CT12: 15 | CU12: 10.999999 | CV12: 13 | CW12: 8 | CX12: 38.405364 | CY12: 9 | CZ12: 22.8108 | DA12: 12 | DB12: 71.162151 | DC12: 0
A13: 2024-12 | B13: Administration og it mv., KL | C13: Markedsføringsøkonomer | D13: 38.338462 | E13: 0 | F13: 0 | G13: 0 | H13: 0 | I13: 0 | J13: 0 | K13: 0 | L13: 0 | M13: 0 | N13: 0 | O13: 0 | P13: 0 | Q13: 0 | R13: 0 | S13: 0 | T13: 0 | U13: 0 | V13: 0 | W13: 0 | X13: 0 | Y13: 0 | Z13: 0 | AA13: 0 | AB13: 0 | AC13: 0 | AD13: 0 | AE13: 0 | AF13: 0 | AG13: 0 | AH13: 0 | AI13: 0 | AJ13: 0 | AK13: 0 | AL13: 0 | AM13: 0 | AN13: 0 | AO13: 0 | AP13: 0 | AQ13: 0 | AR13: 0 | AS13: 0 | AT13: 0 | AU13: 0 | AV13: 0 | AW13: 0 | AX13: 0 | AY13: 0 | AZ13: 0 | BA13: 0 | BB13: 0 | BC13: 0 | BD13: 0 | BE13: 0 | BF13: 0 | BG13: 0 | BH13: 0 | BI13: 0 | BJ13: 0 | BK13: 0 | BL13: 0 | BM13: 0 | BN13: 0 | BO13: 0 | BP13: 0 | BQ13: 0 | BR13: 0 | BS13: 0 | BT13: 0 | BU13: 0 | BV13: 0 | BW13: 0 | BX13: 0 | BY13: 0 | BZ13: 0 | CA13: 0 | CB13: 0 | CC13: 0 | CD13: 0 | CE13: 0 | CF13: 0 | CG13: 0 | CH13: 0 | CI13: 0 | CJ13: 0 | CK13: 0 | CL13: 0 | CM13: 0 | CN13: 0 | CO13: 0 | CP13: 0 | CQ13: 0 | CR13: 0 | CS13: 0 | CT13: 0 | CU13: 0 | CV13: 0 | CW13: 0 | CX13: 0 | CY13: 0 | CZ13: 0 | DA13: 0 | DB13: 0 | DC13: 0
A14: 2024-12 | B14: Administration og it mv., KL | C14: Overassistenter, Frb | D14: 92.149285 | E14: 0 | F14: 0 | G14: 0 | H14: 0 | I14: 0 | J14: 0 | K14: 0 | L14: 0 | M14: 0 | N14: 0 | O14: 0 | P14: 0 | Q14: 0 | R14: 0 | S14: 0 | T14: 0 | U14: 0 | V14: 0 | W14: 0 | X14: 92.149285 | Y14: 0 | Z14: 0 | AA14: 0 | AB14: 0 | AC14: 0 | AD14: 0 | AE14: 0 | AF14: 0 | AG14: 0 | AH14: 0 | AI14: 0 | AJ14: 0 | AK14: 0 | AL14: 0 | AM14: 0 | AN14: 0 | AO14: 0 | AP14: 0 | AQ14: 0 | AR14: 0 | AS14: 0 | AT14: 0 | AU14: 0 | AV14: 0 | AW14: 0 | AX14: 0 | AY14: 0 | AZ14: 0 | BA14: 0 | BB14: 0 | BC14: 0 | BD14: 0 | BE14: 0 | BF14: 0 | BG14: 0 | BH14: 0 | BI14: 0 | BJ14: 0 | BK14: 0 | BL14: 0 | BM14: 0 | BN14: 0 | BO14: 0 | BP14: 0 | BQ14: 0 | BR14: 0 | BS14: 0 | BT14: 0 | BU14: 0 | BV14: 0 | BW14: 0 | BX14: 0 | BY14: 0 | BZ14: 0 | CA14: 0 | CB14: 0 | CC14: 0 | CD14: 0 | CE14: 0 | CF14: 0 | CG14: 0 | CH14: 0 | CI14: 0 | CJ14: 0 | CK14: 0 | CL14: 0 | CM14: 0 | CN14: 0 | CO14: 0 | CP14: 0 | CQ14: 0 | CR14: 0 | CS14: 0 | CT14: 0 | CU14: 0 | CV14: 0 | CW14: 0 | CX14: 0 | CY14: 0 | CZ14: 0 | DA14: 0 | DB14: 0 | DC14: 0
... A38: 2024-12 | B38: Ledere m.fl., undervisningsområdet | C38: Ledere, forvaltningen | D38: 87 | E38: 0 | F38: 0 | G38: 0 | H38: 0 | I38: 0 | J38: 0 | K38: 0 | L38: 0 | M38: 0 | N38: 0 | O38: 0 | P38: 0 | Q38: 0 | R38: 0 | S38: 0 | T38: 10 | U38: 0 | V38: 0 | W38: 0 | X38: 0 | Y38: 0 | Z38: 0 | AA38: 0 | AB38: 0 | AC38: 0 | AD38: 0 | AE38: 0 | AF38: 0 | AG38: 0 | AH38: 0 | AI38: 0 | AJ38: 0 | AK38: 0 | AL38: 0 | AM38: 0 | AN38: 0 | AO38: 0 | AP38: 0 | AQ38: 0 | AR38: 0 | AS38: 0 | AT38: 0 | AU38: 0 | AV38: 0 | AW38: 0 | AX38: 0 | AY38: 0 | AZ38: 0 | BA38: 0 | BB38: 6 | BC38: 0 | BD38: 0 | BE38: 0 | BF38: 0 | BG38: 0 | BH38: 0 | BI38: 0 | BJ38: 0 | BK38: 0 | BL38: 0 | BM38: 0 | BN38: 0 | BO38: 0 | BP38: 0 | BQ38: 0 | BR38: 0 | BS38: 0 | BT38: 0 | BU38: 0 | BV38: 0 | BW38: 0 | BX38: 0 | BY38: 0 | BZ38: 0 | CA38: 0 | CB38: 0 | CC38: 0 | CD38: 0 | CE38: 0 | CF38: 0 | CG38: 0 | CH38: 0 | CI38: 0 | CJ38: 0 | CK38: 0 | CL38: 0 | CM38: 0 | CN38: 0 | CO38: 0 | CP38: 0 | CQ38: 0 | CR38: 0 | CS38: 0 | CT38: 0 | CU38: 0 | CV38: 0 | CW38: 0 | CX38: 0 | CY38: 0 | CZ38: 0 | DA38: 0 | DB38: 0 | DC38: 0
A39: 2024-12 | B39: I alt | C39: I alt | D39: =SUM(D3:D38) -> 46683.921 | E39: =SUM(E3:E38) -> 442.21085 | F39: =SUM(F3:F38) -> 1428.1315 | G39: =SUM(G3:G38) -> 242.82323 | H39: =SUM(H3:H38) -> 167.34594 | I39: =SUM(I3:I38) -> 222.35042 | J39: =SUM(J3:J38) -> 508.94427 | K39: =SUM(K3:K38) -> 166.95679 | ... DC39: =SUM(DC3:DC38) -> 50.564798
A40: 2025-12 | B40: Administration og it mv., KL | C40: Administrationsøkonomer | D40: 77.027063 | E40: 0 | F40: 0 | G40: 0 | H40: 0 | I40: 0 | J40: 0 | K40: 0 | L40: 0 | M40: 0 | N40: 0 | O40: 0 | P40: 0 | Q40: 0 | R40: 0 | S40: 0 | T40: 0 | U40: 0 | V40: 0 | W40: 0 | X40: 0 | Y40: 0 | Z40: 0 | AA40: 0 | AB40: 0 | AC40: 0 | AD40: 0 | AE40: 0 | AF40: 0 | AG40: 0 | AH40: 0 | AI40: 0 | AJ40: 0 | AK40: 0 | AL40: 0 | AM40: 0 | AN40: 0 | AO40: 0 | AP40: 0 | AQ40: 0 | AR40: 0 | AS40: 0 | AT40: 0 | AU40: 0 | AV40: 0 | AW40: 0 | AX40: 0 | AY40: 0 | AZ40: 0 | BA40: 0 | BB40: 8.9386852 | BC40: 0 | BD40: 0 | BE40: 0 | BF40: 0 | BG40: 0 | BH40: 0 | BI40: 0 | BJ40: 0 | BK40: 0 | BL40: 0 | BM40: 0 | BN40: 0 | BO40: 0 | BP40: 0 | BQ40: 0 | BR40: 0 | BS40: 0 | BT40: 0 | BU40: 0 | BV40: 0 | BW40: 0 | BX40: 0 | BY40: 0 | BZ40: 0 | CA40: 0 | CB40: 0 | CC40: 0 | CD40: 0 | CE40: 0 | CF40: 0 | CG40: 0 | CH40: 0 | CI40: 0 | CJ40: 0 | CK40: 0 | CL40: 0 | CM40: 0 | CN40: 0 | CO40: 0 | CP40: 0 | CQ40: 0 | CR40: 0 | CS40: 0 | CT40: 0 | CU40: 0 | CV40: 0 | CW40: 0 | CX40: 0 | CY40: 0 | CZ40: 8 | DA40: 0 | DB40: 8.8108 | DC40: 0
A41: 2025-12 | B41: Administration og it mv., KL | C41: Assistenter | D41: 4179.2214 | E41: 43.516292 | F41: 136.62137 | G41: 22.6756 | H41: 8.1321664 | I41: 32.7163 | J41: 6.8649 | K41: 17 | L41: 45.042606 | M41: 56.5676 | N41: 24.4826 | O41: 6.581 | P41: 28.106562 | Q41: 117.32321 | R41: 21.287002 | S41: 0 | T41: 32.4324 | U41: 14.039477 | V41: 15.1045 | W41: 35.675712 | X41: 32.054 | Y41: 57.835387 | Z41: 19.543718 | AA41: 16.431651 | AB41: 35.9834 | AC41: 30.88381 | AD41: 12.933745 | AE41: 15.266163 | AF41: 42.5134 | AG41: 25.541349 | AH41: 41.254347 | AI41: 16.957679 | AJ41: 65.201011 | AK41: 27.308551 | AL41: 11.3243 | AM41: 106.90663 | AN41: 5.9189 | AO41: 36.3784 | AP41: 9.1897362 | AQ41: 86.933224 | AR41: 111.68924 | AS41: 29.3446 | AT41: 25.7776 | AU41: 9.4751 | AV41: 43.296577 | AW41: 35.5677 | AX41: 13.7117 | AY41: 25.2296 | AZ41: 0 | BA41: 69.232095 | BB41: 446.66303 | BC41: 33.237983 | BD41: 16.0541 | BE41: 17.724587 | BF41: 39.712302 | BG41: 20.679948 | BH41: 17.25066 | BI41: 0 | BJ41: 59.671955 | BK41: 39.322302 | BL41: 23.041529 | BM41: 22.3553 | BN41: 26.378348 | BO41: 13.7351 | BP41: 51.978498 | BQ41: 24.801176 | BR41: 187.10495 | BS41: 25.964 | BT41: 67.829283 | BU41: 28.912606 | BV41: 0 | BW41: 0 | BX41: 0 | BY41: 0 | BZ41: 0 | CA41: 19.009491 | CB41: 31.7974 | CC41: 50.967819 | CD41: 27.321536 | CE41: 23.1559 | CF41: 0 | CG41: 74.820776 | CH41: 21.544666 | CI41: 62.463753 | CJ41: 42.030841 | CK41: 19.1081 | CL41: 5.9200543 | CM41: 22.4054 | CN41: 10.8522 | CO41: 10.297396 | CP41: 17.4573 | CQ41: 33.108 | CR41: 63.002333 | CS41: 31.1803 | CT41: 42.486567 | CU41: 18.6224 | CV41: 35.716247 | CW41: 23.145584 | CX41: 93.712477 | CY41: 39.4864 | CZ41: 56.311436 | DA41: 15.0542 | DB41: 200.00242 | DC41: 13.899827
A42: 2025-12 | B42: Administration og it mv., KL | C42: Datamatikere/Datanomer/AU´ere, ex. Frb | D42: 73.95928 | E42: 0 | F42: 0 | G42: 0 | H42: 0 | I42: 0 | J42: 0 | K42: 0 | L42: 0 | M42: 0 | N42: 0 | O42: 0 | P42: 0 | Q42: 6.7568 | R42: 0 | S42: 0 | T42: 0 | U42: 0 | V42: 0 | W42: 0 | X42: 0 | Y42: 0 | Z42: 0 | AA42: 0 | AB42: 0 | AC42: 0 | AD42: 0 | AE42: 0 | AF42: 0 | AG42: 0 | AH42: 0 | AI42: 0 | AJ42: 0 | AK42: 0 | AL42: 0 | AM42: 0 | AN42: 0 | AO42: 0 | AP42: 0 | AQ42: 0 | AR42: 0 | AS42: 0 | AT42: 0 | AU42: 0 | AV42: 0 | AW42: 0 | AX42: 0 | AY42: 0 | AZ42: 0 | BA42: 0 | BB42: 0 | BC42: 0 | BD42: 0 | BE42: 0 | BF42: 0 | BG42: 0 | BH42: 0 | BI42: 0 | BJ42: 0 | BK42: 0 | BL42: 0 | BM42: 0 | BN42: 0 | BO42: 0 | BP42: 0 | BQ42: 0 | BR42: 7 | BS42: 0 | BT42: 0 | BU42: 0 | BV42: 0 | BW42: 0 | BX42: 0 | BY42: 0 | BZ42: 0 | CA42: 0 | CB42: 0 | CC42: 0 | CD42: 0 | CE42: 0 | CF42: 0 | CG42: 0 | CH42: 0 | CI42: 5.3243 | CJ42: 0 | CK42: 0 | CL42: 0 | CM42: 0 | CN42: 0 | CO42: 0 | CP42: 0 | CQ42: 0 | CR42: 0 | CS42: 0 | CT42: 0 | CU42: 0 | CV42: 0 | CW42: 0 | CX42: 0 | CY42: 0 | CZ42: 0 | DA42: 0 | DB42: 0 | DC42: 0
A43: 2025-12 | B43: Administration og it mv., KL | C43: Edb-medarbejdere, Kbh, lukket gruppe | D43: 8.3513403 | E43: 0 | F43: 0 | G43: 0 | H43: 0 | I43: 0 | J43: 0 | K43: 0 | L43: 0 | M43: 0 | N43: 0 | O43: 0 | P43: 0 | Q43: 0 | R43: 0 | S43: 0 | T43: 0 | U43: 0 | V43: 0 | W43: 0 | X43: 0 | Y43: 0 | Z43: 0 | AA43: 0 | AB43: 0 | AC43: 0 | AD43: 0 | AE43: 0 | AF43: 0 | AG43: 0 | AH43: 0 | AI43: 0 | AJ43: 0 | AK43: 0 | AL43: 0 | AM43: 0 | AN43: 0 | AO43: 0 | AP43: 0 | AQ43: 0 | AR43: 0 | AS43: 0 | AT43: 0 | AU43: 0 | AV43: 0 | AW43: 0 | AX43: 0 | AY43: 0 | AZ43: 0 | BA43: 0 | BB43: 8.3513403 | BC43: 0 | BD43: 0 | BE43: 0 | BF43: 0 | BG43: 0 | BH43: 0 | BI43: 0 | BJ43: 0 | BK43: 0 | BL43: 0 | BM43: 0 | BN43: 0 | BO43: 0 | BP43: 0 | BQ43: 0 | BR43: 0 | BS43: 0 | BT43: 0 | BU43: 0 | BV43: 0 | BW43: 0 | BX43: 0 | BY43: 0 | BZ43: 0 | CA43: 0 | CB43: 0 | CC43: 0 | CD43: 0 | CE43: 0 | CF43: 0 | CG43: 0 | CH43: 0 | CI43: 0 | CJ43: 0 | CK43: 0 | CL43: 0 | CM43: 0 | CN43: 0 | CO43: 0 | CP43: 0 | CQ43: 0 | CR43: 0 | CS43: 0 | CT43: 0 | CU43: 0 | CV43: 0 | CW43: 0 | CX43: 0 | CY43: 0 | CZ43: 0 | DA43: 0 | DB43: 0 | DC43: 0
A44: 2025-12 | B44: Administration og it mv., KL | C44: Financial Controller | D44: 12.1081 | E44: 0 | F44: 0 | G44: 0 | H44: 0 | I44: 0 | J44: 0 | K44: 0 | L44: 0 | M44: 0 | N44: 0 | O44: 0 | P44: 0 | Q44: 0 | R44: 0 | S44: 0 | T44: 0 | U44: 0 | V44: 0 | W44: 0 | X44: 0 | Y44: 0 | Z44: 0 | AA44: 0 | AB44: 0 | AC44: 0 | AD44: 0 | AE44: 0 | AF44: 0 | AG44: 0 | AH44: 0 | AI44: 0 | AJ44: 0 | AK44: 0 | AL44: 0 | AM44: 0 | AN44: 0 | AO44: 0 | AP44: 0 | AQ44: 0 | AR44: 0 | AS44: 0 | AT44: 0 | AU44: 0 | AV44: 0 | AW44: 0 | AX44: 0 | AY44: 0 | AZ44: 0 | BA44: 0 | BB44: 0 | BC44: 0 | BD44: 0 | BE44: 0 | BF44: 0 | BG44: 0 | BH44: 0 | BI44: 0 | BJ44: 0 | BK44: 0 | BL44: 0 | BM44: 0 | BN44: 0 | BO44: 0 | BP44: 0 | BQ44: 0 | BR44: 0 | BS44: 0 | BT44: 0 | BU44: 0 | BV44: 0 | BW44: 0 | BX44: 0 | BY44: 0 | BZ44: 0 | CA44: 0 | CB44: 0 | CC44: 0 | CD44: 0 | CE44: 0 | CF44: 0 | CG44: 0 | CH44: 0 | CI44: 0 | CJ44: 0 | CK44: 0 | CL44: 0 | CM44: 0 | CN44: 0 | CO44: 0 | CP44: 0 | CQ44: 0 | CR44: 0 | CS44: 0 | CT44: 0 | CU44: 0 | CV44: 0 | CW44: 0 | CX44: 0 | CY44: 0 | CZ44: 0 | DA44: 0 | DB44: 0 | DC44: 0
A45: 2025-12 | B45: Administration og it mv., KL | C45: Finansøkonomer | D45: 88.812861 | E45: 0 | F45: 0 | G45: 0 | H45: 0 | I45: 0 | J45: 0 | K45: 0 | L45: 0 | M45: 0 | N45: 0 | O45: 0 | P45: 0 | Q45: 0 | R45: 0 | S45: 0 | T45: 0 | U45: 0 | V45: 0 | W45: 0 | X45: 0 | Y45: 0 | Z45: 0 | AA45: 0 | AB45: 0 | AC45: 0 | AD45: 0 | AE45: 0 | AF45: 0 | AG45: 0 | AH45: 0 | AI45: 0 | AJ45: 0 | AK45: 0 | AL45: 0 | AM45: 0 | AN45: 0 | AO45: 0 | AP45: 0 | AQ45: 8.6756 | AR45: 0 | AS45: 0 | AT45: 0 | AU45: 0 | AV45: 0 | AW45: 0 | AX45: 0 | AY45: 0 | AZ45: 0 | BA45: 0 | BB45: 0 | BC45: 0 | BD45: 0 | BE45: 0 | BF45: 0 | BG45: 0 | BH45: 0 | BI45: 0 | BJ45: 0 | BK45: 0 | BL45: 0 | BM45: 0 | BN45: 0 | BO45: 0 | BP45: 0 | BQ45: 0 | BR45: 0 | BS45: 0 | BT45: 0 | BU45: 0 | BV45: 0 | BW45: 0 | BX45: 0 | BY45: 0 | BZ45: 0 | CA45: 0 | CB45: 0 | CC45: 0 | CD45: 0 | CE45: 0 | CF45: 0 | CG45: 0 | CH45: 0 | CI45: 0 | CJ45: 0 | CK45: 0 | CL45: 0 | CM45: 0 | CN45: 0 | CO45: 0 | CP45: 0 | CQ45: 0 | CR45: 0 | CS45: 0 | CT45: 0 | CU45: 0 | CV45: 0 | CW45: 0 | CX45: 0 | CY45: 0 | CZ45: 0 | DA45: 0 | DB45: 0 | DC45: 0
A46: 2025-12 | B46: Administration og it mv., KL | C46: IT-medarbejdere, ex. Frb | D46: 163.95182 | E46: 0 | F46: 0 | G46: 0 | H46: 0 | I46: 0 | J46: 0 | K46: 0 | L46: 0 | M46: 0 | N46: 0 | O46: 0 | P46: 0 | Q46: 0 | R46: 0 | S46: 0 | T46: 0 | U46: 0 | V46: 0 | W46: 0 | X46: 0 | Y46: 0 | Z46: 0 | AA46: 0 | AB46: 0 | AC46: 0 | AD46: 0 | AE46: 0 | AF46: 0 | AG46: 0 | AH46: 0 | AI46: 0 | AJ46: 0 | AK46: 0 | AL46: 0 | AM46: 0 | AN46: 0 | AO46: 0 | AP46: 0 | AQ46: 0 | AR46: 0 | AS46: 0 | AT46: 0 | AU46: 0 | AV46: 0 | AW46: 0 | AX46: 0 | AY46: 0 | AZ46: 0 | BA46: 0 | BB46: 42.2378 | BC46: 0 | BD46: 0 | BE46: 0 | BF46: 0 | BG46: 0 | BH46: 0 | BI46: 0 | BJ46: 0 | BK46: 0 | BL46: 0 | BM46: 0 | BN46: 0 | BO46: 0 | BP46: 0 | BQ46: 0 | BR46: 0 | BS46: 0 | BT46: 0 | BU46: 5.8919 | BV46: 0 | BW46: 0 | BX46: 0 | BY46: 0 | BZ46: 0 | CA46: 0 | CB46: 0 | CC46: 8 | CD46: 0 | CE46: 0 | CF46: 0 | CG46: 0 | CH46: 0 | CI46: 0 | CJ46: 0 | CK46: 0 | CL46: 0 | CM46: 0 | CN46: 0 | CO46: 0 | CP46: 0 | CQ46: 0 | CR46: 0 | CS46: 0 | CT46: 0 | CU46: 0 | CV46: 0 | CW46: 0 | CX46: 0 | CY46: 0 | CZ46: 0 | DA46: 0 | DB46: 12.7297 | DC46: 0
A47: 2025-12 | B47: Administration og it mv., KL | C47: Kontorassistenter | D47: 1386.6124 | E47: 9.4324 | F47: 30.199638 | G47: 5.7901342 | H47: 0 | I47: 5.6756 | J47: 0 | K47: 9.5074329 | L47: 21.783711 | M47: 17.0139 | N47: 0 | O47: 0 | P47: 0 | Q47: 18.616945 | R47: 8.6131726 | S47: 0 | T47: 0 | U47: 6.4479937 | V47: 0 | W47: 14.291573 | X47: 0 | Y47: 8.6216 | Z47: 0 | AA47: 9.2098535 | AB47: 23.873754 | AC47: 5.8607044 | AD47: 6.6554007 | AE47: 0 | AF47: 0 | AG47: 12.797291 | AH47: 9.0421921 | AI47: 0 | AJ47: 7.1692537 | AK47: 12.371363 | AL47: 0 | AM47: 26.069353 | AN47: 5.9864 | AO47: 16.21641 | AP47: 6.1131093 | AQ47: 11.39357 | AR47: 17.119302 | AS47: 6.2294766 | AT47: 0 | AU47: 0 | AV47: 10.029037 | AW47: 7.699 | AX47: 0 | AY47: 7.3243 | AZ47: 7.4123742 | BA47: 12.205366 | BB47: 332.14029 | BC47: 10.386611 | BD47: 0 | BE47: 0 | BF47: 8.5699062 | BG47: 8 | BH47: 8.1674902 | BI47: 0 | BJ47: 0 | BK47: 9.5329032 | BL47: 0 | BM47: 5.4667066 | BN47: 5.0811 | BO47: 0 | BP47: 16.008759 | BQ47: 0 | BR47: 47.136762 | BS47: 0 | BT47: 17.381434 | BU47: 0 | BV47: 0 | BW47: 0 | BX47: 0 | BY47: 0 | BZ47: 0 | CA47: 7.7072269 | CB47: 6.8470801 | CC47: 20.92637 | CD47: 11.0272 | CE47: 13.506606 | CF47: 0 | CG47: 15.063017 | CH47: 5.4053 | CI47: 13.213521 | CJ47: 5.5404 | CK47: 0 | CL47: 0 | CM47: 0 | CN47: 0 | CO47: 8.8961386 | CP47: 7.1081 | CQ47: 8.2868 | CR47: 10.923679 | CS47: 8.5288978 | CT47: 10.133111 | CU47: 0 | CV47: 6.3314806 | CW47: 9.1622 | CX47: 24.859915 | CY47: 0 | CZ47: 12.252739 | DA47: 0 | DB47: 58.05047 | DC47: 5.8377
A48: 2025-12 | B48: Administration og it mv., KL | C48: Kontorfunktionærer, Fkka+Frb+Gentofte | D48: 10.189194 | E48: 0 | F48: 0 | G48: 0 | H48: 0 | I48: 0 | J48: 0 | K48: 0 | L48: 0 | M48: 0 | N48: 0 | O48: 0 | P48: 0 | Q48: 0 | R48: 0 | S48: 0 | T48: 0 | U48: 0 | V48: 0 | W48: 0 | X48: 10.189194 | Y48: 0 | Z48: 0 | AA48: 0 | AB48: 0 | AC48: 0 | AD48: 0 | AE48: 0 | AF48: 0 | AG48: 0 | AH48: 0 | AI48: 0 | AJ48: 0 | AK48: 0 | AL48: 0 | AM48: 0 | AN48: 0 | AO48: 0 | AP48: 0 | AQ48: 0 | AR48: 0 | AS48: 0 | AT48: 0 | AU48: 0 | AV48: 0 | AW48: 0 | AX48: 0 | AY48: 0 | AZ48: 0 | BA48: 0 | BB48: 0 | BC48: 0 | BD48: 0 | BE48: 0 | BF48: 0 | BG48: 0 | BH48: 0 | BI48: 0 | BJ48: 0 | BK48: 0 | BL48: 0 | BM48: 0 | BN48: 0 | BO48: 0 | BP48: 0 | BQ48: 0 | BR48: 0 | BS48: 0 | BT48: 0 | BU48: 0 | BV48: 0 | BW48: 0 | BX48: 0 | BY48: 0 | BZ48: 0 | CA48: 0 | CB48: 0 | CC48: 0 | CD48: 0 | CE48: 0 | CF48: 0 | CG48: 0 | CH48: 0 | CI48: 0 | CJ48: 0 | CK48: 0 | CL48: 0 | CM48: 0 | CN48: 0 | CO48: 0 | CP48: 0 | CQ48: 0 | CR48: 0 | CS48: 0 | CT48: 0 | CU48: 0 | CV48: 0 | CW48: 0 | CX48: 0 | CY48: 0 | CZ48: 0 | DA48: 0 | DB48: 0 | DC48: 0
A49: 2025-12 | B49: Administration og it mv., KL | C49: Ledere | D49: 1515.9575 | E49: 17 | F49: 32 | G49: 5 | H49: 0 | I49: 0 | J49: 15 | K49: 0 | L49: 15 | M49: 8 | N49: 7 | O49: 0 | P49: 7 | Q49: 15.208983 | R49: 6 | S49: 0 | T49: 5.8648656 | U49: 12.7027 | V49: 8 | W49: 19 | X49: 34.8243 | Y49: 12.065502 | Z49: 9 | AA49: 10 | AB49: 44.8649 | AC49: 28.8108 | AD49: 0 | AE49: 8.9459 | AF49: 8.1138 | AG49: 25.623736 | AH49: 21.067645 | AI49: 0 | AJ49: 6.8108 | AK49: 12 | AL49: 5 | AM49: 16.7838 | AN49: 7.8378 | AO49: 30 | AP49: 23 | AQ49: 22 | AR49: 19 | AS49: 13 | AT49: 17.6757 | AU49: 0 | AV49: 5 | AW49: 7 | AX49: 6 | AY49: 12.7297 | AZ49: 10 | BA49: 23.175671 | BB49: 105.13404 | BC49: 9.8243235 | BD49: 0 | BE49: 0 | BF49: 5.9268 | BG49: 18 | BH49: 24.305872 | BI49: 0 | BJ49: 11 | BK49: 0 | BL49: 12.621557 | BM49: 12 | BN49: 0 | BO49: 8 | BP49: 20.7028 | BQ49: 0 | BR49: 40 | BS49: 10.8919 | BT49: 25 | BU49: 0 | BV49: 0 | BW49: 0 | BX49: 0 | BY49: 0 | BZ49: 0 | CA49: 11.7838 | CB49: 5 | CC49: 17 | CD49: 14.8792 | CE49: 6 | CF49: 0 | CG49: 31 | CH49: 20.919747 | CI49: 13.9 | CJ49: 17.851352 | CK49: 9.9459 | CL49: 10.018715 | CM49: 0 | CN49: 6 | CO49: 9 | CP49: 23 | CQ49: 14.6486 | CR49: 14 | CS49: 12.9332 | CT49: 17.483871 | CU49: 10 | CV49: 12 | CW49: 9 | CX49: 34.5738 | CY49: 9 | CZ49: 23.8108 | DA49: 10 | DB49: 68.3513 | DC49: 0
A50: 2025-12 | B50: Administration og it mv., KL | C50: Markedsføringsøkonomer | D50: 45.770996 | E50: 0 | F50: 0 | G50: 0 | H50: 0 | I50: 0 | J50: 0 | K50: 0 | L50: 0 | M50: 0 | N50: 0 | O50: 0 | P50: 0 | Q50: 0 | R50: 0 | S50: 0 | T50: 0 | U50: 0 | V50: 0 | W50: 0 | X50: 0 | Y50: 0 | Z50: 0 | AA50: 0 | AB50: 0 | AC50: 0 | AD50: 0 | AE50: 0 | AF50: 0 | AG50: 0 | AH50: 0 | AI50: 0 | AJ50: 0 | AK50: 0 | AL50: 0 | AM50: 0 | AN50: 0 | AO50: 0 | AP50: 0 | AQ50: 0 | AR50: 0 | AS50: 0 | AT50: 0 | AU50: 0 | AV50: 0 | AW50: 0 | AX50: 0 | AY50: 0 | AZ50: 0 | BA50: 0 | BB50: 0 | BC50: 0 | BD50: 0 | BE50: 0 | BF50: 0 | BG50: 0 | BH50: 0 | BI50: 0 | BJ50: 0 | BK50: 0 | BL50: 0 | BM50: 0 | BN50: 0 | BO50: 0 | BP50: 0 | BQ50: 0 | BR50: 0 | BS50: 0 | BT50: 0 | BU50: 0 | BV50: 0 | BW50: 0 | BX50: 0 | BY50: 0 | BZ50: 0 | CA50: 0 | CB50: 0 | CC50: 0 | CD50: 0 | CE50: 0 | CF50: 0 | CG50: 0 | CH50: 0 | CI50: 0 | CJ50: 0 | CK50: 0 | CL50: 0 | CM50: 0 | CN50: 0 | CO50: 0 | CP50: 0 | CQ50: 0 | CR50: 0 | CS50: 0 | CT50: 0 | CU50: 0 | CV50: 0 | CW50: 0 | CX50: 0 | CY50: 0 | CZ50: 0 | DA50: 0 | DB50: 0 | DC50: 0
A51: 2025-12 | B51: Administration og it mv., KL | C51: Overassistenter, Frb | D51: 71.960235 | E51: 0 | F51: 0 | G51: 0 | H51: 0 | I51: 0 | J51: 0 | K51: 0 | L51: 0 | M51: 0 | N51: 0 | O51: 0 | P51: 0 | Q51: 0 | R51: 0 | S51: 0 | T51: 0 | U51: 0 | V51: 0 | W51: 0 | X51: 71.148749 | Y51: 0 | Z51: 0 | AA51: 0 | AB51: 0 | AC51: 0 | AD51: 0 | AE51: 0 | AF51: 0 | AG51: 0 | AH51: 0 | AI51: 0 | AJ51: 0 | AK51: 0 | AL51: 0 | AM51: 0 | AN51: 0 | AO51: 0 | AP51: 0 | AQ51: 0 | AR51: 0 | AS51: 0 | AT51: 0 | AU51: 0 | AV51: 0 | AW51: 0 | AX51: 0 | AY51: 0 | AZ51: 0 | BA51: 0 | BB51: 0 | BC51: 0 | BD51: 0 | BE51: 0 | BF51: 0 | BG51: 0 | BH51: 0 | BI51: 0 | BJ51: 0 | BK51: 0 | BL51: 0 | BM51: 0 | BN51: 0 | BO51: 0 | BP51: 0 | BQ51: 0 | BR51: 0 | BS51: 0 | BT51: 0 | BU51: 0 | BV51: 0 | BW51: 0 | BX51: 0 | BY51: 0 | BZ51: 0 | CA51: 0 | CB51: 0 | CC51: 0 | CD51: 0 | CE51: 0 | CF51: 0 | CG51: 0 | CH51: 0 | CI51: 0 | CJ51: 0 | CK51: 0 | CL51: 0 | CM51: 0 | CN51: 0 | CO51: 0 | CP51: 0 | CQ51: 0 | CR51: 0 | CS51: 0 | CT51: 0 | CU51: 0 | CV51: 0 | CW51: 0 | CX51: 0 | CY51: 0 | CZ51: 0 | DA51: 0 | DB51: 0 | DC51: 0
... A74: 2025-12 | B74: Ledere m.fl., undervisningsområdet | C74: Ledere, forvaltningen | D74: 95.9324 | E74: 0 | F74: 0 | G74: 0 | H74: 0 | I74: 0 | J74: 0 | K74: 5 | L74: 0 | M74: 0 | N74: 0 | O74: 0 | P74: 0 | Q74: 0 | R74: 0 | S74: 0 | T74: 9 | U74: 0 | V74: 0 | W74: 0 | X74: 0 | Y74: 0 | Z74: 0 | AA74: 0 | AB74: 0 | AC74: 0 | AD74: 0 | AE74: 0 | AF74: 0 | AG74: 0 | AH74: 0 | AI74: 0 | AJ74: 0 | AK74: 0 | AL74: 0 | AM74: 0 | AN74: 0 | AO74: 0 | AP74: 0 | AQ74: 0 | AR74: 0 | AS74: 0 | AT74: 0 | AU74: 0 | AV74: 0 | AW74: 0 | AX74: 0 | AY74: 0 | AZ74: 0 | BA74: 0 | BB74: 5 | BC74: 0 | BD74: 5 | BE74: 0 | BF74: 0 | BG74: 0 | BH74: 0 | BI74: 0 | BJ74: 0 | BK74: 0 | BL74: 0 | BM74: 0 | BN74: 0 | BO74: 0 | BP74: 0 | BQ74: 0 | BR74: 0 | BS74: 0 | BT74: 0 | BU74: 0 | BV74: 0 | BW74: 0 | BX74: 0 | BY74: 0 | BZ74: 0 | CA74: 0 | CB74: 0 | CC74: 0 | CD74: 0 | CE74: 0 | CF74: 0 | CG74: 0 | CH74: 0 | CI74: 0 | CJ74: 0 | CK74: 0 | CL74: 0 | CM74: 0 | CN74: 0 | CO74: 0 | CP74: 0 | CQ74: 0 | CR74: 0 | CS74: 0 | CT74: 0 | CU74: 0 | CV74: 0 | CW74: 0 | CX74: 0 | CY74: 0 | CZ74: 0 | DA74: 0 | DB74: 0 | DC74: 0
A75: 2025-12 | B75: I alt | C75: I alt | D75: =SUM(D40:D74) -> 47905.119 | E75: =SUM(E40:E74) -> 457.98194 | F75: =SUM(F40:F74) -> 1472.4078 | G75: =SUM(G40:G74) -> 268.46376 | H75: =SUM(H40:H74) -> 178.80665 | I75: =SUM(I40:I74) -> 230.72447 | J75: =SUM(J40:J74) -> 553.01722 | K75: =SUM(K40:K74) -> 179.38837 | ... DC75: =SUM(DC40:DC74) -> 58.465008
A77: Beskrivelse
A78: Kommunernes og Regionernes Løndatakontor
A79: SIRKA
A80: Datasæt 12 2025
A81: Kørsel 18.5.2026 09.47.49
A83: Gruppe: Administrative støttefunktioner og chefer
A85: Undergrænse: 5
A87: Stillinger | B87: 050 Chefer, KL
B88: 142 Journalister, KL
B89: 04201 Jurister og økonomer
B90: 04204 Magistre
B91: 04214 Handelsjurister m.fl.
B92: 04215 Øvr. akademikere
B93: 04216 Civilingeniører
B94: 04219 Bachelorer m.fl.
B95: 04263 Specialkonsulenter
B96: 04264 Chefkonsulenter
B97: 04266 Chefpsykologer
B98: 04272 Medarb. m. 1-årig akad. overbygningsudd.
B99: 27301 Ledere, forvaltningen
... B122: 30671 Øvrigt kontor- og it-personale
A124: Ansættelsesform | B124: Ordinært ansatte
A126: Forhandlingsområde | B126: Kommuner

Sheet Myndighedspersonale_raa
A1: Antal ansatte - dec 2025
A2: Måned | B2: Overenskomstområde | C2: Stilling | D2: Udvalgte population | E2: Aabenraa | F2: Aalborg | G2: Albertslund | H2: Allerød | I2: Assens | J2: Ballerup | K2: Billund | L2: Bornholm | M2: Brøndby | N2: Brønderslev | O2: Dragør | P2: Egedal | Q2: Esbjerg | R2: Faaborg-Midtfyn | S2: Fanø | T2: Favrskov | U2: Faxe | V2: Fredensborg | W2: Fredericia | X2: Frederiksberg | Y2: Frederikshavn | Z2: Frederikssund | AA2: Furesø | AB2: Gentofte | AC2: Gladsaxe | AD2: Glostrup | AE2: Greve | AF2: Gribskov | AG2: Guldborgsund | AH2: Haderslev | AI2: Halsnæs | AJ2: Hedensted | AK2: Helsingør | AL2: Herlev | AM2: Herning | AN2: Hillerød | AO2: Hjørring | AP2: Holbæk | AQ2: Holstebro | AR2: Horsens | AS2: Hvidovre | AT2: Høje-Taastrup | AU2: Hørsholm | AV2: Ikast-Brande | AW2: Ishøj | AX2: Jammerbugt | AY2: Kalundborg | AZ2: Kerteminde | BA2: Kolding | BB2: København | BC2: Køge | BD2: Langeland | BE2: Lejre | BF2: Lemvig | BG2: Lolland | BH2: Lyngby-Taarbæk | BI2: Læsø | BJ2: Mariagerfjord | BK2: Middelfart | BL2: Morsø | BM2: Norddjurs | BN2: Nordfyn | BO2: Nyborg | BP2: Næstved | BQ2: Odder | BR2: Odense | BS2: Odsherred | BT2: Randers | BU2: Rebild | BV2: Region Hovedstaden | BW2: Region Midtjylland | BX2: Region Nordjylland | BY2: Region Sjælland | BZ2: Region Syddanmark | CA2: Ringkøbing-Skjern | CB2: Ringsted | CC2: Roskilde | CD2: Rudersdal | CE2: Rødovre | CF2: Samsø | CG2: Silkeborg | CH2: Skanderborg | CI2: Skive | CJ2: Slagelse | CK2: Solrød | CL2: Sorø | CM2: Stevns | CN2: Struer | CO2: Svendborg | CP2: Syddjurs | CQ2: Sønderborg | CR2: Thisted | CS2: Tårnby | CT2: Tønder | CU2: Vallensbæk | CV2: Varde | CW2: Vejen | CX2: Vejle | CY2: Vesthimmerland | CZ2: Viborg | DA2: Vordingborg | DB2: Århus | DC2: Ærø
A3: 2024-12 | B3: Administration og it mv., KL | C3: Jobkonsulenter/Vejledere m.fl. | D3: 2619.9569 | E3: 0 | F3: 167.77276 | G3: 12.8108 | H3: 9.3784 | I3: 20.702627 | J3: 5 | K3: 14.8649 | L3: 16.8108 | M3: 26.567574 | N3: 17.310787 | O3: 0 | P3: 7 | Q3: 39.91879 | R3: 8.743185 | S3: 0 | T3: 39.459331 | U3: 26.3919 | V3: 10 | W3: 15.5406 | X3: 5.7838 | Y3: 64.959474 | Z3: 0 | AA3: 19.405341 | AB3: 27.879224 | AC3: 55.2757 | AD3: 0 | AE3: 20.5406 | AF3: 0 | AG3: 25.269231 | AH3: 26.5406 | AI3: 5 | AJ3: 23.5811 | AK3: 27.378524 | AL3: 0 | AM3: 43.551458 | AN3: 54.116427 | AO3: 24.8649 | AP3: 71.873111 | AQ3: 39.879505 | AR3: 53.635206 | AS3: 10.973 | AT3: 17.743291 | AU3: 0 | AV3: 20.499984 | AW3: 6 | AX3: 32.959474 | AY3: 53.864965 | AZ3: 10.496 | BA3: 42.3446 | BB3: 0 | BC3: 32.791846 | BD3: 6 | BE3: 0 | BF3: 6.8497493 | BG3: 23.472978 | BH3: 20.148672 | BI3: 0 | BJ3: 0 | BK3: 23.0269 | BL3: 6.8919 | BM3: 12 | BN3: 8.7027 | BO3: 8.6216 | BP3: 65.8108 | BQ3: 8.405432 | BR3: 93.129367 | BS3: 5 | BT3: 90.108076 | BU3: 25.764838 | BV3: 0 | BW3: 0 | BX3: 0 | BY3: 0 | BZ3: 0 | CA3: 31.026975 | CB3: 27.6621 | CC3: 25.891898 | CD3: 0 | CE3: 13.9189 | CF3: 0 | CG3: 63.994583 | CH3: 35.191155 | CI3: 27.175687 | CJ3: 84.082392 | CK3: 15.002629 | CL3: 12.432433 | CM3: 0 | CN3: 11.116797 | CO3: 15.8311 | CP3: 12.081 | CQ3: 0 | CR3: 11.540566 | CS3: 28 | CT3: 15.6757 | CU3: 5.8513793 | CV3: 17.7026 | CW3: 23.6757 | CX3: 33.609287 | CY3: 26.189182 | CZ3: 49.811 | DA3: 0 | DB3: 326.67013 | DC3: 0
A4: 2024-12 | B4: Administration og it mv., KL | C4: Socialformidlere, Frb+Gentofte | D4: 8.0702243 | E4: 0 | F4: 0 | G4: 0 | H4: 0 | I4: 0 | J4: 0 | K4: 0 | L4: 0 | M4: 0 | N4: 0 | O4: 0 | P4: 0 | Q4: 0 | R4: 0 | S4: 0 | T4: 0 | U4: 0 | V4: 0 | W4: 0 | X4: 0 | Y4: 0 | Z4: 0 | AA4: 0 | AB4: 8.0702243 | AC4: 0 | AD4: 0 | AE4: 0 | AF4: 0 | AG4: 0 | AH4: 0 | AI4: 0 | AJ4: 0 | AK4: 0 | AL4: 0 | AM4: 0 | AN4: 0 | AO4: 0 | AP4: 0 | AQ4: 0 | AR4: 0 | AS4: 0 | AT4: 0 | AU4: 0 | AV4: 0 | AW4: 0 | AX4: 0 | AY4: 0 | AZ4: 0 | BA4: 0 | BB4: 0 | BC4: 0 | BD4: 0 | BE4: 0 | BF4: 0 | BG4: 0 | BH4: 0 | BI4: 0 | BJ4: 0 | BK4: 0 | BL4: 0 | BM4: 0 | BN4: 0 | BO4: 0 | BP4: 0 | BQ4: 0 | BR4: 0 | BS4: 0 | BT4: 0 | BU4: 0 | BV4: 0 | BW4: 0 | BX4: 0 | BY4: 0 | BZ4: 0 | CA4: 0 | CB4: 0 | CC4: 0 | CD4: 0 | CE4: 0 | CF4: 0 | CG4: 0 | CH4: 0 | CI4: 0 | CJ4: 0 | CK4: 0 | CL4: 0 | CM4: 0 | CN4: 0 | CO4: 0 | CP4: 0 | CQ4: 0 | CR4: 0 | CS4: 0 | CT4: 0 | CU4: 0 | CV4: 0 | CW4: 0 | CX4: 0 | CY4: 0 | CZ4: 0 | DA4: 0 | DB4: 0 | DC4: 0
A5: 2024-12 | B5: Akademikere, KL | C5: Akademiingeniører | D5: 151.44833 | E5: 0 | F5: 0 | G5: 5.8649 | H5: 0 | I5: 0 | J5: 0 | K5: 0 | L5: 0 | M5: 0 | N5: 0 | O5: 0 | P5: 0 | Q5: 0 | R5: 0 | S5: 0 | T5: 0 | U5: 0 | V5: 0 | W5: 0 | X5: 0 | Y5: 0 | Z5: 0 | AA5: 0 | AB5: 0 | AC5: 0 | AD5: 0 | AE5: 0 | AF5: 0 | AG5: 0 | AH5: 0 | AI5: 0 | AJ5: 0 | AK5: 0 | AL5: 0 | AM5: 0 | AN5: 0 | AO5: 0 | AP5: 0 | AQ5: 0 | AR5: 0 | AS5: 0 | AT5: 0 | AU5: 0 | AV5: 0 | AW5: 0 | AX5: 0 | AY5: 0 | AZ5: 0 | BA5: 0 | BB5: 16.0811 | BC5: 8.1621 | BD5: 0 | BE5: 0 | BF5: 0 | BG5: 0 | BH5: 0 | BI5: 0 | BJ5: 0 | BK5: 0 | BL5: 0 | BM5: 0 | BN5: 0 | BO5: 0 | BP5: 0 | BQ5: 0 | BR5: 0 | BS5: 0 | BT5: 0 | BU5: 0 | BV5: 0 | BW5: 0 | BX5: 0 | BY5: 0 | BZ5: 0 | CA5: 0 | CB5: 0 | CC5: 0 | CD5: 0 | CE5: 0 | CF5: 0 | CG5: 0 | CH5: 0 | CI5: 0 | CJ5: 0 | CK5: 0 | CL5: 0 | CM5: 0 | CN5: 0 | CO5: 0 | CP5: 0 | CQ5: 0 | CR5: 0 | CS5: 0 | CT5: 0 | CU5: 0 | CV5: 0 | CW5: 0 | CX5: 0 | CY5: 0 | CZ5: 0 | DA5: 0 | DB5: 6.9459346 | DC5: 0
A6: 2024-12 | B6: Akademikere, KL | C6: Arkitekter | D6: 1092.8595 | E6: 6.5947 | F6: 19.3513 | G6: 10 | H6: 7.9189 | I6: 0 | J6: 5.8378 | K6: 0 | L6: 6.3242646 | M6: 0 | N6: 0 | O6: 0 | P6: 10.4527 | Q6: 11.7298 | R6: 5.8108 | S6: 0 | T6: 5.9189 | U6: 0 | V6: 10.8649 | W6: 12.7568 | X6: 29.892 | Y6: 0 | Z6: 5.8649 | AA6: 12.369635 | AB6: 22.257817 | AC6: 26.0702 | AD6: 7.7298 | AE6: 8.1351698 | AF6: 6.8108 | AG6: 0 | AH6: 10.124297 | AI6: 6 | AJ6: 7.7984464 | AK6: 13.2973 | AL6: 6.4324 | AM6: 17.4055 | AN6: 20.081 | AO6: 5 | AP6: 6.5405 | AQ6: 0 | AR6: 13.000024 | AS6: 10.7838 | AT6: 7.973 | AU6: 9.8649 | AV6: 7.8649 | AW6: 0 | AX6: 0 | AY6: 0 | AZ6: 0 | BA6: 14.842169 | BB6: 184.08108 | BC6: 9.3024 | BD6: 0 | BE6: 0 | BF6: 0 | BG6: 0 | BH6: 14.5136 | BI6: 0 | BJ6: 0 | BK6: 9.6593866 | BL6: 0 | BM6: 0 | BN6: 0 | BO6: 0 | BP6: 7.6757 | BQ6: 6.8919 | BR6: 24.6486 | BS6: 7 | BT6: 21.1893 | BU6: 0 | BV6: 0 | BW6: 0 | BX6: 0 | BY6: 0 | BZ6: 0 | CA6: 8.5271 | CB6: 0 | CC6: 24.581146 | CD6: 15.432435 | CE6: 15.4108 | CF6: 0 | CG6: 16.918898 | CH6: 12.7297 | CI6: 7.6216 | CJ6: 10.4108 | CK6: 0 | CL6: 0 | CM6: 5 | CN6: 0 | CO6: 9.5406105 | CP6: 11.2433 | CQ6: 12 | CR6: 5 | CS6: 5.9459 | CT6: 5 | CU6: 0 | CV6: 7.8649 | CW6: 5.1081 | CX6: 26.5136 | CY6: 6 | CZ6: 17.5135 | DA6: 5.8108105 | DB6: 89.808345 | DC6: 0
A7: 2024-12 | B7: Akademikere, KL | C7: Civilingeniører | D7: 1090.897 | E7: 13.496861 | F7: 122.7295 | G7: 7 | H7: 8.8919 | I7: 0 | J7: 7.8649 | K7: 0 | L7: 9.3242891 | M7: 0 | N7: 10.6757 | O7: 0 | P7: 8.5675622 | Q7: 17 | R7: 5 | S7: 0 | T7: 7 | U7: 0 | V7: 6.2973 | W7: 12.3244 | X7: 12.7297 | Y7: 12 | Z7: 5.8648995 | AA7: 5.2121961 | AB7: 7.8649 | AC7: 9.1892 | AD7: 0 | AE7: 0 | AF7: 5 | AG7: 0 | AH7: 5.5135 | AI7: 8.6757 | AJ7: 0 | AK7: 9 | AL7: 0 | AM7: 15.135102 | AN7: 10.8108 | AO7: 17.5946 | AP7: 0 | AQ7: 9.8919 | AR7: 7.8649 | AS7: 10.4865 | AT7: 11.8108 | AU7: 0 | AV7: 0 | AW7: 0 | AX7: 11.8 | AY7: 5.9459 | AZ7: 0 | BA7: 7.9189 | BB7: 128.83893 | BC7: 10.4594 | BD7: 0 | BE7: 0 | BF7: 0 | BG7: 0 | BH7: 7.6757 | BI7: 0 | BJ7: 16.4595 | BK7: 5 | BL7: 8 | BM7: 6.8108 | BN7: 0 | BO7: 0 | BP7: 0 | BQ7: 0 | BR7: 32.333626 | BS7: 0 | BT7: 18.5947 | BU7: 12.62171 | BV7: 0 | BW7: 0 | BX7: 0 | BY7: 0 | BZ7: 0 | CA7: 12.7838 | CB7: 0 | CC7: 5.7298 | CD7: 7.4055 | CE7: 5.8919 | CF7: 0 | CG7: 22.810898 | CH7: 12.9053 | CI7: 7.8649 | CJ7: 10 | CK7: 0 | CL7: 0 | CM7: 0 | CN7: 0 | CO7: 0 | CP7: 7.527 | CQ7: 6.8649 | CR7: 9.7568 | CS7: 5 | CT7: 5.8108105 | CU7: 0 | CV7: 7.9324 | CW7: 0 | CX7: 15.267106 | CY7: 14.5541 | CZ7: 16.135103 | DA7: 5 | DB7: 56.946 | DC7: 0
A8: 2024-12 | B8: Akademikere, KL | C8: Diplomingeniører | D8: 566.31302 | E8: 8.7568009 | F8: 9 | G8: 6 | H8: 0 | I8: 8 | J8: 0 | K8: 8.9325 | L8: 0 | M8: 5 | N8: 0 | O8: 0 | P8: 6.6757 | Q8: 13.8108 | R8: 9 | S8: 0 | T8: 12.8648 | U8: 0 | V8: 0 | W8: 0 | X8: 10.6487 | Y8: 0 | Z8: 0 | AA8: 0 | AB8: 0 | AC8: 8.1135 | AD8: 0 | AE8: 5 | AF8: 6.3243242 | AG8: 0 | AH8: 0 | AI8: 0 | AJ8: 5.7163 | AK8: 0 | AL8: 0 | AM8: 0 | AN8: 0 | AO8: 0 | AP8: 0 | AQ8: 0 | AR8: 19.364886 | AS8: 0 | AT8: 0 | AU8: 0 | AV8: 5.4864993 | AW8: 8 | AX8: 0 | AY8: 0 | AZ8: 5.108108 | BA8: 5 | BB8: 68.324286 | BC8: 0 | BD8: 0 | BE8: 0 | BF8: 0 | BG8: 0 | BH8: 0 | BI8: 0 | BJ8: 0 | BK8: 0 | BL8: 0 | BM8: 0 | BN8: 0 | BO8: 0 | BP8: 0 | BQ8: 0 | BR8: 22.5405 | BS8: 0 | BT8: 5.7432 | BU8: 0 | BV8: 0 | BW8: 0 | BX8: 0 | BY8: 0 | BZ8: 0 | CA8: 5.8919 | CB8: 9 | CC8: 0 | CD8: 0 | CE8: 5 | CF8: 0 | CG8: 12.5406 | CH8: 7 | CI8: 0 | CJ8: 5 | CK8: 0 | CL8: 0 | CM8: 0 | CN8: 0 | CO8: 6 | CP8: 0 | CQ8: 8 | CR8: 0 | CS8: 0 | CT8: 0 | CU8: 0 | CV8: 9 | CW8: 6.9324 | CX8: 12.979246 | CY8: 0 | CZ8: 10.054001 | DA8: 0 | DB8: 37.475751 | DC8: 0
A9: 2024-12 | B9: Akademikere, KL | C9: Teknikumingeniører | D9: 364.10794 | E9: 0 | F9: 0 | G9: 0 | H9: 0 | I9: 0 | J9: 0 | K9: 0 | L9: 0 | M9: 0 | N9: 0 | O9: 0 | P9: 0 | Q9: 15.9459 | R9: 0 | S9: 0 | T9: 0 | U9: 0 | V9: 0 | W9: 5 | X9: 0 | Y9: 0 | Z9: 5.6757105 | AA9: 0 | AB9: 0 | AC9: 0 | AD9: 0 | AE9: 0 | AF9: 0 | AG9: 0 | AH9: 9.6757 | AI9: 0 | AJ9: 5.8649 | AK9: 0 | AL9: 0 | AM9: 11.7297 | AN9: 0 | AO9: 0 | AP9: 0 | AQ9: 0 | AR9: 5 | AS9: 0 | AT9: 0 | AU9: 0 | AV9: 8.9459 | AW9: 0 | AX9: 0 | AY9: 0 | AZ9: 0 | BA9: 6.9189 | BB9: 22.2108 | BC9: 6.9823533 | BD9: 0 | BE9: 0 | BF9: 0 | BG9: 0 | BH9: 0 | BI9: 0 | BJ9: 0 | BK9: 7.8648 | BL9: 0 | BM9: 0 | BN9: 0 | BO9: 0 | BP9: 5.1621621 | BQ9: 0 | BR9: 23.0541 | BS9: 0 | BT9: 5 | BU9: 0 | BV9: 0 | BW9: 0 | BX9: 0 | BY9: 0 | BZ9: 0 | CA9: 0 | CB9: 0 | CC9: 6.8108105 | CD9: 0 | CE9: 0 | CF9: 0 | CG9: 9.0792157 | CH9: 0 | CI9: 0 | CJ9: 0 | CK9: 0 | CL9: 0 | CM9: 0 | CN9: 0 | CO9: 5.4472863 | CP9: 0 | CQ9: 5.5676 | CR9: 0 | CS9: 0 | CT9: 0 | CU9: 0 | CV9: 0 | CW9: 5.4054 | CX9: 9.5946105 | CY9: 0 | CZ9: 6.8649 | DA9: 0 | DB9: 33.729742 | DC9: 0
A10: 2024-12 | B10: Bygningskonstruktører | C10: Bygningskonstruktører | D10: 1061.9775 | E10: 12.2095 | F10: 21.108077 | G10: 0 | H10: 5.8108 | I10: 8 | J10: 7 | K10: 7.8919 | L10: 6 | M10: 7 | N10: 8 | O10: 0 | P10: 6 | Q10: 17.8649 | R10: 13.7297 | S10: 0 | T10: 6.7568 | U10: 0 | V10: 6.8649 | W10: 15.6486 | X10: 17.8108 | Y10: 9.5406 | Z10: 5 | AA10: 0 | AB10: 8.2224439 | AC10: 5.8 | AD10: 0 | AE10: 6.8649 | AF10: 8 | AG10: 6 | AH10: 11.6757 | AI10: 6.9189 | AJ10: 14 | AK10: 5.8108 | AL10: 0 | AM10: 16.270202 | AN10: 10.486432 | AO10: 8 | AP10: 19.1083 | AQ10: 10.8108 | AR10: 21.8649 | AS10: 6 | AT10: 11.102429 | AU10: 6.7189 | AV10: 10 | AW10: 0 | AX10: 5.6081 | AY10: 7.7297 | AZ10: 7.9999593 | BA10: 11.8649 | BB10: 92.702692 | BC10: 8 | BD10: 5.8108 | BE10: 0 | BF10: 5.2702 | BG10: 12.6486 | BH10: 11.6757 | BI10: 0 | BJ10: 6.8649 | BK10: 12.324324 | BL10: 0 | BM10: 11.216224 | BN10: 8.9189 | BO10: 11.8649 | BP10: 16.4595 | BQ10: 0 | BR10: 36.4055 | BS10: 9 | BT10: 13 | BU10: 7 | BV10: 0 | BW10: 0 | BX10: 0 | BY10: 0 | BZ10: 0 | CA10: 9 | CB10: 5.9459102 | CC10: 13.8649 | CD10: 6.8649 | CE10: 8 | CF10: 0 | CG10: 15.2973 | CH10: 15.6757 | CI10: 9.5405 | CJ10: 11 | CK10: 9 | CL10: 9.2161 | CM10: 7 | CN10: 8 | CO10: 21.7296 | CP10: 10.548387 | CQ10: 10.8108 | CR10: 9 | CS10: 6.0811 | CT10: 9 | CU10: 0 | CV10: 20.0677 | CW10: 9 | CX10: 23.00004 | CY10: 5 | CZ10: 14 | DA10: 7 | DB10: 63.925704 | DC10: 0
A11: 2024-12 | B11: Pædagogisk personale i dagplejeordninger | C11: Pædagoger i pladsanvisningen, lukket gr. | D11: 8.5405 | E11: 0 | F11: 0 | G11: 0 | H11: 0 | I11: 0 | J11: 0 | K11: 0 | L11: 0 | M11: 0 | N11: 0 | O11: 0 | P11: 0 | Q11: 0 | R11: 0 | S11: 0 | T11: 0 | U11: 0 | V11: 0 | W11: 0 | X11: 0 | Y11: 0 | Z11: 0 | AA11: 0 | AB11: 0 | AC11: 0 | AD11: 0 | AE11: 0 | AF11: 0 | AG11: 0 | AH11: 0 | AI11: 0 | AJ11: 0 | AK11: 0 | AL11: 0 | AM11: 0 | AN11: 0 | AO11: 0 | AP11: 0 | AQ11: 0 | AR11: 0 | AS11: 0 | AT11: 0 | AU11: 0 | AV11: 0 | AW11: 0 | AX11: 0 | AY11: 0 | AZ11: 0 | BA11: 0 | BB11: 5 | BC11: 0 | BD11: 0 | BE11: 0 | BF11: 0 | BG11: 0 | BH11: 0 | BI11: 0 | BJ11: 0 | BK11: 0 | BL11: 0 | BM11: 0 | BN11: 0 | BO11: 0 | BP11: 0 | BQ11: 0 | BR11: 0 | BS11: 0 | BT11: 0 | BU11: 0 | BV11: 0 | BW11: 0 | BX11: 0 | BY11: 0 | BZ11: 0 | CA11: 0 | CB11: 0 | CC11: 0 | CD11: 0 | CE11: 0 | CF11: 0 | CG11: 0 | CH11: 0 | CI11: 0 | CJ11: 0 | CK11: 0 | CL11: 0 | CM11: 0 | CN11: 0 | CO11: 0 | CP11: 0 | CQ11: 0 | CR11: 0 | CS11: 0 | CT11: 0 | CU11: 0 | CV11: 0 | CW11: 0 | CX11: 0 | CY11: 0 | CZ11: 0 | DA11: 0 | DB11: 0 | DC11: 0
A12: 2024-12 | B12: Pædagogiske konsulenter | C12: Pædagogiske konsulenter | D12: 220.89442 | E12: 0 | F12: 8 | G12: 0 | H12: 0 | I12: 0 | J12: 0 | K12: 0 | L12: 0 | M12: 0 | N12: 0 | O12: 0 | P12: 0 | Q12: 8.8108 | R12: 0 | S12: 0 | T12: 0 | U12: 0 | V12: 0 | W12: 0 | X12: 6.7298 | Y12: 0 | Z12: 0 | AA12: 0 | AB12: 0 | AC12: 0 | AD12: 0 | AE12: 0 | AF12: 0 | AG12: 0 | AH12: 0 | AI12: 0 | AJ12: 0 | AK12: 0 | AL12: 0 | AM12: 0 | AN12: 0 | AO12: 5 | AP12: 0 | AQ12: 0 | AR12: 0 | AS12: 0 | AT12: 8.8378 | AU12: 0 | AV12: 0 | AW12: 0 | AX12: 0 | AY12: 0 | AZ12: 0 | BA12: 0 | BB12: 48.250019 | BC12: 0 | BD12: 0 | BE12: 0 | BF12: 0 | BG12: 0 | BH12: 0 | BI12: 0 | BJ12: 0 | BK12: 0 | BL12: 0 | BM12: 0 | BN12: 0 | BO12: 0 | BP12: 0 | BQ12: 0 | BR12: 0 | BS12: 0 | BT12: 0 | BU12: 0 | BV12: 0 | BW12: 0 | BX12: 0 | BY12: 0 | BZ12: 0 | CA12: 0 | CB12: 0 | CC12: 0 | CD12: 0 | CE12: 0 | CF12: 0 | CG12: 0 | CH12: 0 | CI12: 0 | CJ12: 0 | CK12: 0 | CL12: 0 | CM12: 0 | CN12: 0 | CO12: 0 | CP12: 0 | CQ12: 0 | CR12: 0 | CS12: 0 | CT12: 0 | CU12: 0 | CV12: 0 | CW12: 0 | CX12: 5 | CY12: 0 | CZ12: 0 | DA12: 0 | DB12: 8.0000112 | DC12: 0
A13: 2024-12 | B13: Socialrådg./socialformidlere, KL | C13: Jobkonsulent/vejleder ved UU | D13: 472.7987 | E13: 0 | F13: 77.134812 | G13: 0 | H13: 0 | I13: 0 | J13: 0 | K13: 0 | L13: 0 | M13: 0 | N13: 0 | O13: 0 | P13: 0 | Q13: 0 | R13: 0 | S13: 0 | T13: 0 | U13: 0 | V13: 0 | W13: 0 | X13: 0 | Y13: 22 | Z13: 0 | AA13: 0 | AB13: 0 | AC13: 0 | AD13: 0 | AE13: 0 | AF13: 0 | AG13: 21.936664 | AH13: 0 | AI13: 0 | AJ13: 0 | AK13: 0 | AL13: 0 | AM13: 0 | AN13: 0 | AO13: 0 | AP13: 0 | AQ13: 0 | AR13: 0 | AS13: 5 | AT13: 0 | AU13: 0 | AV13: 0 | AW13: 0 | AX13: 0 | AY13: 0 | AZ13: 0 | BA13: 5 | BB13: 0 | BC13: 0 | BD13: 0 | BE13: 0 | BF13: 0 | BG13: 0 | BH13: 0 | BI13: 0 | BJ13: 0 | BK13: 0 | BL13: 0 | BM13: 0 | BN13: 12.2703 | BO13: 0 | BP13: 0 | BQ13: 0 | BR13: 40.337874 | BS13: 0 | BT13: 0 | BU13: 0 | BV13: 0 | BW13: 0 | BX13: 0 | BY13: 0 | BZ13: 0 | CA13: 0 | CB13: 0 | CC13: 0 | CD13: 0 | CE13: 0 | CF13: 0 | CG13: 55.254489 | CH13: 0 | CI13: 0 | CJ13: 0 | CK13: 0 | CL13: 0 | CM13: 0 | CN13: 0 | CO13: 0 | CP13: 0 | CQ13: 0 | CR13: 0 | CS13: 0 | CT13: 0 | CU13: 0 | CV13: 36.48636 | CW13: 0 | CX13: 0 | CY13: 0 | CZ13: 0 | DA13: 0 | DB13: 155.07981 | DC13: 0
A14: 2024-12 | B14: Socialrådg./socialformidlere, KL | C14: Socialformidlere | D14: 898.1851 | E14: 6.7568 | F14: 40.972878 | G14: 9.6756051 | H14: 0 | I14: 0 | J14: 10.092036 | K14: 0 | L14: 8.6217 | M14: 5 | N14: 0 | O14: 0 | P14: 6.7568 | Q14: 0 | R14: 0 | S14: 0 | T14: 0 | U14: 6.864865 | V14: 0 | W14: 7.8378 | X14: 0 | Y14: 8 | Z14: 11.6216 | AA14: 0 | AB14: 0 | AC14: 9.8648 | AD14: 0 | AE14: 12.675692 | AF14: 18.881556 | AG14: 10.486487 | AH14: 14.304 | AI14: 18.32435 | AJ14: 0 | AK14: 0 | AL14: 7.6486 | AM14: 5.4053995 | AN14: 7 | AO14: 12.378365 | AP14: 24.783737 | AQ14: 0 | AR14: 15.790687 | AS14: 14.486538 | AT14: 6.1048917 | AU14: 6.5946 | AV14: 0 | AW14: 0 | AX14: 0 | AY14: 13.1351 | AZ14: 0 | BA14: 12.999991 | BB14: 82.94996 | BC14: 12.270271 | BD14: 0 | BE14: 6 | BF14: 0 | BG14: 14.5405 | BH14: 5.4176355 | BI14: 0 | BJ14: 0 | BK14: 7.9188831 | BL14: 8.506807 | BM14: 0 | BN14: 0 | BO14: 0 | BP14: 20.8446 | BQ14: 0 | BR14: 14.810772 | BS14: 15.313968 | BT14: 35.1081 | BU14: 0 | BV14: 0 | BW14: 0 | BX14: 0 | BY14: 0 | BZ14: 0 | CA14: 0 | CB14: 5.4054056 | CC14: 18.62169 | CD14: 6.2702 | CE14: 9 | CF14: 0 | CG14: 21.432284 | CH14: 0 | CI14: 7.5945 | CJ14: 30.108 | CK14: 0 | CL14: 7.5946 | CM14: 0 | CN14: 0 | CO14: 6 | CP14: 6.2703 | CQ14: 0 | CR14: 14.5675 | CS14: 15.6351 | CT14: 0 | CU14: 0 | CV14: 0 | CW14: 0 | CX14: 17.344609 | CY14: 17 | CZ14: 15.6487 | DA14: 11.8108 | DB14: 35.378371 | DC14: 0
... A17: 2024-12 | B17: TL, byggeri, miljø, energi og kultur, KL | C17: Tekniske designere | D17: 427.86089 | E17: 9.8649 | F17: 18.68914 | G17: 0 | H17: 0 | I17: 5.1757 | J17: 0 | K17: 0 | L17: 7.5675321 | M17: 0 | N17: 0 | O17: 0 | P17: 0 | Q17: 7.2431978 | R17: 0 | S17: 0 | T17: 0 | U17: 5.8648646 | V17: 0 | W17: 0 | X17: 0 | Y17: 16.08111 | Z17: 0 | AA17: 0 | AB17: 0 | AC17: 6.587 | AD17: 0 | AE17: 0 | AF17: 0 | AG17: 6.6757 | AH17: 12.262452 | AI17: 0 | AJ17: 0 | AK17: 0 | AL17: 0 | AM17: 14.39179 | AN17: 0 | AO17: 8 | AP17: 0 | AQ17: 8.2973 | AR17: 7.5947 | AS17: 0 | AT17: 0 | AU17: 0 | AV17: 0 | AW17: 0 | AX17: 0 | AY17: 0 | AZ17: 0 | BA17: 13.053969 | BB17: 17.8 | BC17: 5 | BD17: 0 | BE17: 0 | BF17: 0 | BG17: 6.864864 | BH17: 0 | BI17: 0 | BJ17: 0 | BK17: 0 | BL17: 0 | BM17: 0 | BN17: 0 | BO17: 0 | BP17: 6.8108 | BQ17: 0 | BR17: 13.891792 | BS17: 0 | BT17: 9.06759 | BU17: 0 | BV17: 0 | BW17: 0 | BX17: 0 | BY17: 0 | BZ17: 0 | CA17: 0 | CB17: 0 | CC17: 0 | CD17: 0 | CE17: 0 | CF17: 0 | CG17: 7.4325 | CH17: 0 | CI17: 5.4865 | CJ17: 12.216217 | CK17: 0 | CL17: 0 | CM17: 0 | CN17: 0 | CO17: 10.7026 | CP17: 0 | CQ17: 8 | CR17: 0 | CS17: 0 | CT17: 5.5406102 | CU17: 0 | CV17: 5.5676 | CW17: 0 | CX17: 11.83108 | CY17: 0 | CZ17: 9.99999 | DA17: 0 | DB17: 11.351292 | DC17: 0
D18: =SUM(D3:D17) -> 22815.268 | E18: =SUM(E3:E17) -> 176.46331 | F18: =SUM(F3:F17) -> 1095.7217 | G18: =SUM(G3:G17) -> 120.09819 | H18: =SUM(H3:H17) -> 61.412474 | I18: =SUM(I3:I17) -> 162.21166 | J18: =SUM(J3:J17) -> 179.07458 | K18: =SUM(K3:K17) -> 104.33173 | ... DC18: =SUM(DC3:DC17) -> 14.946
A19: 2025-12 | B19: Administration og it mv., KL | C19: Jobkonsulenter/Vejledere m.fl. | D19: 2702.7647 | E19: 0 | F19: 169.79068 | G19: 14.8108 | H19: 8.5676 | I19: 22.756727 | J19: 11 | K19: 12.8108 | L19: 18 | M19: 28.864886 | N19: 18.337786 | O19: 0 | P19: 5 | Q19: 35.756576 | R19: 5.8648797 | S19: 0 | T19: 35.770135 | U19: 22.4595 | V19: 10 | W19: 20.594665 | X19: 88.080972 | Y19: 63.040511 | Z19: 0 | AA19: 16.201376 | AB19: 26.203523 | AC19: 52.897286 | AD19: 0 | AE19: 18.4865 | AF19: 0 | AG19: 24.891891 | AH19: 24.665366 | AI19: 5.0452277 | AJ19: 18.5811 | AK19: 29.729924 | AL19: 7 | AM19: 43.513391 | AN19: 54.124693 | AO19: 38.8649 | AP19: 65.413745 | AQ19: 41.053985 | AR19: 50.92105 | AS19: 10.973 | AT19: 16.31171 | AU19: 0 | AV19: 22.418877 | AW19: 6.3243 | AX19: 32.959473 | AY19: 54.33787 | AZ19: 9.8649 | BA19: 42.24 | BB19: 6.8 | BC19: 31.556442 | BD19: 0 | BE19: 0 | BF19: 7.1889135 | BG19: 21.3784 | BH19: 17.472973 | BI19: 0 | BJ19: 0 | BK19: 22.540424 | BL19: 5.8378457 | BM19: 12 | BN19: 10.7027 | BO19: 13.879627 | BP19: 63.1892 | BQ19: 9.4054322 | BR19: 96.165961 | BS19: 0 | BT19: 91.438984 | BU19: 24.9459 | BV19: 0 | BW19: 0 | BX19: 0 | BY19: 0 | BZ19: 0 | CA19: 25.689149 | CB19: 26.7703 | CC19: 23.432392 | CD19: 0 | CE19: 14.7567 | CF19: 0 | CG19: 65.624008 | CH19: 38.120475 | CI19: 24.655206 | CJ19: 91.501205 | CK19: 11.189132 | CL19: 10.567532 | CM19: 0 | CN19: 12.7298 | CO19: 16.5067 | CP19: 15.8108 | CQ19: 0 | CR19: 12.540565 | CS19: 28.187814 | CT19: 15.6757 | CU19: 6 | CV19: 17.305087 | CW19: 24.7432 | CX19: 31.2636 | CY19: 24.243175 | CZ19: 48.199805 | DA19: 0 | DB19: 335.85404 | DC19: 0
A20: 2025-12 | B20: Administration og it mv., KL | C20: Socialformidlere, Frb+Gentofte | D20: 12.798468 | E20: 0 | F20: 0 | G20: 0 | H20: 0 | I20: 0 | J20: 0 | K20: 0 | L20: 0 | M20: 0 | N20: 0 | O20: 0 | P20: 0 | Q20: 0 | R20: 0 | S20: 0 | T20: 0 | U20: 0 | V20: 0 | W20: 0 | X20: 5.9173581 | Y20: 0 | Z20: 0 | AA20: 0 | AB20: 6.8811101 | AC20: 0 | AD20: 0 | AE20: 0 | AF20: 0 | AG20: 0 | AH20: 0 | AI20: 0 | AJ20: 0 | AK20: 0 | AL20: 0 | AM20: 0 | AN20: 0 | AO20: 0 | AP20: 0 | AQ20: 0 | AR20: 0 | AS20: 0 | AT20: 0 | AU20: 0 | AV20: 0 | AW20: 0 | AX20: 0 | AY20: 0 | AZ20: 0 | BA20: 0 | BB20: 0 | BC20: 0 | BD20: 0 | BE20: 0 | BF20: 0 | BG20: 0 | BH20: 0 | BI20: 0 | BJ20: 0 | BK20: 0 | BL20: 0 | BM20: 0 | BN20: 0 | BO20: 0 | BP20: 0 | BQ20: 0 | BR20: 0 | BS20: 0 | BT20: 0 | BU20: 0 | BV20: 0 | BW20: 0 | BX20: 0 | BY20: 0 | BZ20: 0 | CA20: 0 | CB20: 0 | CC20: 0 | CD20: 0 | CE20: 0 | CF20: 0 | CG20: 0 | CH20: 0 | CI20: 0 | CJ20: 0 | CK20: 0 | CL20: 0 | CM20: 0 | CN20: 0 | CO20: 0 | CP20: 0 | CQ20: 0 | CR20: 0 | CS20: 0 | CT20: 0 | CU20: 0 | CV20: 0 | CW20: 0 | CX20: 0 | CY20: 0 | CZ20: 0 | DA20: 0 | DB20: 0 | DC20: 0
A21: 2025-12 | B21: Akademikere, KL | C21: Akademiingeniører | D21: 126.37024 | E21: 0 | F21: 0 | G21: 0 | H21: 0 | I21: 0 | J21: 0 | K21: 0 | L21: 0 | M21: 0 | N21: 0 | O21: 0 | P21: 0 | Q21: 0 | R21: 0 | S21: 0 | T21: 0 | U21: 0 | V21: 0 | W21: 0 | X21: 0 | Y21: 0 | Z21: 0 | AA21: 0 | AB21: 0 | AC21: 0 | AD21: 0 | AE21: 0 | AF21: 0 | AG21: 0 | AH21: 0 | AI21: 0 | AJ21: 0 | AK21: 0 | AL21: 0 | AM21: 0 | AN21: 0 | AO21: 0 | AP21: 0 | AQ21: 0 | AR21: 0 | AS21: 0 | AT21: 0 | AU21: 0 | AV21: 0 | AW21: 0 | AX21: 0 | AY21: 0 | AZ21: 0 | BA21: 0 | BB21: 10.7027 | BC21: 8 | BD21: 0 | BE21: 0 | BF21: 0 | BG21: 0 | BH21: 0 | BI21: 0 | BJ21: 0 | BK21: 0 | BL21: 0 | BM21: 0 | BN21: 0 | BO21: 0 | BP21: 0 | BQ21: 0 | BR21: 0 | BS21: 0 | BT21: 0 | BU21: 0 | BV21: 0 | BW21: 0 | BX21: 0 | BY21: 0 | BZ21: 0 | CA21: 0 | CB21: 0 | CC21: 0 | CD21: 0 | CE21: 0 | CF21: 0 | CG21: 0 | CH21: 0 | CI21: 0 | CJ21: 0 | CK21: 0 | CL21: 0 | CM21: 0 | CN21: 0 | CO21: 0 | CP21: 0 | CQ21: 0 | CR21: 0 | CS21: 0 | CT21: 0 | CU21: 0 | CV21: 0 | CW21: 0 | CX21: 0 | CY21: 0 | CZ21: 0 | DA21: 0 | DB21: 6.3242875 | DC21: 0
A22: 2025-12 | B22: Akademikere, KL | C22: Arkitekter | D22: 1093.1179 | E22: 6.7298 | F22: 17.609365 | G22: 9.3108109 | H22: 7.7297 | I22: 0 | J22: 5.4378 | K22: 0 | L22: 10.6757 | M22: 0 | N22: 0 | O22: 0 | P22: 10.256332 | Q22: 10.63627 | R22: 6.0688645 | S22: 0 | T22: 6.9189 | U22: 0 | V22: 9.7298 | W22: 11.459449 | X22: 30.97125 | Y22: 0 | Z22: 6.8649 | AA22: 11.900139 | AB22: 21.864924 | AC22: 27.4108 | AD22: 7.5406 | AE22: 8.1351706 | AF22: 8.8108 | AG22: 0 | AH22: 11.935079 | AI22: 0 | AJ22: 5.1959595 | AK22: 13.973 | AL22: 7.3783 | AM22: 19.3514 | AN22: 18.2161 | AO22: 5 | AP22: 8.9459 | AQ22: 5.7298 | AR22: 13.6757 | AS22: 10.702738 | AT22: 8.5841839 | AU22: 10.8649 | AV22: 6.7838 | AW22: 0 | AX22: 0 | AY22: 6 | AZ22: 0 | BA22: 15.969483 | BB22: 188.37245 | BC22: 9.113211 | BD22: 0 | BE22: 0 | BF22: 0 | BG22: 0 | BH22: 14.5136 | BI22: 0 | BJ22: 0 | BK22: 0 | BL22: 0 | BM22: 0 | BN22: 0 | BO22: 0 | BP22: 0 | BQ22: 7.8919 | BR22: 26.6757 | BS22: 6 | BT22: 19.314066 | BU22: 0 | BV22: 0 | BW22: 0 | BX22: 0 | BY22: 0 | BZ22: 0 | CA22: 8.5271 | CB22: 7.439165 | CC22: 17.771269 | CD22: 14.756724 | CE22: 15.4108 | CF22: 0 | CG22: 20.987752 | CH22: 10.6486 | CI22: 5.8108 | CJ22: 7.4108 | CK22: 0 | CL22: 5.7838 | CM22: 0 | CN22: 0 | CO22: 7.702711 | CP22: 17.1082 | CQ22: 14.7027 | CR22: 7.6216 | CS22: 6.7567 | CT22: 0 | CU22: 0 | CV22: 5 | CW22: 0 | CX22: 26.8919 | CY22: 6 | CZ22: 17.513502 | DA22: 5.810811 | DB22: 96.491988 | DC22: 0
A23: 2025-12 | B23: Akademikere, KL | C23: Civilingeniører | D23: 1053.4365 | E23: 10.3649 | F23: 132.72968 | G23: 5 | H23: 7.8919 | I23: 0 | J23: 9.789071 | K23: 0 | L23: 10.324324 | M23: 0 | N23: 9.3312774 | O23: 0 | P23: 7.7567622 | Q23: 15.9189 | R23: 0 | S23: 0 | T23: 8 | U23: 0 | V23: 5.2432 | W23: 12.216301 | X23: 16.4864 | Y23: 10 | Z23: 7.8649 | AA23: 0 | AB23: 7.8649 | AC23: 13 | AD23: 0 | AE23: 0 | AF23: 0 | AG23: 0 | AH23: 5.5135 | AI23: 6.102932 | AJ23: 0 | AK23: 9.2162 | AL23: 0 | AM23: 16.135102 | AN23: 10.5405 | AO23: 16.6757 | AP23: 0 | AQ23: 11.8919 | AR23: 6 | AS23: 11 | AT23: 10.8108 | AU23: 0 | AV23: 0 | AW23: 0 | AX23: 9 | AY23: 5.9459 | AZ23: 0 | BA23: 11.9189 | BB23: 105.8217 | BC23: 6.973 | BD23: 0 | BE23: 0 | BF23: 0 | BG23: 5 | BH23: 7.7838 | BI23: 0 | BJ23: 13.368008 | BK23: 8 | BL23: 7.8649 | BM23: 6 | BN23: 0 | BO23: 0 | BP23: 0 | BQ23: 0 | BR23: 33.6081 | BS23: 0 | BT23: 18.4866 | BU23: 8.729765 | BV23: 0 | BW23: 0 | BX23: 0 | BY23: 0 | BZ23: 0 | CA23: 11.5812 | CB23: 0 | CC23: 6.4054 | CD23: 7.9460406 | CE23: 0 | CF23: 0 | CG23: 23.648688 | CH23: 10.015514 | CI23: 10.9189 | CJ23: 10 | CK23: 0 | CL23: 0 | CM23: 0 | CN23: 0 | CO23: 8.1326812 | CP23: 6.9786129 | CQ23: 0 | CR23: 6.7568 | CS23: 5 | CT23: 5.3898939 | CU23: 0 | CV23: 0 | CW23: 0 | CX23: 13.7567 | CY23: 15.689201 | CZ23: 13.000002 | DA23: 0 | DB23: 65.745099 | DC23: 0
A24: 2025-12 | B24: Akademikere, KL | C24: Diplomingeniører | D24: 583.17643 | E24: 7.7838 | F24: 8 | G24: 5 | H24: 0 | I24: 6 | J24: 5 | K24: 7.8649 | L24: 0 | M24: 5 | N24: 0 | O24: 0 | P24: 5.4865 | Q24: 14.505789 | R24: 13 | S24: 0 | T24: 12.8648 | U24: 0 | V24: 5 | W24: 0 | X24: 10.5406 | Y24: 0 | Z24: 0 | AA24: 0 | AB24: 0 | AC24: 10.4594 | AD24: 0 | AE24: 6.8326405 | AF24: 7.7114211 | AG24: 0 | AH24: 0 | AI24: 0 | AJ24: 0 | AK24: 0 | AL24: 0 | AM24: 0 | AN24: 0 | AO24: 0 | AP24: 0 | AQ24: 0 | AR24: 18.364887 | AS24: 0 | AT24: 0 | AU24: 0 | AV24: 7.4053828 | AW24: 8.810811 | AX24: 0 | AY24: 0 | AZ24: 5.108108 | BA24: 9.9459 | BB24: 66.553986 | BC24: 0 | BD24: 0 | BE24: 0 | BF24: 0 | BG24: 0 | BH24: 5.8649 | BI24: 0 | BJ24: 0 | BK24: 5 | BL24: 0 | BM24: 0 | BN24: 0 | BO24: 0 | BP24: 0 | BQ24: 0 | BR24: 20.9189 | BS24: 0 | BT24: 6 | BU24: 0 | BV24: 0 | BW24: 0 | BX24: 0 | BY24: 0 | BZ24: 0 | CA24: 5.8919 | CB24: 10.8649 | CC24: 5.8649 | CD24: 0 | CE24: 0 | CF24: 0 | CG24: 16.5406 | CH24: 7.2703 | CI24: 0 | CJ24: 7.1167501 | CK24: 0 | CL24: 0 | CM24: 0 | CN24: 0 | CO24: 8 | CP24: 0 | CQ24: 5 | CR24: 0 | CS24: 5 | CT24: 0 | CU24: 0 | CV24: 6 | CW24: 5 | CX24: 9.891908 | CY24: 0 | CZ24: 10.135102 | DA24: 0 | DB24: 42.274113 | DC24: 0
A25: 2025-12 | B25: Akademikere, KL | C25: Teknikumingeniører | D25: 305.29203 | E25: 0 | F25: 0 | G25: 0 | H25: 0 | I25: 0 | J25: 0 | K25: 0 | L25: 0 | M25: 0 | N25: 0 | O25: 0 | P25: 0 | Q25: 15 | R25: 0 | S25: 0 | T25: 0 | U25: 0 | V25: 0 | W25: 6 | X25: 0 | Y25: 0 | Z25: 0 | AA25: 0 | AB25: 0 | AC25: 0 | AD25: 0 | AE25: 0 | AF25: 0 | AG25: 0 | AH25: 9.4429298 | AI25: 0 | AJ25: 0 | AK25: 0 | AL25: 0 | AM25: 9.0811 | AN25: 0 | AO25: 0 | AP25: 0 | AQ25: 0 | AR25: 0 | AS25: 0 | AT25: 0 | AU25: 0 | AV25: 8.3097766 | AW25: 0 | AX25: 0 | AY25: 0 | AZ25: 0 | BA25: 6.9189 | BB25: 16.5 | BC25: 6.0606269 | BD25: 0 | BE25: 0 | BF25: 0 | BG25: 0 | BH25: 0 | BI25: 0 | BJ25: 0 | BK25: 7 | BL25: 0 | BM25: 0 | BN25: 0 | BO25: 0 | BP25: 0 | BQ25: 0 | BR25: 21.6757 | BS25: 0 | BT25: 5 | BU25: 0 | BV25: 0 | BW25: 0 | BX25: 0 | BY25: 0 | BZ25: 0 | CA25: 0 | CB25: 0 | CC25: 0 | CD25: 0 | CE25: 0 | CF25: 0 | CG25: 9 | CH25: 0 | CI25: 5.946 | CJ25: 0 | CK25: 0 | CL25: 0 | CM25: 0 | CN25: 0 | CO25: 0 | CP25: 0 | CQ25: 0 | CR25: 0 | CS25: 0 | CT25: 0 | CU25: 0 | CV25: 0 | CW25: 0 | CX25: 0 | CY25: 0 | CZ25: 6.9414103 | DA25: 0 | DB25: 32.967814 | DC25: 0
A26: 2025-12 | B26: Bygningskonstruktører | C26: Bygningskonstruktører | D26: 1130.6464 | E26: 14.9392 | F26: 26.053989 | G26: 0 | H26: 8 | I26: 7 | J26: 8 | K26: 9 | L26: 6 | M26: 8.8378 | N26: 6 | O26: 0 | P26: 8 | Q26: 19.968951 | R26: 15.9189 | S26: 0 | T26: 8.7568 | U26: 0 | V26: 7 | W26: 15.8108 | X26: 19.926304 | Y26: 9.8108 | Z26: 5 | AA26: 0 | AB26: 11.216205 | AC26: 5.8 | AD26: 0 | AE26: 8.8649 | AF26: 8 | AG26: 5.9324 | AH26: 10.307238 | AI26: 7.0966937 | AJ26: 12.8514 | AK26: 8 | AL26: 0 | AM26: 20.301596 | AN26: 9.2702321 | AO26: 8 | AP26: 20.892 | AQ26: 8.8649 | AR26: 21.5405 | AS26: 5 | AT26: 10 | AU26: 5.9189 | AV26: 12.8649 | AW26: 0 | AX26: 7.8108 | AY26: 8.7297 | AZ26: 8.9999593 | BA26: 11.0541 | BB26: 106.51349 | BC26: 9.9595 | BD26: 0 | BE26: 5 | BF26: 5 | BG26: 11.486511 | BH26: 11.6757 | BI26: 0 | BJ26: 5.8649 | BK26: 11.297286 | BL26: 5 | BM26: 11.528139 | BN26: 8.9189 | BO26: 11.8649 | BP26: 16.5676 | BQ26: 5.2162 | BR26: 38.990505 | BS26: 9 | BT26: 16 | BU26: 6 | BV26: 0 | BW26: 0 | BX26: 0 | BY26: 0 | BZ26: 0 | CA26: 11 | CB26: 0 | CC26: 13.7838 | CD26: 8.8649 | CE26: 7 | CF26: 0 | CG26: 17.2973 | CH26: 15.5946 | CI26: 9 | CJ26: 11.5405 | CK26: 10 | CL26: 9.0728087 | CM26: 8 | CN26: 8 | CO26: 22.2972 | CP26: 13.6486 | CQ26: 12.948043 | CR26: 10.81081 | CS26: 6.0811 | CT26: 9 | CU26: 0 | CV26: 20.743364 | CW26: 8.8108 | CX26: 24.40544 | CY26: 7 | CZ26: 16.206743 | DA26: 7.6144729 | DB26: 61.885175 | DC26: 0
A27: 2025-12 | B27: Pædagogisk personale i dagplejeordninger | C27: Pædagoger i pladsanvisningen, lukket gr. | D27: 6.5405 | E27: 0 | F27: 0 | G27: 0 | H27: 0 | I27: 0 | J27: 0 | K27: 0 | L27: 0 | M27: 0 | N27: 0 | O27: 0 | P27: 0 | Q27: 0 | R27: 0 | S27: 0 | T27: 0 | U27: 0 | V27: 0 | W27: 0 | X27: 0 | Y27: 0 | Z27: 0 | AA27: 0 | AB27: 0 | AC27: 0 | AD27: 0 | AE27: 0 | AF27: 0 | AG27: 0 | AH27: 0 | AI27: 0 | AJ27: 0 | AK27: 0 | AL27: 0 | AM27: 0 | AN27: 0 | AO27: 0 | AP27: 0 | AQ27: 0 | AR27: 0 | AS27: 0 | AT27: 0 | AU27: 0 | AV27: 0 | AW27: 0 | AX27: 0 | AY27: 0 | AZ27: 0 | BA27: 0 | BB27: 0 | BC27: 0 | BD27: 0 | BE27: 0 | BF27: 0 | BG27: 0 | BH27: 0 | BI27: 0 | BJ27: 0 | BK27: 0 | BL27: 0 | BM27: 0 | BN27: 0 | BO27: 0 | BP27: 0 | BQ27: 0 | BR27: 0 | BS27: 0 | BT27: 0 | BU27: 0 | BV27: 0 | BW27: 0 | BX27: 0 | BY27: 0 | BZ27: 0 | CA27: 0 | CB27: 0 | CC27: 0 | CD27: 0 | CE27: 0 | CF27: 0 | CG27: 0 | CH27: 0 | CI27: 0 | CJ27: 0 | CK27: 0 | CL27: 0 | CM27: 0 | CN27: 0 | CO27: 0 | CP27: 0 | CQ27: 0 | CR27: 0 | CS27: 0 | CT27: 0 | CU27: 0 | CV27: 0 | CW27: 0 | CX27: 0 | CY27: 0 | CZ27: 0 | DA27: 0 | DB27: 0 | DC27: 0
A28: 2025-12 | B28: Pædagogiske konsulenter | C28: Pædagogiske konsulenter | D28: 219.88206 | E28: 0 | F28: 10 | G28: 0 | H28: 0 | I28: 0 | J28: 0 | K28: 0 | L28: 0 | M28: 0 | N28: 0 | O28: 0 | P28: 0 | Q28: 5.0873362 | R28: 0 | S28: 0 | T28: 0 | U28: 0 | V28: 0 | W28: 0 | X28: 7.7298 | Y28: 0 | Z28: 0 | AA28: 0 | AB28: 0 | AC28: 0 | AD28: 0 | AE28: 0 | AF28: 0 | AG28: 0 | AH28: 0 | AI28: 0 | AJ28: 0 | AK28: 0 | AL28: 0 | AM28: 0 | AN28: 0 | AO28: 0 | AP28: 0 | AQ28: 0 | AR28: 0 | AS28: 0 | AT28: 9.8378 | AU28: 0 | AV28: 0 | AW28: 0 | AX28: 0 | AY28: 0 | AZ28: 0 | BA28: 0 | BB28: 49.135164 | BC28: 0 | BD28: 0 | BE28: 0 | BF28: 0 | BG28: 0 | BH28: 0 | BI28: 0 | BJ28: 0 | BK28: 0 | BL28: 0 | BM28: 0 | BN28: 0 | BO28: 0 | BP28: 0 | BQ28: 0 | BR28: 0 | BS28: 0 | BT28: 0 | BU28: 0 | BV28: 0 | BW28: 0 | BX28: 0 | BY28: 0 | BZ28: 0 | CA28: 0 | CB28: 0 | CC28: 0 | CD28: 0 | CE28: 0 | CF28: 0 | CG28: 0 | CH28: 0 | CI28: 0 | CJ28: 0 | CK28: 0 | CL28: 0 | CM28: 0 | CN28: 0 | CO28: 0 | CP28: 0 | CQ28: 0 | CR28: 0 | CS28: 0 | CT28: 0 | CU28: 0 | CV28: 0 | CW28: 0 | CX28: 5 | CY28: 0 | CZ28: 0 | DA28: 0 | DB28: 6.9999872 | DC28: 0
A29: 2025-12 | B29: Socialrådg./socialformidlere, KL | C29: Jobkonsulent/vejleder ved UU | D29: 445.11891 | E29: 0 | F29: 77.149746 | G29: 0 | H29: 0 | I29: 0 | J29: 0 | K29: 0 | L29: 0 | M29: 0 | N29: 0 | O29: 0 | P29: 0 | Q29: 0 | R29: 0 | S29: 0 | T29: 0 | U29: 0 | V29: 0 | W29: 0 | X29: 0 | Y29: 24.345946 | Z29: 0 | AA29: 0 | AB29: 0 | AC29: 0 | AD29: 0 | AE29: 0 | AF29: 0 | AG29: 20.141881 | AH29: 0 | AI29: 0 | AJ29: 0 | AK29: 0 | AL29: 0 | AM29: 0 | AN29: 0 | AO29: 0 | AP29: 0 | AQ29: 0 | AR29: 0 | AS29: 0 | AT29: 0 | AU29: 0 | AV29: 0 | AW29: 0 | AX29: 0 | AY29: 0 | AZ29: 0 | BA29: 0 | BB29: 0 | BC29: 0 | BD29: 0 | BE29: 0 | BF29: 0 | BG29: 0 | BH29: 0 | BI29: 0 | BJ29: 0 | BK29: 0 | BL29: 0 | BM29: 0 | BN29: 14.2703 | BO29: 0 | BP29: 0 | BQ29: 0 | BR29: 39.357913 | BS29: 0 | BT29: 0 | BU29: 0 | BV29: 0 | BW29: 0 | BX29: 0 | BY29: 0 | BZ29: 0 | CA29: 0 | CB29: 0 | CC29: 0 | CD29: 0 | CE29: 0 | CF29: 0 | CG29: 46.624539 | CH29: 0 | CI29: 0 | CJ29: 0 | CK29: 0 | CL29: 0 | CM29: 0 | CN29: 0 | CO29: 0 | CP29: 0 | CQ29: 0 | CR29: 0 | CS29: 0 | CT29: 0 | CU29: 0 | CV29: 33.59456 | CW29: 0 | CX29: 0 | CY29: 0 | CZ29: 0 | DA29: 0 | DB29: 138.34852 | DC29: 0
A30: 2025-12 | B30: Socialrådg./socialformidlere, KL | C30: Socialformidlere | D30: 889.17143 | E30: 6.7568 | F30: 36.227449 | G30: 7.4054054 | H30: 0 | I30: 0 | J30: 11.973 | K30: 0 | L30: 8.4865 | M30: 5 | N30: 0 | O30: 0 | P30: 8.7568 | Q30: 5.0155954 | R30: 0 | S30: 0 | T30: 0 | U30: 7.270265 | V30: 5 | W30: 6.7027 | X30: 0 | Y30: 7 | Z30: 13.6216 | AA30: 0 | AB30: 0 | AC30: 9.7838 | AD30: 0 | AE30: 12.756792 | AF30: 18.663215 | AG30: 11.486487 | AH30: 11.850828 | AI30: 14.766738 | AJ30: 0 | AK30: 6.7431 | AL30: 6.5135 | AM30: 0 | AN30: 7.4283023 | AO30: 11.999975 | AP30: 25.513538 | AQ30: 0 | AR30: 15.087887 | AS30: 13.455353 | AT30: 6.6453836 | AU30: 5.7838 | AV30: 0 | AW30: 0 | AX30: 0 | AY30: 15.311915 | AZ30: 0 | BA30: 14.999975 | BB30: 79.436396 | BC30: 12.243244 | BD30: 0 | BE30: 7 | BF30: 0 | BG30: 12.5405 | BH30: 7.4865003 | BI30: 0 | BJ30: 0 | BK30: 6.9999841 | BL30: 8.3176184 | BM30: 0 | BN30: 0 | BO30: 0 | BP30: 17.87216 | BQ30: 0 | BR30: 10.918881 | BS30: 11.405379 | BT30: 34.189103 | BU30: 0 | BV30: 0 | BW30: 0 | BX30: 0 | BY30: 0 | BZ30: 0 | CA30: 0 | CB30: 5.4054054 | CC30: 20.40549 | CD30: 6 | CE30: 11.405441 | CF30: 0 | CG30: 19.675592 | CH30: 0 | CI30: 6.7567 | CJ30: 29.392915 | CK30: 8.1351 | CL30: 7.5270082 | CM30: 0 | CN30: 0 | CO30: 8.8919 | CP30: 7.2027 | CQ30: 0 | CR30: 16.4865 | CS30: 14.6351 | CT30: 0 | CU30: 0 | CV30: 0 | CW30: 0 | CX30: 15.101367 | CY30: 13.8108 | CZ30: 15.7433 | DA30: 10.000025 | DB30: 39.999868 | DC30: 0
... A33: 2025-12 | B33: TL, byggeri, miljø, energi og kultur, KL | C33: Tekniske designere | D33: 253.99349 | E33: 0 | F33: 13.499944 | G33: 0 | H33: 0 | I33: 0 | J33: 0 | K33: 0 | L33: 0 | M33: 0 | N33: 0 | O33: 0 | P33: 0 | Q33: 7.3960356 | R33: 0 | S33: 0 | T33: 0 | U33: 0 | V33: 0 | W33: 0 | X33: 0 | Y33: 0 | Z33: 0 | AA33: 0 | AB33: 0 | AC33: 0 | AD33: 0 | AE33: 0 | AF33: 0 | AG33: 0 | AH33: 0 | AI33: 0 | AJ33: 0 | AK33: 0 | AL33: 0 | AM33: 10.729683 | AN33: 0 | AO33: 0 | AP33: 0 | AQ33: 5.4324 | AR33: 6.6009383 | AS33: 0 | AT33: 0 | AU33: 0 | AV33: 0 | AW33: 0 | AX33: 0 | AY33: 0 | AZ33: 0 | BA33: 5.648563 | BB33: 12 | BC33: 0 | BD33: 0 | BE33: 5.0686152 | BF33: 0 | BG33: 0 | BH33: 0 | BI33: 0 | BJ33: 0 | BK33: 0 | BL33: 0 | BM33: 0 | BN33: 0 | BO33: 0 | BP33: 0 | BQ33: 0 | BR33: 12.4594 | BS33: 0 | BT33: 5.864883 | BU33: 0 | BV33: 0 | BW33: 0 | BX33: 0 | BY33: 0 | BZ33: 0 | CA33: 0 | CB33: 0 | CC33: 0 | CD33: 0 | CE33: 0 | CF33: 0 | CG33: 0 | CH33: 0 | CI33: 5.4865 | CJ33: 5.405405 | CK33: 0 | CL33: 0 | CM33: 0 | CN33: 0 | CO33: 9.7026 | CP33: 0 | CQ33: 6 | CR33: 0 | CS33: 0 | CT33: 0 | CU33: 0 | CV33: 0 | CW33: 0 | CX33: 7.8649 | CY33: 0 | CZ33: 9.702783 | DA33: 0 | DB33: 8.9593622 | DC33: 0
D34: =SUM(D19:D33) -> 22946.184 | E34: =SUM(E19:E33) -> 169.24449 | F34: =SUM(F19:F33) -> 1109.1476 | G34: =SUM(G19:G33) -> 108.68244 | H34: =SUM(H19:H33) -> 61.162198 | I34: =SUM(I19:I33) -> 151.59652 | J34: =SUM(J19:J33) -> 207.6577 | K34: =SUM(K19:K33) -> 102.10772 | ... DC34: =SUM(DC19:DC33) -> 10.919
A36: Beskrivelse
A37: Kommunernes og Regionernes Løndatakontor
A38: SIRKA
A39: Datasæt 12 2025
A40: Kørsel 18.5.2026 10.01.26
A42: Gruppe: Myndighedspersonale
A44: Undergrænse: 5
A46: Stillinger | B46: 054 Speciallægekonsulenter
B47: 081 Pædagogiske konsulenter
B48: 183 Bygningskonstruktører
B49: 246 Tandlægekonsulenter
B50: 01612 Pædagoger i pladsanvisningen, lukket gr.
B51: 04208 Arkitekter
B52: 04209 Akademiingeniører
B53: 04211 Teknikumingeniører
B54: 04216 Civilingeniører
B55: 04218 Diplomingeniører
B56: 09101 Socialrådgivere
B57: 09108 Socialformidlere
B58: 09130 Souschefer ved forsorgshjem./krisecentre
... B63: 30647 Socialformidlere, Frb+Gentofte
A65: Forhandlingsområde | B65: Kommuner

Sheet Decentraleledere_raa
A1: Antal ansatte - dec 2025
A2: Måned | B2: Overenskomstområde | C2: Stilling | D2: Udvalgte population | E2: Aabenraa | F2: Aalborg | G2: Albertslund | H2: Allerød | I2: Assens | J2: Ballerup | K2: Billund | L2: Bornholm | M2: Brøndby | N2: Brønderslev | O2: Dragør | P2: Egedal | Q2: Esbjerg | R2: Faaborg-Midtfyn | S2: Fanø | T2: Favrskov | U2: Faxe | V2: Fredensborg | W2: Fredericia | X2: Frederiksberg | Y2: Frederikshavn | Z2: Frederikssund | AA2: Furesø | AB2: Gentofte | AC2: Gladsaxe | AD2: Glostrup | AE2: Greve | AF2: Gribskov | AG2: Guldborgsund | AH2: Haderslev | AI2: Halsnæs | AJ2: Hedensted | AK2: Helsingør | AL2: Herlev | AM2: Herning | AN2: Hillerød | AO2: Hjørring | AP2: Holbæk | AQ2: Holstebro | AR2: Horsens | AS2: Hvidovre | AT2: Høje-Taastrup | AU2: Hørsholm | AV2: Ikast-Brande | AW2: Ishøj | AX2: Jammerbugt | AY2: Kalundborg | AZ2: Kerteminde | BA2: Kolding | BB2: København | BC2: Køge | BD2: Langeland | BE2: Lejre | BF2: Lemvig | BG2: Lolland | BH2: Lyngby-Taarbæk | BI2: Læsø | BJ2: Mariagerfjord | BK2: Middelfart | BL2: Morsø | BM2: Norddjurs | BN2: Nordfyn | BO2: Nyborg | BP2: Næstved | BQ2: Odder | BR2: Odense | BS2: Odsherred | BT2: Randers | BU2: Rebild | BV2: Region Hovedstaden | BW2: Region Midtjylland | BX2: Region Nordjylland | BY2: Region Sjælland | BZ2: Region Syddanmark | CA2: Ringkøbing-Skjern | CB2: Ringsted | CC2: Roskilde | CD2: Rudersdal | CE2: Rødovre | CF2: Samsø | CG2: Silkeborg | CH2: Skanderborg | CI2: Skive | CJ2: Slagelse | CK2: Solrød | CL2: Sorø | CM2: Stevns | CN2: Struer | CO2: Svendborg | CP2: Syddjurs | CQ2: Sønderborg | CR2: Thisted | CS2: Tårnby | CT2: Tønder | CU2: Vallensbæk | CV2: Varde | CW2: Vejen | CX2: Vejle | CY2: Vesthimmerland | CZ2: Viborg | DA2: Vordingborg | DB2: Århus | DC2: Ærø
A3: 2024-12 | B3: Administration og it mv., KL | C3: Ledere ved forsorgshjem/krisecentre | D3: 6 | E3: 0 | F3: 0 | G3: 0 | H3: 0 | I3: 0 | J3: 0 | K3: 0 | L3: 0 | M3: 0 | N3: 0 | O3: 0 | P3: 0 | Q3: 0 | R3: 0 | S3: 0 | T3: 0 | U3: 0 | V3: 0 | W3: 0 | X3: 0 | Y3: 0 | Z3: 0 | AA3: 0 | AB3: 0 | AC3: 0 | AD3: 0 | AE3: 0 | AF3: 0 | AG3: 0 | AH3: 0 | AI3: 0 | AJ3: 0 | AK3: 0 | AL3: 0 | AM3: 0 | AN3: 0 | AO3: 0 | AP3: 0 | AQ3: 0 | AR3: 0 | AS3: 0 | AT3: 0 | AU3: 0 | AV3: 0 | AW3: 0 | AX3: 0 | AY3: 0 | AZ3: 0 | BA3: 0 | BB3: 0 | BC3: 0 | BD3: 0 | BE3: 0 | BF3: 0 | BG3: 0 | BH3: 0 | BI3: 0 | BJ3: 0 | BK3: 0 | BL3: 0 | BM3: 0 | BN3: 0 | BO3: 0 | BP3: 0 | BQ3: 0 | BR3: 0 | BS3: 0 | BT3: 0 | BU3: 0 | BV3: 0 | BW3: 0 | BX3: 0 | BY3: 0 | BZ3: 0 | CA3: 0 | CB3: 0 | CC3: 0 | CD3: 0 | CE3: 0 | CF3: 0 | CG3: 0 | CH3: 0 | CI3: 0 | CJ3: 0 | CK3: 0 | CL3: 0 | CM3: 0 | CN3: 0 | CO3: 0 | CP3: 0 | CQ3: 0 | CR3: 0 | CS3: 0 | CT3: 0 | CU3: 0 | CV3: 0 | CW3: 0 | CX3: 0 | CY3: 0 | CZ3: 0 | DA3: 0 | DB3: 0 | DC3: 0
A4: 2024-12 | B4: Akademikere, KL | C4: Ledende psykologer | D4: 17 | E4: 0 | F4: 0 | G4: 0 | H4: 0 | I4: 0 | J4: 0 | K4: 0 | L4: 0 | M4: 0 | N4: 0 | O4: 0 | P4: 0 | Q4: 0 | R4: 0 | S4: 0 | T4: 0 | U4: 0 | V4: 0 | W4: 0 | X4: 0 | Y4: 0 | Z4: 0 | AA4: 0 | AB4: 0 | AC4: 0 | AD4: 0 | AE4: 0 | AF4: 0 | AG4: 0 | AH4: 0 | AI4: 0 | AJ4: 0 | AK4: 0 | AL4: 0 | AM4: 0 | AN4: 0 | AO4: 0 | AP4: 0 | AQ4: 0 | AR4: 0 | AS4: 0 | AT4: 0 | AU4: 0 | AV4: 0 | AW4: 0 | AX4: 0 | AY4: 0 | AZ4: 0 | BA4: 0 | BB4: 0 | BC4: 0 | BD4: 0 | BE4: 0 | BF4: 0 | BG4: 0 | BH4: 0 | BI4: 0 | BJ4: 0 | BK4: 0 | BL4: 0 | BM4: 0 | BN4: 0 | BO4: 0 | BP4: 0 | BQ4: 0 | BR4: 0 | BS4: 0 | BT4: 0 | BU4: 0 | BV4: 0 | BW4: 0 | BX4: 0 | BY4: 0 | BZ4: 0 | CA4: 0 | CB4: 0 | CC4: 0 | CD4: 0 | CE4: 0 | CF4: 0 | CG4: 0 | CH4: 0 | CI4: 0 | CJ4: 0 | CK4: 0 | CL4: 0 | CM4: 0 | CN4: 0 | CO4: 0 | CP4: 0 | CQ4: 0 | CR4: 0 | CS4: 0 | CT4: 0 | CU4: 0 | CV4: 0 | CW4: 0 | CX4: 0 | CY4: 0 | CZ4: 0 | DA4: 0 | DB4: 0 | DC4: 0
A5: 2024-12 | B5: Beredskabspers. i chef-& lederstillinger | C5: Beredskabschefer | D5: 17 | E5: 0 | F5: 0 | G5: 0 | H5: 0 | I5: 0 | J5: 0 | K5: 0 | L5: 0 | M5: 0 | N5: 0 | O5: 0 | P5: 0 | Q5: 0 | R5: 0 | S5: 0 | T5: 0 | U5: 0 | V5: 0 | W5: 0 | X5: 0 | Y5: 0 | Z5: 0 | AA5: 0 | AB5: 0 | AC5: 0 | AD5: 0 | AE5: 0 | AF5: 0 | AG5: 0 | AH5: 0 | AI5: 0 | AJ5: 0 | AK5: 0 | AL5: 0 | AM5: 0 | AN5: 0 | AO5: 0 | AP5: 0 | AQ5: 0 | AR5: 0 | AS5: 0 | AT5: 0 | AU5: 0 | AV5: 0 | AW5: 0 | AX5: 0 | AY5: 0 | AZ5: 0 | BA5: 0 | BB5: 0 | BC5: 0 | BD5: 0 | BE5: 0 | BF5: 0 | BG5: 0 | BH5: 0 | BI5: 0 | BJ5: 0 | BK5: 0 | BL5: 0 | BM5: 0 | BN5: 0 | BO5: 0 | BP5: 0 | BQ5: 0 | BR5: 0 | BS5: 0 | BT5: 0 | BU5: 0 | BV5: 0 | BW5: 0 | BX5: 0 | BY5: 0 | BZ5: 0 | CA5: 0 | CB5: 0 | CC5: 0 | CD5: 0 | CE5: 0 | CF5: 0 | CG5: 0 | CH5: 0 | CI5: 0 | CJ5: 0 | CK5: 0 | CL5: 0 | CM5: 0 | CN5: 0 | CO5: 0 | CP5: 0 | CQ5: 0 | CR5: 0 | CS5: 0 | CT5: 0 | CU5: 0 | CV5: 0 | CW5: 0 | CX5: 0 | CY5: 0 | CZ5: 0 | DA5: 0 | DB5: 0 | DC5: 0
A6: 2024-12 | B6: Beredskabspers. i chef-& lederstillinger | C6: Beredskabsinspektører | D6: 248.7688 | E6: 0 | F6: 0 | G6: 0 | H6: 0 | I6: 0 | J6: 0 | K6: 0 | L6: 0 | M6: 0 | N6: 0 | O6: 0 | P6: 0 | Q6: 0 | R6: 0 | S6: 0 | T6: 0 | U6: 0 | V6: 0 | W6: 0 | X6: 0 | Y6: 0 | Z6: 0 | AA6: 0 | AB6: 0 | AC6: 0 | AD6: 0 | AE6: 0 | AF6: 0 | AG6: 0 | AH6: 0 | AI6: 0 | AJ6: 0 | AK6: 0 | AL6: 0 | AM6: 0 | AN6: 0 | AO6: 0 | AP6: 0 | AQ6: 0 | AR6: 0 | AS6: 0 | AT6: 0 | AU6: 0 | AV6: 0 | AW6: 0 | AX6: 0 | AY6: 0 | AZ6: 0 | BA6: 0 | BB6: 0 | BC6: 5.1081 | BD6: 0 | BE6: 0 | BF6: 0 | BG6: 0 | BH6: 0 | BI6: 0 | BJ6: 0 | BK6: 0 | BL6: 0 | BM6: 0 | BN6: 0 | BO6: 0 | BP6: 0 | BQ6: 0 | BR6: 0 | BS6: 0 | BT6: 0 | BU6: 0 | BV6: 0 | BW6: 0 | BX6: 0 | BY6: 0 | BZ6: 0 | CA6: 0 | CB6: 0 | CC6: 5.2973 | CD6: 0 | CE6: 0 | CF6: 0 | CG6: 0 | CH6: 0 | CI6: 0 | CJ6: 7 | CK6: 0 | CL6: 0 | CM6: 0 | CN6: 0 | CO6: 0 | CP6: 0 | CQ6: 0 | CR6: 0 | CS6: 0 | CT6: 0 | CU6: 0 | CV6: 0 | CW6: 0 | CX6: 0 | CY6: 0 | CZ6: 0 | DA6: 0 | DB6: 0 | DC6: 0
A7: 2024-12 | B7: Beredskabspers. i chef-& lederstillinger | C7: Viceberedskabschefer | D7: 23.087338 | E7: 0 | F7: 0 | G7: 0 | H7: 0 | I7: 0 | J7: 0 | K7: 0 | L7: 0 | M7: 0 | N7: 0 | O7: 0 | P7: 0 | Q7: 0 | R7: 0 | S7: 0 | T7: 0 | U7: 0 | V7: 0 | W7: 0 | X7: 0 | Y7: 0 | Z7: 0 | AA7: 0 | AB7: 0 | AC7: 0 | AD7: 0 | AE7: 0 | AF7: 0 | AG7: 0 | AH7: 0 | AI7: 0 | AJ7: 0 | AK7: 0 | AL7: 0 | AM7: 0 | AN7: 0 | AO7: 0 | AP7: 0 | AQ7: 0 | AR7: 0 | AS7: 0 | AT7: 0 | AU7: 0 | AV7: 0 | AW7: 0 | AX7: 0 | AY7: 0 | AZ7: 0 | BA7: 0 | BB7: 0 | BC7: 0 | BD7: 0 | BE7: 0 | BF7: 0 | BG7: 0 | BH7: 0 | BI7: 0 | BJ7: 0 | BK7: 0 | BL7: 0 | BM7: 0 | BN7: 0 | BO7: 0 | BP7: 0 | BQ7: 0 | BR7: 0 | BS7: 0 | BT7: 0 | BU7: 0 | BV7: 0 | BW7: 0 | BX7: 0 | BY7: 0 | BZ7: 0 | CA7: 0 | CB7: 0 | CC7: 0 | CD7: 0 | CE7: 0 | CF7: 0 | CG7: 0 | CH7: 0 | CI7: 0 | CJ7: 0 | CK7: 0 | CL7: 0 | CM7: 0 | CN7: 0 | CO7: 0 | CP7: 0 | CQ7: 0 | CR7: 0 | CS7: 0 | CT7: 0 | CU7: 0 | CV7: 0 | CW7: 0 | CX7: 0 | CY7: 0 | CZ7: 0 | DA7: 0 | DB7: 0 | DC7: 0
A8: 2024-12 | B8: Beredskabspers. i chef-& lederstillinger | C8: Viceberedskabsinspektører | D8: 95.978813 | E8: 0 | F8: 0 | G8: 0 | H8: 0 | I8: 0 | J8: 0 | K8: 0 | L8: 0 | M8: 0 | N8: 0 | O8: 0 | P8: 0 | Q8: 0 | R8: 0 | S8: 0 | T8: 0 | U8: 0 | V8: 0 | W8: 0 | X8: 0 | Y8: 0 | Z8: 0 | AA8: 0 | AB8: 0 | AC8: 0 | AD8: 0 | AE8: 0 | AF8: 0 | AG8: 0 | AH8: 0 | AI8: 0 | AJ8: 0 | AK8: 5 | AL8: 0 | AM8: 0 | AN8: 0 | AO8: 0 | AP8: 0 | AQ8: 0 | AR8: 0 | AS8: 0 | AT8: 0 | AU8: 0 | AV8: 0 | AW8: 0 | AX8: 0 | AY8: 0 | AZ8: 0 | BA8: 0 | BB8: 0 | BC8: 0 | BD8: 0 | BE8: 0 | BF8: 0 | BG8: 0 | BH8: 0 | BI8: 0 | BJ8: 0 | BK8: 0 | BL8: 0 | BM8: 0 | BN8: 0 | BO8: 0 | BP8: 0 | BQ8: 0 | BR8: 0 | BS8: 0 | BT8: 0 | BU8: 0 | BV8: 0 | BW8: 0 | BX8: 0 | BY8: 0 | BZ8: 0 | CA8: 0 | CB8: 0 | CC8: 0 | CD8: 0 | CE8: 0 | CF8: 0 | CG8: 0 | CH8: 0 | CI8: 0 | CJ8: 0 | CK8: 0 | CL8: 0 | CM8: 0 | CN8: 0 | CO8: 0 | CP8: 0 | CQ8: 0 | CR8: 0 | CS8: 0 | CT8: 0 | CU8: 0 | CV8: 0 | CW8: 0 | CX8: 0 | CY8: 0 | CZ8: 0 | DA8: 0 | DB8: 0 | DC8: 0
A9: 2024-12 | B9: Ergo- Fysio- og Jordemødre, ledere KL | C9: Ledende ergoterapeuter | D9: 356.2162 | E9: 5 | F9: 9 | G9: 0 | H9: 0 | I9: 0 | J9: 0 | K9: 0 | L9: 0 | M9: 0 | N9: 0 | O9: 0 | P9: 0 | Q9: 5 | R9: 0 | S9: 0 | T9: 5 | U9: 0 | V9: 0 | W9: 0 | X9: 5 | Y9: 0 | Z9: 0 | AA9: 0 | AB9: 0 | AC9: 7 | AD9: 0 | AE9: 0 | AF9: 0 | AG9: 0 | AH9: 0 | AI9: 0 | AJ9: 0 | AK9: 0 | AL9: 0 | AM9: 12 | AN9: 0 | AO9: 9 | AP9: 0 | AQ9: 5 | AR9: 6 | AS9: 0 | AT9: 0 | AU9: 0 | AV9: 0 | AW9: 0 | AX9: 0 | AY9: 0 | AZ9: 0 | BA9: 7 | BB9: 36.8108 | BC9: 0 | BD9: 0 | BE9: 0 | BF9: 0 | BG9: 0 | BH9: 0 | BI9: 0 | BJ9: 0 | BK9: 6 | BL9: 0 | BM9: 0 | BN9: 7 | BO9: 0 | BP9: 6 | BQ9: 0 | BR9: 16 | BS9: 0 | BT9: 9 | BU9: 0 | BV9: 0 | BW9: 0 | BX9: 0 | BY9: 0 | BZ9: 0 | CA9: 7 | CB9: 0 | CC9: 5 | CD9: 6 | CE9: 0 | CF9: 0 | CG9: 5 | CH9: 0 | CI9: 0 | CJ9: 0 | CK9: 0 | CL9: 0 | CM9: 0 | CN9: 0 | CO9: 0 | CP9: 0 | CQ9: 0 | CR9: 0 | CS9: 0 | CT9: 0 | CU9: 0 | CV9: 6 | CW9: 0 | CX9: 0 | CY9: 0 | CZ9: 11 | DA9: 0 | DB9: 21 | DC9: 0
A10: 2024-12 | B10: Ergo- Fysio- og Jordemødre, ledere KL | C10: Ledende fysioterapeuter | D10: 327.70278 | E10: 0 | F10: 12 | G10: 0 | H10: 0 | I10: 0 | J10: 0 | K10: 0 | L10: 0 | M10: 0 | N10: 0 | O10: 0 | P10: 0 | Q10: 7 | R10: 0 | S10: 0 | T10: 0 | U10: 0 | V10: 0 | W10: 0 | X10: 0 | Y10: 0 | Z10: 0 | AA10: 0 | AB10: 0 | AC10: 5 | AD10: 0 | AE10: 0 | AF10: 0 | AG10: 0 | AH10: 0 | AI10: 0 | AJ10: 0 | AK10: 0 | AL10: 0 | AM10: 5 | AN10: 0 | AO10: 0 | AP10: 5 | AQ10: 0 | AR10: 7.8108 | AS10: 0 | AT10: 0 | AU10: 0 | AV10: 0 | AW10: 0 | AX10: 0 | AY10: 0 | AZ10: 0 | BA10: 0 | BB10: 36.675676 | BC10: 0 | BD10: 0 | BE10: 0 | BF10: 0 | BG10: 0 | BH10: 0 | BI10: 0 | BJ10: 0 | BK10: 0 | BL10: 0 | BM10: 0 | BN10: 0 | BO10: 0 | BP10: 0 | BQ10: 0 | BR10: 15 | BS10: 0 | BT10: 7.6757 | BU10: 0 | BV10: 0 | BW10: 0 | BX10: 0 | BY10: 0 | BZ10: 0 | CA10: 0 | CB10: 0 | CC10: 0 | CD10: 6 | CE10: 0 | CF10: 0 | CG10: 0 | CH10: 0 | CI10: 0 | CJ10: 0 | CK10: 0 | CL10: 0 | CM10: 0 | CN10: 0 | CO10: 0 | CP10: 0 | CQ10: 0 | CR10: 0 | CS10: 0 | CT10: 0 | CU10: 0 | CV10: 5 | CW10: 5 | CX10: 0 | CY10: 0 | CZ10: 8 | DA10: 0 | DB10: 34 | DC10: 0
A11: 2024-12 | B11: Kantineledere/rengøringsledere/-chefer | C11: Kantineledere | D11: 108.71973 | E11: 0 | F11: 0 | G11: 0 | H11: 0 | I11: 0 | J11: 0 | K11: 0 | L11: 0 | M11: 0 | N11: 0 | O11: 0 | P11: 0 | Q11: 0 | R11: 0 | S11: 0 | T11: 0 | U11: 0 | V11: 0 | W11: 0 | X11: 0 | Y11: 0 | Z11: 0 | AA11: 0 | AB11: 0 | AC11: 0 | AD11: 0 | AE11: 0 | AF11: 0 | AG11: 0 | AH11: 0 | AI11: 0 | AJ11: 0 | AK11: 0 | AL11: 0 | AM11: 0 | AN11: 0 | AO11: 0 | AP11: 0 | AQ11: 0 | AR11: 0 | AS11: 0 | AT11: 0 | AU11: 0 | AV11: 0 | AW11: 0 | AX11: 0 | AY11: 0 | AZ11: 0 | BA11: 0 | BB11: 0 | BC11: 0 | BD11: 0 | BE11: 0 | BF11: 0 | BG11: 0 | BH11: 0 | BI11: 0 | BJ11: 0 | BK11: 0 | BL11: 0 | BM11: 0 | BN11: 0 | BO11: 0 | BP11: 0 | BQ11: 0 | BR11: 0 | BS11: 0 | BT11: 0 | BU11: 0 | BV11: 0 | BW11: 0 | BX11: 0 | BY11: 0 | BZ11: 0 | CA11: 0 | CB11: 0 | CC11: 13.946185 | CD11: 0 | CE11: 0 | CF11: 0 | CG11: 0 | CH11: 0 | CI11: 0 | CJ11: 0 | CK11: 0 | CL11: 0 | CM11: 0 | CN11: 0 | CO11: 0 | CP11: 0 | CQ11: 0 | CR11: 0 | CS11: 0 | CT11: 0 | CU11: 0 | CV11: 0 | CW11: 0 | CX11: 0 | CY11: 0 | CZ11: 0 | DA11: 0 | DB11: 19.9735 | DC11: 0
A12: 2024-12 | B12: Kantineledere/rengøringsledere/-chefer | C12: Rengøringsledere/-chefer | D12: 161.61361 | E12: 0 | F12: 0 | G12: 0 | H12: 0 | I12: 0 | J12: 0 | K12: 0 | L12: 0 | M12: 0 | N12: 0 | O12: 0 | P12: 0 | Q12: 5 | R12: 0 | S12: 0 | T12: 0 | U12: 0 | V12: 0 | W12: 0 | X12: 0 | Y12: 0 | Z12: 0 | AA12: 0 | AB12: 0 | AC12: 5 | AD12: 0 | AE12: 0 | AF12: 0 | AG12: 0 | AH12: 0 | AI12: 0 | AJ12: 0 | AK12: 0 | AL12: 0 | AM12: 0 | AN12: 0 | AO12: 0 | AP12: 0 | AQ12: 0 | AR12: 5 | AS12: 5 | AT12: 0 | AU12: 0 | AV12: 0 | AW12: 0 | AX12: 0 | AY12: 5 | AZ12: 0 | BA12: 5.8108 | BB12: 37.831619 | BC12: 0 | BD12: 0 | BE12: 0 | BF12: 0 | BG12: 0 | BH12: 0 | BI12: 0 | BJ12: 0 | BK12: 0 | BL12: 0 | BM12: 0 | BN12: 0 | BO12: 0 | BP12: 0 | BQ12: 0 | BR12: 9 | BS12: 0 | BT12: 0 | BU12: 0 | BV12: 0 | BW12: 0 | BX12: 0 | BY12: 0 | BZ12: 0 | CA12: 0 | CB12: 0 | CC12: 0 | CD12: 0 | CE12: 0 | CF12: 0 | CG12: 7 | CH12: 0 | CI12: 0 | CJ12: 0 | CK12: 0 | CL12: 0 | CM12: 0 | CN12: 0 | CO12: 0 | CP12: 0 | CQ12: 0 | CR12: 0 | CS12: 0 | CT12: 0 | CU12: 0 | CV12: 0 | CW12: 0 | CX12: 0 | CY12: 0 | CZ12: 0 | DA12: 0 | DB12: 5 | DC12: 0
A13: 2024-12 | B13: Laboratorie- og miljøpersonale, KL | C13: Specialister Mellemledere og Ledere | D13: 169.64164 | E13: 0 | F13: 9.4593928 | G13: 0 | H13: 0 | I13: 0 | J13: 0 | K13: 0 | L13: 0 | M13: 0 | N13: 5.2214675 | O13: 0 | P13: 0 | Q13: 5.8649 | R13: 0 | S13: 0 | T13: 0 | U13: 0 | V13: 0 | W13: 0 | X13: 0 | Y13: 0 | Z13: 0 | AA13: 0 | AB13: 0 | AC13: 0 | AD13: 0 | AE13: 0 | AF13: 0 | AG13: 0 | AH13: 5.6486008 | AI13: 0 | AJ13: 0 | AK13: 0 | AL13: 0 | AM13: 0 | AN13: 0 | AO13: 0 | AP13: 0 | AQ13: 0 | AR13: 0 | AS13: 0 | AT13: 0 | AU13: 0 | AV13: 0 | AW13: 0 | AX13: 5.9730081 | AY13: 0 | AZ13: 0 | BA13: 0 | BB13: 0 | BC13: 0 | BD13: 0 | BE13: 0 | BF13: 0 | BG13: 0 | BH13: 0 | BI13: 0 | BJ13: 0 | BK13: 0 | BL13: 0 | BM13: 0 | BN13: 0 | BO13: 0 | BP13: 6 | BQ13: 0 | BR13: 0 | BS13: 0 | BT13: 0 | BU13: 0 | BV13: 0 | BW13: 0 | BX13: 0 | BY13: 0 | BZ13: 0 | CA13: 6.5946 | CB13: 0 | CC13: 0 | CD13: 0 | CE13: 0 | CF13: 0 | CG13: 0 | CH13: 0 | CI13: 0 | CJ13: 0 | CK13: 0 | CL13: 0 | CM13: 0 | CN13: 0 | CO13: 0 | CP13: 0 | CQ13: 0 | CR13: 0 | CS13: 0 | CT13: 6.8108 | CU13: 0 | CV13: 0 | CW13: 0 | CX13: 9 | CY13: 0 | CZ13: 6 | DA13: 0 | DB13: 0 | DC13: 0
A14: 2024-12 | B14: Ledere m.fl., undervisningsområdet | C14: Afdelingsledere, folkeskolen | D14: 957.24464 | E14: 0 | F14: 79.230486 | G14: 0 | H14: 10 | I14: 0 | J14: 0 | K14: 0 | L14: 0 | M14: 0 | N14: 0 | O14: 0 | P14: 23 | Q14: 37.7 | R14: 17 | S14: 0 | T14: 17 | U14: 15 | V14: 0 | W14: 0 | X14: 17 | Y14: 21 | Z14: 0 | AA14: 20.8 | AB14: 12 | AC14: 0 | AD14: 8 | AE14: 0 | AF14: 0 | AG14: 0 | AH14: 31 | AI14: 0 | AJ14: 0 | AK14: 13 | AL14: 0 | AM14: 0 | AN14: 17 | AO14: 0 | AP14: 0 | AQ14: 11 | AR14: 29 | AS14: 21 | AT14: 0 | AU14: 0 | AV14: 0 | AW14: 0 | AX14: 0 | AY14: 9 | AZ14: 6 | BA14: 23 | BB14: 161.23979 | BC14: 7 | BD14: 0 | BE14: 0 | BF14: 0 | BG14: 0 | BH14: 16 | BI14: 0 | BJ14: 0 | BK14: 6 | BL14: 5 | BM14: 8 | BN14: 8 | BO14: 0 | BP14: 0 | BQ14: 0 | BR14: 27 | BS14: 15.5946 | BT14: 10 | BU14: 0 | BV14: 0 | BW14: 0 | BX14: 0 | BY14: 0 | BZ14: 0 | CA14: 0 | CB14: 10 | CC14: 10 | CD14: 15.8 | CE14: 12 | CF14: 0 | CG14: 43.8649 | CH14: 0 | CI14: 0 | CJ14: 10 | CK14: 0 | CL14: 0 | CM14: 0 | CN14: 6 | CO14: 0 | CP14: 0 | CQ14: 20 | CR14: 5 | CS14: 8.75 | CT14: 0 | CU14: 0 | CV14: 0 | CW14: 0 | CX14: 7.8648649 | CY14: 0 | CZ14: 28.8 | DA14: 9 | DB14: 5 | DC14: 0
... A52: 2024-12 | B52: Øvrige | C52: Personale ved aftenskoler/fritidsunderv. | D52: 15.899563 | E52: 0 | F52: 0 | G52: 0 | H52: 0 | I52: 0 | J52: 0 | K52: 0 | L52: 0 | M52: 0 | N52: 0 | O52: 0 | P52: 0 | Q52: 0 | R52: 0 | S52: 0 | T52: 0 | U52: 0 | V52: 0 | W52: 0 | X52: 0 | Y52: 0 | Z52: 0 | AA52: 0 | AB52: 0 | AC52: 0 | AD52: 0 | AE52: 0 | AF52: 0 | AG52: 0 | AH52: 0 | AI52: 0 | AJ52: 0 | AK52: 0 | AL52: 0 | AM52: 0 | AN52: 0 | AO52: 0 | AP52: 0 | AQ52: 0 | AR52: 0 | AS52: 0 | AT52: 0 | AU52: 0 | AV52: 0 | AW52: 0 | AX52: 0 | AY52: 0 | AZ52: 0 | BA52: 0 | BB52: 0 | BC52: 0 | BD52: 0 | BE52: 0 | BF52: 0 | BG52: 0 | BH52: 0 | BI52: 0 | BJ52: 0 | BK52: 0 | BL52: 0 | BM52: 0 | BN52: 0 | BO52: 0 | BP52: 0 | BQ52: 0 | BR52: 0 | BS52: 0 | BT52: 0 | BU52: 0 | BV52: 0 | BW52: 0 | BX52: 0 | BY52: 0 | BZ52: 0 | CA52: 0 | CB52: 0 | CC52: 0 | CD52: 0 | CE52: 0 | CF52: 0 | CG52: 0 | CH52: 0 | CI52: 0 | CJ52: 0 | CK52: 0 | CL52: 0 | CM52: 0 | CN52: 0 | CO52: 0 | CP52: 0 | CQ52: 0 | CR52: 0 | CS52: 0 | CT52: 0 | CU52: 0 | CV52: 0 | CW52: 0 | CX52: 0 | CY52: 0 | CZ52: 0 | DA52: 0 | DB52: 0 | DC52: 0
D53: =SUM(D3:D52) -> 18349.189 | E53: =SUM(E3:E52) -> 173.42186 | F53: =SUM(F3:F52) -> 746.29743 | G53: =SUM(G3:G52) -> 65.409777 | H53: =SUM(H3:H52) -> 73 | I53: =SUM(I3:I52) -> 73 | J53: =SUM(J3:J52) -> 187.24735 | K53: =SUM(K3:K52) -> 79.4594 | ... DC53: =SUM(DC3:DC52) -> 0
A54: 2025-12 | B54: Administration og it mv., KL | C54: Ledere ved forsorgshjem/krisecentre | D54: 6 | E54: 0 | F54: 0 | G54: 0 | H54: 0 | I54: 0 | J54: 0 | K54: 0 | L54: 0 | M54: 0 | N54: 0 | O54: 0 | P54: 0 | Q54: 0 | R54: 0 | S54: 0 | T54: 0 | U54: 0 | V54: 0 | W54: 0 | X54: 0 | Y54: 0 | Z54: 0 | AA54: 0 | AB54: 0 | AC54: 0 | AD54: 0 | AE54: 0 | AF54: 0 | AG54: 0 | AH54: 0 | AI54: 0 | AJ54: 0 | AK54: 0 | AL54: 0 | AM54: 0 | AN54: 0 | AO54: 0 | AP54: 0 | AQ54: 0 | AR54: 0 | AS54: 0 | AT54: 0 | AU54: 0 | AV54: 0 | AW54: 0 | AX54: 0 | AY54: 0 | AZ54: 0 | BA54: 0 | BB54: 0 | BC54: 0 | BD54: 0 | BE54: 0 | BF54: 0 | BG54: 0 | BH54: 0 | BI54: 0 | BJ54: 0 | BK54: 0 | BL54: 0 | BM54: 0 | BN54: 0 | BO54: 0 | BP54: 0 | BQ54: 0 | BR54: 0 | BS54: 0 | BT54: 0 | BU54: 0 | BV54: 0 | BW54: 0 | BX54: 0 | BY54: 0 | BZ54: 0 | CA54: 0 | CB54: 0 | CC54: 0 | CD54: 0 | CE54: 0 | CF54: 0 | CG54: 0 | CH54: 0 | CI54: 0 | CJ54: 0 | CK54: 0 | CL54: 0 | CM54: 0 | CN54: 0 | CO54: 0 | CP54: 0 | CQ54: 0 | CR54: 0 | CS54: 0 | CT54: 0 | CU54: 0 | CV54: 0 | CW54: 0 | CX54: 0 | CY54: 0 | CZ54: 0 | DA54: 0 | DB54: 0 | DC54: 0
A55: 2025-12 | B55: Akademikere, KL | C55: Ledende psykologer | D55: 23 | E55: 0 | F55: 0 | G55: 0 | H55: 0 | I55: 0 | J55: 0 | K55: 0 | L55: 0 | M55: 0 | N55: 0 | O55: 0 | P55: 0 | Q55: 0 | R55: 0 | S55: 0 | T55: 0 | U55: 0 | V55: 0 | W55: 0 | X55: 0 | Y55: 0 | Z55: 0 | AA55: 0 | AB55: 0 | AC55: 0 | AD55: 0 | AE55: 0 | AF55: 0 | AG55: 0 | AH55: 0 | AI55: 0 | AJ55: 0 | AK55: 0 | AL55: 0 | AM55: 0 | AN55: 0 | AO55: 0 | AP55: 0 | AQ55: 0 | AR55: 0 | AS55: 0 | AT55: 0 | AU55: 0 | AV55: 0 | AW55: 0 | AX55: 0 | AY55: 0 | AZ55: 0 | BA55: 0 | BB55: 0 | BC55: 0 | BD55: 0 | BE55: 0 | BF55: 0 | BG55: 0 | BH55: 0 | BI55: 0 | BJ55: 0 | BK55: 0 | BL55: 0 | BM55: 0 | BN55: 0 | BO55: 0 | BP55: 0 | BQ55: 0 | BR55: 0 | BS55: 0 | BT55: 0 | BU55: 0 | BV55: 0 | BW55: 0 | BX55: 0 | BY55: 0 | BZ55: 0 | CA55: 0 | CB55: 0 | CC55: 0 | CD55: 0 | CE55: 0 | CF55: 0 | CG55: 0 | CH55: 0 | CI55: 0 | CJ55: 0 | CK55: 0 | CL55: 0 | CM55: 0 | CN55: 0 | CO55: 0 | CP55: 0 | CQ55: 0 | CR55: 0 | CS55: 0 | CT55: 0 | CU55: 0 | CV55: 0 | CW55: 0 | CX55: 0 | CY55: 0 | CZ55: 0 | DA55: 0 | DB55: 0 | DC55: 0
A56: 2025-12 | B56: Beredskabspers. i chef-& lederstillinger | C56: Beredskabschefer | D56: 16 | E56: 0 | F56: 0 | G56: 0 | H56: 0 | I56: 0 | J56: 0 | K56: 0 | L56: 0 | M56: 0 | N56: 0 | O56: 0 | P56: 0 | Q56: 0 | R56: 0 | S56: 0 | T56: 0 | U56: 0 | V56: 0 | W56: 0 | X56: 0 | Y56: 0 | Z56: 0 | AA56: 0 | AB56: 0 | AC56: 0 | AD56: 0 | AE56: 0 | AF56: 0 | AG56: 0 | AH56: 0 | AI56: 0 | AJ56: 0 | AK56: 0 | AL56: 0 | AM56: 0 | AN56: 0 | AO56: 0 | AP56: 0 | AQ56: 0 | AR56: 0 | AS56: 0 | AT56: 0 | AU56: 0 | AV56: 0 | AW56: 0 | AX56: 0 | AY56: 0 | AZ56: 0 | BA56: 0 | BB56: 0 | BC56: 0 | BD56: 0 | BE56: 0 | BF56: 0 | BG56: 0 | BH56: 0 | BI56: 0 | BJ56: 0 | BK56: 0 | BL56: 0 | BM56: 0 | BN56: 0 | BO56: 0 | BP56: 0 | BQ56: 0 | BR56: 0 | BS56: 0 | BT56: 0 | BU56: 0 | BV56: 0 | BW56: 0 | BX56: 0 | BY56: 0 | BZ56: 0 | CA56: 0 | CB56: 0 | CC56: 0 | CD56: 0 | CE56: 0 | CF56: 0 | CG56: 0 | CH56: 0 | CI56: 0 | CJ56: 0 | CK56: 0 | CL56: 0 | CM56: 0 | CN56: 0 | CO56: 0 | CP56: 0 | CQ56: 0 | CR56: 0 | CS56: 0 | CT56: 0 | CU56: 0 | CV56: 0 | CW56: 0 | CX56: 0 | CY56: 0 | CZ56: 0 | DA56: 0 | DB56: 0 | DC56: 0
A57: 2025-12 | B57: Beredskabspers. i chef-& lederstillinger | C57: Beredskabsinspektører | D57: 257.60322 | E57: 0 | F57: 0 | G57: 0 | H57: 0 | I57: 0 | J57: 0 | K57: 0 | L57: 0 | M57: 0 | N57: 0 | O57: 0 | P57: 0 | Q57: 0 | R57: 0 | S57: 0 | T57: 0 | U57: 0 | V57: 0 | W57: 0 | X57: 0 | Y57: 0 | Z57: 0 | AA57: 0 | AB57: 0 | AC57: 0 | AD57: 0 | AE57: 0 | AF57: 0 | AG57: 0 | AH57: 0 | AI57: 0 | AJ57: 0 | AK57: 0 | AL57: 0 | AM57: 0 | AN57: 0 | AO57: 0 | AP57: 0 | AQ57: 0 | AR57: 0 | AS57: 0 | AT57: 0 | AU57: 0 | AV57: 0 | AW57: 0 | AX57: 0 | AY57: 0 | AZ57: 0 | BA57: 0 | BB57: 0 | BC57: 0 | BD57: 0 | BE57: 0 | BF57: 0 | BG57: 0 | BH57: 0 | BI57: 0 | BJ57: 0 | BK57: 0 | BL57: 0 | BM57: 0 | BN57: 0 | BO57: 0 | BP57: 0 | BQ57: 0 | BR57: 0 | BS57: 0 | BT57: 0 | BU57: 0 | BV57: 0 | BW57: 0 | BX57: 0 | BY57: 0 | BZ57: 0 | CA57: 0 | CB57: 0 | CC57: 5.2973 | CD57: 0 | CE57: 0 | CF57: 0 | CG57: 0 | CH57: 0 | CI57: 0 | CJ57: 6.7838 | CK57: 0 | CL57: 0 | CM57: 0 | CN57: 0 | CO57: 0 | CP57: 0 | CQ57: 5.1351 | CR57: 0 | CS57: 0 | CT57: 0 | CU57: 0 | CV57: 0 | CW57: 0 | CX57: 0 | CY57: 0 | CZ57: 0 | DA57: 0 | DB57: 0 | DC57: 0
A58: 2025-12 | B58: Beredskabspers. i chef-& lederstillinger | C58: Viceberedskabschefer | D58: 26.59422 | E58: 0 | F58: 0 | G58: 0 | H58: 0 | I58: 0 | J58: 0 | K58: 0 | L58: 0 | M58: 0 | N58: 0 | O58: 0 | P58: 0 | Q58: 0 | R58: 0 | S58: 0 | T58: 0 | U58: 0 | V58: 0 | W58: 0 | X58: 0 | Y58: 0 | Z58: 0 | AA58: 0 | AB58: 0 | AC58: 0 | AD58: 0 | AE58: 0 | AF58: 0 | AG58: 0 | AH58: 0 | AI58: 0 | AJ58: 0 | AK58: 0 | AL58: 0 | AM58: 0 | AN58: 0 | AO58: 0 | AP58: 0 | AQ58: 0 | AR58: 0 | AS58: 0 | AT58: 0 | AU58: 0 | AV58: 0 | AW58: 0 | AX58: 0 | AY58: 0 | AZ58: 0 | BA58: 0 | BB58: 0 | BC58: 0 | BD58: 0 | BE58: 0 | BF58: 0 | BG58: 0 | BH58: 0 | BI58: 0 | BJ58: 0 | BK58: 0 | BL58: 0 | BM58: 0 | BN58: 0 | BO58: 0 | BP58: 0 | BQ58: 0 | BR58: 0 | BS58: 0 | BT58: 0 | BU58: 0 | BV58: 0 | BW58: 0 | BX58: 0 | BY58: 0 | BZ58: 0 | CA58: 0 | CB58: 0 | CC58: 0 | CD58: 0 | CE58: 0 | CF58: 0 | CG58: 0 | CH58: 0 | CI58: 0 | CJ58: 0 | CK58: 0 | CL58: 0 | CM58: 0 | CN58: 0 | CO58: 0 | CP58: 0 | CQ58: 0 | CR58: 0 | CS58: 0 | CT58: 0 | CU58: 0 | CV58: 0 | CW58: 0 | CX58: 0 | CY58: 0 | CZ58: 0 | DA58: 0 | DB58: 0 | DC58: 0
A59: 2025-12 | B59: Beredskabspers. i chef-& lederstillinger | C59: Viceberedskabsinspektører | D59: 98.960982 | E59: 0 | F59: 0 | G59: 0 | H59: 0 | I59: 0 | J59: 0 | K59: 0 | L59: 0 | M59: 0 | N59: 0 | O59: 0 | P59: 0 | Q59: 0 | R59: 0 | S59: 0 | T59: 0 | U59: 0 | V59: 0 | W59: 0 | X59: 0 | Y59: 0 | Z59: 0 | AA59: 0 | AB59: 0 | AC59: 0 | AD59: 0 | AE59: 0 | AF59: 0 | AG59: 0 | AH59: 0 | AI59: 0 | AJ59: 0 | AK59: 0 | AL59: 0 | AM59: 0 | AN59: 0 | AO59: 0 | AP59: 0 | AQ59: 0 | AR59: 0 | AS59: 0 | AT59: 0 | AU59: 0 | AV59: 0 | AW59: 0 | AX59: 0 | AY59: 0 | AZ59: 0 | BA59: 0 | BB59: 0 | BC59: 0 | BD59: 0 | BE59: 0 | BF59: 0 | BG59: 0 | BH59: 0 | BI59: 0 | BJ59: 0 | BK59: 0 | BL59: 0 | BM59: 0 | BN59: 0 | BO59: 0 | BP59: 0 | BQ59: 0 | BR59: 0 | BS59: 0 | BT59: 0 | BU59: 0 | BV59: 0 | BW59: 0 | BX59: 0 | BY59: 0 | BZ59: 0 | CA59: 0 | CB59: 0 | CC59: 0 | CD59: 0 | CE59: 0 | CF59: 0 | CG59: 0 | CH59: 0 | CI59: 0 | CJ59: 0 | CK59: 0 | CL59: 0 | CM59: 0 | CN59: 0 | CO59: 0 | CP59: 0 | CQ59: 0 | CR59: 0 | CS59: 0 | CT59: 0 | CU59: 0 | CV59: 0 | CW59: 0 | CX59: 0 | CY59: 0 | CZ59: 0 | DA59: 0 | DB59: 0 | DC59: 0
A60: 2025-12 | B60: Ergo- Fysio- og Jordemødre, ledere KL | C60: Ledende ergoterapeuter | D60: 358.56278 | E60: 5 | F60: 10 | G60: 0 | H60: 0 | I60: 0 | J60: 0 | K60: 0 | L60: 0 | M60: 0 | N60: 0 | O60: 0 | P60: 0 | Q60: 5 | R60: 0 | S60: 0 | T60: 5 | U60: 0 | V60: 0 | W60: 0 | X60: 0 | Y60: 0 | Z60: 0 | AA60: 0 | AB60: 0 | AC60: 7 | AD60: 0 | AE60: 0 | AF60: 0 | AG60: 0 | AH60: 0 | AI60: 0 | AJ60: 0 | AK60: 0 | AL60: 0 | AM60: 13 | AN60: 0 | AO60: 7 | AP60: 5 | AQ60: 6.8108 | AR60: 6 | AS60: 0 | AT60: 0 | AU60: 0 | AV60: 0 | AW60: 0 | AX60: 0 | AY60: 0 | AZ60: 0 | BA60: 5 | BB60: 33.159257 | BC60: 0 | BD60: 0 | BE60: 0 | BF60: 0 | BG60: 0 | BH60: 0 | BI60: 0 | BJ60: 0 | BK60: 5 | BL60: 0 | BM60: 0 | BN60: 6 | BO60: 0 | BP60: 8 | BQ60: 0 | BR60: 14 | BS60: 0 | BT60: 7 | BU60: 0 | BV60: 0 | BW60: 0 | BX60: 0 | BY60: 0 | BZ60: 0 | CA60: 9.9459 | CB60: 0 | CC60: 6 | CD60: 6 | CE60: 0 | CF60: 0 | CG60: 0 | CH60: 0 | CI60: 0 | CJ60: 0 | CK60: 0 | CL60: 0 | CM60: 0 | CN60: 0 | CO60: 0 | CP60: 0 | CQ60: 0 | CR60: 0 | CS60: 0 | CT60: 0 | CU60: 0 | CV60: 6 | CW60: 0 | CX60: 5 | CY60: 0 | CZ60: 11 | DA60: 0 | DB60: 21 | DC60: 0
A61: 2025-12 | B61: Ergo- Fysio- og Jordemødre, ledere KL | C61: Ledende fysioterapeuter | D61: 355.03124 | E61: 0 | F61: 12.9189 | G61: 0 | H61: 0 | I61: 0 | J61: 0 | K61: 0 | L61: 0 | M61: 0 | N61: 0 | O61: 0 | P61: 0 | Q61: 8.0374298 | R61: 0 | S61: 0 | T61: 6 | U61: 0 | V61: 0 | W61: 0 | X61: 0 | Y61: 0 | Z61: 0 | AA61: 0 | AB61: 5 | AC61: 0 | AD61: 0 | AE61: 0 | AF61: 0 | AG61: 0 | AH61: 0 | AI61: 0 | AJ61: 5 | AK61: 5 | AL61: 0 | AM61: 5 | AN61: 0 | AO61: 0 | AP61: 0 | AQ61: 0 | AR61: 6.8108 | AS61: 0 | AT61: 0 | AU61: 0 | AV61: 0 | AW61: 0 | AX61: 0 | AY61: 0 | AZ61: 0 | BA61: 5.8649 | BB61: 36.81081 | BC61: 0 | BD61: 0 | BE61: 0 | BF61: 0 | BG61: 0 | BH61: 0 | BI61: 0 | BJ61: 0 | BK61: 0 | BL61: 0 | BM61: 0 | BN61: 0 | BO61: 0 | BP61: 0 | BQ61: 0 | BR61: 16.193548 | BS61: 0 | BT61: 7.6486 | BU61: 0 | BV61: 0 | BW61: 0 | BX61: 0 | BY61: 0 | BZ61: 0 | CA61: 0 | CB61: 0 | CC61: 0 | CD61: 0 | CE61: 0 | CF61: 0 | CG61: 0 | CH61: 5.9459 | CI61: 0 | CJ61: 0 | CK61: 0 | CL61: 0 | CM61: 0 | CN61: 0 | CO61: 0 | CP61: 0 | CQ61: 0 | CR61: 0 | CS61: 0 | CT61: 0 | CU61: 0 | CV61: 6 | CW61: 5 | CX61: 5 | CY61: 0 | CZ61: 6 | DA61: 0 | DB61: 34.935484 | DC61: 0
A62: 2025-12 | B62: Kantineledere/rengøringsledere/-chefer | C62: Kantineledere | D62: 109.34318 | E62: 0 | F62: 0 | G62: 0 | H62: 0 | I62: 0 | J62: 0 | K62: 0 | L62: 0 | M62: 0 | N62: 0 | O62: 0 | P62: 0 | Q62: 0 | R62: 0 | S62: 0 | T62: 0 | U62: 0 | V62: 0 | W62: 0 | X62: 0 | Y62: 0 | Z62: 0 | AA62: 0 | AB62: 0 | AC62: 0 | AD62: 0 | AE62: 0 | AF62: 0 | AG62: 0 | AH62: 0 | AI62: 0 | AJ62: 0 | AK62: 0 | AL62: 0 | AM62: 0 | AN62: 0 | AO62: 0 | AP62: 0 | AQ62: 0 | AR62: 0 | AS62: 0 | AT62: 0 | AU62: 0 | AV62: 0 | AW62: 0 | AX62: 0 | AY62: 0 | AZ62: 0 | BA62: 0 | BB62: 0 | BC62: 0 | BD62: 0 | BE62: 0 | BF62: 0 | BG62: 0 | BH62: 0 | BI62: 0 | BJ62: 0 | BK62: 0 | BL62: 0 | BM62: 0 | BN62: 0 | BO62: 0 | BP62: 0 | BQ62: 0 | BR62: 0 | BS62: 0 | BT62: 0 | BU62: 0 | BV62: 0 | BW62: 0 | BX62: 0 | BY62: 0 | BZ62: 0 | CA62: 0 | CB62: 0 | CC62: 13.0267 | CD62: 0 | CE62: 0 | CF62: 0 | CG62: 0 | CH62: 0 | CI62: 0 | CJ62: 0 | CK62: 0 | CL62: 0 | CM62: 0 | CN62: 0 | CO62: 0 | CP62: 0 | CQ62: 0 | CR62: 0 | CS62: 0 | CT62: 0 | CU62: 0 | CV62: 0 | CW62: 0 | CX62: 0 | CY62: 0 | CZ62: 0 | DA62: 0 | DB62: 20.501449 | DC62: 0
A63: 2025-12 | B63: Kantineledere/rengøringsledere/-chefer | C63: Rengøringsledere/-chefer | D63: 167.66541 | E63: 0 | F63: 0 | G63: 0 | H63: 0 | I63: 0 | J63: 0 | K63: 0 | L63: 0 | M63: 0 | N63: 0 | O63: 0 | P63: 0 | Q63: 5 | R63: 0 | S63: 0 | T63: 0 | U63: 0 | V63: 0 | W63: 0 | X63: 0 | Y63: 0 | Z63: 0 | AA63: 0 | AB63: 0 | AC63: 5 | AD63: 0 | AE63: 0 | AF63: 0 | AG63: 0 | AH63: 0 | AI63: 0 | AJ63: 0 | AK63: 0 | AL63: 0 | AM63: 0 | AN63: 0 | AO63: 0 | AP63: 0 | AQ63: 0 | AR63: 5 | AS63: 6 | AT63: 0 | AU63: 0 | AV63: 0 | AW63: 0 | AX63: 0 | AY63: 5 | AZ63: 0 | BA63: 0 | BB63: 41.872168 | BC63: 0 | BD63: 0 | BE63: 0 | BF63: 0 | BG63: 0 | BH63: 0 | BI63: 0 | BJ63: 0 | BK63: 0 | BL63: 0 | BM63: 0 | BN63: 0 | BO63: 0 | BP63: 0 | BQ63: 0 | BR63: 11 | BS63: 0 | BT63: 0 | BU63: 0 | BV63: 0 | BW63: 0 | BX63: 0 | BY63: 0 | BZ63: 0 | CA63: 0 | CB63: 0 | CC63: 0 | CD63: 0 | CE63: 0 | CF63: 0 | CG63: 6 | CH63: 0 | CI63: 0 | CJ63: 0 | CK63: 0 | CL63: 0 | CM63: 0 | CN63: 0 | CO63: 0 | CP63: 0 | CQ63: 0 | CR63: 0 | CS63: 0 | CT63: 0 | CU63: 0 | CV63: 0 | CW63: 0 | CX63: 0 | CY63: 0 | CZ63: 0 | DA63: 0 | DB63: 5 | DC63: 0
A64: 2025-12 | B64: Laboratorie- og miljøpersonale, KL | C64: Specialister Mellemledere og Ledere | D64: 169.29692 | E64: 0 | F64: 10.2973 | G64: 0 | H64: 0 | I64: 0 | J64: 0 | K64: 0 | L64: 0 | M64: 0 | N64: 0 | O64: 0 | P64: 0 | Q64: 7.6404129 | R64: 0 | S64: 0 | T64: 0 | U64: 0 | V64: 0 | W64: 0 | X64: 0 | Y64: 0 | Z64: 0 | AA64: 0 | AB64: 0 | AC64: 0 | AD64: 0 | AE64: 0 | AF64: 0 | AG64: 0 | AH64: 0 | AI64: 0 | AJ64: 0 | AK64: 0 | AL64: 0 | AM64: 0 | AN64: 0 | AO64: 0 | AP64: 0 | AQ64: 0 | AR64: 0 | AS64: 0 | AT64: 0 | AU64: 0 | AV64: 0 | AW64: 0 | AX64: 5.9189082 | AY64: 0 | AZ64: 0 | BA64: 0 | BB64: 0 | BC64: 0 | BD64: 0 | BE64: 0 | BF64: 0 | BG64: 0 | BH64: 0 | BI64: 0 | BJ64: 0 | BK64: 0 | BL64: 0 | BM64: 0 | BN64: 0 | BO64: 0 | BP64: 6 | BQ64: 0 | BR64: 0 | BS64: 0 | BT64: 0 | BU64: 0 | BV64: 0 | BW64: 0 | BX64: 0 | BY64: 0 | BZ64: 0 | CA64: 0 | CB64: 0 | CC64: 0 | CD64: 0 | CE64: 0 | CF64: 0 | CG64: 0 | CH64: 0 | CI64: 0 | CJ64: 0 | CK64: 0 | CL64: 0 | CM64: 0 | CN64: 0 | CO64: 0 | CP64: 0 | CQ64: 0 | CR64: 0 | CS64: 0 | CT64: 6.6756647 | CU64: 0 | CV64: 0 | CW64: 0 | CX64: 8 | CY64: 0 | CZ64: 6 | DA64: 0 | DB64: 0 | DC64: 0
A65: 2025-12 | B65: Ledere m.fl., undervisningsområdet | C65: Afdelingsledere, folkeskolen | D65: 1001.44 | E65: 0 | F65: 85 | G65: 0 | H65: 18 | I65: 0 | J65: 0 | K65: 0 | L65: 0 | M65: 0 | N65: 0 | O65: 0 | P65: 20 | Q65: 41.028072 | R65: 17 | S65: 0 | T65: 16 | U65: 15 | V65: 0 | W65: 0 | X65: 16.677419 | Y65: 20 | Z65: 0 | AA65: 25.8 | AB65: 13 | AC65: 0 | AD65: 9 | AE65: 0 | AF65: 0 | AG65: 0 | AH65: 29 | AI65: 0 | AJ65: 0 | AK65: 11 | AL65: 0 | AM65: 8 | AN65: 18 | AO65: 0 | AP65: 0 | AQ65: 11 | AR65: 25 | AS65: 20 | AT65: 0 | AU65: 0 | AV65: 0 | AW65: 0 | AX65: 0 | AY65: 9 | AZ65: 0 | BA65: 22 | BB65: 181.0054 | BC65: 8 | BD65: 0 | BE65: 0 | BF65: 0 | BG65: 0 | BH65: 16 | BI65: 0 | BJ65: 0 | BK65: 7 | BL65: 0 | BM65: 6.2307691 | BN65: 9 | BO65: 0 | BP65: 0 | BQ65: 0 | BR65: 27 | BS65: 13 | BT65: 12 | BU65: 0 | BV65: 0 | BW65: 0 | BX65: 0 | BY65: 0 | BZ65: 0 | CA65: 0 | CB65: 9 | CC65: 13.348387 | CD65: 14 | CE65: 12 | CF65: 0 | CG65: 45 | CH65: 0 | CI65: 11.8 | CJ65: 13 | CK65: 0 | CL65: 0 | CM65: 0 | CN65: 7 | CO65: 0 | CP65: 0 | CQ65: 21 | CR65: 5 | CS65: 9.75 | CT65: 5 | CU65: 0 | CV65: 0 | CW65: 0 | CX65: 10 | CY65: 0 | CZ65: 29.8 | DA65: 10 | DB65: 0 | DC65: 0
... A104: 2025-12 | B104: Øvrige | C104: Personale ved aftenskoler/fritidsunderv. | D104: 14.946163 | E104: 0 | F104: 0 | G104: 0 | H104: 0 | I104: 0 | J104: 0 | K104: 0 | L104: 0 | M104: 0 | N104: 0 | O104: 0 | P104: 0 | Q104: 0 | R104: 0 | S104: 0 | T104: 0 | U104: 0 | V104: 0 | W104: 0 | X104: 0 | Y104: 0 | Z104: 0 | AA104: 0 | AB104: 0 | AC104: 0 | AD104: 0 | AE104: 0 | AF104: 0 | AG104: 0 | AH104: 0 | AI104: 0 | AJ104: 0 | AK104: 0 | AL104: 0 | AM104: 0 | AN104: 0 | AO104: 0 | AP104: 0 | AQ104: 0 | AR104: 0 | AS104: 0 | AT104: 0 | AU104: 0 | AV104: 0 | AW104: 0 | AX104: 0 | AY104: 0 | AZ104: 0 | BA104: 0 | BB104: 0 | BC104: 0 | BD104: 0 | BE104: 0 | BF104: 0 | BG104: 0 | BH104: 0 | BI104: 0 | BJ104: 0 | BK104: 0 | BL104: 0 | BM104: 0 | BN104: 0 | BO104: 0 | BP104: 0 | BQ104: 0 | BR104: 0 | BS104: 0 | BT104: 0 | BU104: 0 | BV104: 0 | BW104: 0 | BX104: 0 | BY104: 0 | BZ104: 0 | CA104: 0 | CB104: 0 | CC104: 0 | CD104: 0 | CE104: 0 | CF104: 0 | CG104: 0 | CH104: 0 | CI104: 0 | CJ104: 0 | CK104: 0 | CL104: 0 | CM104: 0 | CN104: 0 | CO104: 0 | CP104: 0 | CQ104: 0 | CR104: 0 | CS104: 0 | CT104: 0 | CU104: 0 | CV104: 0 | CW104: 0 | CX104: 0 | CY104: 0 | CZ104: 0 | DA104: 0 | DB104: 0 | DC104: 0
D105: =SUM(D54:D104) -> 18756.443 | E105: =SUM(E54:E104) -> 182.70063 | F105: =SUM(F54:F104) -> 758.89495 | G105: =SUM(G54:G104) -> 74 | H105: =SUM(H54:H104) -> 73 | I105: =SUM(I54:I104) -> 75 | J105: =SUM(J54:J104) -> 196.78846 | K105: =SUM(K54:K104) -> 76.6486 | ... DC105: =SUM(DC54:DC104) -> 0
A107: Beskrivelse
A108: Kommunernes og Regionernes Løndatakontor
A109: SIRKA
A110: Datasæt 12 2025
A111: Kørsel 18.5.2026 09.57.05
A113: Gruppe: Decentrale ledere
A115: Undergrænse: 5
A117: Stillinger | B117: 299 Ergo- Fysio- og Jordemødre, ledere KL
B118: 189 Kantineledere/rengøringsledere/-chefer
B119: 034 Ledere/mellem. ældre og sundhedsomr. mv
B120: 128 Musikskoleledere
B121: 277 Pædagogisk uddannede ledere
B122: 00909 Mellemledere
B123: 01402 Afdelingstandlæger
B124: 01403 Klinikchefer
B125: 04265 Ledende psykologer
B126: 04712 Specialister Mellemledere og Ledere
B127: 05721 Pædagogiske ledere
B128: 07604 Mellemledere
B129: 09129 Ledere ved forsorgshjem/krisecentre
... B178: 2733001 Grundløn
A180: Forhandlingsområde | B180: Kommuner
