Workbook

Sheet Samle
A1: Kommune | B1: Børn og unge der modtager handicapindsatser i alt 2024 | C1: Antal 0-17 år i alt 2024 | D1: Andel børn og unge der modtager handicapindsatser i alt 2024 | E1: Modtagere pr. 1000 0-17-årige 2024 | F1: Handicapindsatser i alt 2024 | G1: Ydelser pr. modtager 2024 | H1: Ydelse pr. 1.000 0-17-årig 2024 | I1: Børn og unge der modtager handicapindsatser i alt 2025 | J1: Antal 0-17 år i alt 2025 | K1: Andel børn og unge der modtager handicapindsatser i alt 2025 | L1: Modtagere pr. 1000 0-17-årige 2025 | M1: Handicapindsatser i alt 2025 | N1: Ydelser pr. modtager 2025 | O1: Ydelse pr. 1.000 0-17-årig 2025 | P1: Udvikling antal børn og unge der modtager handicapindsatser i alt | Q1: Udvikling Antal 0-17 år i alt | R1: Udvikling antal ydelser | S1: Udvikling andel børn og unge der modtager handicapindsatser i alt | T1: Udvikling ydelser pr. modtager | U1: Udvikling modtagere pr. 1.000 0-17-årige
A2: Hele landet | B2: =_xlfn.XLOOKUP($A2,HANDBU02!$C:$C,HANDBU02!D:D) -> 13095 | C2: =_xlfn.XLOOKUP($A2,FOLK1A!$A:$A,FOLK1A!B:B) -> 1140916 | D2: =B2/C2*100 -> 1.147762 | E2: =B2/(C2/1000) -> 11.47762 | F2: =_xlfn.XLOOKUP(A2,HANDBU04!C:C,HANDBU04!D:D) -> 15816 | G2: =F2/B2 -> 1.2077892 | H2: =F2/(C2/1000) -> 13.862546 | I2: =_xlfn.XLOOKUP($A2,HANDBU02!$C:$C,HANDBU02!E:E) -> 13276 | J2: =_xlfn.XLOOKUP($A2,FOLK1A!$A:$A,FOLK1A!C:C) -> 1135912 | K2: =I2/J2*100 -> 1.1687525 | L2: =I2/(J2/1000) -> 11.687525 | M2: =_xlfn.XLOOKUP(A2,HANDBU04!C:C,HANDBU04!E:E) -> 15850 | N2: =M2/I2 -> 1.1938837 | O2: =M2/(J2/1000) -> 13.953546 | P2: =I2-B2 -> 181 | Q2: =J2-C2 -> -5004 | R2: =M2-F2 -> 34 | S2: =K2-D2 -> 0.020990535 | T2: =N2-G2 -> -0.013905533 | U2: =L2-E2 -> 0.20990535
A3: København | B3: =_xlfn.XLOOKUP($A3,HANDBU02!$C:$C,HANDBU02!D:D) -> 1478 | C3: =_xlfn.XLOOKUP($A3,FOLK1A!$A:$A,FOLK1A!B:B) -> 110740 | D3: =B3/C3*100 -> 1.3346578 | E3: =B3/(C3/1000) -> 13.346578 | F3: =_xlfn.XLOOKUP(A3,HANDBU04!C:C,HANDBU04!D:D) -> 2043 | G3: =F3/B3 -> 1.3822733 | H3: =F3/(C3/1000) -> 18.448618 | I3: =_xlfn.XLOOKUP($A3,HANDBU02!$C:$C,HANDBU02!E:E) -> 1496 | J3: =_xlfn.XLOOKUP($A3,FOLK1A!$A:$A,FOLK1A!C:C) -> 110604 | K3: =I3/J3*100 -> 1.3525731 | L3: =I3/(J3/1000) -> 13.525731 | M3: =_xlfn.XLOOKUP(A3,HANDBU04!C:C,HANDBU04!E:E) -> 2055 | N3: =M3/I3 -> 1.3736631 | O3: =M3/(J3/1000) -> 18.579798 | P3: =I3-B3 -> 18 | Q3: =J3-C3 -> -136 | R3: =M3-F3 -> 12 | S3: =K3-D3 -> 0.017915387 | T3: =N3-G3 -> -0.0086102408 | U3: =L3-E3 -> 0.17915387
A4: Frederiksberg | B4: =_xlfn.XLOOKUP($A4,HANDBU02!$C:$C,HANDBU02!D:D) -> 160 | C4: =_xlfn.XLOOKUP($A4,FOLK1A!$A:$A,FOLK1A!B:B) -> 17381 | D4: =B4/C4*100 -> 0.92054542 | E4: =B4/(C4/1000) -> 9.2054542 | F4: =_xlfn.XLOOKUP(A4,HANDBU04!C:C,HANDBU04!D:D) -> 199 | G4: =F4/B4 -> 1.24375 | H4: =F4/(C4/1000) -> 11.449284 | I4: =_xlfn.XLOOKUP($A4,HANDBU02!$C:$C,HANDBU02!E:E) -> 163 | J4: =_xlfn.XLOOKUP($A4,FOLK1A!$A:$A,FOLK1A!C:C) -> 17131 | K4: =I4/J4*100 -> 0.95149145 | L4: =I4/(J4/1000) -> 9.5149145 | M4: =_xlfn.XLOOKUP(A4,HANDBU04!C:C,HANDBU04!E:E) -> 202 | N4: =M4/I4 -> 1.2392638 | O4: =M4/(J4/1000) -> 11.791489 | P4: =I4-B4 -> 3 | Q4: =J4-C4 -> -250 | R4: =M4-F4 -> 3 | S4: =K4-D4 -> 0.030946025 | T4: =N4-G4 -> -0.0044861963 | U4: =L4-E4 -> 0.30946025
A5: Dragør | B5: =_xlfn.XLOOKUP($A5,HANDBU02!$C:$C,HANDBU02!D:D) -> 7 | C5: =_xlfn.XLOOKUP($A5,FOLK1A!$A:$A,FOLK1A!B:B) -> 3272 | D5: =B5/C5*100 -> 0.21393643 | E5: =B5/(C5/1000) -> 2.1393643 | F5: =_xlfn.XLOOKUP(A5,HANDBU04!C:C,HANDBU04!D:D) -> 8 | G5: =F5/B5 -> 1.1428571 | H5: =F5/(C5/1000) -> 2.4449878 | I5: =_xlfn.XLOOKUP($A5,HANDBU02!$C:$C,HANDBU02!E:E) -> 11 | J5: =_xlfn.XLOOKUP($A5,FOLK1A!$A:$A,FOLK1A!C:C) -> 3251 | K5: =I5/J5*100 -> 0.33835743 | L5: =I5/(J5/1000) -> 3.3835743 | M5: =_xlfn.XLOOKUP(A5,HANDBU04!C:C,HANDBU04!E:E) -> 11 | N5: =M5/I5 -> 1 | O5: =M5/(J5/1000) -> 3.3835743 | P5: =I5-B5 -> 4 | Q5: =J5-C5 -> -21 | R5: =M5-F5 -> 3 | S5: =K5-D5 -> 0.124421 | T5: =N5-G5 -> -0.14285714 | U5: =L5-E5 -> 1.24421
A6: Tårnby | B6: =_xlfn.XLOOKUP($A6,HANDBU02!$C:$C,HANDBU02!D:D) -> 67 | C6: =_xlfn.XLOOKUP($A6,FOLK1A!$A:$A,FOLK1A!B:B) -> 9764 | D6: =B6/C6*100 -> 0.68619418 | E6: =B6/(C6/1000) -> 6.8619418 | F6: =_xlfn.XLOOKUP(A6,HANDBU04!C:C,HANDBU04!D:D) -> 96 | G6: =F6/B6 -> 1.4328358 | H6: =F6/(C6/1000) -> 9.8320361 | I6: =_xlfn.XLOOKUP($A6,HANDBU02!$C:$C,HANDBU02!E:E) -> 76 | J6: =_xlfn.XLOOKUP($A6,FOLK1A!$A:$A,FOLK1A!C:C) -> 9688 | K6: =I6/J6*100 -> 0.78447564 | L6: =I6/(J6/1000) -> 7.8447564 | M6: =_xlfn.XLOOKUP(A6,HANDBU04!C:C,HANDBU04!E:E) -> 108 | N6: =M6/I6 -> 1.4210526 | O6: =M6/(J6/1000) -> 11.147812 | P6: =I6-B6 -> 9 | Q6: =J6-C6 -> -76 | R6: =M6-F6 -> 12 | S6: =K6-D6 -> 0.098281457 | T6: =N6-G6 -> -0.011783189 | U6: =L6-E6 -> 0.98281457
A7: Albertslund | B7: =_xlfn.XLOOKUP($A7,HANDBU02!$C:$C,HANDBU02!D:D) -> 35 | C7: =_xlfn.XLOOKUP($A7,FOLK1A!$A:$A,FOLK1A!B:B) -> 5789 | D7: =B7/C7*100 -> 0.60459492 | E7: =B7/(C7/1000) -> 6.0459492 | F7: =_xlfn.XLOOKUP(A7,HANDBU04!C:C,HANDBU04!D:D) -> 37 | G7: =F7/B7 -> 1.0571429 | H7: =F7/(C7/1000) -> 6.391432 | I7: =_xlfn.XLOOKUP($A7,HANDBU02!$C:$C,HANDBU02!E:E) -> 47 | J7: =_xlfn.XLOOKUP($A7,FOLK1A!$A:$A,FOLK1A!C:C) -> 5976 | K7: =I7/J7*100 -> 0.78647925 | L7: =I7/(J7/1000) -> 7.8647925 | M7: =_xlfn.XLOOKUP(A7,HANDBU04!C:C,HANDBU04!E:E) -> 51 | N7: =M7/I7 -> 1.0851064 | O7: =M7/(J7/1000) -> 8.5341365 | P7: =I7-B7 -> 12 | Q7: =J7-C7 -> 187 | R7: =M7-F7 -> 14 | S7: =K7-D7 -> 0.18188433 | T7: =N7-G7 -> 0.027963526 | U7: =L7-E7 -> 1.8188433
A8: Ballerup | B8: =_xlfn.XLOOKUP($A8,HANDBU02!$C:$C,HANDBU02!D:D) -> 132 | C8: =_xlfn.XLOOKUP($A8,FOLK1A!$A:$A,FOLK1A!B:B) -> 10977 | D8: =B8/C8*100 -> 1.2025143 | E8: =B8/(C8/1000) -> 12.025143 | F8: =_xlfn.XLOOKUP(A8,HANDBU04!C:C,HANDBU04!D:D) -> 177 | G8: =F8/B8 -> 1.3409091 | H8: =F8/(C8/1000) -> 16.124624 | I8: =_xlfn.XLOOKUP($A8,HANDBU02!$C:$C,HANDBU02!E:E) -> 129 | J8: =_xlfn.XLOOKUP($A8,FOLK1A!$A:$A,FOLK1A!C:C) -> 11149 | K8: =I8/J8*100 -> 1.1570544 | L8: =I8/(J8/1000) -> 11.570544 | M8: =_xlfn.XLOOKUP(A8,HANDBU04!C:C,HANDBU04!E:E) -> 159 | N8: =M8/I8 -> 1.2325581 | O8: =M8/(J8/1000) -> 14.261369 | P8: =I8-B8 -> -3 | Q8: =J8-C8 -> 172 | R8: =M8-F8 -> -18 | S8: =K8-D8 -> -0.045459904 | T8: =N8-G8 -> -0.10835095 | U8: =L8-E8 -> -0.45459904
A9: Brøndby | B9: =_xlfn.XLOOKUP($A9,HANDBU02!$C:$C,HANDBU02!D:D) -> 93 | C9: =_xlfn.XLOOKUP($A9,FOLK1A!$A:$A,FOLK1A!B:B) -> 8240 | D9: =B9/C9*100 -> 1.1286408 | E9: =B9/(C9/1000) -> 11.286408 | F9: =_xlfn.XLOOKUP(A9,HANDBU04!C:C,HANDBU04!D:D) -> 120 | G9: =F9/B9 -> 1.2903226 | H9: =F9/(C9/1000) -> 14.563107 | I9: =_xlfn.XLOOKUP($A9,HANDBU02!$C:$C,HANDBU02!E:E) -> 105 | J9: =_xlfn.XLOOKUP($A9,FOLK1A!$A:$A,FOLK1A!C:C) -> 8278 | K9: =I9/J9*100 -> 1.2684223 | L9: =I9/(J9/1000) -> 12.684223 | M9: =_xlfn.XLOOKUP(A9,HANDBU04!C:C,HANDBU04!E:E) -> 131 | N9: =M9/I9 -> 1.247619 | O9: =M9/(J9/1000) -> 15.825079 | P9: =I9-B9 -> 12 | Q9: =J9-C9 -> 38 | R9: =M9-F9 -> 11 | S9: =K9-D9 -> 0.13978155 | T9: =N9-G9 -> -0.042703533 | U9: =L9-E9 -> 1.3978155
A10: Gentofte | B10: =_xlfn.XLOOKUP($A10,HANDBU02!$C:$C,HANDBU02!D:D) -> 209 | C10: =_xlfn.XLOOKUP($A10,FOLK1A!$A:$A,FOLK1A!B:B) -> 15958 | D10: =B10/C10*100 -> 1.3096879 | E10: =B10/(C10/1000) -> 13.096879 | F10: =_xlfn.XLOOKUP(A10,HANDBU04!C:C,HANDBU04!D:D) -> 278 | G10: =F10/B10 -> 1.3301435 | H10: =F10/(C10/1000) -> 17.420729 | I10: =_xlfn.XLOOKUP($A10,HANDBU02!$C:$C,HANDBU02!E:E) -> 219 | J10: =_xlfn.XLOOKUP($A10,FOLK1A!$A:$A,FOLK1A!C:C) -> 15705 | K10: =I10/J10*100 -> 1.3944604 | L10: =I10/(J10/1000) -> 13.944604 | M10: =_xlfn.XLOOKUP(A10,HANDBU04!C:C,HANDBU04!E:E) -> 293 | N10: =M10/I10 -> 1.3378995 | O10: =M10/(J10/1000) -> 18.656479 | P10: =I10-B10 -> 10 | Q10: =J10-C10 -> -253 | R10: =M10-F10 -> 15 | S10: =K10-D10 -> 0.084772432 | T10: =N10-G10 -> 0.0077560027 | U10: =L10-E10 -> 0.84772432
A11: Gladsaxe | B11: =_xlfn.XLOOKUP($A11,HANDBU02!$C:$C,HANDBU02!D:D) -> 173 | C11: =_xlfn.XLOOKUP($A11,FOLK1A!$A:$A,FOLK1A!B:B) -> 15471 | D11: =B11/C11*100 -> 1.1182212 | E11: =B11/(C11/1000) -> 11.182212 | F11: =_xlfn.XLOOKUP(A11,HANDBU04!C:C,HANDBU04!D:D) -> 227 | G11: =F11/B11 -> 1.3121387 | H11: =F11/(C11/1000) -> 14.672613 | I11: =_xlfn.XLOOKUP($A11,HANDBU02!$C:$C,HANDBU02!E:E) -> 188 | J11: =_xlfn.XLOOKUP($A11,FOLK1A!$A:$A,FOLK1A!C:C) -> 15337 | K11: =I11/J11*100 -> 1.2257938 | L11: =I11/(J11/1000) -> 12.257938 | M11: =_xlfn.XLOOKUP(A11,HANDBU04!C:C,HANDBU04!E:E) -> 254 | N11: =M11/I11 -> 1.3510638 | O11: =M11/(J11/1000) -> 16.561257 | P11: =I11-B11 -> 15 | Q11: =J11-C11 -> -134 | R11: =M11-F11 -> 27 | S11: =K11-D11 -> 0.10757264 | T11: =N11-G11 -> 0.038925101 | U11: =L11-E11 -> 1.0757264
A12: Glostrup | B12: =_xlfn.XLOOKUP($A12,HANDBU02!$C:$C,HANDBU02!D:D) -> 43 | C12: =_xlfn.XLOOKUP($A12,FOLK1A!$A:$A,FOLK1A!B:B) -> 4859 | D12: =B12/C12*100 -> 0.88495575 | E12: =B12/(C12/1000) -> 8.8495575 | F12: =_xlfn.XLOOKUP(A12,HANDBU04!C:C,HANDBU04!D:D) -> 51 | G12: =F12/B12 -> 1.1860465 | H12: =F12/(C12/1000) -> 10.495987 | I12: =_xlfn.XLOOKUP($A12,HANDBU02!$C:$C,HANDBU02!E:E) -> 55 | J12: =_xlfn.XLOOKUP($A12,FOLK1A!$A:$A,FOLK1A!C:C) -> 5021 | K12: =I12/J12*100 -> 1.0953993 | L12: =I12/(J12/1000) -> 10.953993 | M12: =_xlfn.XLOOKUP(A12,HANDBU04!C:C,HANDBU04!E:E) -> 71 | N12: =M12/I12 -> 1.2909091 | O12: =M12/(J12/1000) -> 14.140609 | P12: =I12-B12 -> 12 | Q12: =J12-C12 -> 162 | R12: =M12-F12 -> 20 | S12: =K12-D12 -> 0.21044357 | T12: =N12-G12 -> 0.10486258 | U12: =L12-E12 -> 2.1044357
A13: Herlev | B13: =_xlfn.XLOOKUP($A13,HANDBU02!$C:$C,HANDBU02!D:D) -> 48 | C13: =_xlfn.XLOOKUP($A13,FOLK1A!$A:$A,FOLK1A!B:B) -> 6530 | D13: =B13/C13*100 -> 0.73506891 | E13: =B13/(C13/1000) -> 7.3506891 | F13: =_xlfn.XLOOKUP(A13,HANDBU04!C:C,HANDBU04!D:D) -> 55 | G13: =F13/B13 -> 1.1458333 | H13: =F13/(C13/1000) -> 8.4226646 | I13: =_xlfn.XLOOKUP($A13,HANDBU02!$C:$C,HANDBU02!E:E) -> 55 | J13: =_xlfn.XLOOKUP($A13,FOLK1A!$A:$A,FOLK1A!C:C) -> 6765 | K13: =I13/J13*100 -> 0.81300813 | L13: =I13/(J13/1000) -> 8.1300813 | M13: =_xlfn.XLOOKUP(A13,HANDBU04!C:C,HANDBU04!E:E) -> 60 | N13: =M13/I13 -> 1.0909091 | O13: =M13/(J13/1000) -> 8.8691796 | P13: =I13-B13 -> 7 | Q13: =J13-C13 -> 235 | R13: =M13-F13 -> 5 | S13: =K13-D13 -> 0.077939217 | T13: =N13-G13 -> -0.054924242 | U13: =L13-E13 -> 0.77939217
... A97: Aalborg | B97: =_xlfn.XLOOKUP($A97,HANDBU02!$C:$C,HANDBU02!D:D) -> 288 | C97: =_xlfn.XLOOKUP($A97,FOLK1A!$A:$A,FOLK1A!B:B) -> 39817 | D97: =B97/C97*100 -> 0.72330914 | E97: =B97/(C97/1000) -> 7.2330914 | F97: =_xlfn.XLOOKUP(A97,HANDBU04!C:C,HANDBU04!D:D) -> 319 | G97: =F97/B97 -> 1.1076389 | H97: =F97/(C97/1000) -> 8.0116533 | I97: =_xlfn.XLOOKUP($A97,HANDBU02!$C:$C,HANDBU02!E:E) -> 314 | J97: =_xlfn.XLOOKUP($A97,FOLK1A!$A:$A,FOLK1A!C:C) -> 39805 | K97: =I97/J97*100 -> 0.78884562 | L97: =I97/(J97/1000) -> 7.8884562 | M97: =_xlfn.XLOOKUP(A97,HANDBU04!C:C,HANDBU04!E:E) -> 348 | N97: =M97/I97 -> 1.1082803 | O97: =M97/(J97/1000) -> 8.7426203 | P97: =I97-B97 -> 26 | Q97: =J97-C97 -> -12 | R97: =M97-F97 -> 29 | S97: =K97-D97 -> 0.065536483 | T97: =N97-G97 -> 0.00064136589 | U97: =L97-E97 -> 0.65536483

Sheet HANDBU02
A1: Handicapindsatser til børn og unge mellem 0-17 år efter alder, indsats, kommune og tid
A2: Enhed: Antal
D3: 2024 | E3: 2025
A4: Alder i alt | B4: Børn og unge der modtager handicapindsatser i alt | C4: Hele landet | D4: 13095 | E4: 13276
C5: København | D5: 1478 | E5: 1496
C6: Frederiksberg | D6: 160 | E6: 163
C7: Dragør | D7: 7 | E7: 11
C8: Tårnby | D8: 67 | E8: 76
C9: Albertslund | D9: 35 | E9: 47
C10: Ballerup | D10: 132 | E10: 129
C11: Brøndby | D11: 93 | E11: 105
C12: Gentofte | D12: 209 | E12: 219
C13: Gladsaxe | D13: 173 | E13: 188
C14: Glostrup | D14: 43 | E14: 55
C15: Herlev | D15: 48 | E15: 55
C16: Hvidovre | D16: 316 | E16: 226
... C59: Svendborg | D59: 115 | E59: 111
C60: Ærø | D60: .. | E60: ..
C61: Billund | D61: 105 | E61: 102
C62: Esbjerg | D62: 158 | E62: 151
C63: Fanø | D63: .. | E63: ..
C64: Fredericia | D64: 74 | E64: 69
C65: Haderslev | D65: 46 | E65: 58
C66: Kolding | D66: 241 | E66: 258
C67: Sønderborg | D67: 70 | E67: 68
C68: Tønder | D68: 27 | E68: 29
C69: Varde | D69: 63 | E69: 82
C70: Vejen | D70: 723 | E70: 759
C71: Vejle | D71: 288 | E71: 272
C72: Aabenraa | D72: 241 | E72: 296
C73: Favrskov | D73: 107 | E73: 99
C74: Hedensted | D74: 69 | E74: 67
C75: Horsens | D75: 157 | E75: 155
... C95: Jammerbugt | D95: 51 | E95: 53
C96: Læsø | D96: .. | E96: ..
C97: Mariagerfjord | D97: 77 | E97: 80
C98: Morsø | D98: 40 | E98: 43
C99: Rebild | D99: 114 | E99: 106
C100: Thisted | D100: 46 | E100: 65
C101: Vesthimmerlands | D101: 70 | E101: 67
C102: Aalborg | D102: 288 | E102: 314

Sheet HANDBU04
A1: Handicapindsatser til børn og unge mellem 0-17 år efter alder, indsats, kommune og tid
A2: Enhed: Antal
D3: 2024 | E3: 2025
A4: Alder i alt | B4: Handicapindsatser i alt | C4: Hele landet | D4: 15816 | E4: 15850
C5: København | D5: 2043 | E5: 2055
C6: Frederiksberg | D6: 199 | E6: 202
C7: Dragør | D7: 8 | E7: 11
C8: Tårnby | D8: 96 | E8: 108
C9: Albertslund | D9: 37 | E9: 51
C10: Ballerup | D10: 177 | E10: 159
C11: Brøndby | D11: 120 | E11: 131
C12: Gentofte | D12: 278 | E12: 293
C13: Gladsaxe | D13: 227 | E13: 254
C14: Glostrup | D14: 51 | E14: 71
C15: Herlev | D15: 55 | E15: 60
C16: Hvidovre | D16: 360 | E16: 258
... C59: Svendborg | D59: 182 | E59: 170
C60: Ærø | D60: .. | E60: ..
C61: Billund | D61: 131 | E61: 134
C62: Esbjerg | D62: 192 | E62: 185
C63: Fanø | D63: .. | E63: ..
C64: Fredericia | D64: 80 | E64: 71
C65: Haderslev | D65: 56 | E65: 72
C66: Kolding | D66: 266 | E66: 277
C67: Sønderborg | D67: 80 | E67: 76
C68: Tønder | D68: 30 | E68: 33
C69: Varde | D69: 74 | E69: 90
C70: Vejen | D70: 749 | E70: 781
C71: Vejle | D71: 327 | E71: 307
C72: Aabenraa | D72: 276 | E72: 324
C73: Favrskov | D73: 125 | E73: 117
C74: Hedensted | D74: 72 | E74: 72
C75: Horsens | D75: 171 | E75: 173
... C95: Jammerbugt | D95: 61 | E95: 55
C96: Læsø | D96: .. | E96: ..
C97: Mariagerfjord | D97: 90 | E97: 95
C98: Morsø | D98: 53 | E98: 54
C99: Rebild | D99: 141 | E99: 120
C100: Thisted | D100: 53 | E100: 79
C101: Vesthimmerlands | D101: 73 | E101: 68
C102: Aalborg | D102: 319 | E102: 348

Sheet FOLK1A
A1: Befolkningen den 1. i kvartalet efter område og tid
A2: Enhed: Antal
B3: 2025K1 | C3: 2026K1
A4: Hele landet | B4: 1140916 | C4: 1135912
A5: København | B5: 110740 | C5: 110604
A6: Frederiksberg | B6: 17381 | C6: 17131
A7: Dragør | B7: 3272 | C7: 3251
A8: Tårnby | B8: 9764 | C8: 9688
A9: Albertslund | B9: 5789 | C9: 5976
A10: Ballerup | B10: 10977 | C10: 11149
A11: Brøndby | B11: 8240 | C11: 8278
A12: Gentofte | B12: 15958 | C12: 15705
A13: Gladsaxe | B13: 15471 | C13: 15337
A14: Glostrup | B14: 4859 | C14: 5021
A15: Herlev | B15: 6530 | C15: 6765
... A103: Aalborg | B103: 39817 | C103: 39805
A105: Beregnet værdi: 0-17 Sum (værdi nr. 1 + 2 + 3 + 4 + 5 + 6 + 7 + 8 + 9 + 10 + 11 + 12 + 13 + 14 + 15 + 16 + 17 + 18) for variablen alder. Udelad oprindelige værdier
