Workbook

Sheet Analyse udvikling (2)
A1: Kommune | B1: 2020 | C1: 2021 | D1: 2022 | E1: 2023 | F1: 2024 | G1: 2025 | H1: udvikling 2020 til 2025 | I1: udvikling 2024 til 2025 | J1: pct udvikling 2020 til 2025 | L1: pct udvikling 2024 til 2025 | O1: Kommune | P1: 2020 | R1: 2025 | T1: udvikling 2020 til 2025
A2: Ishøj | B2: =VLOOKUP(A2,'Langfristet gæld'!$A$1:$G$100,2,FALSE) -> 17053.072 | C2: =VLOOKUP(A2,'Langfristet gæld'!$A$1:$G$100,3,FALSE) -> 15518.026 | D2: =VLOOKUP(A2,'Langfristet gæld'!$A$1:$G$100,4,FALSE) -> 13277.613 | E2: =VLOOKUP(A2,'Langfristet gæld'!$A$1:$G$100,5,FALSE) -> 9711.7134 | F2: =VLOOKUP(A2,'Langfristet gæld'!$A$1:$G$100,6,FALSE) -> 5096.2671 | G2: =VLOOKUP(A2,'Langfristet gæld'!$A$1:$G$100,7,FALSE) -> 5.4283978 | H2: =G2-B2 -> -17047.643 | I2: =G2-F2 -> -5090.8387 | J2: =(G2-B2)/B2 -> -0.99968168 | K2: 1 | L2: =(G2-F2)/F2 -> -0.99893483 | O2: Læsø | P2: =VLOOKUP(O2,'Langfristet gæld'!$A$1:$G$100,2,FALSE) -> 69715.757 | Q2: 97 | R2: =VLOOKUP(O2,'Langfristet gæld'!$A$1:$G$100,7,FALSE) -> 43004.753 | S2: 96 | T2: =R2-P2 -> -26711.003 | U2: 1
A3: Nordfyns | B3: =VLOOKUP(A3,'Langfristet gæld'!$A$1:$G$100,2,FALSE) -> 2504.7854 | C3: =VLOOKUP(A3,'Langfristet gæld'!$A$1:$G$100,3,FALSE) -> 2058.8502 | D3: =VLOOKUP(A3,'Langfristet gæld'!$A$1:$G$100,4,FALSE) -> 1615.1589 | E3: =VLOOKUP(A3,'Langfristet gæld'!$A$1:$G$100,5,FALSE) -> 1213.2663 | F3: =VLOOKUP(A3,'Langfristet gæld'!$A$1:$G$100,6,FALSE) -> 826.95743 | G3: =VLOOKUP(A3,'Langfristet gæld'!$A$1:$G$100,7,FALSE) -> 479.72857 | H3: =G3-B3 -> -2025.0568 | I3: =G3-F3 -> -347.22886 | J3: =(G3-B3)/B3 -> -0.80847518 | K3: 2 | L3: =(G3-F3)/F3 -> -0.41988722 | O3: Samsø | P3: =VLOOKUP(O3,'Langfristet gæld'!$A$1:$G$100,2,FALSE) -> 122697.48 | Q3: 99 | R3: =VLOOKUP(O3,'Langfristet gæld'!$A$1:$G$100,7,FALSE) -> 97046.724 | S3: 99 | T3: =R3-P3 -> -25650.751 | U3: 2
A4: Norddjurs | B4: =VLOOKUP(A4,'Langfristet gæld'!$A$1:$G$100,2,FALSE) -> 11848.573 | C4: =VLOOKUP(A4,'Langfristet gæld'!$A$1:$G$100,3,FALSE) -> 9424.0433 | D4: =VLOOKUP(A4,'Langfristet gæld'!$A$1:$G$100,4,FALSE) -> 6920.8575 | E4: =VLOOKUP(A4,'Langfristet gæld'!$A$1:$G$100,5,FALSE) -> 5961.3182 | F4: =VLOOKUP(A4,'Langfristet gæld'!$A$1:$G$100,6,FALSE) -> 3594.4095 | G4: =VLOOKUP(A4,'Langfristet gæld'!$A$1:$G$100,7,FALSE) -> 2661.266 | H4: =G4-B4 -> -9187.3074 | I4: =G4-F4 -> -933.14346 | J4: =(G4-B4)/B4 -> -0.77539355 | K4: 3 | L4: =(G4-F4)/F4 -> -0.25960967 | O4: Furesø | P4: =VLOOKUP(O4,'Langfristet gæld'!$A$1:$G$100,2,FALSE) -> 69970.194 | Q4: 98 | R4: =VLOOKUP(O4,'Langfristet gæld'!$A$1:$G$100,7,FALSE) -> 51167.771 | S4: 98 | T4: =R4-P4 -> -18802.424 | U4: 3
A5: Fredensborg | B5: =VLOOKUP(A5,'Langfristet gæld'!$A$1:$G$100,2,FALSE) -> 9695.6548 | C5: =VLOOKUP(A5,'Langfristet gæld'!$A$1:$G$100,3,FALSE) -> 7948.0898 | D5: =VLOOKUP(A5,'Langfristet gæld'!$A$1:$G$100,4,FALSE) -> 6015.0942 | E5: =VLOOKUP(A5,'Langfristet gæld'!$A$1:$G$100,5,FALSE) -> 4435.5268 | F5: =VLOOKUP(A5,'Langfristet gæld'!$A$1:$G$100,6,FALSE) -> 4539.2252 | G5: =VLOOKUP(A5,'Langfristet gæld'!$A$1:$G$100,7,FALSE) -> 3967.7465 | H5: =G5-B5 -> -5727.9083 | I5: =G5-F5 -> -571.4787 | J5: =(G5-B5)/B5 -> -0.59077065 | K5: 4 | L5: =(G5-F5)/F5 -> -0.12589785 | O5: Ishøj | P5: =VLOOKUP(O5,'Langfristet gæld'!$A$1:$G$100,2,FALSE) -> 17053.072 | Q5: 72 | R5: =VLOOKUP(O5,'Langfristet gæld'!$A$1:$G$100,7,FALSE) -> 5.4283978 | S5: 2 | T5: =R5-P5 -> -17047.643 | U5: 4
A6: Kalundborg | B6: =VLOOKUP(A6,'Langfristet gæld'!$A$1:$G$100,2,FALSE) -> 6789.4923 | C6: =VLOOKUP(A6,'Langfristet gæld'!$A$1:$G$100,3,FALSE) -> 5631.3068 | D6: =VLOOKUP(A6,'Langfristet gæld'!$A$1:$G$100,4,FALSE) -> 4426.0652 | E6: =VLOOKUP(A6,'Langfristet gæld'!$A$1:$G$100,5,FALSE) -> 3315.2742 | F6: =VLOOKUP(A6,'Langfristet gæld'!$A$1:$G$100,6,FALSE) -> 3087.8775 | G6: =VLOOKUP(A6,'Langfristet gæld'!$A$1:$G$100,7,FALSE) -> 2791.3 | H6: =G6-B6 -> -3998.1923 | I6: =G6-F6 -> -296.57748 | J6: =(G6-B6)/B6 -> -0.58887942 | K6: 5 | L6: =(G6-F6)/F6 -> -0.09604574 | O6: Egedal | P6: =VLOOKUP(O6,'Langfristet gæld'!$A$1:$G$100,2,FALSE) -> 24969.925 | Q6: 93 | R6: =VLOOKUP(O6,'Langfristet gæld'!$A$1:$G$100,7,FALSE) -> 12595.631 | S6: 73 | T6: =R6-P6 -> -12374.294 | U6: 5
A7: Frederikssund | B7: =VLOOKUP(A7,'Langfristet gæld'!$A$1:$G$100,2,FALSE) -> 12602.106 | C7: =VLOOKUP(A7,'Langfristet gæld'!$A$1:$G$100,3,FALSE) -> 9809.299 | D7: =VLOOKUP(A7,'Langfristet gæld'!$A$1:$G$100,4,FALSE) -> 9020.9887 | E7: =VLOOKUP(A7,'Langfristet gæld'!$A$1:$G$100,5,FALSE) -> 8372.3421 | F7: =VLOOKUP(A7,'Langfristet gæld'!$A$1:$G$100,6,FALSE) -> 6785.094 | G7: =VLOOKUP(A7,'Langfristet gæld'!$A$1:$G$100,7,FALSE) -> 5602.2761 | H7: =G7-B7 -> -6999.8301 | I7: =G7-F7 -> -1182.8179 | J7: =(G7-B7)/B7 -> -0.55544923 | K7: 6 | L7: =(G7-F7)/F7 -> -0.17432594 | O7: Vallensbæk | P7: =VLOOKUP(O7,'Langfristet gæld'!$A$1:$G$100,2,FALSE) -> 22606.574 | Q7: 90 | R7: =VLOOKUP(O7,'Langfristet gæld'!$A$1:$G$100,7,FALSE) -> 12573.332 | S7: 72 | T7: =R7-P7 -> -10033.242 | U7: 6
A8: Odense | B8: =VLOOKUP(A8,'Langfristet gæld'!$A$1:$G$100,2,FALSE) -> 5204.5549 | C8: =VLOOKUP(A8,'Langfristet gæld'!$A$1:$G$100,3,FALSE) -> 5403.0415 | D8: =VLOOKUP(A8,'Langfristet gæld'!$A$1:$G$100,4,FALSE) -> 5231.7924 | E8: =VLOOKUP(A8,'Langfristet gæld'!$A$1:$G$100,5,FALSE) -> 4929.6669 | F8: =VLOOKUP(A8,'Langfristet gæld'!$A$1:$G$100,6,FALSE) -> 4527.6787 | G8: =VLOOKUP(A8,'Langfristet gæld'!$A$1:$G$100,7,FALSE) -> 2355.2597 | H8: =G8-B8 -> -2849.2952 | I8: =G8-F8 -> -2172.419 | J8: =(G8-B8)/B8 -> -0.54746184 | K8: 7 | L8: =(G8-F8)/F8 -> -0.47980856 | O8: Norddjurs | P8: =VLOOKUP(O8,'Langfristet gæld'!$A$1:$G$100,2,FALSE) -> 11848.573 | Q8: 45 | R8: =VLOOKUP(O8,'Langfristet gæld'!$A$1:$G$100,7,FALSE) -> 2661.266 | S8: 9 | T8: =R8-P8 -> -9187.3074 | U8: 7
A9: Næstved | B9: =VLOOKUP(A9,'Langfristet gæld'!$A$1:$G$100,2,FALSE) -> 12188.097 | C9: =VLOOKUP(A9,'Langfristet gæld'!$A$1:$G$100,3,FALSE) -> 10164.874 | D9: =VLOOKUP(A9,'Langfristet gæld'!$A$1:$G$100,4,FALSE) -> 8637.8996 | E9: =VLOOKUP(A9,'Langfristet gæld'!$A$1:$G$100,5,FALSE) -> 7386.3136 | F9: =VLOOKUP(A9,'Langfristet gæld'!$A$1:$G$100,6,FALSE) -> 6598.2907 | G9: =VLOOKUP(A9,'Langfristet gæld'!$A$1:$G$100,7,FALSE) -> 5819.8396 | H9: =G9-B9 -> -6368.257 | I9: =G9-F9 -> -778.4511 | J9: =(G9-B9)/B9 -> -0.52249807 | K9: 8 | L9: =(G9-F9)/F9 -> -0.11797769 | O9: Lolland | P9: =VLOOKUP(O9,'Langfristet gæld'!$A$1:$G$100,2,FALSE) -> 28311.096 | Q9: 95 | R9: =VLOOKUP(O9,'Langfristet gæld'!$A$1:$G$100,7,FALSE) -> 20018.971 | S9: 91 | T9: =R9-P9 -> -8292.1256 | U9: 8
A10: Solrød | B10: =VLOOKUP(A10,'Langfristet gæld'!$A$1:$G$100,2,FALSE) -> 7409.6883 | C10: =VLOOKUP(A10,'Langfristet gæld'!$A$1:$G$100,3,FALSE) -> 6682.2444 | D10: =VLOOKUP(A10,'Langfristet gæld'!$A$1:$G$100,4,FALSE) -> 5815.687 | E10: =VLOOKUP(A10,'Langfristet gæld'!$A$1:$G$100,5,FALSE) -> 4964.9198 | F10: =VLOOKUP(A10,'Langfristet gæld'!$A$1:$G$100,6,FALSE) -> 4281.493 | G10: =VLOOKUP(A10,'Langfristet gæld'!$A$1:$G$100,7,FALSE) -> 3712.5399 | H10: =G10-B10 -> -3697.1484 | I10: =G10-F10 -> -568.95311 | J10: =(G10-B10)/B10 -> -0.49896139 | K10: 9 | L10: =(G10-F10)/F10 -> -0.13288661 | O10: Sorø | P10: =VLOOKUP(O10,'Langfristet gæld'!$A$1:$G$100,2,FALSE) -> 18750.06 | Q10: 83 | R10: =VLOOKUP(O10,'Langfristet gæld'!$A$1:$G$100,7,FALSE) -> 10521.408 | S10: 55 | T10: =R10-P10 -> -8228.6518 | U10: 9
A11: Egedal | B11: =VLOOKUP(A11,'Langfristet gæld'!$A$1:$G$100,2,FALSE) -> 24969.925 | C11: =VLOOKUP(A11,'Langfristet gæld'!$A$1:$G$100,3,FALSE) -> 13370.049 | D11: =VLOOKUP(A11,'Langfristet gæld'!$A$1:$G$100,4,FALSE) -> 13480.551 | E11: =VLOOKUP(A11,'Langfristet gæld'!$A$1:$G$100,5,FALSE) -> 13957.949 | F11: =VLOOKUP(A11,'Langfristet gæld'!$A$1:$G$100,6,FALSE) -> 13538.859 | G11: =VLOOKUP(A11,'Langfristet gæld'!$A$1:$G$100,7,FALSE) -> 12595.631 | H11: =G11-B11 -> -12374.294 | I11: =G11-F11 -> -943.22708 | J11: =(G11-B11)/B11 -> -0.49556791 | K11: 10 | L11: =(G11-F11)/F11 -> -0.069668139 | O11: Assens | P11: =VLOOKUP(O11,'Langfristet gæld'!$A$1:$G$100,2,FALSE) -> 17390.67 | Q11: 75 | R11: =VLOOKUP(O11,'Langfristet gæld'!$A$1:$G$100,7,FALSE) -> 9786.3707 | S11: 49 | T11: =R11-P11 -> -7604.2994 | U11: 10
A12: Skive | B12: =VLOOKUP(A12,'Langfristet gæld'!$A$1:$G$100,2,FALSE) -> 11784.77 | C12: =VLOOKUP(A12,'Langfristet gæld'!$A$1:$G$100,3,FALSE) -> 11261.966 | D12: =VLOOKUP(A12,'Langfristet gæld'!$A$1:$G$100,4,FALSE) -> 10198.561 | E12: =VLOOKUP(A12,'Langfristet gæld'!$A$1:$G$100,5,FALSE) -> 9248.108 | F12: =VLOOKUP(A12,'Langfristet gæld'!$A$1:$G$100,6,FALSE) -> 8144.1511 | G12: =VLOOKUP(A12,'Langfristet gæld'!$A$1:$G$100,7,FALSE) -> 6252.5848 | H12: =G12-B12 -> -5532.1856 | I12: =G12-F12 -> -1891.5663 | J12: =(G12-B12)/B12 -> -0.46943516 | K12: 11 | L12: =(G12-F12)/F12 -> -0.23226071 | O12: Guldborgsund | P12: =VLOOKUP(O12,'Langfristet gæld'!$A$1:$G$100,2,FALSE) -> 25281.133 | Q12: 94 | R12: =VLOOKUP(O12,'Langfristet gæld'!$A$1:$G$100,7,FALSE) -> 17892.217 | S12: 88 | T12: =R12-P12 -> -7388.9153 | U12: 11
A13: Langeland | B13: =VLOOKUP(A13,'Langfristet gæld'!$A$1:$G$100,2,FALSE) -> 13227.798 | C13: =VLOOKUP(A13,'Langfristet gæld'!$A$1:$G$100,3,FALSE) -> 11776.899 | D13: =VLOOKUP(A13,'Langfristet gæld'!$A$1:$G$100,4,FALSE) -> 10290.374 | E13: =VLOOKUP(A13,'Langfristet gæld'!$A$1:$G$100,5,FALSE) -> 9226.621 | F13: =VLOOKUP(A13,'Langfristet gæld'!$A$1:$G$100,6,FALSE) -> 8473.9537 | G13: =VLOOKUP(A13,'Langfristet gæld'!$A$1:$G$100,7,FALSE) -> 7056.4986 | H13: =G13-B13 -> -6171.2993 | I13: =G13-F13 -> -1417.4551 | J13: =(G13-B13)/B13 -> -0.46654019 | K13: 12 | L13: =(G13-F13)/F13 -> -0.16727199 | O13: Frederikssund | P13: =VLOOKUP(O13,'Langfristet gæld'!$A$1:$G$100,2,FALSE) -> 12602.106 | Q13: 55 | R13: =VLOOKUP(O13,'Langfristet gæld'!$A$1:$G$100,7,FALSE) -> 5602.2761 | S13: 21 | T13: =R13-P13 -> -6999.8301 | U13: 12
... A80: Glostrup | B80: =VLOOKUP(A80,'Langfristet gæld'!$A$1:$G$100,2,FALSE) -> 5211.8934 | C80: =VLOOKUP(A80,'Langfristet gæld'!$A$1:$G$100,3,FALSE) -> 6040.7514 | D80: =VLOOKUP(A80,'Langfristet gæld'!$A$1:$G$100,4,FALSE) -> 5941.3211 | E80: =VLOOKUP(A80,'Langfristet gæld'!$A$1:$G$100,5,FALSE) -> 5952.5517 | F80: =VLOOKUP(A80,'Langfristet gæld'!$A$1:$G$100,6,FALSE) -> 5533.2973 | G80: =VLOOKUP(A80,'Langfristet gæld'!$A$1:$G$100,7,FALSE) -> 5207.4398 | H80: =G80-B80 -> -4.4536052 | I80: =G80-F80 -> -325.85747 | J80: =(G80-B80)/B80 -> -0.00085450811 | K80: 79 | L80: =(G80-F80)/F80 -> -0.058890288 | O80: Glostrup | P80: =VLOOKUP(O80,'Langfristet gæld'!$A$1:$G$100,2,FALSE) -> 5211.8934 | Q80: 10 | R80: =VLOOKUP(O80,'Langfristet gæld'!$A$1:$G$100,7,FALSE) -> 5207.4398 | S80: 20 | T80: =R80-P80 -> -4.4536052 | U80: 79
A81: Aalborg | B81: =VLOOKUP(A81,'Langfristet gæld'!$A$1:$G$100,2,FALSE) -> 8412.5988 | C81: =VLOOKUP(A81,'Langfristet gæld'!$A$1:$G$100,3,FALSE) -> 9783.9747 | D81: =VLOOKUP(A81,'Langfristet gæld'!$A$1:$G$100,4,FALSE) -> 9715.2196 | E81: =VLOOKUP(A81,'Langfristet gæld'!$A$1:$G$100,5,FALSE) -> 9633.909 | F81: =VLOOKUP(A81,'Langfristet gæld'!$A$1:$G$100,6,FALSE) -> 8652.437 | G81: =VLOOKUP(A81,'Langfristet gæld'!$A$1:$G$100,7,FALSE) -> 8597.7003 | H81: =G81-B81 -> 185.10155 | I81: =G81-F81 -> -54.736693 | J81: =(G81-B81)/B81 -> 0.022002898 | K81: 80 | L81: =(G81-F81)/F81 -> -0.0063261591 | O81: Tårnby | P81: =VLOOKUP(O81,'Langfristet gæld'!$A$1:$G$100,2,FALSE) -> 0 | Q81: 1 | R81: 0 | S81: 1 | T81: =R81-P81 -> 0 | U81: 80
A82: Esbjerg | B82: =VLOOKUP(A82,'Langfristet gæld'!$A$1:$G$100,2,FALSE) -> 11259.532 | C82: =VLOOKUP(A82,'Langfristet gæld'!$A$1:$G$100,3,FALSE) -> 10816.047 | D82: =VLOOKUP(A82,'Langfristet gæld'!$A$1:$G$100,4,FALSE) -> 11374.192 | E82: =VLOOKUP(A82,'Langfristet gæld'!$A$1:$G$100,5,FALSE) -> 10908.101 | F82: =VLOOKUP(A82,'Langfristet gæld'!$A$1:$G$100,6,FALSE) -> 10715.499 | G82: =VLOOKUP(A82,'Langfristet gæld'!$A$1:$G$100,7,FALSE) -> 11781.76 | H82: =G82-B82 -> 522.22794 | I82: =G82-F82 -> 1066.2613 | J82: =(G82-B82)/B82 -> 0.046380962 | K82: 81 | L82: =(G82-F82)/F82 -> 0.099506449 | O82: Billund | P82: =VLOOKUP(O82,'Langfristet gæld'!$A$1:$G$100,2,FALSE) -> 9.3637151 | Q82: 3 | R82: =VLOOKUP(O82,'Langfristet gæld'!$A$1:$G$100,7,FALSE) -> 15.036765 | S82: 3 | T82: =R82-P82 -> 5.6730496 | U82: 81
A83: Aarhus | B83: =VLOOKUP(A83,'Langfristet gæld'!$A$1:$G$100,2,FALSE) -> 9377.907 | C83: =VLOOKUP(A83,'Langfristet gæld'!$A$1:$G$100,3,FALSE) -> 11435.326 | D83: =VLOOKUP(A83,'Langfristet gæld'!$A$1:$G$100,4,FALSE) -> 10955.964 | E83: =VLOOKUP(A83,'Langfristet gæld'!$A$1:$G$100,5,FALSE) -> 10786.724 | F83: =VLOOKUP(A83,'Langfristet gæld'!$A$1:$G$100,6,FALSE) -> 10694.633 | G83: =VLOOKUP(A83,'Langfristet gæld'!$A$1:$G$100,7,FALSE) -> 9830.2838 | H83: =G83-B83 -> 452.37675 | I83: =G83-F83 -> -864.34902 | J83: =(G83-B83)/B83 -> 0.048238563 | K83: 82 | L83: =(G83-F83)/F83 -> -0.080820822 | O83: Aalborg | P83: =VLOOKUP(O83,'Langfristet gæld'!$A$1:$G$100,2,FALSE) -> 8412.5988 | Q83: 19 | R83: =VLOOKUP(O83,'Langfristet gæld'!$A$1:$G$100,7,FALSE) -> 8597.7003 | S83: 43 | T83: =R83-P83 -> 185.10155 | U83: 82
A84: Gladsaxe | B84: =VLOOKUP(A84,'Langfristet gæld'!$A$1:$G$100,2,FALSE) -> 11842.01 | C84: =VLOOKUP(A84,'Langfristet gæld'!$A$1:$G$100,3,FALSE) -> 11663.626 | D84: =VLOOKUP(A84,'Langfristet gæld'!$A$1:$G$100,4,FALSE) -> 10098.845 | E84: =VLOOKUP(A84,'Langfristet gæld'!$A$1:$G$100,5,FALSE) -> 9792.6457 | F84: =VLOOKUP(A84,'Langfristet gæld'!$A$1:$G$100,6,FALSE) -> 11128.968 | G84: =VLOOKUP(A84,'Langfristet gæld'!$A$1:$G$100,7,FALSE) -> 12542.923 | H84: =G84-B84 -> 700.91309 | I84: =G84-F84 -> 1413.9556 | J84: =(G84-B84)/B84 -> 0.059188692 | K84: 83 | L84: =(G84-F84)/F84 -> 0.12705182 | O84: Brøndby | P84: =VLOOKUP(O84,'Langfristet gæld'!$A$1:$G$100,2,FALSE) -> 0.35936081 | Q84: 2 | R84: =VLOOKUP(O84,'Langfristet gæld'!$A$1:$G$100,7,FALSE) -> 226.88461 | S84: 5 | T84: =R84-P84 -> 226.52525 | U84: 83
A85: Frederiksberg | B85: =VLOOKUP(A85,'Langfristet gæld'!$A$1:$G$100,2,FALSE) -> 13254.735 | C85: =VLOOKUP(A85,'Langfristet gæld'!$A$1:$G$100,3,FALSE) -> 15065.156 | D85: =VLOOKUP(A85,'Langfristet gæld'!$A$1:$G$100,4,FALSE) -> 16593.475 | E85: =VLOOKUP(A85,'Langfristet gæld'!$A$1:$G$100,5,FALSE) -> 16963.317 | F85: =VLOOKUP(A85,'Langfristet gæld'!$A$1:$G$100,6,FALSE) -> 15809.193 | G85: =VLOOKUP(A85,'Langfristet gæld'!$A$1:$G$100,7,FALSE) -> 14624.117 | H85: =G85-B85 -> 1369.3821 | I85: =G85-F85 -> -1185.0759 | J85: =(G85-B85)/B85 -> 0.10331268 | K85: 84 | L85: =(G85-F85)/F85 -> -0.074961188 | O85: Aarhus | P85: =VLOOKUP(O85,'Langfristet gæld'!$A$1:$G$100,2,FALSE) -> 9377.907 | Q85: 24 | R85: =VLOOKUP(O85,'Langfristet gæld'!$A$1:$G$100,7,FALSE) -> 9830.2838 | S85: 50 | T85: =R85-P85 -> 452.37675 | U85: 84
A86: Randers | B86: =VLOOKUP(A86,'Langfristet gæld'!$A$1:$G$100,2,FALSE) -> 10771.644 | C86: =VLOOKUP(A86,'Langfristet gæld'!$A$1:$G$100,3,FALSE) -> 10562.177 | D86: =VLOOKUP(A86,'Langfristet gæld'!$A$1:$G$100,4,FALSE) -> 10241.254 | E86: =VLOOKUP(A86,'Langfristet gæld'!$A$1:$G$100,5,FALSE) -> 9877.7123 | F86: =VLOOKUP(A86,'Langfristet gæld'!$A$1:$G$100,6,FALSE) -> 9903.2442 | G86: =VLOOKUP(A86,'Langfristet gæld'!$A$1:$G$100,7,FALSE) -> 11931.934 | H86: =G86-B86 -> 1160.29 | I86: =G86-F86 -> 2028.6897 | J86: =(G86-B86)/B86 -> 0.10771708 | K86: 85 | L86: =(G86-F86)/F86 -> 0.20485102 | O86: Silkeborg | P86: =VLOOKUP(O86,'Langfristet gæld'!$A$1:$G$100,2,FALSE) -> 4110.9003 | Q86: 7 | R86: =VLOOKUP(O86,'Langfristet gæld'!$A$1:$G$100,7,FALSE) -> 4630.366 | S86: 14 | T86: =R86-P86 -> 519.46576 | U86: 85
A87: Silkeborg | B87: =VLOOKUP(A87,'Langfristet gæld'!$A$1:$G$100,2,FALSE) -> 4110.9003 | C87: =VLOOKUP(A87,'Langfristet gæld'!$A$1:$G$100,3,FALSE) -> 6176.1426 | D87: =VLOOKUP(A87,'Langfristet gæld'!$A$1:$G$100,4,FALSE) -> 6094.0505 | E87: =VLOOKUP(A87,'Langfristet gæld'!$A$1:$G$100,5,FALSE) -> 6001.8471 | F87: =VLOOKUP(A87,'Langfristet gæld'!$A$1:$G$100,6,FALSE) -> 5322.3165 | G87: =VLOOKUP(A87,'Langfristet gæld'!$A$1:$G$100,7,FALSE) -> 4630.366 | H87: =G87-B87 -> 519.46576 | I87: =G87-F87 -> -691.95046 | J87: =(G87-B87)/B87 -> 0.12636302 | K87: 86 | L87: =(G87-F87)/F87 -> -0.13000927 | O87: Esbjerg | P87: =VLOOKUP(O87,'Langfristet gæld'!$A$1:$G$100,2,FALSE) -> 11259.532 | Q87: 37 | R87: =VLOOKUP(O87,'Langfristet gæld'!$A$1:$G$100,7,FALSE) -> 11781.76 | S87: 64 | T87: =R87-P87 -> 522.22794 | U87: 86
A88: Hvidovre | B88: =VLOOKUP(A88,'Langfristet gæld'!$A$1:$G$100,2,FALSE) -> 6351.8076 | C88: =VLOOKUP(A88,'Langfristet gæld'!$A$1:$G$100,3,FALSE) -> 6596.7631 | D88: =VLOOKUP(A88,'Langfristet gæld'!$A$1:$G$100,4,FALSE) -> 6779.9702 | E88: =VLOOKUP(A88,'Langfristet gæld'!$A$1:$G$100,5,FALSE) -> 7317.0226 | F88: =VLOOKUP(A88,'Langfristet gæld'!$A$1:$G$100,6,FALSE) -> 7505.3195 | G88: =VLOOKUP(A88,'Langfristet gæld'!$A$1:$G$100,7,FALSE) -> 7309.6186 | H88: =G88-B88 -> 957.81101 | I88: =G88-F88 -> -195.70081 | J88: =(G88-B88)/B88 -> 0.15079345 | K88: 87 | L88: =(G88-F88)/F88 -> -0.026074947 | O88: Gladsaxe | P88: =VLOOKUP(O88,'Langfristet gæld'!$A$1:$G$100,2,FALSE) -> 11842.01 | Q88: 44 | R88: =VLOOKUP(O88,'Langfristet gæld'!$A$1:$G$100,7,FALSE) -> 12542.923 | S88: 71 | T88: =R88-P88 -> 700.91309 | U88: 87
A89: Bornholm | B89: =VLOOKUP(A89,'Langfristet gæld'!$A$1:$G$100,2,FALSE) -> 8880.618 | C89: =VLOOKUP(A89,'Langfristet gæld'!$A$1:$G$100,3,FALSE) -> 8810.7071 | D89: =VLOOKUP(A89,'Langfristet gæld'!$A$1:$G$100,4,FALSE) -> 8747.2849 | E89: =VLOOKUP(A89,'Langfristet gæld'!$A$1:$G$100,5,FALSE) -> 8711.8119 | F89: =VLOOKUP(A89,'Langfristet gæld'!$A$1:$G$100,6,FALSE) -> 10001.594 | G89: =VLOOKUP(A89,'Langfristet gæld'!$A$1:$G$100,7,FALSE) -> 10240.117 | H89: =G89-B89 -> 1359.4988 | I89: =G89-F89 -> 238.52255 | J89: =(G89-B89)/B89 -> 0.15308606 | K89: 88 | L89: =(G89-F89)/F89 -> 0.023848453 | O89: Lyngby-Taarbæk | P89: =VLOOKUP(O89,'Langfristet gæld'!$A$1:$G$100,2,FALSE) -> 3720.3075 | Q89: 6 | R89: =VLOOKUP(O89,'Langfristet gæld'!$A$1:$G$100,7,FALSE) -> 4637.4927 | S89: 15 | T89: =R89-P89 -> 917.18523 | U89: 88
A90: Odsherred | B90: =VLOOKUP(A90,'Langfristet gæld'!$A$1:$G$100,2,FALSE) -> 18503.506 | C90: =VLOOKUP(A90,'Langfristet gæld'!$A$1:$G$100,3,FALSE) -> 18257.489 | D90: =VLOOKUP(A90,'Langfristet gæld'!$A$1:$G$100,4,FALSE) -> 17614.169 | E90: =VLOOKUP(A90,'Langfristet gæld'!$A$1:$G$100,5,FALSE) -> 18044.15 | F90: =VLOOKUP(A90,'Langfristet gæld'!$A$1:$G$100,6,FALSE) -> 15177.824 | G90: =VLOOKUP(A90,'Langfristet gæld'!$A$1:$G$100,7,FALSE) -> 21381.049 | H90: =G90-B90 -> 2877.5434 | I90: =G90-F90 -> 6203.2254 | J90: =(G90-B90)/B90 -> 0.15551341 | K90: 89 | L90: =(G90-F90)/F90 -> 0.40870322 | O90: Hvidovre | P90: =VLOOKUP(O90,'Langfristet gæld'!$A$1:$G$100,2,FALSE) -> 6351.8076 | Q90: 12 | R90: =VLOOKUP(O90,'Langfristet gæld'!$A$1:$G$100,7,FALSE) -> 7309.6186 | S90: 32 | T90: =R90-P90 -> 957.81101 | U90: 89
A91: Albertslund | B91: =VLOOKUP(A91,'Langfristet gæld'!$A$1:$G$100,2,FALSE) -> 20163.614 | C91: =VLOOKUP(A91,'Langfristet gæld'!$A$1:$G$100,3,FALSE) -> 21363.665 | D91: =VLOOKUP(A91,'Langfristet gæld'!$A$1:$G$100,4,FALSE) -> 21660.498 | E91: =VLOOKUP(A91,'Langfristet gæld'!$A$1:$G$100,5,FALSE) -> 21499.349 | F91: =VLOOKUP(A91,'Langfristet gæld'!$A$1:$G$100,6,FALSE) -> 24428.69 | G91: =VLOOKUP(A91,'Langfristet gæld'!$A$1:$G$100,7,FALSE) -> 23389.891 | H91: =G91-B91 -> 3226.2775 | I91: =G91-F91 -> -1038.7988 | J91: =(G91-B91)/B91 -> 0.16000492 | K91: 90 | L91: =(G91-F91)/F91 -> -0.042523719 | O91: Randers | P91: =VLOOKUP(O91,'Langfristet gæld'!$A$1:$G$100,2,FALSE) -> 10771.644 | Q91: 35 | R91: =VLOOKUP(O91,'Langfristet gæld'!$A$1:$G$100,7,FALSE) -> 11931.934 | S91: 67 | T91: =R91-P91 -> 1160.29 | U91: 90
A92: Lyngby-Taarbæk | B92: =VLOOKUP(A92,'Langfristet gæld'!$A$1:$G$100,2,FALSE) -> 3720.3075 | C92: =VLOOKUP(A92,'Langfristet gæld'!$A$1:$G$100,3,FALSE) -> 3496.3073 | D92: =VLOOKUP(A92,'Langfristet gæld'!$A$1:$G$100,4,FALSE) -> 3497.5355 | E92: =VLOOKUP(A92,'Langfristet gæld'!$A$1:$G$100,5,FALSE) -> 4257.921 | F92: =VLOOKUP(A92,'Langfristet gæld'!$A$1:$G$100,6,FALSE) -> 4835.5837 | G92: =VLOOKUP(A92,'Langfristet gæld'!$A$1:$G$100,7,FALSE) -> 4637.4927 | H92: =G92-B92 -> 917.18523 | I92: =G92-F92 -> -198.09094 | J92: =(G92-B92)/B92 -> 0.24653479 | K92: 91 | L92: =(G92-F92)/F92 -> -0.040965259 | O92: Bornholm | P92: =VLOOKUP(O92,'Langfristet gæld'!$A$1:$G$100,2,FALSE) -> 8880.618 | Q92: 21 | R92: =VLOOKUP(O92,'Langfristet gæld'!$A$1:$G$100,7,FALSE) -> 10240.117 | S92: 54 | T92: =R92-P92 -> 1359.4988 | U92: 91
A93: Rudersdal | B93: =VLOOKUP(A93,'Langfristet gæld'!$A$1:$G$100,2,FALSE) -> 8229.537 | C93: =VLOOKUP(A93,'Langfristet gæld'!$A$1:$G$100,3,FALSE) -> 10448.324 | D93: =VLOOKUP(A93,'Langfristet gæld'!$A$1:$G$100,4,FALSE) -> 11535.337 | E93: =VLOOKUP(A93,'Langfristet gæld'!$A$1:$G$100,5,FALSE) -> 13022.201 | F93: =VLOOKUP(A93,'Langfristet gæld'!$A$1:$G$100,6,FALSE) -> 12354.488 | G93: =VLOOKUP(A93,'Langfristet gæld'!$A$1:$G$100,7,FALSE) -> 11252.884 | H93: =G93-B93 -> 3023.3467 | I93: =G93-F93 -> -1101.6039 | J93: =(G93-B93)/B93 -> 0.3673775 | K93: 92 | L93: =(G93-F93)/F93 -> -0.0891663 | O93: Frederiksberg | P93: =VLOOKUP(O93,'Langfristet gæld'!$A$1:$G$100,2,FALSE) -> 13254.735 | Q93: 62 | R93: =VLOOKUP(O93,'Langfristet gæld'!$A$1:$G$100,7,FALSE) -> 14624.117 | S93: 81 | T93: =R93-P93 -> 1369.3821 | U93: 92
... A98: Thisted | B98: =VLOOKUP(A98,'Langfristet gæld'!$A$1:$G$100,2,FALSE) -> 9532.1254 | C98: =VLOOKUP(A98,'Langfristet gæld'!$A$1:$G$100,3,FALSE) -> 9636.4098 | D98: =VLOOKUP(A98,'Langfristet gæld'!$A$1:$G$100,4,FALSE) -> 10046.808 | E98: =VLOOKUP(A98,'Langfristet gæld'!$A$1:$G$100,5,FALSE) -> 22990.55 | F98: =VLOOKUP(A98,'Langfristet gæld'!$A$1:$G$100,6,FALSE) -> 20589.721 | G98: =VLOOKUP(A98,'Langfristet gæld'!$A$1:$G$100,7,FALSE) -> 16473.386 | H98: =G98-B98 -> 6941.2608 | I98: =G98-F98 -> -4116.3342 | J98: =(G98-B98)/B98 -> 0.72819655 | K98: 97 | L98: =(G98-F98)/F98 -> -0.19992181 | O98: Thisted | P98: =VLOOKUP(O98,'Langfristet gæld'!$A$1:$G$100,2,FALSE) -> 9532.1254 | Q98: 26 | R98: =VLOOKUP(O98,'Langfristet gæld'!$A$1:$G$100,7,FALSE) -> 16473.386 | S98: 86 | T98: =R98-P98 -> 6941.2608 | U98: 97
A99: Tårnby | B99: =VLOOKUP(A99,'Langfristet gæld'!$A$1:$G$100,2,FALSE) -> 0 | C99: =VLOOKUP(A99,'Langfristet gæld'!$A$1:$G$100,3,FALSE) -> 0 | D99: =VLOOKUP(A99,'Langfristet gæld'!$A$1:$G$100,4,FALSE) -> 0 | E99: =VLOOKUP(A99,'Langfristet gæld'!$A$1:$G$100,5,FALSE) -> 0 | F99: =VLOOKUP(A99,'Langfristet gæld'!$A$1:$G$100,6,FALSE) -> 0 | G99: =VLOOKUP(A99,'Langfristet gæld'!$A$1:$G$100,7,FALSE) -> 0 | H99: =G99-B99 -> 0 | I99: =G99-F99 -> 0 | K99: 98 | O99: Gentofte | P99: =VLOOKUP(O99,'Langfristet gæld'!$A$1:$G$100,2,FALSE) -> 20005.322 | Q99: 86 | R99: =VLOOKUP(O99,'Langfristet gæld'!$A$1:$G$100,7,FALSE) -> 28497.737 | S99: 94 | T99: =R99-P99 -> 8492.4147 | U99: 98
A100: Brøndby | B100: =VLOOKUP(A100,'Langfristet gæld'!$A$1:$G$100,2,FALSE) -> 0.35936081 | C100: =VLOOKUP(A100,'Langfristet gæld'!$A$1:$G$100,3,FALSE) -> 0 | D100: =VLOOKUP(A100,'Langfristet gæld'!$A$1:$G$100,4,FALSE) -> 0 | E100: =VLOOKUP(A100,'Langfristet gæld'!$A$1:$G$100,5,FALSE) -> 0 | F100: =VLOOKUP(A100,'Langfristet gæld'!$A$1:$G$100,6,FALSE) -> 0 | G100: =VLOOKUP(A100,'Langfristet gæld'!$A$1:$G$100,7,FALSE) -> 226.88461 | H100: =G100-B100 -> 226.52525 | I100: =G100-F100 -> 226.88461 | K100: 99 | O100: Frederikshavn | P100: =VLOOKUP(O100,'Langfristet gæld'!$A$1:$G$100,2,FALSE) -> 19922.054 | Q100: 85 | R100: =VLOOKUP(O100,'Langfristet gæld'!$A$1:$G$100,7,FALSE) -> 33757.958 | S100: 95 | T100: =R100-P100 -> 13835.904 | U100: 99
R102: =AVERAGE(R3:R100) -> 11593.291 | T102: =AVERAGE(T3:T100) -> -3094.3761

Sheet Analyse udvikling
A1: Kommune | B1: 2020 | C1: 2021 | D1: 2022 | E1: 2023 | F1: 2024 | G1: 2025 | H1: udvikling 2020 til 2025 | I1: udvikling 2024 til 2025 | J1: pct udvikling 2020 til 2025 | K1: pct udvikling 2024 til 2025 | N1: Kommune | O1: 2020 | P1: 2025 | Q1: udvikling 2020 til 2025
A2: Hele landet | B2: =VLOOKUP(A2,'Langfristet gæld'!$A$1:$G$100,2,FALSE) -> 11547.576 | C2: =VLOOKUP(A2,'Langfristet gæld'!$A$1:$G$100,3,FALSE) -> 11326.914 | D2: =VLOOKUP(A2,'Langfristet gæld'!$A$1:$G$100,4,FALSE) -> 10835.916 | E2: =VLOOKUP(A2,'Langfristet gæld'!$A$1:$G$100,5,FALSE) -> 10531.756 | F2: =VLOOKUP(A2,'Langfristet gæld'!$A$1:$G$100,6,FALSE) -> 10059.029 | G2: =VLOOKUP(A2,'Langfristet gæld'!$A$1:$G$100,7,FALSE) -> 9210.3683 | H2: =G2-B2 -> -2337.2078 | I2: =G2-F2 -> -848.66072 | J2: =(G2-B2)/B2 -> -0.20239813 | K2: =(G2-F2)/F2 -> -0.084368056 | N2: Hele landet | O2: =VLOOKUP(N2,'Langfristet gæld'!$A$1:$G$100,2,FALSE) -> 11547.576 | P2: =VLOOKUP(N2,'Langfristet gæld'!$A$1:$G$100,7,FALSE) -> 9210.3683 | Q2: =P2-O2 -> -2337.2078
A3: København | B3: =VLOOKUP(A3,'Langfristet gæld'!$A$1:$G$100,2,FALSE) -> 4641.6928 | C3: =VLOOKUP(A3,'Langfristet gæld'!$A$1:$G$100,3,FALSE) -> 4374.7429 | D3: =VLOOKUP(A3,'Langfristet gæld'!$A$1:$G$100,4,FALSE) -> 4099.816 | E3: =VLOOKUP(A3,'Langfristet gæld'!$A$1:$G$100,5,FALSE) -> 3817.6943 | F3: =VLOOKUP(A3,'Langfristet gæld'!$A$1:$G$100,6,FALSE) -> 3475.3747 | G3: =VLOOKUP(A3,'Langfristet gæld'!$A$1:$G$100,7,FALSE) -> 2483.5347 | H3: =G3-B3 -> -2158.1582 | I3: =G3-F3 -> -991.84003 | J3: =(G3-B3)/B3 -> -0.46495067 | K3: =(G3-F3)/F3 -> -0.28539082 | N3: København | O3: =VLOOKUP(N3,'Langfristet gæld'!$A$1:$G$100,2,FALSE) -> 4641.6928 | P3: =VLOOKUP(N3,'Langfristet gæld'!$A$1:$G$100,7,FALSE) -> 2483.5347 | Q3: =P3-O3 -> -2158.1582
A4: Frederiksberg | B4: =VLOOKUP(A4,'Langfristet gæld'!$A$1:$G$100,2,FALSE) -> 13254.735 | C4: =VLOOKUP(A4,'Langfristet gæld'!$A$1:$G$100,3,FALSE) -> 15065.156 | D4: =VLOOKUP(A4,'Langfristet gæld'!$A$1:$G$100,4,FALSE) -> 16593.475 | E4: =VLOOKUP(A4,'Langfristet gæld'!$A$1:$G$100,5,FALSE) -> 16963.317 | F4: =VLOOKUP(A4,'Langfristet gæld'!$A$1:$G$100,6,FALSE) -> 15809.193 | G4: =VLOOKUP(A4,'Langfristet gæld'!$A$1:$G$100,7,FALSE) -> 14624.117 | H4: =G4-B4 -> 1369.3821 | I4: =G4-F4 -> -1185.0759 | J4: =(G4-B4)/B4 -> 0.10331268 | K4: =(G4-F4)/F4 -> -0.074961188 | N4: Frederiksberg | O4: =VLOOKUP(N4,'Langfristet gæld'!$A$1:$G$100,2,FALSE) -> 13254.735 | P4: =VLOOKUP(N4,'Langfristet gæld'!$A$1:$G$100,7,FALSE) -> 14624.117 | Q4: =P4-O4 -> 1369.3821
A5: Dragør | B5: =VLOOKUP(A5,'Langfristet gæld'!$A$1:$G$100,2,FALSE) -> 13534.54 | C5: =VLOOKUP(A5,'Langfristet gæld'!$A$1:$G$100,3,FALSE) -> 12694.096 | D5: =VLOOKUP(A5,'Langfristet gæld'!$A$1:$G$100,4,FALSE) -> 11700.242 | E5: =VLOOKUP(A5,'Langfristet gæld'!$A$1:$G$100,5,FALSE) -> 11275.459 | F5: =VLOOKUP(A5,'Langfristet gæld'!$A$1:$G$100,6,FALSE) -> 11048.824 | G5: =VLOOKUP(A5,'Langfristet gæld'!$A$1:$G$100,7,FALSE) -> 9873.8428 | H5: =G5-B5 -> -3660.6974 | I5: =G5-F5 -> -1174.9811 | J5: =(G5-B5)/B5 -> -0.27047076 | K5: =(G5-F5)/F5 -> -0.10634445 | N5: Dragør | O5: =VLOOKUP(N5,'Langfristet gæld'!$A$1:$G$100,2,FALSE) -> 13534.54 | P5: =VLOOKUP(N5,'Langfristet gæld'!$A$1:$G$100,7,FALSE) -> 9873.8428 | Q5: =P5-O5 -> -3660.6974
A6: Tårnby | B6: =VLOOKUP(A6,'Langfristet gæld'!$A$1:$G$100,2,FALSE) -> 0 | C6: =VLOOKUP(A6,'Langfristet gæld'!$A$1:$G$100,3,FALSE) -> 0 | D6: =VLOOKUP(A6,'Langfristet gæld'!$A$1:$G$100,4,FALSE) -> 0 | E6: =VLOOKUP(A6,'Langfristet gæld'!$A$1:$G$100,5,FALSE) -> 0 | F6: =VLOOKUP(A6,'Langfristet gæld'!$A$1:$G$100,6,FALSE) -> 0 | G6: =VLOOKUP(A6,'Langfristet gæld'!$A$1:$G$100,7,FALSE) -> 0 | H6: =G6-B6 -> 0 | I6: =G6-F6 -> 0 | N6: Tårnby | O6: =VLOOKUP(N6,'Langfristet gæld'!$A$1:$G$100,2,FALSE) -> 0 | P6: 0 | Q6: =P6-O6 -> 0
A7: Albertslund | B7: =VLOOKUP(A7,'Langfristet gæld'!$A$1:$G$100,2,FALSE) -> 20163.614 | C7: =VLOOKUP(A7,'Langfristet gæld'!$A$1:$G$100,3,FALSE) -> 21363.665 | D7: =VLOOKUP(A7,'Langfristet gæld'!$A$1:$G$100,4,FALSE) -> 21660.498 | E7: =VLOOKUP(A7,'Langfristet gæld'!$A$1:$G$100,5,FALSE) -> 21499.349 | F7: =VLOOKUP(A7,'Langfristet gæld'!$A$1:$G$100,6,FALSE) -> 24428.69 | G7: =VLOOKUP(A7,'Langfristet gæld'!$A$1:$G$100,7,FALSE) -> 23389.891 | H7: =G7-B7 -> 3226.2775 | I7: =G7-F7 -> -1038.7988 | J7: =(G7-B7)/B7 -> 0.16000492 | K7: =(G7-F7)/F7 -> -0.042523719 | N7: Albertslund | O7: =VLOOKUP(N7,'Langfristet gæld'!$A$1:$G$100,2,FALSE) -> 20163.614 | P7: =VLOOKUP(N7,'Langfristet gæld'!$A$1:$G$100,7,FALSE) -> 23389.891 | Q7: =P7-O7 -> 3226.2775
A8: Ballerup | B8: =VLOOKUP(A8,'Langfristet gæld'!$A$1:$G$100,2,FALSE) -> 12788.448 | C8: =VLOOKUP(A8,'Langfristet gæld'!$A$1:$G$100,3,FALSE) -> 12176.248 | D8: =VLOOKUP(A8,'Langfristet gæld'!$A$1:$G$100,4,FALSE) -> 11379.484 | E8: =VLOOKUP(A8,'Langfristet gæld'!$A$1:$G$100,5,FALSE) -> 10437.422 | F8: =VLOOKUP(A8,'Langfristet gæld'!$A$1:$G$100,6,FALSE) -> 8888.0539 | G8: =VLOOKUP(A8,'Langfristet gæld'!$A$1:$G$100,7,FALSE) -> 8041.6867 | H8: =G8-B8 -> -4746.7612 | I8: =G8-F8 -> -846.36718 | J8: =(G8-B8)/B8 -> -0.37117571 | K8: =(G8-F8)/F8 -> -0.095225253 | N8: Ballerup | O8: =VLOOKUP(N8,'Langfristet gæld'!$A$1:$G$100,2,FALSE) -> 12788.448 | P8: =VLOOKUP(N8,'Langfristet gæld'!$A$1:$G$100,7,FALSE) -> 8041.6867 | Q8: =P8-O8 -> -4746.7612
A9: Brøndby | B9: =VLOOKUP(A9,'Langfristet gæld'!$A$1:$G$100,2,FALSE) -> 0.35936081 | C9: =VLOOKUP(A9,'Langfristet gæld'!$A$1:$G$100,3,FALSE) -> 0 | D9: =VLOOKUP(A9,'Langfristet gæld'!$A$1:$G$100,4,FALSE) -> 0 | E9: =VLOOKUP(A9,'Langfristet gæld'!$A$1:$G$100,5,FALSE) -> 0 | F9: =VLOOKUP(A9,'Langfristet gæld'!$A$1:$G$100,6,FALSE) -> 0 | G9: =VLOOKUP(A9,'Langfristet gæld'!$A$1:$G$100,7,FALSE) -> 226.88461 | H9: =G9-B9 -> 226.52525 | I9: =G9-F9 -> 226.88461 | N9: Brøndby | O9: =VLOOKUP(N9,'Langfristet gæld'!$A$1:$G$100,2,FALSE) -> 0.35936081 | P9: =VLOOKUP(N9,'Langfristet gæld'!$A$1:$G$100,7,FALSE) -> 226.88461 | Q9: =P9-O9 -> 226.52525
A10: Gentofte | B10: =VLOOKUP(A10,'Langfristet gæld'!$A$1:$G$100,2,FALSE) -> 20005.322 | C10: =VLOOKUP(A10,'Langfristet gæld'!$A$1:$G$100,3,FALSE) -> 20974.419 | D10: =VLOOKUP(A10,'Langfristet gæld'!$A$1:$G$100,4,FALSE) -> 20741.986 | E10: =VLOOKUP(A10,'Langfristet gæld'!$A$1:$G$100,5,FALSE) -> 22651.536 | F10: =VLOOKUP(A10,'Langfristet gæld'!$A$1:$G$100,6,FALSE) -> 26096.415 | G10: =VLOOKUP(A10,'Langfristet gæld'!$A$1:$G$100,7,FALSE) -> 28497.737 | H10: =G10-B10 -> 8492.4147 | I10: =G10-F10 -> 2401.3215 | J10: =(G10-B10)/B10 -> 0.42450778 | K10: =(G10-F10)/F10 -> 0.092017294 | N10: Gentofte | O10: =VLOOKUP(N10,'Langfristet gæld'!$A$1:$G$100,2,FALSE) -> 20005.322 | P10: =VLOOKUP(N10,'Langfristet gæld'!$A$1:$G$100,7,FALSE) -> 28497.737 | Q10: =P10-O10 -> 8492.4147
A11: Gladsaxe | B11: =VLOOKUP(A11,'Langfristet gæld'!$A$1:$G$100,2,FALSE) -> 11842.01 | C11: =VLOOKUP(A11,'Langfristet gæld'!$A$1:$G$100,3,FALSE) -> 11663.626 | D11: =VLOOKUP(A11,'Langfristet gæld'!$A$1:$G$100,4,FALSE) -> 10098.845 | E11: =VLOOKUP(A11,'Langfristet gæld'!$A$1:$G$100,5,FALSE) -> 9792.6457 | F11: =VLOOKUP(A11,'Langfristet gæld'!$A$1:$G$100,6,FALSE) -> 11128.968 | G11: =VLOOKUP(A11,'Langfristet gæld'!$A$1:$G$100,7,FALSE) -> 12542.923 | H11: =G11-B11 -> 700.91309 | I11: =G11-F11 -> 1413.9556 | J11: =(G11-B11)/B11 -> 0.059188692 | K11: =(G11-F11)/F11 -> 0.12705182 | N11: Gladsaxe | O11: =VLOOKUP(N11,'Langfristet gæld'!$A$1:$G$100,2,FALSE) -> 11842.01 | P11: =VLOOKUP(N11,'Langfristet gæld'!$A$1:$G$100,7,FALSE) -> 12542.923 | Q11: =P11-O11 -> 700.91309
A12: Glostrup | B12: =VLOOKUP(A12,'Langfristet gæld'!$A$1:$G$100,2,FALSE) -> 5211.8934 | C12: =VLOOKUP(A12,'Langfristet gæld'!$A$1:$G$100,3,FALSE) -> 6040.7514 | D12: =VLOOKUP(A12,'Langfristet gæld'!$A$1:$G$100,4,FALSE) -> 5941.3211 | E12: =VLOOKUP(A12,'Langfristet gæld'!$A$1:$G$100,5,FALSE) -> 5952.5517 | F12: =VLOOKUP(A12,'Langfristet gæld'!$A$1:$G$100,6,FALSE) -> 5533.2973 | G12: =VLOOKUP(A12,'Langfristet gæld'!$A$1:$G$100,7,FALSE) -> 5207.4398 | H12: =G12-B12 -> -4.4536052 | I12: =G12-F12 -> -325.85747 | J12: =(G12-B12)/B12 -> -0.00085450811 | K12: =(G12-F12)/F12 -> -0.058890288 | N12: Glostrup | O12: =VLOOKUP(N12,'Langfristet gæld'!$A$1:$G$100,2,FALSE) -> 5211.8934 | P12: =VLOOKUP(N12,'Langfristet gæld'!$A$1:$G$100,7,FALSE) -> 5207.4398 | Q12: =P12-O12 -> -4.4536052
A13: Herlev | B13: =VLOOKUP(A13,'Langfristet gæld'!$A$1:$G$100,2,FALSE) -> 12388.069 | C13: =VLOOKUP(A13,'Langfristet gæld'!$A$1:$G$100,3,FALSE) -> 13257.815 | D13: =VLOOKUP(A13,'Langfristet gæld'!$A$1:$G$100,4,FALSE) -> 13023.102 | E13: =VLOOKUP(A13,'Langfristet gæld'!$A$1:$G$100,5,FALSE) -> 13374.057 | F13: =VLOOKUP(A13,'Langfristet gæld'!$A$1:$G$100,6,FALSE) -> 12546.725 | G13: =VLOOKUP(A13,'Langfristet gæld'!$A$1:$G$100,7,FALSE) -> 11170.559 | H13: =G13-B13 -> -1217.5101 | I13: =G13-F13 -> -1376.1659 | J13: =(G13-B13)/B13 -> -0.098280861 | K13: =(G13-F13)/F13 -> -0.10968328 | N13: Herlev | O13: =VLOOKUP(N13,'Langfristet gæld'!$A$1:$G$100,2,FALSE) -> 12388.069 | P13: =VLOOKUP(N13,'Langfristet gæld'!$A$1:$G$100,7,FALSE) -> 11170.559 | Q13: =P13-O13 -> -1217.5101
A14: Hvidovre | B14: =VLOOKUP(A14,'Langfristet gæld'!$A$1:$G$100,2,FALSE) -> 6351.8076 | C14: =VLOOKUP(A14,'Langfristet gæld'!$A$1:$G$100,3,FALSE) -> 6596.7631 | D14: =VLOOKUP(A14,'Langfristet gæld'!$A$1:$G$100,4,FALSE) -> 6779.9702 | E14: =VLOOKUP(A14,'Langfristet gæld'!$A$1:$G$100,5,FALSE) -> 7317.0226 | F14: =VLOOKUP(A14,'Langfristet gæld'!$A$1:$G$100,6,FALSE) -> 7505.3195 | G14: =VLOOKUP(A14,'Langfristet gæld'!$A$1:$G$100,7,FALSE) -> 7309.6186 | H14: =G14-B14 -> 957.81101 | I14: =G14-F14 -> -195.70081 | J14: =(G14-B14)/B14 -> 0.15079345 | K14: =(G14-F14)/F14 -> -0.026074947 | N14: Hvidovre | O14: =VLOOKUP(N14,'Langfristet gæld'!$A$1:$G$100,2,FALSE) -> 6351.8076 | P14: =VLOOKUP(N14,'Langfristet gæld'!$A$1:$G$100,7,FALSE) -> 7309.6186 | Q14: =P14-O14 -> 957.81101
A15: Høje-Taastrup | B15: =VLOOKUP(A15,'Langfristet gæld'!$A$1:$G$100,2,FALSE) -> 8425.959 | C15: =VLOOKUP(A15,'Langfristet gæld'!$A$1:$G$100,3,FALSE) -> 8013.9148 | D15: =VLOOKUP(A15,'Langfristet gæld'!$A$1:$G$100,4,FALSE) -> 7413.5912 | E15: =VLOOKUP(A15,'Langfristet gæld'!$A$1:$G$100,5,FALSE) -> 6931.5379 | F15: =VLOOKUP(A15,'Langfristet gæld'!$A$1:$G$100,6,FALSE) -> 5930.8991 | G15: =VLOOKUP(A15,'Langfristet gæld'!$A$1:$G$100,7,FALSE) -> 5054.1698 | H15: =G15-B15 -> -3371.7892 | I15: =G15-F15 -> -876.72928 | J15: =(G15-B15)/B15 -> -0.40016682 | K15: =(G15-F15)/F15 -> -0.14782401 | N15: Høje-Taastrup | O15: =VLOOKUP(N15,'Langfristet gæld'!$A$1:$G$100,2,FALSE) -> 8425.959 | P15: =VLOOKUP(N15,'Langfristet gæld'!$A$1:$G$100,7,FALSE) -> 5054.1698 | Q15: =P15-O15 -> -3371.7892
A16: Ishøj | B16: =VLOOKUP(A16,'Langfristet gæld'!$A$1:$G$100,2,FALSE) -> 17053.072 | C16: =VLOOKUP(A16,'Langfristet gæld'!$A$1:$G$100,3,FALSE) -> 15518.026 | D16: =VLOOKUP(A16,'Langfristet gæld'!$A$1:$G$100,4,FALSE) -> 13277.613 | E16: =VLOOKUP(A16,'Langfristet gæld'!$A$1:$G$100,5,FALSE) -> 9711.7134 | F16: =VLOOKUP(A16,'Langfristet gæld'!$A$1:$G$100,6,FALSE) -> 5096.2671 | G16: =VLOOKUP(A16,'Langfristet gæld'!$A$1:$G$100,7,FALSE) -> 5.4283978 | H16: =G16-B16 -> -17047.643 | I16: =G16-F16 -> -5090.8387 | J16: =(G16-B16)/B16 -> -0.99968168 | K16: =(G16-F16)/F16 -> -0.99893483 | N16: Ishøj | O16: =VLOOKUP(N16,'Langfristet gæld'!$A$1:$G$100,2,FALSE) -> 17053.072 | P16: =VLOOKUP(N16,'Langfristet gæld'!$A$1:$G$100,7,FALSE) -> 5.4283978 | Q16: =P16-O16 -> -17047.643
A17: Lyngby-Taarbæk | B17: =VLOOKUP(A17,'Langfristet gæld'!$A$1:$G$100,2,FALSE) -> 3720.3075 | C17: =VLOOKUP(A17,'Langfristet gæld'!$A$1:$G$100,3,FALSE) -> 3496.3073 | D17: =VLOOKUP(A17,'Langfristet gæld'!$A$1:$G$100,4,FALSE) -> 3497.5355 | E17: =VLOOKUP(A17,'Langfristet gæld'!$A$1:$G$100,5,FALSE) -> 4257.921 | F17: =VLOOKUP(A17,'Langfristet gæld'!$A$1:$G$100,6,FALSE) -> 4835.5837 | G17: =VLOOKUP(A17,'Langfristet gæld'!$A$1:$G$100,7,FALSE) -> 4637.4927 | H17: =G17-B17 -> 917.18523 | I17: =G17-F17 -> -198.09094 | J17: =(G17-B17)/B17 -> 0.24653479 | K17: =(G17-F17)/F17 -> -0.040965259 | N17: Lyngby-Taarbæk | O17: =VLOOKUP(N17,'Langfristet gæld'!$A$1:$G$100,2,FALSE) -> 3720.3075 | P17: =VLOOKUP(N17,'Langfristet gæld'!$A$1:$G$100,7,FALSE) -> 4637.4927 | Q17: =P17-O17 -> 917.18523
A18: Rødovre | B18: =VLOOKUP(A18,'Langfristet gæld'!$A$1:$G$100,2,FALSE) -> 15774.296 | C18: =VLOOKUP(A18,'Langfristet gæld'!$A$1:$G$100,3,FALSE) -> 15813.697 | D18: =VLOOKUP(A18,'Langfristet gæld'!$A$1:$G$100,4,FALSE) -> 14671.832 | E18: =VLOOKUP(A18,'Langfristet gæld'!$A$1:$G$100,5,FALSE) -> 14916.491 | F18: =VLOOKUP(A18,'Langfristet gæld'!$A$1:$G$100,6,FALSE) -> 15001.103 | G18: =VLOOKUP(A18,'Langfristet gæld'!$A$1:$G$100,7,FALSE) -> 15669.813 | H18: =G18-B18 -> -104.48383 | I18: =G18-F18 -> 668.70957 | J18: =(G18-B18)/B18 -> -0.006623676 | K18: =(G18-F18)/F18 -> 0.04457736 | N18: Rødovre | O18: =VLOOKUP(N18,'Langfristet gæld'!$A$1:$G$100,2,FALSE) -> 15774.296 | P18: =VLOOKUP(N18,'Langfristet gæld'!$A$1:$G$100,7,FALSE) -> 15669.813 | Q18: =P18-O18 -> -104.48383
A19: Vallensbæk | B19: =VLOOKUP(A19,'Langfristet gæld'!$A$1:$G$100,2,FALSE) -> 22606.574 | C19: =VLOOKUP(A19,'Langfristet gæld'!$A$1:$G$100,3,FALSE) -> 20888.38 | D19: =VLOOKUP(A19,'Langfristet gæld'!$A$1:$G$100,4,FALSE) -> 18837.93 | E19: =VLOOKUP(A19,'Langfristet gæld'!$A$1:$G$100,5,FALSE) -> 16479.416 | F19: =VLOOKUP(A19,'Langfristet gæld'!$A$1:$G$100,6,FALSE) -> 14646.03 | G19: =VLOOKUP(A19,'Langfristet gæld'!$A$1:$G$100,7,FALSE) -> 12573.332 | H19: =G19-B19 -> -10033.242 | I19: =G19-F19 -> -2072.6978 | J19: =(G19-B19)/B19 -> -0.44381966 | K19: =(G19-F19)/F19 -> -0.14151943 | N19: Vallensbæk | O19: =VLOOKUP(N19,'Langfristet gæld'!$A$1:$G$100,2,FALSE) -> 22606.574 | P19: =VLOOKUP(N19,'Langfristet gæld'!$A$1:$G$100,7,FALSE) -> 12573.332 | Q19: =P19-O19 -> -10033.242
A20: Allerød | B20: =VLOOKUP(A20,'Langfristet gæld'!$A$1:$G$100,2,FALSE) -> 10745.023 | C20: =VLOOKUP(A20,'Langfristet gæld'!$A$1:$G$100,3,FALSE) -> 10400.947 | D20: =VLOOKUP(A20,'Langfristet gæld'!$A$1:$G$100,4,FALSE) -> 11371.735 | E20: =VLOOKUP(A20,'Langfristet gæld'!$A$1:$G$100,5,FALSE) -> 11362.768 | F20: =VLOOKUP(A20,'Langfristet gæld'!$A$1:$G$100,6,FALSE) -> 11212.283 | G20: =VLOOKUP(A20,'Langfristet gæld'!$A$1:$G$100,7,FALSE) -> 10609.262 | H20: =G20-B20 -> -135.76086 | I20: =G20-F20 -> -603.02106 | J20: =(G20-B20)/B20 -> -0.012634767 | K20: =(G20-F20)/F20 -> -0.053782184 | N20: Allerød | O20: =VLOOKUP(N20,'Langfristet gæld'!$A$1:$G$100,2,FALSE) -> 10745.023 | P20: =VLOOKUP(N20,'Langfristet gæld'!$A$1:$G$100,7,FALSE) -> 10609.262 | Q20: =P20-O20 -> -135.76086
A21: Egedal | B21: =VLOOKUP(A21,'Langfristet gæld'!$A$1:$G$100,2,FALSE) -> 24969.925 | C21: =VLOOKUP(A21,'Langfristet gæld'!$A$1:$G$100,3,FALSE) -> 13370.049 | D21: =VLOOKUP(A21,'Langfristet gæld'!$A$1:$G$100,4,FALSE) -> 13480.551 | E21: =VLOOKUP(A21,'Langfristet gæld'!$A$1:$G$100,5,FALSE) -> 13957.949 | F21: =VLOOKUP(A21,'Langfristet gæld'!$A$1:$G$100,6,FALSE) -> 13538.859 | G21: =VLOOKUP(A21,'Langfristet gæld'!$A$1:$G$100,7,FALSE) -> 12595.631 | H21: =G21-B21 -> -12374.294 | I21: =G21-F21 -> -943.22708 | J21: =(G21-B21)/B21 -> -0.49556791 | K21: =(G21-F21)/F21 -> -0.069668139 | N21: Egedal | O21: =VLOOKUP(N21,'Langfristet gæld'!$A$1:$G$100,2,FALSE) -> 24969.925 | P21: =VLOOKUP(N21,'Langfristet gæld'!$A$1:$G$100,7,FALSE) -> 12595.631 | Q21: =P21-O21 -> -12374.294
... A100: Aalborg | B100: =VLOOKUP(A100,'Langfristet gæld'!$A$1:$G$100,2,FALSE) -> 8412.5988 | C100: =VLOOKUP(A100,'Langfristet gæld'!$A$1:$G$100,3,FALSE) -> 9783.9747 | D100: =VLOOKUP(A100,'Langfristet gæld'!$A$1:$G$100,4,FALSE) -> 9715.2196 | E100: =VLOOKUP(A100,'Langfristet gæld'!$A$1:$G$100,5,FALSE) -> 9633.909 | F100: =VLOOKUP(A100,'Langfristet gæld'!$A$1:$G$100,6,FALSE) -> 8652.437 | G100: =VLOOKUP(A100,'Langfristet gæld'!$A$1:$G$100,7,FALSE) -> 8597.7003 | H100: =G100-B100 -> 185.10155 | I100: =G100-F100 -> -54.736693 | J100: =(G100-B100)/B100 -> 0.022002898 | K100: =(G100-F100)/F100 -> -0.0063261591 | N100: Aalborg | O100: =VLOOKUP(N100,'Langfristet gæld'!$A$1:$G$100,2,FALSE) -> 8412.5988 | P100: =VLOOKUP(N100,'Langfristet gæld'!$A$1:$G$100,7,FALSE) -> 8597.7003 | Q100: =P100-O100 -> 185.10155
P102: =AVERAGE(P3:P100) -> 11938.132 | Q102: =AVERAGE(Q3:Q100) -> -3343.0883

Sheet Langfristet gæld
A1: Kommune | B1: 2020 pr. indbygger | C1: 2021 pr. indbygger | D1: 2022 pr. indbygger | E1: 2023 pr. indbygger | F1: 2024 pr. indbygger | G1: 2025 pr. indbygger | I1: pl 2020 | J1: pl 2021 | K1: pl 2022 | L1: pl 2023 | M1: pl 2024 | N1: pl2025
A2: Hele landet | B2: =-((VLOOKUP(A2,REGK4!$A$3:$G$102,2,FALSE)/VLOOKUP(A2,FOLK1A!$D$3:$J$103,2,FALSE))*1000)*$I$2 -> 11547.576 | C2: =-((VLOOKUP(A2,REGK4!$A$3:$G$102,3,FALSE)/VLOOKUP(A2,FOLK1A!$D$3:$J$103,3,FALSE))*1000)*$J$2 -> 11326.914 | D2: =-((VLOOKUP(A2,REGK4!$A$3:$G$102,4,FALSE)/VLOOKUP(A2,FOLK1A!$D$3:$J$103,4,FALSE))*1000)*$K$2 -> 10835.916 | E2: =-((VLOOKUP(A2,REGK4!$A$3:$G$102,5,FALSE)/VLOOKUP(A2,FOLK1A!$D$3:$J$103,5,FALSE))*1000)*$L$2 -> 10531.756 | F2: =-((VLOOKUP(A2,REGK4!$A$3:$G$102,6,FALSE)/VLOOKUP(A2,FOLK1A!$D$3:$J$103,6,FALSE))*1000)*$M$2 -> 10059.029 | G2: =-(VLOOKUP(A2,REGK4!$A$3:$G$102,7,FALSE)/VLOOKUP(A2,FOLK1A!$D$3:$J$103,7,FALSE))*1000 -> 9210.3683 | I2: 1.151 | J2: 1.132 | K2: 1.0979992 | L2: 1.069 | M2: 1.031 | N2: 1
A3: København | B3: =-((VLOOKUP(A3,REGK4!$A$3:$G$102,2,FALSE)/VLOOKUP(A3,FOLK1A!$D$3:$J$103,2,FALSE))*1000)*$I$2 -> 4641.6928 | C3: =-((VLOOKUP(A3,REGK4!$A$3:$G$102,3,FALSE)/VLOOKUP(A3,FOLK1A!$D$3:$J$103,3,FALSE))*1000)*$J$2 -> 4374.7429 | D3: =-((VLOOKUP(A3,REGK4!$A$3:$G$102,4,FALSE)/VLOOKUP(A3,FOLK1A!$D$3:$J$103,4,FALSE))*1000)*$K$2 -> 4099.816 | E3: =-((VLOOKUP(A3,REGK4!$A$3:$G$102,5,FALSE)/VLOOKUP(A3,FOLK1A!$D$3:$J$103,5,FALSE))*1000)*$L$2 -> 3817.6943 | F3: =-((VLOOKUP(A3,REGK4!$A$3:$G$102,6,FALSE)/VLOOKUP(A3,FOLK1A!$D$3:$J$103,6,FALSE))*1000)*$M$2 -> 3475.3747 | G3: =-(VLOOKUP(A3,REGK4!$A$3:$G$102,7,FALSE)/VLOOKUP(A3,FOLK1A!$D$3:$J$103,7,FALSE))*1000 -> 2483.5347
A4: Frederiksberg | B4: =-((VLOOKUP(A4,REGK4!$A$3:$G$102,2,FALSE)/VLOOKUP(A4,FOLK1A!$D$3:$J$103,2,FALSE))*1000)*$I$2 -> 13254.735 | C4: =-((VLOOKUP(A4,REGK4!$A$3:$G$102,3,FALSE)/VLOOKUP(A4,FOLK1A!$D$3:$J$103,3,FALSE))*1000)*$J$2 -> 15065.156 | D4: =-((VLOOKUP(A4,REGK4!$A$3:$G$102,4,FALSE)/VLOOKUP(A4,FOLK1A!$D$3:$J$103,4,FALSE))*1000)*$K$2 -> 16593.475 | E4: =-((VLOOKUP(A4,REGK4!$A$3:$G$102,5,FALSE)/VLOOKUP(A4,FOLK1A!$D$3:$J$103,5,FALSE))*1000)*$L$2 -> 16963.317 | F4: =-((VLOOKUP(A4,REGK4!$A$3:$G$102,6,FALSE)/VLOOKUP(A4,FOLK1A!$D$3:$J$103,6,FALSE))*1000)*$M$2 -> 15809.193 | G4: =-(VLOOKUP(A4,REGK4!$A$3:$G$102,7,FALSE)/VLOOKUP(A4,FOLK1A!$D$3:$J$103,7,FALSE))*1000 -> 14624.117
A5: Dragør | B5: =-((VLOOKUP(A5,REGK4!$A$3:$G$102,2,FALSE)/VLOOKUP(A5,FOLK1A!$D$3:$J$103,2,FALSE))*1000)*$I$2 -> 13534.54 | C5: =-((VLOOKUP(A5,REGK4!$A$3:$G$102,3,FALSE)/VLOOKUP(A5,FOLK1A!$D$3:$J$103,3,FALSE))*1000)*$J$2 -> 12694.096 | D5: =-((VLOOKUP(A5,REGK4!$A$3:$G$102,4,FALSE)/VLOOKUP(A5,FOLK1A!$D$3:$J$103,4,FALSE))*1000)*$K$2 -> 11700.242 | E5: =-((VLOOKUP(A5,REGK4!$A$3:$G$102,5,FALSE)/VLOOKUP(A5,FOLK1A!$D$3:$J$103,5,FALSE))*1000)*$L$2 -> 11275.459 | F5: =-((VLOOKUP(A5,REGK4!$A$3:$G$102,6,FALSE)/VLOOKUP(A5,FOLK1A!$D$3:$J$103,6,FALSE))*1000)*$M$2 -> 11048.824 | G5: =-(VLOOKUP(A5,REGK4!$A$3:$G$102,7,FALSE)/VLOOKUP(A5,FOLK1A!$D$3:$J$103,7,FALSE))*1000 -> 9873.8428
A6: Tårnby | B6: =-((VLOOKUP(A6,REGK4!$A$3:$G$102,2,FALSE)/VLOOKUP(A6,FOLK1A!$D$3:$J$103,2,FALSE))*1000)*$I$2 -> 0 | C6: =-((VLOOKUP(A6,REGK4!$A$3:$G$102,3,FALSE)/VLOOKUP(A6,FOLK1A!$D$3:$J$103,3,FALSE))*1000)*$J$2 -> 0 | D6: =-((VLOOKUP(A6,REGK4!$A$3:$G$102,4,FALSE)/VLOOKUP(A6,FOLK1A!$D$3:$J$103,4,FALSE))*1000)*$K$2 -> 0 | E6: =-((VLOOKUP(A6,REGK4!$A$3:$G$102,5,FALSE)/VLOOKUP(A6,FOLK1A!$D$3:$J$103,5,FALSE))*1000)*$L$2 -> 0 | F6: =-((VLOOKUP(A6,REGK4!$A$3:$G$102,6,FALSE)/VLOOKUP(A6,FOLK1A!$D$3:$J$103,6,FALSE))*1000)*$M$2 -> 0 | G6: =-(VLOOKUP(A6,REGK4!$A$3:$G$102,7,FALSE)/VLOOKUP(A6,FOLK1A!$D$3:$J$103,7,FALSE))*1000 -> 0
A7: Albertslund | B7: =-((VLOOKUP(A7,REGK4!$A$3:$G$102,2,FALSE)/VLOOKUP(A7,FOLK1A!$D$3:$J$103,2,FALSE))*1000)*$I$2 -> 20163.614 | C7: =-((VLOOKUP(A7,REGK4!$A$3:$G$102,3,FALSE)/VLOOKUP(A7,FOLK1A!$D$3:$J$103,3,FALSE))*1000)*$J$2 -> 21363.665 | D7: =-((VLOOKUP(A7,REGK4!$A$3:$G$102,4,FALSE)/VLOOKUP(A7,FOLK1A!$D$3:$J$103,4,FALSE))*1000)*$K$2 -> 21660.498 | E7: =-((VLOOKUP(A7,REGK4!$A$3:$G$102,5,FALSE)/VLOOKUP(A7,FOLK1A!$D$3:$J$103,5,FALSE))*1000)*$L$2 -> 21499.349 | F7: =-((VLOOKUP(A7,REGK4!$A$3:$G$102,6,FALSE)/VLOOKUP(A7,FOLK1A!$D$3:$J$103,6,FALSE))*1000)*$M$2 -> 24428.69 | G7: =-(VLOOKUP(A7,REGK4!$A$3:$G$102,7,FALSE)/VLOOKUP(A7,FOLK1A!$D$3:$J$103,7,FALSE))*1000 -> 23389.891
A8: Ballerup | B8: =-((VLOOKUP(A8,REGK4!$A$3:$G$102,2,FALSE)/VLOOKUP(A8,FOLK1A!$D$3:$J$103,2,FALSE))*1000)*$I$2 -> 12788.448 | C8: =-((VLOOKUP(A8,REGK4!$A$3:$G$102,3,FALSE)/VLOOKUP(A8,FOLK1A!$D$3:$J$103,3,FALSE))*1000)*$J$2 -> 12176.248 | D8: =-((VLOOKUP(A8,REGK4!$A$3:$G$102,4,FALSE)/VLOOKUP(A8,FOLK1A!$D$3:$J$103,4,FALSE))*1000)*$K$2 -> 11379.484 | E8: =-((VLOOKUP(A8,REGK4!$A$3:$G$102,5,FALSE)/VLOOKUP(A8,FOLK1A!$D$3:$J$103,5,FALSE))*1000)*$L$2 -> 10437.422 | F8: =-((VLOOKUP(A8,REGK4!$A$3:$G$102,6,FALSE)/VLOOKUP(A8,FOLK1A!$D$3:$J$103,6,FALSE))*1000)*$M$2 -> 8888.0539 | G8: =-(VLOOKUP(A8,REGK4!$A$3:$G$102,7,FALSE)/VLOOKUP(A8,FOLK1A!$D$3:$J$103,7,FALSE))*1000 -> 8041.6867
A9: Brøndby | B9: =-((VLOOKUP(A9,REGK4!$A$3:$G$102,2,FALSE)/VLOOKUP(A9,FOLK1A!$D$3:$J$103,2,FALSE))*1000)*$I$2 -> 0.35936081 | C9: =-((VLOOKUP(A9,REGK4!$A$3:$G$102,3,FALSE)/VLOOKUP(A9,FOLK1A!$D$3:$J$103,3,FALSE))*1000)*$J$2 -> 0 | D9: =-((VLOOKUP(A9,REGK4!$A$3:$G$102,4,FALSE)/VLOOKUP(A9,FOLK1A!$D$3:$J$103,4,FALSE))*1000)*$K$2 -> 0 | E9: =-((VLOOKUP(A9,REGK4!$A$3:$G$102,5,FALSE)/VLOOKUP(A9,FOLK1A!$D$3:$J$103,5,FALSE))*1000)*$L$2 -> 0 | F9: =-((VLOOKUP(A9,REGK4!$A$3:$G$102,6,FALSE)/VLOOKUP(A9,FOLK1A!$D$3:$J$103,6,FALSE))*1000)*$M$2 -> 0 | G9: =-(VLOOKUP(A9,REGK4!$A$3:$G$102,7,FALSE)/VLOOKUP(A9,FOLK1A!$D$3:$J$103,7,FALSE))*1000 -> 226.88461
A10: Gentofte | B10: =-((VLOOKUP(A10,REGK4!$A$3:$G$102,2,FALSE)/VLOOKUP(A10,FOLK1A!$D$3:$J$103,2,FALSE))*1000)*$I$2 -> 20005.322 | C10: =-((VLOOKUP(A10,REGK4!$A$3:$G$102,3,FALSE)/VLOOKUP(A10,FOLK1A!$D$3:$J$103,3,FALSE))*1000)*$J$2 -> 20974.419 | D10: =-((VLOOKUP(A10,REGK4!$A$3:$G$102,4,FALSE)/VLOOKUP(A10,FOLK1A!$D$3:$J$103,4,FALSE))*1000)*$K$2 -> 20741.986 | E10: =-((VLOOKUP(A10,REGK4!$A$3:$G$102,5,FALSE)/VLOOKUP(A10,FOLK1A!$D$3:$J$103,5,FALSE))*1000)*$L$2 -> 22651.536 | F10: =-((VLOOKUP(A10,REGK4!$A$3:$G$102,6,FALSE)/VLOOKUP(A10,FOLK1A!$D$3:$J$103,6,FALSE))*1000)*$M$2 -> 26096.415 | G10: =-(VLOOKUP(A10,REGK4!$A$3:$G$102,7,FALSE)/VLOOKUP(A10,FOLK1A!$D$3:$J$103,7,FALSE))*1000 -> 28497.737
A11: Gladsaxe | B11: =-((VLOOKUP(A11,REGK4!$A$3:$G$102,2,FALSE)/VLOOKUP(A11,FOLK1A!$D$3:$J$103,2,FALSE))*1000)*$I$2 -> 11842.01 | C11: =-((VLOOKUP(A11,REGK4!$A$3:$G$102,3,FALSE)/VLOOKUP(A11,FOLK1A!$D$3:$J$103,3,FALSE))*1000)*$J$2 -> 11663.626 | D11: =-((VLOOKUP(A11,REGK4!$A$3:$G$102,4,FALSE)/VLOOKUP(A11,FOLK1A!$D$3:$J$103,4,FALSE))*1000)*$K$2 -> 10098.845 | E11: =-((VLOOKUP(A11,REGK4!$A$3:$G$102,5,FALSE)/VLOOKUP(A11,FOLK1A!$D$3:$J$103,5,FALSE))*1000)*$L$2 -> 9792.6457 | F11: =-((VLOOKUP(A11,REGK4!$A$3:$G$102,6,FALSE)/VLOOKUP(A11,FOLK1A!$D$3:$J$103,6,FALSE))*1000)*$M$2 -> 11128.968 | G11: =-(VLOOKUP(A11,REGK4!$A$3:$G$102,7,FALSE)/VLOOKUP(A11,FOLK1A!$D$3:$J$103,7,FALSE))*1000 -> 12542.923
A12: Glostrup | B12: =-((VLOOKUP(A12,REGK4!$A$3:$G$102,2,FALSE)/VLOOKUP(A12,FOLK1A!$D$3:$J$103,2,FALSE))*1000)*$I$2 -> 5211.8934 | C12: =-((VLOOKUP(A12,REGK4!$A$3:$G$102,3,FALSE)/VLOOKUP(A12,FOLK1A!$D$3:$J$103,3,FALSE))*1000)*$J$2 -> 6040.7514 | D12: =-((VLOOKUP(A12,REGK4!$A$3:$G$102,4,FALSE)/VLOOKUP(A12,FOLK1A!$D$3:$J$103,4,FALSE))*1000)*$K$2 -> 5941.3211 | E12: =-((VLOOKUP(A12,REGK4!$A$3:$G$102,5,FALSE)/VLOOKUP(A12,FOLK1A!$D$3:$J$103,5,FALSE))*1000)*$L$2 -> 5952.5517 | F12: =-((VLOOKUP(A12,REGK4!$A$3:$G$102,6,FALSE)/VLOOKUP(A12,FOLK1A!$D$3:$J$103,6,FALSE))*1000)*$M$2 -> 5533.2973 | G12: =-(VLOOKUP(A12,REGK4!$A$3:$G$102,7,FALSE)/VLOOKUP(A12,FOLK1A!$D$3:$J$103,7,FALSE))*1000 -> 5207.4398
A13: Herlev | B13: =-((VLOOKUP(A13,REGK4!$A$3:$G$102,2,FALSE)/VLOOKUP(A13,FOLK1A!$D$3:$J$103,2,FALSE))*1000)*$I$2 -> 12388.069 | C13: =-((VLOOKUP(A13,REGK4!$A$3:$G$102,3,FALSE)/VLOOKUP(A13,FOLK1A!$D$3:$J$103,3,FALSE))*1000)*$J$2 -> 13257.815 | D13: =-((VLOOKUP(A13,REGK4!$A$3:$G$102,4,FALSE)/VLOOKUP(A13,FOLK1A!$D$3:$J$103,4,FALSE))*1000)*$K$2 -> 13023.102 | E13: =-((VLOOKUP(A13,REGK4!$A$3:$G$102,5,FALSE)/VLOOKUP(A13,FOLK1A!$D$3:$J$103,5,FALSE))*1000)*$L$2 -> 13374.057 | F13: =-((VLOOKUP(A13,REGK4!$A$3:$G$102,6,FALSE)/VLOOKUP(A13,FOLK1A!$D$3:$J$103,6,FALSE))*1000)*$M$2 -> 12546.725 | G13: =-(VLOOKUP(A13,REGK4!$A$3:$G$102,7,FALSE)/VLOOKUP(A13,FOLK1A!$D$3:$J$103,7,FALSE))*1000 -> 11170.559
A14: Hvidovre | B14: =-((VLOOKUP(A14,REGK4!$A$3:$G$102,2,FALSE)/VLOOKUP(A14,FOLK1A!$D$3:$J$103,2,FALSE))*1000)*$I$2 -> 6351.8076 | C14: =-((VLOOKUP(A14,REGK4!$A$3:$G$102,3,FALSE)/VLOOKUP(A14,FOLK1A!$D$3:$J$103,3,FALSE))*1000)*$J$2 -> 6596.7631 | D14: =-((VLOOKUP(A14,REGK4!$A$3:$G$102,4,FALSE)/VLOOKUP(A14,FOLK1A!$D$3:$J$103,4,FALSE))*1000)*$K$2 -> 6779.9702 | E14: =-((VLOOKUP(A14,REGK4!$A$3:$G$102,5,FALSE)/VLOOKUP(A14,FOLK1A!$D$3:$J$103,5,FALSE))*1000)*$L$2 -> 7317.0226 | F14: =-((VLOOKUP(A14,REGK4!$A$3:$G$102,6,FALSE)/VLOOKUP(A14,FOLK1A!$D$3:$J$103,6,FALSE))*1000)*$M$2 -> 7505.3195 | G14: =-(VLOOKUP(A14,REGK4!$A$3:$G$102,7,FALSE)/VLOOKUP(A14,FOLK1A!$D$3:$J$103,7,FALSE))*1000 -> 7309.6186
... A100: Aalborg | B100: =-((VLOOKUP(A100,REGK4!$A$3:$G$102,2,FALSE)/VLOOKUP(A100,FOLK1A!$D$3:$J$103,2,FALSE))*1000)*$I$2 -> 8412.5988 | C100: =-((VLOOKUP(A100,REGK4!$A$3:$G$102,3,FALSE)/VLOOKUP(A100,FOLK1A!$D$3:$J$103,3,FALSE))*1000)*$J$2 -> 9783.9747 | D100: =-((VLOOKUP(A100,REGK4!$A$3:$G$102,4,FALSE)/VLOOKUP(A100,FOLK1A!$D$3:$J$103,4,FALSE))*1000)*$K$2 -> 9715.2196 | E100: =-((VLOOKUP(A100,REGK4!$A$3:$G$102,5,FALSE)/VLOOKUP(A100,FOLK1A!$D$3:$J$103,5,FALSE))*1000)*$L$2 -> 9633.909 | F100: =-((VLOOKUP(A100,REGK4!$A$3:$G$102,6,FALSE)/VLOOKUP(A100,FOLK1A!$D$3:$J$103,6,FALSE))*1000)*$M$2 -> 8652.437 | G100: =-(VLOOKUP(A100,REGK4!$A$3:$G$102,7,FALSE)/VLOOKUP(A100,FOLK1A!$D$3:$J$103,7,FALSE))*1000 -> 8597.7003

Sheet REGK4
A1: Kommunernes balancer efter område og tid
A2: Enhed: 1.000 kr.
B3: 2020 | C3: 2021 | D3: 2022 | E3: 2023 | F3: 2024 | G3: 2025
A4: Hele landet | B4: -58591107 | C4: -58770075 | D4: -58548071 | E4: -58730047 | F4: -58468560 | G4: -55498023
A5: København | B5: -2573365 | C5: -2490477 | D5: -2440714 | E5: -2354721 | F5: -2248709 | G5: -1668225
A6: Frederiksberg | B6: -1193928 | C6: -1378861 | D6: -1581731 | E6: -1664579 | F6: -1622934 | G6: -1552350
A7: Dragør | B7: -171316 | C7: -164171 | D7: -155673 | E7: -153669 | F7: -154855 | G7: -142914
A8: Tårnby | B8: 0 | C8: 0 | D8: 0 | E8: 0 | F8: 0 | G8: 0
A9: Albertslund | B9: -479407 | C9: -520862 | D9: -543091 | E9: -556630 | F9: -666209 | G9: -684435
A10: Ballerup | B10: -547870 | C10: -530011 | D10: -518596 | E10: -500264 | F10: -456377 | G10: -433849
A11: Brøndby | B11: -11 | C11: 0 | D11: 0 | E11: 0 | F11: 0 | G11: -9300
A12: Gentofte | B12: -1295740 | C12: -1375140 | D12: -1413743 | E12: -1589909 | F12: -1900305 | G12: -2140351
A13: Gladsaxe | B13: -711961 | C13: -713614 | D13: -643834 | E13: -646736 | F13: -765945 | G13: -892868
A14: Glostrup | B14: -105868 | C14: -125479 | D14: -127890 | E14: -131719 | F14: -133470 | G14: -134529
A15: Herlev | B15: -311187 | C15: -338086 | D15: -346512 | E15: -373773 | F15: -374625 | G15: -357793
... A102: Aalborg | B102: -1604219 | C102: -1910831 | D102: -1969333 | E102: -2011261 | F102: -1885006 | G102: -1943364
A104: Data bliver ikke revideret. Senere rettelser kan dog forekomme, hvis der opdages fejl i data eller databehandlingen. Disse rettelser vil slå igennem i statistikken som enten ekstraordinære rettelser eller i forbindelse med planlagte opdateringer af statistikken. Se alle ændringer i tabellerne siden december 2020 vedrørende budgetter og årsregnskaber for kommuner og regioner i Statistikdokumentationen under &quot;Præcision og pålidelighed&quot; (Praksis for revisioner): https://www.dst.dk/da/Statistik/dokumentation/statistikdokumentation/budgetter-og-aarsregnskaber-for-kommuner-og-regioner/praecision-og-paalidelighed
A105: Data bliver ikke revideret. Senere rettelser kan dog forekomme, hvis der opdages fejl i data eller databehandlingen. Disse rettelser vil slå igennem i statistikken som enten ekstraordinære rettelser eller i forbindelse med planlagte opdateringer af statistikken. Se alle ændringer i tabellerne siden december 2020 vedrørende budgetter og årsregnskaber for kommuner og regioner i Statistikdokumentationen under &quot;Præcision og pålidelighed&quot; (Praksis for revisioner): https://www.dst.dk/da/Statistik/dokumentation/statistikdokumentation/budgetter-og-aarsregnskaber-for-kommuner-og-regioner/praecision-og-paalidelighed Beregnet værdi: Subtotal Sum (værdi nr. 1 + 2 + 3 + 4 + 5 + 6 + 7 + 8 + 9 + 10 + 11 + 12 + 13 + 14) for variablen funktion. Udelad oprindelige værdier

Sheet FOLK1A
A1: Befolkningen den 1. i kvartalet efter civilstand, alder, køn, område og tid
A2: Enhed: Antal
E3: 2021K1 | F3: 2022K1 | G3: 2023K1 | H3: 2024K1 | I3: 2025K1 | J3: 2026K1
A4: I alt | B4: Alder i alt | C4: I alt | D4: Hele landet | E4: 5840045 | F4: 5873420 | G4: 5932654 | H4: 5961249 | I4: 5992734 | J4: 6025603
D5: København | E5: 638117 | F5: 644431 | G5: 653664 | H5: 659350 | I5: 667099 | J5: 671714
D6: Frederiksberg | E6: 103677 | F6: 103608 | G6: 104664 | H6: 104899 | I6: 105840 | J6: 106150
D7: Dragør | E7: 14569 | F7: 14640 | G7: 14609 | H7: 14569 | I7: 14450 | J7: 14474
D8: Tårnby | E8: 42670 | F8: 42723 | G8: 43042 | H8: 43915 | I8: 44034 | J8: 44214
D9: Albertslund | E9: 27366 | F9: 27599 | G9: 27530 | H9: 27677 | I9: 28117 | J9: 29262
D10: Ballerup | E10: 49310 | F10: 49274 | G10: 50039 | H10: 51237 | I10: 52939 | J10: 53950
D11: Brøndby | E11: 35232 | F11: 35651 | G11: 37128 | H11: 39067 | I11: 40401 | J11: 40990
D12: Gentofte | E12: 74550 | F12: 74217 | G12: 74838 | H12: 75033 | I12: 75076 | J12: 75106
D13: Gladsaxe | E13: 69200 | F13: 69259 | G13: 70001 | H13: 70600 | I13: 70958 | J13: 71185
D14: Glostrup | E14: 23380 | F14: 23514 | G14: 23635 | H14: 23655 | I14: 24869 | J14: 25834
D15: Herlev | E15: 28913 | F15: 28867 | G15: 29215 | H15: 29876 | I15: 30784 | J15: 32030
D16: Hvidovre | E16: 53451 | F16: 53267 | G16: 53443 | H16: 53760 | I16: 53760 | J16: 54228
... D103: Aalborg | E103: 219487 | F103: 221082 | G103: 222571 | H103: 223174 | I103: 224612 | J103: 226033

Sheet PL
K1: Langfristet gæld pr. indbygger
A2: Kommune | B2: 2020 pr. indbygger | C2: 2021 pr. indbygger | D2: 2022 pr. indbygger | E2: 2023 pr. indbygger | F2: 2024 pr. indbygger | G2: 2025 pr. indbygger | K2: 2020 | L2: 2021 | M2: 2022 | N2: 2023 | O2: 2024 | P2: 2025 | R2: pl 2020 | S2: pl 2021 | T2: pl 2022 | U2: pl 2023 | V2: pl 2024 | W2: pl2025
A3: Hele landet | B3: =-(VLOOKUP(A3,[1]REGK4!$A$3:$G$102,2,FALSE)/VLOOKUP(A3,[1]FOLK1A!$D$3:$J$103,2,FALSE))*1000 -> 13952.024 | C3: =-(VLOOKUP(A3,[1]REGK4!$A$3:$G$102,3,FALSE)/VLOOKUP(A3,[1]FOLK1A!$D$3:$J$103,3,FALSE))*1000 -> 13876.972 | D3: =-(VLOOKUP(A3,[1]REGK4!$A$3:$G$102,4,FALSE)/VLOOKUP(A3,[1]FOLK1A!$D$3:$J$103,4,FALSE))*1000 -> 13538.261 | E3: =-(VLOOKUP(A3,[1]REGK4!$A$3:$G$102,5,FALSE)/VLOOKUP(A3,[1]FOLK1A!$D$3:$J$103,5,FALSE))*1000 -> 13385.385 | F3: =-(VLOOKUP(A3,[1]REGK4!$A$3:$G$102,6,FALSE)/VLOOKUP(A3,[1]FOLK1A!$D$3:$J$103,6,FALSE))*1000 -> 13121.377 | G3: =-(VLOOKUP(A3,[1]REGK4!$A$3:$G$102,7,FALSE)/VLOOKUP(A3,[1]FOLK1A!$D$3:$J$103,7,FALSE))*1000 -> 12411.487 | J3: Hele landet | K3: 16063 | L3: 15710 | M3: 14865 | N3: 14311 | O3: 13532 | P3: 12412 | R3: =K3/B3 -> 1.1513025 | S3: =L3/C3 -> 1.1320913 | T3: =M3/D3 -> 1.0979992 | U3: =N3/E3 -> 1.0691512 | V3: =O3/F3 -> 1.0312942 | W3: =P3/G3 -> 1.0000413
A4: København | B4: =-(VLOOKUP(A4,[1]REGK4!$A$3:$G$102,2,FALSE)/VLOOKUP(A4,[1]FOLK1A!$D$3:$J$103,2,FALSE))*1000 -> 4373.5086 | C4: =-(VLOOKUP(A4,[1]REGK4!$A$3:$G$102,3,FALSE)/VLOOKUP(A4,[1]FOLK1A!$D$3:$J$103,3,FALSE))*1000 -> 4187.4325 | D4: =-(VLOOKUP(A4,[1]REGK4!$A$3:$G$102,4,FALSE)/VLOOKUP(A4,[1]FOLK1A!$D$3:$J$103,4,FALSE))*1000 -> 4046.3453 | E4: =-(VLOOKUP(A4,[1]REGK4!$A$3:$G$102,5,FALSE)/VLOOKUP(A4,[1]FOLK1A!$D$3:$J$103,5,FALSE))*1000 -> 3871.6362 | F4: =-(VLOOKUP(A4,[1]REGK4!$A$3:$G$102,6,FALSE)/VLOOKUP(A4,[1]FOLK1A!$D$3:$J$103,6,FALSE))*1000 -> 3661.2866 | G4: =-(VLOOKUP(A4,[1]REGK4!$A$3:$G$102,7,FALSE)/VLOOKUP(A4,[1]FOLK1A!$D$3:$J$103,7,FALSE))*1000 -> 2747.4977 | J4: København | K4: 5035 | L4: 4740 | M4: 4443 | N4: 4139 | O4: 3775 | P4: 2747
A5: Frederiksberg | B5: =-(VLOOKUP(A5,[1]REGK4!$A$3:$G$102,2,FALSE)/VLOOKUP(A5,[1]FOLK1A!$D$3:$J$103,2,FALSE))*1000 -> 14460.766 | C5: =-(VLOOKUP(A5,[1]REGK4!$A$3:$G$102,3,FALSE)/VLOOKUP(A5,[1]FOLK1A!$D$3:$J$103,3,FALSE))*1000 -> 16265.456 | D5: =-(VLOOKUP(A5,[1]REGK4!$A$3:$G$102,4,FALSE)/VLOOKUP(A5,[1]FOLK1A!$D$3:$J$103,4,FALSE))*1000 -> 17892.434 | E5: =-(VLOOKUP(A5,[1]REGK4!$A$3:$G$102,5,FALSE)/VLOOKUP(A5,[1]FOLK1A!$D$3:$J$103,5,FALSE))*1000 -> 20408.785 | F5: =-(VLOOKUP(A5,[1]REGK4!$A$3:$G$102,6,FALSE)/VLOOKUP(A5,[1]FOLK1A!$D$3:$J$103,6,FALSE))*1000 -> 19697.679 | G5: =-(VLOOKUP(A5,[1]REGK4!$A$3:$G$102,7,FALSE)/VLOOKUP(A5,[1]FOLK1A!$D$3:$J$103,7,FALSE))*1000 -> 20519.856 | J5: Frederiksberg | K5: 16649 | L5: 18413 | M5: 19646 | N5: 21820 | O5: 20308 | P5: 20520
A6: Dragør | B6: =-(VLOOKUP(A6,[1]REGK4!$A$3:$G$102,2,FALSE)/VLOOKUP(A6,[1]FOLK1A!$D$3:$J$103,2,FALSE))*1000 -> 18973.476 | C6: =-(VLOOKUP(A6,[1]REGK4!$A$3:$G$102,3,FALSE)/VLOOKUP(A6,[1]FOLK1A!$D$3:$J$103,3,FALSE))*1000 -> 18028.448 | D6: =-(VLOOKUP(A6,[1]REGK4!$A$3:$G$102,4,FALSE)/VLOOKUP(A6,[1]FOLK1A!$D$3:$J$103,4,FALSE))*1000 -> 17081.601 | E6: =-(VLOOKUP(A6,[1]REGK4!$A$3:$G$102,5,FALSE)/VLOOKUP(A6,[1]FOLK1A!$D$3:$J$103,5,FALSE))*1000 -> 16700.048 | F6: =-(VLOOKUP(A6,[1]REGK4!$A$3:$G$102,6,FALSE)/VLOOKUP(A6,[1]FOLK1A!$D$3:$J$103,6,FALSE))*1000 -> 16491.734 | G6: =-(VLOOKUP(A6,[1]REGK4!$A$3:$G$102,7,FALSE)/VLOOKUP(A6,[1]FOLK1A!$D$3:$J$103,7,FALSE))*1000 -> 15325.483 | J6: Dragør | K6: 21844 | L6: 20409 | M6: 18756 | N6: 17855 | O6: 17003 | P6: 15325
A7: Tårnby | B7: =-(VLOOKUP(A7,[1]REGK4!$A$3:$G$102,2,FALSE)/VLOOKUP(A7,[1]FOLK1A!$D$3:$J$103,2,FALSE))*1000 -> 0 | C7: =-(VLOOKUP(A7,[1]REGK4!$A$3:$G$102,3,FALSE)/VLOOKUP(A7,[1]FOLK1A!$D$3:$J$103,3,FALSE))*1000 -> 0 | D7: =-(VLOOKUP(A7,[1]REGK4!$A$3:$G$102,4,FALSE)/VLOOKUP(A7,[1]FOLK1A!$D$3:$J$103,4,FALSE))*1000 -> 0 | E7: =-(VLOOKUP(A7,[1]REGK4!$A$3:$G$102,5,FALSE)/VLOOKUP(A7,[1]FOLK1A!$D$3:$J$103,5,FALSE))*1000 -> 0 | F7: =-(VLOOKUP(A7,[1]REGK4!$A$3:$G$102,6,FALSE)/VLOOKUP(A7,[1]FOLK1A!$D$3:$J$103,6,FALSE))*1000 -> 0 | G7: =-(VLOOKUP(A7,[1]REGK4!$A$3:$G$102,7,FALSE)/VLOOKUP(A7,[1]FOLK1A!$D$3:$J$103,7,FALSE))*1000 -> 0 | J7: Tårnby | K7: 0 | L7: 0 | M7: 0 | N7: 0 | O7: 0 | P7: 0
A8: Albertslund | B8: =-(VLOOKUP(A8,[1]REGK4!$A$3:$G$102,2,FALSE)/VLOOKUP(A8,[1]FOLK1A!$D$3:$J$103,2,FALSE))*1000 -> 25979.777 | C8: =-(VLOOKUP(A8,[1]REGK4!$A$3:$G$102,3,FALSE)/VLOOKUP(A8,[1]FOLK1A!$D$3:$J$103,3,FALSE))*1000 -> 27874.894 | D8: =-(VLOOKUP(A8,[1]REGK4!$A$3:$G$102,4,FALSE)/VLOOKUP(A8,[1]FOLK1A!$D$3:$J$103,4,FALSE))*1000 -> 27573.856 | E8: =-(VLOOKUP(A8,[1]REGK4!$A$3:$G$102,5,FALSE)/VLOOKUP(A8,[1]FOLK1A!$D$3:$J$103,5,FALSE))*1000 -> 28173.643 | F8: =-(VLOOKUP(A8,[1]REGK4!$A$3:$G$102,6,FALSE)/VLOOKUP(A8,[1]FOLK1A!$D$3:$J$103,6,FALSE))*1000 -> 34190.488 | G8: =-(VLOOKUP(A8,[1]REGK4!$A$3:$G$102,7,FALSE)/VLOOKUP(A8,[1]FOLK1A!$D$3:$J$103,7,FALSE))*1000 -> 34158.963 | J8: Albertslund | K8: 29910 | L8: 31556 | M8: 30276 | N8: 30122 | O8: 35250 | P8: 34159
A9: Ballerup | B9: =-(VLOOKUP(A9,[1]REGK4!$A$3:$G$102,2,FALSE)/VLOOKUP(A9,[1]FOLK1A!$D$3:$J$103,2,FALSE))*1000 -> 11979.782 | C9: =-(VLOOKUP(A9,[1]REGK4!$A$3:$G$102,3,FALSE)/VLOOKUP(A9,[1]FOLK1A!$D$3:$J$103,3,FALSE))*1000 -> 11519.651 | D9: =-(VLOOKUP(A9,[1]REGK4!$A$3:$G$102,4,FALSE)/VLOOKUP(A9,[1]FOLK1A!$D$3:$J$103,4,FALSE))*1000 -> 11122.766 | E9: =-(VLOOKUP(A9,[1]REGK4!$A$3:$G$102,5,FALSE)/VLOOKUP(A9,[1]FOLK1A!$D$3:$J$103,5,FALSE))*1000 -> 10530.432 | F9: =-(VLOOKUP(A9,[1]REGK4!$A$3:$G$102,6,FALSE)/VLOOKUP(A9,[1]FOLK1A!$D$3:$J$103,6,FALSE))*1000 -> 9312.6691 | G9: =-(VLOOKUP(A9,[1]REGK4!$A$3:$G$102,7,FALSE)/VLOOKUP(A9,[1]FOLK1A!$D$3:$J$103,7,FALSE))*1000 -> 8578.6011 | J9: Ballerup | K9: 13792 | L9: 13041 | M9: 12213 | N9: 11259 | O9: 9601 | P9: 8579
