Workbook
Name aar: '[1]Makro mv.'!$B$10

Sheet Analyse
A1: Kommune | B1: Beskatningsgrundlag | C1: Selskabsskat | D1: Dækningsafgift | E1: Samlet 1 | F1: Pr. indbygger | G1: Rang før udligning | H1: Tilskud og udligning | I1: Samlet 2 | J1: Pr. indbygger | K1: Rang efter udligning | L1: Kom.type IM
A2: Gentofte | B2: =VLOOKUP(A2,Beskatningsgrundlag!$B$18:$N$115,10,FALSE)*0.2507 -> 10197944 | C2: =VLOOKUP(A2,selskabsskat!$B$1:$C$99,2,FALSE) -> 691416 | D2: =VLOOKUP(A2,dækningsafgift!$B$1:$C$99,2,FALSE) -> 7693 | E2: =SUM(B2:D2) -> 10897053 | F2: =E2/VLOOKUP(A2,Beskatningsgrundlag!$B$18:$N$115,12,FALSE)*1000 -> 145493.85 | G2: 1 | H2: =VLOOKUP(A2,'Tilskud og udligning'!$B$18:$BC$115,54,FALSE) -> -4073016 | I2: =H2+E2 -> 6824036.8 | J2: =I2/VLOOKUP(A2,Beskatningsgrundlag!$B$18:$N$115,12,FALSE)*1000 -> 91112.284 | K2: 1 | L2: =VLOOKUP(A2,Kommunetyper!$A$1:$C$99,3,FALSE) -> bykommune
A3: Billund | B3: =VLOOKUP(A3,Beskatningsgrundlag!$B$18:$N$115,10,FALSE)*0.2507 -> 1601511 | C3: =VLOOKUP(A3,selskabsskat!$B$1:$C$99,2,FALSE) -> 576642 | D3: =VLOOKUP(A3,dækningsafgift!$B$1:$C$99,2,FALSE) -> 1132 | E3: =SUM(B3:D3) -> 2179285 | F3: =E3/VLOOKUP(A3,Beskatningsgrundlag!$B$18:$N$115,12,FALSE)*1000 -> 79962.022 | G3: 10 | H3: =VLOOKUP(A3,'Tilskud og udligning'!$B$18:$BC$115,54,FALSE) -> 250320 | I3: =H3+E3 -> 2429605 | J3: =I3/VLOOKUP(A3,Beskatningsgrundlag!$B$18:$N$115,12,FALSE)*1000 -> 89146.729 | K3: 2 | L3: =VLOOKUP(A3,Kommunetyper!$A$1:$C$99,3,FALSE) -> mellemkommune
A4: Gladsaxe | B4: =VLOOKUP(A4,Beskatningsgrundlag!$B$18:$N$115,10,FALSE)*0.2507 -> 4908221.1 | C4: =VLOOKUP(A4,selskabsskat!$B$1:$C$99,2,FALSE) -> 1129597 | D4: =VLOOKUP(A4,dækningsafgift!$B$1:$C$99,2,FALSE) -> 2248 | E4: =SUM(B4:D4) -> 6040066.1 | F4: =E4/VLOOKUP(A4,Beskatningsgrundlag!$B$18:$N$115,12,FALSE)*1000 -> 84762.151 | G4: 7 | H4: =VLOOKUP(A4,'Tilskud og udligning'!$B$18:$BC$115,54,FALSE) -> 255876 | I4: =H4+E4 -> 6295942.1 | J4: =I4/VLOOKUP(A4,Beskatningsgrundlag!$B$18:$N$115,12,FALSE)*1000 -> 88352.94 | K4: 3 | L4: =VLOOKUP(A4,Kommunetyper!$A$1:$C$99,3,FALSE) -> bykommune
A5: Rudersdal | B5: =VLOOKUP(A5,Beskatningsgrundlag!$B$18:$N$115,10,FALSE)*0.2507 -> 6303303.2 | C5: =VLOOKUP(A5,selskabsskat!$B$1:$C$99,2,FALSE) -> 188274 | D5: =VLOOKUP(A5,dækningsafgift!$B$1:$C$99,2,FALSE) -> 2092 | E5: =SUM(B5:D5) -> 6493669.2 | F5: =E5/VLOOKUP(A5,Beskatningsgrundlag!$B$18:$N$115,12,FALSE)*1000 -> 113408.71 | G5: 2 | H5: =VLOOKUP(A5,'Tilskud og udligning'!$B$18:$BC$115,54,FALSE) -> -1532316 | I5: =H5+E5 -> 4961353.2 | J5: =I5/VLOOKUP(A5,Beskatningsgrundlag!$B$18:$N$115,12,FALSE)*1000 -> 86647.57 | K5: 4 | L5: =VLOOKUP(A5,Kommunetyper!$A$1:$C$99,3,FALSE) -> mindre bykommune
A6: Hørsholm | B6: =VLOOKUP(A6,Beskatningsgrundlag!$B$18:$N$115,10,FALSE)*0.2507 -> 2600798.4 | C6: =VLOOKUP(A6,selskabsskat!$B$1:$C$99,2,FALSE) -> 114933 | D6: =VLOOKUP(A6,dækningsafgift!$B$1:$C$99,2,FALSE) -> 1554 | E6: =SUM(B6:D6) -> 2717285.4 | F6: =E6/VLOOKUP(A6,Beskatningsgrundlag!$B$18:$N$115,12,FALSE)*1000 -> 108124.84 | G6: 3 | H6: =VLOOKUP(A6,'Tilskud og udligning'!$B$18:$BC$115,54,FALSE) -> -545580 | I6: =H6+E6 -> 2171705.4 | J6: =I6/VLOOKUP(A6,Beskatningsgrundlag!$B$18:$N$115,12,FALSE)*1000 -> 86415.399 | K6: 5 | L6: =VLOOKUP(A6,Kommunetyper!$A$1:$C$99,3,FALSE) -> mindre bykommune
A7: Lyngby-Taarbæk | B7: =VLOOKUP(A7,Beskatningsgrundlag!$B$18:$N$115,10,FALSE)*0.2507 -> 5580186.1 | C7: =VLOOKUP(A7,selskabsskat!$B$1:$C$99,2,FALSE) -> 239840 | D7: =VLOOKUP(A7,dækningsafgift!$B$1:$C$99,2,FALSE) -> 32858 | E7: =SUM(B7:D7) -> 5852884.1 | F7: =E7/VLOOKUP(A7,Beskatningsgrundlag!$B$18:$N$115,12,FALSE)*1000 -> 99214.879 | G7: 4 | H7: =VLOOKUP(A7,'Tilskud og udligning'!$B$18:$BC$115,54,FALSE) -> -787236 | I7: =H7+E7 -> 5065648.1 | J7: =I7/VLOOKUP(A7,Beskatningsgrundlag!$B$18:$N$115,12,FALSE)*1000 -> 85870.087 | K7: 6 | L7: =VLOOKUP(A7,Kommunetyper!$A$1:$C$99,3,FALSE) -> bykommune
A8: Ishøj | B8: =VLOOKUP(A8,Beskatningsgrundlag!$B$18:$N$115,10,FALSE)*0.2507 -> 1266840.5 | C8: =VLOOKUP(A8,selskabsskat!$B$1:$C$99,2,FALSE) -> 25659 | D8: =VLOOKUP(A8,dækningsafgift!$B$1:$C$99,2,FALSE) -> 1045 | E8: =SUM(B8:D8) -> 1293544.5 | F8: =E8/VLOOKUP(A8,Beskatningsgrundlag!$B$18:$N$115,12,FALSE)*1000 -> 52673.039 | G8: 97 | H8: =VLOOKUP(A8,'Tilskud og udligning'!$B$18:$BC$115,54,FALSE) -> 808056 | I8: =H8+E8 -> 2101600.5 | J8: =I8/VLOOKUP(A8,Beskatningsgrundlag!$B$18:$N$115,12,FALSE)*1000 -> 85577.022 | K8: 7 | L8: =VLOOKUP(A8,Kommunetyper!$A$1:$C$99,3,FALSE) -> bykommune
A9: Ballerup | B9: =VLOOKUP(A9,Beskatningsgrundlag!$B$18:$N$115,10,FALSE)*0.2507 -> 3341409.3 | C9: =VLOOKUP(A9,selskabsskat!$B$1:$C$99,2,FALSE) -> 537432 | D9: =VLOOKUP(A9,dækningsafgift!$B$1:$C$99,2,FALSE) -> 8457 | E9: =SUM(B9:D9) -> 3887298.3 | F9: =E9/VLOOKUP(A9,Beskatningsgrundlag!$B$18:$N$115,12,FALSE)*1000 -> 72521.516 | G9: 14 | H9: =VLOOKUP(A9,'Tilskud og udligning'!$B$18:$BC$115,54,FALSE) -> 672240 | I9: =H9+E9 -> 4559538.3 | J9: =I9/VLOOKUP(A9,Beskatningsgrundlag!$B$18:$N$115,12,FALSE)*1000 -> 85062.839 | K9: 8 | L9: =VLOOKUP(A9,Kommunetyper!$A$1:$C$99,3,FALSE) -> bykommune
A10: Høje-Taastrup | B10: =VLOOKUP(A10,Beskatningsgrundlag!$B$18:$N$115,10,FALSE)*0.2507 -> 3302253.7 | C10: =VLOOKUP(A10,selskabsskat!$B$1:$C$99,2,FALSE) -> 431032 | D10: =VLOOKUP(A10,dækningsafgift!$B$1:$C$99,2,FALSE) -> 3446 | E10: =SUM(B10:D10) -> 3736731.7 | F10: =E10/VLOOKUP(A10,Beskatningsgrundlag!$B$18:$N$115,12,FALSE)*1000 -> 61997.806 | G10: 38 | H10: =VLOOKUP(A10,'Tilskud og udligning'!$B$18:$BC$115,54,FALSE) -> 1389840 | I10: =H10+E10 -> 5126571.7 | J10: =I10/VLOOKUP(A10,Beskatningsgrundlag!$B$18:$N$115,12,FALSE)*1000 -> 85057.269 | K10: 9 | L10: =VLOOKUP(A10,Kommunetyper!$A$1:$C$99,3,FALSE) -> mindre bykommune
A11: Allerød | B11: =VLOOKUP(A11,Beskatningsgrundlag!$B$18:$N$115,10,FALSE)*0.2507 -> 2135292.1 | C11: =VLOOKUP(A11,selskabsskat!$B$1:$C$99,2,FALSE) -> 92224 | D11: =VLOOKUP(A11,dækningsafgift!$B$1:$C$99,2,FALSE) -> 1745 | E11: =SUM(B11:D11) -> 2229261.1 | F11: =E11/VLOOKUP(A11,Beskatningsgrundlag!$B$18:$N$115,12,FALSE)*1000 -> 85405.759 | G11: 5 | H11: =VLOOKUP(A11,'Tilskud og udligning'!$B$18:$BC$115,54,FALSE) -> -39480 | I11: =H11+E11 -> 2189781.1 | J11: =I11/VLOOKUP(A11,Beskatningsgrundlag!$B$18:$N$115,12,FALSE)*1000 -> 83893.231 | K11: 10 | L11: =VLOOKUP(A11,Kommunetyper!$A$1:$C$99,3,FALSE) -> mindre bykommune
A12: Albertslund | B12: =VLOOKUP(A12,Beskatningsgrundlag!$B$18:$N$115,10,FALSE)*0.2507 -> 1572743.9 | C12: =VLOOKUP(A12,selskabsskat!$B$1:$C$99,2,FALSE) -> 59567 | D12: =VLOOKUP(A12,dækningsafgift!$B$1:$C$99,2,FALSE) -> 1365 | E12: =SUM(B12:D12) -> 1633675.9 | F12: =E12/VLOOKUP(A12,Beskatningsgrundlag!$B$18:$N$115,12,FALSE)*1000 -> 57929.715 | G12: 67 | H12: =VLOOKUP(A12,'Tilskud og udligning'!$B$18:$BC$115,54,FALSE) -> 725472 | I12: =H12+E12 -> 2359147.9 | J12: =I12/VLOOKUP(A12,Beskatningsgrundlag!$B$18:$N$115,12,FALSE)*1000 -> 83654.76 | K12: 11 | L12: =VLOOKUP(A12,Kommunetyper!$A$1:$C$99,3,FALSE) -> bykommune
A13: Brøndby | B13: =VLOOKUP(A13,Beskatningsgrundlag!$B$18:$N$115,10,FALSE)*0.2507 -> 2103381.3 | C13: =VLOOKUP(A13,selskabsskat!$B$1:$C$99,2,FALSE) -> 176509 | D13: =VLOOKUP(A13,dækningsafgift!$B$1:$C$99,2,FALSE) -> 4037 | E13: =SUM(B13:D13) -> 2283927.3 | F13: =E13/VLOOKUP(A13,Beskatningsgrundlag!$B$18:$N$115,12,FALSE)*1000 -> 55288.854 | G13: 89 | H13: =VLOOKUP(A13,'Tilskud og udligning'!$B$18:$BC$115,54,FALSE) -> 1171020 | I13: =H13+E13 -> 3454947.3 | J13: =I13/VLOOKUP(A13,Beskatningsgrundlag!$B$18:$N$115,12,FALSE)*1000 -> 83636.672 | K13: 12 | L13: =VLOOKUP(A13,Kommunetyper!$A$1:$C$99,3,FALSE) -> bykommune
... A99: Odder | B99: =VLOOKUP(A99,Beskatningsgrundlag!$B$18:$N$115,10,FALSE)*0.2507 -> 1447278.1 | C99: =VLOOKUP(A99,selskabsskat!$B$1:$C$99,2,FALSE) -> 13383 | D99: =VLOOKUP(A99,dækningsafgift!$B$1:$C$99,2,FALSE) -> 0 | E99: =SUM(B99:D99) -> 1460661.1 | F99: =E99/VLOOKUP(A99,Beskatningsgrundlag!$B$18:$N$115,12,FALSE)*1000 -> 60079.84 | G99: 51 | H99: =VLOOKUP(A99,'Tilskud og udligning'!$B$18:$BC$115,54,FALSE) -> 425700 | I99: =H99+E99 -> 1886361.1 | J99: =I99/VLOOKUP(A99,Beskatningsgrundlag!$B$18:$N$115,12,FALSE)*1000 -> 77589.711 | K99: 98 | L99: =VLOOKUP(A99,Kommunetyper!$A$1:$C$99,3,FALSE) -> mellemkommune

Sheet Udklip
A1: Kommune | B1: Rang før udligning | C1: Rang efter udligning
A2: Rudersdal | B2: 2 | C2: 4
A3: Hørsholm | B3: 3 | C3: 5
A4: Høje-Taastrup | B4: 38 | C4: 9
A5: Allerød | B5: 5 | C5: 10
A6: Hillerød | B6: 12 | C6: 14
A7: Furesø | B7: 8 | C7: 16
A8: Dragør | B8: 6 | C8: 19
A9: Køge | B9: 29 | C9: 20
A10: Fredensborg | B10: 13 | C10: 26
A11: Egedal | B11: 19 | C11: 36
A12: Solrød | B12: 15 | C12: 41
A13: Fredericia | B13: 33 | C13: 53
... A42: Odder | B42: 51 | C42: 98

Sheet Kommunetyper
A1: Kommune | B1: nr | C1: type
A2: Albertslund | B2: 4 | C2: bykommune
A3: Allerød | B3: 3 | C3: mindre bykommune
A4: Assens | B4: 2 | C4: mellemkommune
A5: Ballerup | B5: 4 | C5: bykommune
A6: Billund | B6: 2 | C6: mellemkommune
A7: Bornholm | B7: 1 | C7: yderkommune
A8: Brøndby | B8: 4 | C8: bykommune
A9: Brønderslev | B9: 2 | C9: mellemkommune
A10: Dragør | B10: 3 | C10: mindre bykommune
A11: Egedal | B11: 3 | C11: mindre bykommune
A12: Esbjerg | B12: 4 | C12: bykommune
A13: Fanø | B13: 2 | C13: mellemkommune
... A99: Aarhus | B99: 4 | C99: bykommune

Sheet Beskatningsgrundlag
A1: ="Bilagstabel 2: Grunddata til statsgaranti "&aar -> Bilagstabel 2: Grunddata til statsgaranti 2026 | G1: lukkes sammen
A3: knr | B3: kommunenavn | C3: Udskriv- | D3: Indkomst- | E3: Udskriv- | F3: Grund- | G3: Grund- | H3: Grund- | I3: Beregnings- | J3: Beregnings- | K3: Beskat- | L3: Udgifts- | M3: Samlet | N3: Udgifts-
C4: nings- | D4: skat | E4: nings- | F4: skylds- | G4: skylds- | H4: skylds- | I4: tekniske | J4: tekniske | K4: nings- | L4: behov | M4: antal | N4: behov
C5: procent | E5: grundlag | F5: promille, | G5: promille, | H5: provenu | I5: grund- | J5: grund- | K5: grundlag | M5: indbyg- | N5: pr.
F6: øvrige | G6: produk- | I6: værdier, | J6: værdier, | M6: gere | N6: indbygger
F7: ejen- | G7: tions- | I7: øvrige | J7: produk- | M7: (IM-
F8: domme | G8: jord | I8: ejen- | J8: tions- | M8: skøn)
I9: domme | J9: jord
F10: Anvendes | G10: Anvendes | H10: Anvendes
F11: ikke | G11: ikke | H11: ikke
F12: i 2024 | G12: i 2024 | H12: i 2024
C14: 1 | D14: =+C14+1 -> 2 | E14: =+D14+1 -> 3 | F14: =+E14+1 -> 4 | G14: =+F14+1 -> 5 | H14: =+G14+1 -> 6 | I14: =+H14+1 -> 7 | J14: =+I14+1 -> 8 | K14: =+J14+1 -> 9 | ... N14: =+M14+1 -> 12
A16: 1 | B16: Kommuner i alt | C16: =100*D16/E16 -> 25.069098 | D16: =SUM(D18:D115) -> 344522488 | E16: =SUM(E18:E115) -> 1374291537 | F16: --- | G16: --- | H16: =SUM(H18:H115) -> 0 | I16: =SUM(I18:I115) -> 1182226121 | J16: =SUM(J18:J115) -> 1.2460594e+08 | K16: =SUM(K18:K115) -> 1493932781 | L16: =SUM(L18:L115) -> 4.899683e+08 | M16: =SUM(M18:M115) -> 6020396 | N16: =+L16/M16*1000 -> 81384.73
B17: 1 | C17: 2 | D17: 3 | E17: 4 | F17: 5 | G17: 6 | H17: 7 | I17: 8 | J17: 9 | K17: 10 | L17: 11 | M17: 12
A18: 101 | B18: København | C18: 23.5 | D18: 38584565 | E18: 164189638 | F18: 0 | G18: 0 | H18: 0 | I18: 132008284 | J18: 0 | K18: 177136362 | L18: 51553002 | M18: 672681 | N18: 76638.112
A19: 147 | B19: Frederiksberg | C19: 24.57 | D19: 7626838 | E19: 31041262 | F19: 0 | G19: 0 | H19: 0 | I19: 21426655 | J19: 0 | K19: 33142683 | L19: 7525866.1 | M19: 105899 | N19: 71066.451
A20: 151 | B20: Ballerup | C20: 25.5 | D20: 3007693 | E20: 11794875 | F20: 0 | G20: 0 | H20: 0 | I20: 15631822 | J20: 11820 | K20: 13328318 | L20: 4772093.4 | M20: 53602 | N20: 89028.272
A21: 153 | B21: Brøndby | C21: 24.3 | D21: 1839243 | E21: 7568901 | F21: 0 | G21: 0 | H21: 0 | I21: 8372203 | J21: 936 | K21: 8390033 | L21: 3999200 | M21: 41309 | N21: 96811.832
A22: 155 | B22: Dragør | C22: 24.8 | D22: 1052228 | E22: 4242855 | F22: 0 | G22: 0 | H22: 0 | I22: 6197219 | J22: 19293 | K22: 4851220 | L22: 1090621.1 | M22: 14374 | N22: 75874.573
A23: 157 | B23: Gentofte | C23: 24.24 | D23: 8850962 | E23: 36513870 | F23: 0 | G23: 0 | H23: 0 | I23: 42457338 | J23: 0 | K23: 40677877 | L23: 5525317.8 | M23: 74897 | N23: 73772.217
A24: 159 | B24: Gladsaxe | C24: 23.6 | D24: 4122358 | E24: 17467619 | F24: 0 | G24: 0 | H24: 0 | I24: 21518649 | J24: 119 | K24: 19578066 | L24: 5922647.2 | M24: 71259 | N24: 83114.374
A25: 161 | B25: Glostrup | C25: 24.6 | D25: 1349996 | E25: 5487789 | F25: 0 | G25: 0 | H25: 0 | I25: 6262503 | J25: 1368 | K25: 6102025 | L25: 2155640.4 | M25: 25069 | N25: 85988.287
A26: 163 | B26: Herlev | C26: 23.7 | D26: 1596274 | E26: 6735333 | F26: 0 | G26: 0 | H26: 0 | I26: 7698941 | J26: 4328 | K26: 7490536 | L26: 2734415.4 | M26: 31103 | N26: 87914.844
A27: 165 | B27: Albertslund | C27: 25.6 | D27: 1436900 | E27: 5612891 | F27: 0 | G27: 0 | H27: 0 | I27: 6728602 | J27: 20610 | K27: 6273410 | L27: 2710038.6 | M27: 28201 | N27: 96097.253
A28: 167 | B28: Hvidovre | C28: 25.4 | D28: 3055051 | E28: 12027760 | F28: 0 | G28: 0 | H28: 0 | I28: 13809902 | J28: 2453 | K28: 13382240 | L28: 4683271.2 | M28: 53892 | N28: 86901.047
A29: 169 | B29: Høje-Taastrup | C29: 24.6 | D29: 2934933 | E29: 11930622 | F29: 0 | G29: 0 | H29: 0 | I29: 12610023 | J29: 161303 | K29: 13172133 | L29: 5161012.2 | M29: 60272 | N29: 85628.687
... A115: 860 | B115: Hjørring | C115: 26.21 | D115: 3410746 | E115: 13013148 | F115: 0 | G115: 0 | H115: 0 | I115: 7912979 | J115: 2239053 | K115: 13855598 | L115: 5382899.7 | M115: 63052 | N115: 85372.387

Sheet selskabsskat
A1: Nr | B1: Navn | C1: Provenu vedr. selskabsskat 1.000 kr. (1)
A2: 101 | B2: København | C2: 3382672
A3: 147 | B3: Frederiksberg | C3: 154415
A4: 151 | B4: Ballerup | C4: 537432
A5: 153 | B5: Brøndby | C5: 176509
A6: 155 | B6: Dragør | C6: 10053
A7: 157 | B7: Gentofte | C7: 691416
A8: 159 | B8: Gladsaxe | C8: 1129597
A9: 161 | B9: Glostrup | C9: 88801
A10: 163 | B10: Herlev | C10: 63376
A11: 165 | B11: Albertslund | C11: 59567
A12: 167 | B12: Hvidovre | C12: 120109
A13: 169 | B13: Høje-Taastrup | C13: 431032
... A99: 860 | B99: Hjørring | C99: 153627

Sheet dækningsafgift
A1: Nr | B1: Navn | C1: Dæknings afgifter vedr. offentlige ejendomme
A2: 101 | B2: København | C2: 291718
A3: 147 | B3: Frederiksberg | C3: 33757
A4: 151 | B4: Ballerup | C4: 8457
A5: 153 | B5: Brøndby | C5: 4037
A6: 155 | B6: Dragør | C6: 313
A7: 157 | B7: Gentofte | C7: 7693
A8: 159 | B8: Gladsaxe | C8: 2248
A9: 161 | B9: Glostrup | C9: 13228
A10: 163 | B10: Herlev | C10: 21375
A11: 165 | B11: Albertslund | C11: 1365
A12: 167 | B12: Hvidovre | C12: 9964
A13: 169 | B13: Høje-Taastrup | C13: 3446
... A99: 860 | B99: Hjørring | C99: 5993

Sheet Tilskud og udligning
A1: ="Bilagstabel 1: Udligningsbeløb statsgaranti "&aar -> Bilagstabel 1: Udligningsbeløb statsgaranti 2026 | G1: samle 1 | N1: samle 2 | R1: samle 3 | T1: samle 4.1 | AF1: samle 4.2 | AR1: samle 4.3
C2: 1 | D2: =+C2+1 -> 2 | E2: =+D2+1 -> 3 | F2: =+E2+1 -> 4 | G2: =+F2+1 -> 5 | H2: =+G2+1 -> 6 | I2: =+H2+1 -> 7 | J2: =+I2+1 -> 8 | K2: =+J2+1 -> 9 | L2: =+K2+1 -> 10 | M2: 1 | N2: =+M2+1 -> 2 | O2: =+N2+1 -> 3 | P2: =+O2+1 -> 4 | Q2: 1 | R2: =+Q2+1 -> 2 | S2: =+R2+1 -> 3 | T2: 1 | U2: =+T2+1 -> 2 | V2: =+U2+1 -> 3 | W2: =+V2+1 -> 4 | X2: =+W2+1 -> 5 | Y2: =+X2+1 -> 6 | Z2: =+Y2+1 -> 7 | AA2: =+Z2+1 -> 8 | AB2: =+AA2+1 -> 9 | ... AE2: =+AD2+1 -> 12 | AF2: 1 | AG2: =+AF2+1 -> 2 | AH2: =+AG2+1 -> 3 | AI2: =+AH2+1 -> 4 | AJ2: =+AI2+1 -> 5 | AK2: =+AJ2+1 -> 6 | AL2: =+AK2+1 -> 7 | AM2: =+AL2+1 -> 8 | AN2: =+AM2+1 -> 9 | ... AQ2: =+AP2+1 -> 12 | AR2: 1 | AS2: =+AR2+1 -> 2 | AT2: =+AS2+1 -> 3 | AU2: =+AT2+1 -> 4 | AV2: =+AU2+1 -> 5 | AW2: =+AV2+1 -> 6 | AX2: =+AW2+1 -> 7 | AY2: =+AX2+1 -> 8 | AZ2: =+AY2+1 -> 9 | ... BB2: =+BA2+1 -> 11
A3: knr | B3: kommunenavn | C3: Udlig- | D3: Tillæg | E3: Tillæg | F3: Finan- | G3: Over- | H3: Korrek- | I3: Udlig- | J3: Tillæg | K3: Finan- | L3: Særlig | M3: Tilskud | N3: Bidrag | O3: Udlig- | P3: Udlig- | Q3: Ordinært | R3: Betinget | S3: Betinget | T3: Finan- | U3: Ekstra | V3: Tilskud | W3: Tilskud | X3: Tilskud | Y3: Tilskud | Z3: Tilskud | AA3: Tilskud | AB3: Tilskud | AC3: Bidrag | AD3: Tilskud | AE3: Tilskud | AF3: Tilskud | AG3: Tilskud | AH3: Tilskud | AI3: Tilskud | AJ3: Tilskud | AK3: Tilskud | AL3: Tilskud | AM3: Moms- | AN3: Moms- | AO3: Tilskud | AP3: Om- | AQ3: Kompen- | AR3: Indivi- | AS3: Indivi- | AT3: Midler- | AU3: Midler- | AV3: Midler- | AW3: Midler- | AX3: Per- | AY3: Indivi- | AZ3: Indivi-
C4: ning | D4: for kom- | E4: for kom- | F4: siering | G4: udlig- | H4: tion | I4: ning | J4: for | K4: siering | L4: kom- | M4: vedr. | N4: vedr. | O4: ning | P4: ning | Q4: blok- | R4: blok- | S4: blok- | T4: sierings- | U4: finan- | V4: til | W4: til | X4: til | Y4: til | Z4: til | AA4: til | AB4: til | AC4: til | AD4: til | AE4: vedr. | AF4: til | AG4: til | AH4: til kom- | AI4: til | AJ4: til | AK4: til | AL4: til | AM4: kompen- | AN4: kompen- | AO4: til | AP4: stil- | AQ4: sations- | AR4: duelle | AS4: duelle | AT4: tidigt | AU4: tidigt | AV4: tidigt | AW4: tidigt | AX4: manent | AY4: duel | AZ4: duel | BA4: (tom) | BB4: (tom)
C5: af | D5: muner | E5: muner | F5: af | G5: ning | H5: vedr. | I5: udgifts- | J5: kom- | K5: af | L5: pen- | M5: ind- | N5: ind- | O5: af | P5: af | Q5: tilskud | R5: tilskud | S5: tilskud | T5: tilskud | U5: sierings- | V5: bedre | W5: generelt | X5: styrket | Y5: værdig | Z5: bekæm- | AA5: udsatte | AB5: udsatte | AC5: udsatte | AD5: grænse- | AE5: høj | AF5: Furesø | AG5: vanske- | AH5: muner | AI5: kom- | AJ5: kom- | AK5: nedsæt- | AL5: nedsæt- | AM5: sation | AN5: sation | AO5: færge- | AP5: lings- | AQ5: tilskud | AR5: tilskud | AS5: tilskud | AT5: tilskud | AU5: tilskud | AV5: tilskud | AW5: tilskud | AX5: tilskud | AY5: mod- | AZ5: mod-
C6: beskat- | D6: med | E6: med | F6: tillæg | H6: over- | I6: behov | J6: muner | K6: tillæg | L6: sation | M6: vandrer | N6: vandrer | O6: sel- | P6: dæk- | R6: vedr. | S6: vedr. | U6: tilskud | V6: kvalitet | W6: løft i | X6: kvalitet | Y6: ældre- | Z6: pelse | AA6: ø- | AB6: hoved- | AC6: hoved- | AD6: nære | AE6: krimi- | AF6: Kom- | AG6: ligt | AH6: med | AI6: muner | AJ6: muner | AK6: telse | AL6: telse | AM6: vedr. | AN6: vedr. | AO6: drift | AP6: støtte | AQ6: vedr. | AR6: vedr. | AS6: vedr. | AT6: vedr. | AU6: vedr. | AV6: vedr. | AW6: vedr. | AX6: vedr. | AY6: regning | AZ6: regning
C7: nings- | D7: lavt | E7: højt | F7: vedr. | H7: udlig- | J7: med | K7: vedr. | M7: og | N7: og | O7: skabs- | P7: nings- | R7: service- | S7: anlæg | V7: i dag- | W7: ældre- | X7: ældre- | Y7: pleje | Z7: af | AA7: og | AB7: stads- | AC7: stads- | AD7: kom- | AE7: nalitet | AF7: mune | AG7: stillede | AH7: vanske- | AI7: med | AJ7: på øer | AK7: af | AL7: af | AM7: færge- | AN7: færge- | AP7: (færger) | AQ7: netto- | AR7: skatte- | AS7: skatte- | AT7: skatte- | AU7: skatte- | AV7: skatte- | AW7: skatte- | AX7: skatte- | AY7: sfa. | AZ7: sfa.
C8: grundlag | D8: beskat- | E8: beskat- | F8: beskat- | H8: ning | J8: højt | K8: udgifts- | M8: efter- | N8: efter- | O8: skat | P8: afgift | R8: udgifter | V8: tilbud | W8: plejen | X8: pleje | Z8: ensom- | AA8: yder- | AB8: kom- | AC8: kom- | AD8: muner | AE8: i visse | AG8: kom- | AH8: lige | AI8: mindre | AJ8: uden | AK8: takster | AL8: takster | AM8: takster | AN8: takster | AQ8: tab sfa. | AR8: nedsæt- | AS8: nedsæt- | AT8: nedsæt- | AU8: nedsæt- | AV8: nedsæt- | AW8: nedsæt- | AX8: nedsæt- | AY8: skatte- | AZ8: skatte-
D9: nings- | E9: nings- | F9: nings- | J9: udgifts- | K9: behov | M9: kom- | N9: kom- | Z9: hed på | AA9: kom- | AB9: muner | AC9: muner | AE9: bolig- | AG9: muner | AH9: økono- | AI9: øer | AJ9: fast | AK9: for | AL9: for | AM9: for | AN9: for | AQ9: ændring | AR9: telser | AS9: telser | AT9: telser | AU9: telser | AV9: telser | AW9: telser | AX9: telser | AY9: stig- | AZ9: stig-
D10: grundlag | E10: grundlag | F10: grundlag | J10: behov | M10: mere | N10: mere | Z10: ældre- | AA10: muner | AE10: områder | AH10: miske | AJ10: forbin- | AK10: gods- | AL10: passa- | AM10: gods- | AN10: passa- | AQ10: i dæk- | AR10: (ØA) | AS10: (ØA) | AT10: (Udl.ref) | AU10: (Udl.ref) | AV10: (Udl.ref) | AW10: (Udl.ref) | AX10: (Udl.ref) | AY10: ninger | AZ10: ninger
Z11: området | AH11: vilkår | AJ11: delse | AK11: transport | AL11: gerer mv. | AM11: transport | AN11: gerer mv. | AQ11: nings- | AR11: 2022-2023 | AS11: 2024-2025 | AT11: 2021-2022 | AU11: 2022-2023 | AV11: 2023-2024 | AW11: 2024-2025 | AX11: 2020-2021 | AY11: 2022-2023 | AZ11: 2023-2024
AQ12: afgiften
C13: 3 | D13: =+C13+1 -> 4 | E13: =+D13+1 -> 5 | F13: =+E13+1 -> 6 | G13: =+F13+1 -> 7 | H13: =+G13+1 -> 8 | I13: =+H13+1 -> 9 | J13: =+I13+1 -> 10 | K13: =+J13+1 -> 11 | ... BB13: =+BA13+1 -> 54
C14: 1 | D14: =+C14+1 -> 2 | E14: =+D14+1 -> 3 | F14: =+E14+1 -> 4 | G14: =+F14+1 -> 5 | H14: =+G14+1 -> 6 | I14: =+H14+1 -> 7 | J14: =+I14+1 -> 8 | K14: =+J14+1 -> 9 | ... BB14: =+BA14+1 -> 52
A16: 1 | B16: Kommuner i alt | C16: =SUM(C18:C115) -> 0 | D16: =SUM(D18:D115) -> 471876 | E16: =SUM(E18:E115) -> -1508340 | F16: =SUM(F18:F115) -> 1036464 | G16: =SUM(G18:G115) -> 303108 | H16: =SUM(H18:H115) -> -303108 | I16: =SUM(I18:I115) -> 0 | J16: =SUM(J18:J115) -> 263124 | ... BB16: =SUM(BB18:BB115) -> 0
A18: 101 | B18: København | C18: -1920372 | D18: 0 | E18: 0 | F18: 115812 | G18: 0 | H18: -33864 | I18: -2969448 | J18: 0 | K18: -29400 | L18: 182604 | M18: 551172 | N18: -416064 | O18: -829512 | P18: -19440 | Q18: 8754036 | R18: 335196 | S18: 111732 | T18: 167604 | U18: 51060 | V18: 79788 | W18: 49284 | X18: 66036 | Y18: 69168 | Z18: 6588 | AA18: 0 | AB18: 0 | AC18: -59736 | AD18: 29508 | AE18: 29532 | AF18: 0 | AG18: 0 | AH18: 0 | AI18: 0 | AJ18: 0 | AK18: 0 | AL18: 0 | AM18: 0 | AN18: 0 | AO18: 0 | AP18: 0 | AQ18: 0 | AR18: 32904 | AS18: 68724 | AT18: 0 | AU18: 0 | AV18: 68124 | AW18: 13752 | AX18: 0 | AY18: 0 | AZ18: 0 | BC18: =SUM(C18:AE18)-I18-J18-K18 -> 7320132
A19: 147 | B19: Frederiksberg | C19: -1290624 | D19: 0 | E19: -13296 | F19: 18228 | G19: 1368 | H19: -5328 | I19: -1016208 | J19: 0 | K19: -4632 | L19: -24384 | M19: 53688 | N19: -65496 | O19: 58464 | P19: -1848 | Q19: 1378128 | R19: 52764 | S19: 17592 | T19: 26388 | U19: 8040 | V19: 12012 | W19: 13416 | X19: 17976 | Y19: 18828 | Z19: 1800 | AA19: 0 | AB19: 0 | AC19: -12420 | AD19: 0 | AE19: 0 | AF19: 0 | AG19: 0 | AH19: 0 | AI19: 0 | AJ19: 0 | AK19: 0 | AL19: 0 | AM19: 0 | AN19: 0 | AO19: 0 | AP19: 0 | AQ19: 10848 | AR19: 0 | AS19: 0 | AT19: 0 | AU19: 0 | AV19: 0 | AW19: 0 | AX19: 0 | AY19: -37284 | AZ19: -134196 | BC19: =SUM(C19:AE19)-I19-J19-K19 -> 265296
A20: 151 | B20: Ballerup | C20: -5124 | D20: 0 | E20: 0 | F20: 9228 | G20: 0 | H20: -2700 | I20: 381024 | J20: 8196 | K20: -2340 | L20: -11340 | M20: 53808 | N20: -33156 | O20: -178116 | P20: -72 | Q20: 697560 | R20: 26712 | S20: 8904 | T20: 28152 | U20: 14220 | V20: 6660 | W20: 7872 | X20: 10536 | Y20: 11040 | Z20: 1056 | AA20: 0 | AB20: 31944 | AC20: -4944 | AD20: 0 | AE20: 0 | AF20: 0 | AG20: 0 | AH20: 0 | AI20: 0 | AJ20: 0 | AK20: 0 | AL20: 0 | AM20: 0 | AN20: 0 | AO20: 0 | AP20: 0 | AQ20: 0 | AR20: 0 | AS20: 0 | AT20: 0 | AU20: 0 | AV20: 0 | AW20: 0 | AX20: 0 | AY20: 0 | AZ20: 0 | BC20: =SUM(C20:AE20)-I20-J20-K20 -> 672240
A21: 153 | B21: Brøndby | C21: 349824 | D21: 41892 | E21: 0 | F21: 7116 | G21: 0 | H21: -2076 | I21: 592668 | J21: 12744 | K21: -1800 | L21: 47592 | M21: 67104 | N21: -25548 | O21: -35328 | P21: 192 | Q21: 537576 | R21: 20580 | S21: 6864 | T21: 37392 | U21: 21708 | V21: 5412 | W21: 5148 | X21: 6888 | Y21: 7224 | Z21: 684 | AA21: 0 | AB21: 73860 | AC21: -3084 | AD21: 0 | AE21: 0 | AF21: 0 | AG21: 0 | AH21: 0 | AI21: 0 | AJ21: 0 | AK21: 0 | AL21: 0 | AM21: 0 | AN21: 0 | AO21: 0 | AP21: 0 | AQ21: 0 | AR21: 0 | AS21: 0 | AT21: 0 | AU21: 0 | AV21: 0 | AW21: 0 | AX21: 0 | AY21: 0 | AZ21: 0 | BC21: =SUM(C21:AE21)-I21-J21-K21 -> 1171020
A22: 155 | B22: Dragør | C22: -241488 | D22: 0 | E22: -17724 | F22: 2472 | G22: 984 | H22: -720 | I22: -73656 | J22: 0 | K22: -624 | L22: -3336 | M22: 4044 | N22: -8892 | O22: 13392 | P22: 180 | Q22: 187056 | R22: 7164 | S22: 2388 | T22: 3576 | U22: 1092 | V22: 1680 | W22: 2760 | X22: 3708 | Y22: 3876 | Z22: 372 | AA22: 0 | AB22: 0 | AC22: -2268 | AD22: 0 | AE22: 0 | AF22: 0 | AG22: 0 | AH22: 0 | AI22: 0 | AJ22: 0 | AK22: 0 | AL22: 0 | AM22: 0 | AN22: 0 | AO22: 0 | AP22: 0 | AQ22: 252 | AR22: 0 | AS22: 0 | AT22: 0 | AU22: 0 | AV22: 0 | AW22: 0 | AX22: 0 | AY22: 0 | AZ22: 0 | BC22: =SUM(C22:AE22)-I22-J22-K22 -> -39684
A23: 157 | B23: Gentofte | C23: -4153800 | D23: 0 | E23: -787248 | F23: 12900 | G23: 134520 | H23: -3768 | I23: -530244 | J23: 0 | K23: -3276 | L23: -17568 | M23: 49032 | N23: -46320 | O23: -249756 | P23: 312 | Q23: 974688 | R23: 37320 | S23: 12444 | T23: 18660 | U23: 5688 | V23: 7812 | W23: 12132 | X23: 16260 | Y23: 17028 | Z23: 1620 | AA23: 0 | AB23: 0 | AC23: -114972 | AD23: 0 | AE23: 0 | AF23: 0 | AG23: 0 | AH23: 0 | AI23: 0 | AJ23: 0 | AK23: 0 | AL23: 0 | AM23: 0 | AN23: 0 | AO23: 0 | AP23: 0 | AQ23: 0 | AR23: 0 | AS23: 3528 | AT23: 0 | AU23: 0 | AV23: 0 | AW23: 10572 | AX23: 0 | AY23: 0 | AZ23: 0 | BC23: =SUM(C23:AE23)-I23-J23-K23 -> -4073016
A24: 159 | B24: Gladsaxe | C24: -356388 | D24: 0 | E24: 0 | F24: 12264 | G24: 0 | H24: -3588 | I24: 114624 | J24: 2460 | K24: -3120 | L24: -16404 | M24: 87312 | N24: -44076 | O24: -457428 | P24: 804 | Q24: 927336 | R24: 35508 | S24: 11832 | T24: 17760 | U24: 5412 | V24: 8928 | W24: 8748 | X24: 11712 | Y24: 12276 | Z24: 1164 | AA24: 0 | AB24: 0 | AC24: -7296 | AD24: 0 | AE24: 0 | AF24: 0 | AG24: 0 | AH24: 0 | AI24: 0 | AJ24: 0 | AK24: 0 | AL24: 0 | AM24: 0 | AN24: 0 | AO24: 0 | AP24: 0 | AQ24: 0 | AR24: 0 | AS24: 0 | AT24: 0 | AU24: 0 | AV24: 0 | AW24: 0 | AX24: 0 | AY24: 0 | AZ24: 0 | BC24: =SUM(C24:AE24)-I24-J24-K24 -> 255876
A25: 161 | B25: Glostrup | C25: 22320 | D25: 0 | E25: 0 | F25: 4320 | G25: 0 | H25: -1260 | I25: 107328 | J25: 2304 | K25: -1092 | L25: -5304 | M25: 31488 | N25: -15504 | O25: -12288 | P25: -960 | Q25: 326244 | R25: 12492 | S25: 4164 | T25: 13164 | U25: 6648 | V25: 3144 | W25: 3288 | X25: 4392 | Y25: 4608 | Z25: 444 | AA25: 0 | AB25: 14940 | AC25: -2256 | AD25: 4716 | AE25: 0 | AF25: 0 | AG25: 0 | AH25: 0 | AI25: 0 | AJ25: 0 | AK25: 0 | AL25: 0 | AM25: 0 | AN25: 0 | AO25: 0 | AP25: 0 | AQ25: 0 | AR25: 0 | AS25: 0 | AT25: 0 | AU25: 0 | AV25: 0 | AW25: 0 | AX25: 0 | AY25: -9864 | AZ25: 0 | BC25: =SUM(C25:AE25)-I25-J25-K25 -> 418800
A26: 163 | B26: Herlev | C26: 42780 | D26: 0 | E26: 0 | F26: 5352 | G26: 0 | H26: -1560 | I26: 188892 | J26: 4068 | K26: -1356 | L26: -6780 | M26: 33804 | N26: -19236 | O26: 8160 | P26: -1692 | Q26: 404760 | R26: 15504 | S26: 5160 | T26: 16332 | U26: 8244 | V26: 3696 | W26: 4284 | X26: 5736 | Y26: 6000 | Z26: 576 | AA26: 0 | AB26: 37068 | AC26: -2772 | AD26: 0 | AE26: 0 | AF26: 0 | AG26: 0 | AH26: 0 | AI26: 0 | AJ26: 0 | AK26: 0 | AL26: 0 | AM26: 0 | AN26: 0 | AO26: 0 | AP26: 0 | AQ26: 0 | AR26: 0 | AS26: 0 | AT26: 0 | AU26: 0 | AV26: 0 | AW26: 0 | AX26: 0 | AY26: 0 | AZ26: 0 | BC26: =SUM(C26:AE26)-I26-J26-K26 -> 565416
A27: 165 | B27: Albertslund | C27: 136224 | D27: 1236 | E27: 0 | F27: 4860 | G27: 0 | H27: -1416 | I27: 385860 | J27: 8304 | K27: -1236 | L27: 84192 | M27: 36000 | N27: -17448 | O27: 6348 | P27: 276 | Q27: 366996 | R27: 14052 | S27: 4680 | T27: 25524 | U27: 14820 | V27: 3120 | W27: 3816 | X27: 5112 | Y27: 5352 | Z27: 516 | AA27: 0 | AB27: 33612 | AC27: -2400 | AD27: 0 | AE27: 0 | AF27: 0 | AG27: 0 | AH27: 0 | AI27: 0 | AJ27: 0 | AK27: 0 | AL27: 0 | AM27: 0 | AN27: 0 | AO27: 0 | AP27: 0 | AQ27: 0 | AR27: 0 | AS27: 0 | AT27: 0 | AU27: 0 | AV27: 0 | AW27: 0 | AX27: 0 | AY27: 0 | AZ27: 0 | BC27: =SUM(C27:AE27)-I27-J27-K27 -> 725472
A28: 167 | B28: Hvidovre | C28: -1728 | D28: 0 | E28: 0 | F28: 9276 | G28: 0 | H28: -2712 | I28: 276480 | J28: 5940 | K28: -2352 | L28: 33024 | M28: 43836 | N28: -33336 | O28: 8988 | P28: -216 | Q28: 701328 | R28: 26856 | S28: 8952 | T28: 28308 | U28: 14292 | V28: 6588 | W28: 6960 | X28: 9324 | Y28: 9768 | Z28: 936 | AA28: 0 | AB28: 64236 | AC28: -5040 | AD28: 0 | AE28: 0 | AF28: 0 | AG28: 0 | AH28: 0 | AI28: 0 | AJ28: 0 | AK28: 0 | AL28: 0 | AM28: 0 | AN28: 0 | AO28: 0 | AP28: 0 | AQ28: 0 | AR28: 0 | AS28: 0 | AT28: 0 | AU28: 7284 | AV28: 0 | AW28: 0 | AX28: 0 | AY28: 0 | AZ28: 0 | BC28: =SUM(C28:AE28)-I28-J28-K28 -> 929640
A29: 169 | B29: Høje-Taastrup | C29: 335436 | D29: 14460 | E29: 0 | F29: 10380 | G29: 0 | H29: -3036 | I29: 237888 | J29: 5112 | K29: -2640 | L29: 132984 | M29: 94572 | N29: -37284 | O29: -138300 | P29: 528 | Q29: 784356 | R29: 30036 | S29: 10008 | T29: 31656 | U29: 15984 | V29: 8232 | W29: 6888 | X29: 9228 | Y29: 9660 | Z29: 924 | AA29: 0 | AB29: 71844 | AC29: -4620 | AD29: 0 | AE29: 5904 | AF29: 0 | AG29: 0 | AH29: 0 | AI29: 0 | AJ29: 0 | AK29: 0 | AL29: 0 | AM29: 0 | AN29: 0 | AO29: 0 | AP29: 0 | AQ29: 0 | AR29: 0 | AS29: 0 | AT29: 0 | AU29: 0 | AV29: 0 | AW29: 0 | AX29: 0 | AY29: 0 | AZ29: 0 | BC29: =SUM(C29:AE29)-I29-J29-K29 -> 1389840
... A115: 860 | B115: Hjørring | C115: 336636 | D115: 11328 | E115: 0 | F115: 10860 | G115: 0 | H115: -3180 | I115: 233832 | J115: 5028 | K115: -2760 | L115: 15144 | M115: 26436 | N115: -39000 | O115: 3972 | P115: 312 | Q115: 820536 | R115: 31416 | S115: 10476 | T115: 57072 | U115: 33144 | V115: 6216 | W115: 11940 | X115: 15984 | Y115: 16752 | Z115: 1596 | AA115: 96540 | AB115: 0 | AC115: 0 | AD115: 0 | AE115: 0 | AF115: 0 | AG115: 0 | AH115: 25404 | AI115: 0 | AJ115: 0 | AK115: 0 | AL115: 0 | AM115: 0 | AN115: 0 | AO115: 0 | AP115: 0 | AQ115: 7752 | AR115: 0 | AS115: 0 | AT115: 0 | AU115: 0 | AV115: 0 | AW115: 0 | AX115: 0 | AY115: 0 | AZ115: 0 | BC115: =SUM(C115:AE115)-I115-J115-K115 -> 1464180

Sheet BUDKC
A1: Kommunernes budgetter, grupperinger med tekst - efter prisenhed, art, område, tid og dranst funktion og gruppering
A2: Enhed: 1.000 kr.
D3: 2026
D4: Finansiering - 7.68.95 Anden skat på fast ejendom - Grp. 3 Dækningsafgift af forretningsejendommes grundværdi
A5: Løbende priser (1.000 kr.) | B5: I alt (netto) | C5: Hele landet | D5: -2706386
C6: København | D6: -1161782
C7: Frederiksberg | D7: -32726
C8: Dragør | D8: -4038
C9: Tårnby | D9: -33579
C10: Albertslund | D10: -36543
C11: Ballerup | D11: -139518
C12: Brøndby | D12: -109305
C13: Gentofte | D13: -93152
C14: Gladsaxe | D14: -68929
C15: Glostrup | D15: -53600
C16: Herlev | D16: -67351
C17: Hvidovre | D17: -43643
... C103: Aalborg | D103: -101234
A105: Data bliver ikke revideret. Senere rettelser kan dog forekomme, hvis der opdages fejl i data eller databehandlingen. Disse rettelser vil slå igennem i statistikken som enten ekstraordinære rettelser eller i forbindelse med planlagte opdateringer af statistikken. Se alle ændringer i tabellerne siden december 2020 vedrørende budgetter og årsregnskaber for kommuner og regioner i Statistikdokumentationen under &quot;Præcision og pålidelighed&quot; (Praksis for revisioner): https://www.dst.dk/da/Statistik/dokumentation/statistikdokumentation/budgetter-og-aarsregnskaber-for-kommuner-og-regioner/praecision-og-paalidelighed
