Workbook

Sheet Analyse
A1: Kommune | B1: Gæld (mio kr) | C1: FT 2026K1 | D1: Gæld pr. borger
A2: Albertslund | B2: =VLOOKUP(A2,Gæld!$A$2:$E$100,3,FALSE) -> 46 | C2: =VLOOKUP(A2,FOLK1A!$D$3:$E$103,2,FALSE) -> 29262 | D2: =(B2*1000000)/C2 -> 1572.0046
A3: Allerød | B3: =VLOOKUP(A3,Gæld!$A$2:$E$100,3,FALSE) -> 5 | C3: =VLOOKUP(A3,FOLK1A!$D$3:$E$103,2,FALSE) -> 26496 | D3: =(B3*1000000)/C3 -> 188.70773
A4: Assens | B4: =VLOOKUP(A4,Gæld!$A$2:$E$100,3,FALSE) -> 33 | C4: =VLOOKUP(A4,FOLK1A!$D$3:$E$103,2,FALSE) -> 40369 | D4: =(B4*1000000)/C4 -> 817.45894
A5: Ballerup | B5: =VLOOKUP(A5,Gæld!$A$2:$E$100,3,FALSE) -> 36 | C5: =VLOOKUP(A5,FOLK1A!$D$3:$E$103,2,FALSE) -> 53950 | D5: =(B5*1000000)/C5 -> 667.28452
A6: Billund | B6: =VLOOKUP(A6,Gæld!$A$2:$E$100,3,FALSE) -> 12 | C6: =VLOOKUP(A6,FOLK1A!$D$3:$E$103,2,FALSE) -> 27200 | D6: =(B6*1000000)/C6 -> 441.17647
A7: Bornholms | B7: =VLOOKUP(A7,Gæld!$A$2:$E$100,3,FALSE) -> 21 | C7: =VLOOKUP(A7,FOLK1A!$D$3:$E$103,2,FALSE) -> 38677 | D7: =(B7*1000000)/C7 -> 542.95835
A8: Brøndby | B8: =VLOOKUP(A8,Gæld!$A$2:$E$100,3,FALSE) -> 31 | C8: =VLOOKUP(A8,FOLK1A!$D$3:$E$103,2,FALSE) -> 40990 | D8: =(B8*1000000)/C8 -> 756.28202
A9: Brønderslev | B9: =VLOOKUP(A9,Gæld!$A$2:$E$100,3,FALSE) -> 17 | C9: =VLOOKUP(A9,FOLK1A!$D$3:$E$103,2,FALSE) -> 36529 | D9: =(B9*1000000)/C9 -> 465.38367
A10: Dragør | B10: =VLOOKUP(A10,Gæld!$A$2:$E$100,3,FALSE) -> 5 | C10: =VLOOKUP(A10,FOLK1A!$D$3:$E$103,2,FALSE) -> 14474 | D10: =(B10*1000000)/C10 -> 345.44701
A11: Egedal | B11: =VLOOKUP(A11,Gæld!$A$2:$E$100,3,FALSE) -> 14 | C11: =VLOOKUP(A11,FOLK1A!$D$3:$E$103,2,FALSE) -> 46240 | D11: =(B11*1000000)/C11 -> 302.76817
A12: Esbjerg | B12: =VLOOKUP(A12,Gæld!$A$2:$E$100,3,FALSE) -> 93 | C12: =VLOOKUP(A12,FOLK1A!$D$3:$E$103,2,FALSE) -> 114947 | D12: =(B12*1000000)/C12 -> 809.06853
A13: Fanø | B13: =VLOOKUP(A13,Gæld!$A$2:$E$100,3,FALSE) -> 1 | C13: =VLOOKUP(A13,FOLK1A!$D$3:$E$103,2,FALSE) -> 3332 | D13: =(B13*1000000)/C13 -> 300.12005
... A99: Aarhus | B99: =VLOOKUP(A99,Gæld!$A$2:$E$100,3,FALSE) -> 377 | C99: =VLOOKUP(A99,FOLK1A!$D$3:$E$103,2,FALSE) -> 378361 | D99: =(B99*1000000)/C99 -> 996.40291

Sheet FOLK1A
A1: Befolkningen den 1. i kvartalet efter civilstand, alder, køn, område og tid
A2: Enhed: Antal
E3: 2026K1
A4: I alt | B4: Alder i alt | C4: I alt | D4: Hele landet | E4: 6025603
D5: Københavns | E5: 671714
D6: Frederiksberg | E6: 106150
D7: Dragør | E7: 14474
D8: Tårnby | E8: 44214
D9: Albertslund | E9: 29262
D10: Ballerup | E10: 53950
D11: Brøndby | E11: 40990
D12: Gentofte | E12: 75106
D13: Gladsaxe | E13: 71185
D14: Glostrup | E14: 25834
D15: Herlev | E15: 32030
D16: Hvidovre | E16: 54228
... D103: Aalborg | E103: 226033

Sheet Gæld
A1: Gæld til inddrivelse fordelt på kommuner pr. 31-12-2025
A2: Kommune | C2: Gæld på borgere inkl. PEF (mio. kr.) | D2: Gæld på virksomheder (mio. kr.) | E2: Samlet gæld (mio. kr.)
A3: Albertslund | B3: Kommune | C3: 46 | D3: 1 | E3: 47
A4: Allerød | B4: Kommune | C4: 5 | D4: 0 | E4: 5
A5: Assens | B5: kommune | C5: 33 | D5: 1 | E5: 34
A6: Ballerup | B6: Kommune | C6: 36 | D6: 0 | E6: 37
A7: Billund | B7: kommune | C7: 12 | D7: 0 | E7: 13
A8: Bornholms | B8: Regionskommune | C8: 21 | D8: 0 | E8: 21
A9: Brøndby | B9: Kommune | C9: 31 | D9: 0 | E9: 31
A10: Brønderslev | B10: kommune | C10: 17 | D10: 0 | E10: 17
A11: Dragør | B11: Kommune | C11: 5 | D11: 0 | E11: 5
A12: Egedal | B12: kommune | C12: 14 | D12: 0 | E12: 14
A13: Esbjerg | B13: kommune | C13: 93 | D13: 1 | E13: 94
A14: Fanø | B14: Kommune | C14: 1 | D14: 0 | E14: 1
... A100: Aarhus | B100: kommune | C100: 377 | D100: 5 | E100: 382
