Workbook

Sheet Samle
A1: Type | B1: ALMEN LÆGE I ALT
A3: Rækkemærkater | B3: Personer med lægekontakt 2015 | C3: Andel med kontakt 2015 | D3: Personer med lægekontakt 2024 | E3: Andel med kontakt 2024 | F3: Personer med lægekontakt 2025 | G3: Andel med kontakt 2025 | H3: Lægebesøg 2015 | I3: Lægebesøg pr. indbygger 2015 | J3: Lægebesøg 2024 | K3: Lægebesøg pr. indbygger 2024 | L3: Lægebesøg 2025 | M3: Lægebesøg pr. indbygger 2025 | N3: Lægebesøg pr. person med kontakt | O3: Gennemsnitsalder 2025 | Q3: Rækkemærkater | R3: Andel med kontakt 2025 | S3: Gennemsnitsalder 2025 | X3: Sammenhæng med gennemsnitsalder 2025
A4: Albertslund | B4: 23375 | C4: 83.841463 | D4: 23368 | E4: 83.109862 | F4: 23620 | G4: 80.719021 | H4: =_xlfn.XLOOKUP($A4,SYGK1!$A:$A,SYGK1!B:B) -> 171541 | I4: =_xlfn.XLOOKUP($A4,SYGK1!$A:$A,SYGK1!H:H) -> 6.1528336 | J4: =_xlfn.XLOOKUP($A4,SYGK1!$A:$A,SYGK1!C:C) -> 189189 | K4: =_xlfn.XLOOKUP($A4,SYGK1!$A:$A,SYGK1!I:I) -> 6.7286339 | L4: =_xlfn.XLOOKUP($A4,SYGK1!$A:$A,SYGK1!D:D) -> 186293 | M4: =_xlfn.XLOOKUP($A4,SYGK1!$A:$A,SYGK1!J:J) -> 6.3663796 | N4: =L4/F4 -> 7.8870872 | O4: =_xlfn.XLOOKUP(A4,Gennemsnitsalder!A:A,Gennemsnitsalder!C:C) -> 41.1 | Q4: Albertslund | R4: 80.719021 | S4: 41.1 | X4: Mål mod gennemsnitsalder | Y4: Pearson r | Z4: R² | AA4: n | AB4: p-værdi | AC4: Fortolkning
A5: Allerød | B5: 20890 | C5: 84.46547 | D5: 22179 | E5: 84.885946 | F5: 22159 | G5: 83.631492 | H5: =_xlfn.XLOOKUP($A5,SYGK1!$A:$A,SYGK1!B:B) -> 152206 | I5: =_xlfn.XLOOKUP($A5,SYGK1!$A:$A,SYGK1!H:H) -> 6.1542132 | J5: =_xlfn.XLOOKUP($A5,SYGK1!$A:$A,SYGK1!C:C) -> 172626 | K5: =_xlfn.XLOOKUP($A5,SYGK1!$A:$A,SYGK1!I:I) -> 6.6069351 | L5: =_xlfn.XLOOKUP($A5,SYGK1!$A:$A,SYGK1!D:D) -> 172313 | M5: =_xlfn.XLOOKUP($A5,SYGK1!$A:$A,SYGK1!J:J) -> 6.503359 | N5: =L5/F5 -> 7.7762083 | O5: =_xlfn.XLOOKUP(A5,Gennemsnitsalder!A:A,Gennemsnitsalder!C:C) -> 43.3 | Q5: Allerød | R5: 83.631492 | S5: 43.3 | X5: Andel med kontakt 2025 | Y5: =CORREL($O$4:$O$102,$G$4:$G$102) -> 0.57078463 | Z5: =Y5^2 -> 0.32579509 | AA5: =COUNT($O$4:$O$102) -> 99 | AB5: =_xlfn.T.DIST.2T(ABS(Y5)*SQRT((AA5-2)/(1-Y5^2)),AA5-2) -> 6.8978697e-10 | AC5: =IF(ABS(Y5)<0.1,"Ingen nævneværdig lineær sammenhæng",IF(ABS(Y5)<0.3,"Svag lineær sammenhæng",IF(ABS(Y5)<0.5,"Moderat lineær sammenhæng","Stærk lineær sammenhæng"))) -> Stærk lineær sammenhæng
A6: Assens | B6: 35148 | C6: 85.261013 | D6: 35169 | E6: 86.903556 | F6: 34733 | G6: 86.038792 | H6: =_xlfn.XLOOKUP($A6,SYGK1!$A:$A,SYGK1!B:B) -> 308335 | I6: =_xlfn.XLOOKUP($A6,SYGK1!$A:$A,SYGK1!H:H) -> 7.4795022 | J6: =_xlfn.XLOOKUP($A6,SYGK1!$A:$A,SYGK1!C:C) -> 328647 | K6: =_xlfn.XLOOKUP($A6,SYGK1!$A:$A,SYGK1!I:I) -> 8.1209568 | L6: =_xlfn.XLOOKUP($A6,SYGK1!$A:$A,SYGK1!D:D) -> 321138 | M6: =_xlfn.XLOOKUP($A6,SYGK1!$A:$A,SYGK1!J:J) -> 7.9550645 | N6: =L6/F6 -> 9.2459045 | O6: =_xlfn.XLOOKUP(A6,Gennemsnitsalder!A:A,Gennemsnitsalder!C:C) -> 45.7 | Q6: Assens | R6: 86.038792 | S6: 45.7 | X6: Lægebesøg pr. indbygger 2025 | Y6: =CORREL($O$4:$O$102,$M$4:$M$102) -> 0.44686304 | Z6: =Y6^2 -> 0.19968658 | AA6: =COUNT($O$4:$O$102) -> 99 | AB6: =_xlfn.T.DIST.2T(ABS(Y6)*SQRT((AA6-2)/(1-Y6^2)),AA6-2) -> 3.5421481e-06 | AC6: =IF(ABS(Y6)<0.1,"Ingen nævneværdig lineær sammenhæng",IF(ABS(Y6)<0.3,"Svag lineær sammenhæng",IF(ABS(Y6)<0.5,"Moderat lineær sammenhæng","Stærk lineær sammenhæng"))) -> Moderat lineær sammenhæng
A7: Ballerup | B7: 41416 | C7: 85.882548 | D7: 43550 | E7: 82.264493 | F7: 44450 | G7: 82.391103 | H7: =_xlfn.XLOOKUP($A7,SYGK1!$A:$A,SYGK1!B:B) -> 326517 | I7: =_xlfn.XLOOKUP($A7,SYGK1!$A:$A,SYGK1!H:H) -> 6.7708402 | J7: =_xlfn.XLOOKUP($A7,SYGK1!$A:$A,SYGK1!C:C) -> 351366 | K7: =_xlfn.XLOOKUP($A7,SYGK1!$A:$A,SYGK1!I:I) -> 6.6371862 | L7: =_xlfn.XLOOKUP($A7,SYGK1!$A:$A,SYGK1!D:D) -> 354446 | M7: =_xlfn.XLOOKUP($A7,SYGK1!$A:$A,SYGK1!J:J) -> 6.5698981 | N7: =L7/F7 -> 7.9740382 | O7: =_xlfn.XLOOKUP(A7,Gennemsnitsalder!A:A,Gennemsnitsalder!C:C) -> 41.9 | Q7: Ballerup | R7: 82.391103 | S7: 41.9 | X7: Konklusion | Y7: =IF(AND(ABS(Y5)<0.3,ABS(Y6)<0.3),"Der er højst svage lineære sammenhænge mellem gennemsnitsalder og de to lægemål i 2025.","Mindst ét mål viser en moderat eller stærkere lineær sammenhæng i 2025.") -> Mindst ét mål viser en moderat eller stærkere lineær sammenhæng i 2025.
A8: Billund | B8: 22344 | C8: 84.527502 | D8: 22970 | E8: 84.547998 | F8: 23106 | G8: 84.948529 | H8: =_xlfn.XLOOKUP($A8,SYGK1!$A:$A,SYGK1!B:B) -> 188815 | I8: =_xlfn.XLOOKUP($A8,SYGK1!$A:$A,SYGK1!H:H) -> 7.1428842 | J8: =_xlfn.XLOOKUP($A8,SYGK1!$A:$A,SYGK1!C:C) -> 209232 | K8: =_xlfn.XLOOKUP($A8,SYGK1!$A:$A,SYGK1!I:I) -> 7.7014134 | L8: =_xlfn.XLOOKUP($A8,SYGK1!$A:$A,SYGK1!D:D) -> 213458 | M8: =_xlfn.XLOOKUP($A8,SYGK1!$A:$A,SYGK1!J:J) -> 7.8477206 | N8: =L8/F8 -> 9.2382065 | O8: =_xlfn.XLOOKUP(A8,Gennemsnitsalder!A:A,Gennemsnitsalder!C:C) -> 43.6 | Q8: Billund | R8: 84.948529 | S8: 43.6 | X8: Note | Y8: Gennemsnitsalder hentes fra Gennemsnitsalder!C:C (2025); beregnet på 99 kommuner.
A9: Bornholm | B9: 33836 | C9: 85.109166 | D9: 32103 | E9: 82.387209 | F9: 31065 | G9: 80.319053 | H9: =_xlfn.XLOOKUP($A9,SYGK1!$A:$A,SYGK1!B:B) -> 328242 | I9: =_xlfn.XLOOKUP($A9,SYGK1!$A:$A,SYGK1!H:H) -> 8.2564141 | J9: =_xlfn.XLOOKUP($A9,SYGK1!$A:$A,SYGK1!C:C) -> 270541 | K9: =_xlfn.XLOOKUP($A9,SYGK1!$A:$A,SYGK1!I:I) -> 6.9430016 | L9: =_xlfn.XLOOKUP($A9,SYGK1!$A:$A,SYGK1!D:D) -> 254223 | M9: =_xlfn.XLOOKUP($A9,SYGK1!$A:$A,SYGK1!J:J) -> 6.5729762 | N9: =L9/F9 -> 8.1835828 | O9: =_xlfn.XLOOKUP(A9,Gennemsnitsalder!A:A,Gennemsnitsalder!C:C) -> 49 | Q9: Bornholm | R9: 80.319053 | S9: 49
A10: Brøndby | B10: 29881 | C10: 84.596002 | D10: 32420 | E10: 80.245538 | F10: 33064 | G10: 80.663576 | H10: =_xlfn.XLOOKUP($A10,SYGK1!$A:$A,SYGK1!B:B) -> 229717 | I10: =_xlfn.XLOOKUP($A10,SYGK1!$A:$A,SYGK1!H:H) -> 6.5035106 | J10: =_xlfn.XLOOKUP($A10,SYGK1!$A:$A,SYGK1!C:C) -> 248954 | K10: =_xlfn.XLOOKUP($A10,SYGK1!$A:$A,SYGK1!I:I) -> 6.1620752 | L10: =_xlfn.XLOOKUP($A10,SYGK1!$A:$A,SYGK1!D:D) -> 249207 | M10: =_xlfn.XLOOKUP($A10,SYGK1!$A:$A,SYGK1!J:J) -> 6.0797024 | N10: =L10/F10 -> 7.5371098 | O10: =_xlfn.XLOOKUP(A10,Gennemsnitsalder!A:A,Gennemsnitsalder!C:C) -> 40.4 | Q10: Brøndby | R10: 80.663576 | S10: 40.4
A11: Brønderslev | B11: 30169 | C11: 83.693511 | D11: 31481 | E11: 85.76527 | F11: 31376 | G11: 85.8934 | H11: =_xlfn.XLOOKUP($A11,SYGK1!$A:$A,SYGK1!B:B) -> 243009 | I11: =_xlfn.XLOOKUP($A11,SYGK1!$A:$A,SYGK1!H:H) -> 6.7414487 | J11: =_xlfn.XLOOKUP($A11,SYGK1!$A:$A,SYGK1!C:C) -> 292535 | K11: =_xlfn.XLOOKUP($A11,SYGK1!$A:$A,SYGK1!I:I) -> 7.969678 | L11: =_xlfn.XLOOKUP($A11,SYGK1!$A:$A,SYGK1!D:D) -> 294354 | M11: =_xlfn.XLOOKUP($A11,SYGK1!$A:$A,SYGK1!J:J) -> 8.0580908 | N11: =L11/F11 -> 9.3815018 | O11: =_xlfn.XLOOKUP(A11,Gennemsnitsalder!A:A,Gennemsnitsalder!C:C) -> 43.9 | Q11: Brønderslev | R11: 85.8934 | S11: 43.9
A12: Dragør | B12: 11850 | C12: 83.792957 | D12: 12579 | E12: 87.051903 | F12: 12234 | G12: 84.523974 | H12: =_xlfn.XLOOKUP($A12,SYGK1!$A:$A,SYGK1!B:B) -> 84081 | I12: =_xlfn.XLOOKUP($A12,SYGK1!$A:$A,SYGK1!H:H) -> 5.9454815 | J12: =_xlfn.XLOOKUP($A12,SYGK1!$A:$A,SYGK1!C:C) -> 94783 | K12: =_xlfn.XLOOKUP($A12,SYGK1!$A:$A,SYGK1!I:I) -> 6.5593772 | L12: =_xlfn.XLOOKUP($A12,SYGK1!$A:$A,SYGK1!D:D) -> 95216 | M12: =_xlfn.XLOOKUP($A12,SYGK1!$A:$A,SYGK1!J:J) -> 6.5784165 | N12: =L12/F12 -> 7.7829001 | O12: =_xlfn.XLOOKUP(A12,Gennemsnitsalder!A:A,Gennemsnitsalder!C:C) -> 45.5 | Q12: Dragør | R12: 84.523974 | S12: 45.5
A13: Egedal | B13: 35891 | C13: 83.910411 | D13: 38161 | E13: 83.754362 | F13: 37746 | G13: 81.630623 | H13: =_xlfn.XLOOKUP($A13,SYGK1!$A:$A,SYGK1!B:B) -> 250038 | I13: =_xlfn.XLOOKUP($A13,SYGK1!$A:$A,SYGK1!H:H) -> 5.8456971 | J13: =_xlfn.XLOOKUP($A13,SYGK1!$A:$A,SYGK1!C:C) -> 269526 | K13: =_xlfn.XLOOKUP($A13,SYGK1!$A:$A,SYGK1!I:I) -> 5.9154577 | L13: =_xlfn.XLOOKUP($A13,SYGK1!$A:$A,SYGK1!D:D) -> 265741 | M13: =_xlfn.XLOOKUP($A13,SYGK1!$A:$A,SYGK1!J:J) -> 5.7469939 | N13: =L13/F13 -> 7.0402427 | O13: =_xlfn.XLOOKUP(A13,Gennemsnitsalder!A:A,Gennemsnitsalder!C:C) -> 41.9 | Q13: Egedal | R13: 81.630623 | S13: 41.9
A14: Esbjerg | B14: 100339 | C14: 86.687459 | D14: 99533 | E14: 86.432436 | F14: 98385 | G14: 85.59162 | H14: =_xlfn.XLOOKUP($A14,SYGK1!$A:$A,SYGK1!B:B) -> 925060 | I14: =_xlfn.XLOOKUP($A14,SYGK1!$A:$A,SYGK1!H:H) -> 7.9920171 | J14: =_xlfn.XLOOKUP($A14,SYGK1!$A:$A,SYGK1!C:C) -> 901635 | K14: =_xlfn.XLOOKUP($A14,SYGK1!$A:$A,SYGK1!I:I) -> 7.8296152 | L14: =_xlfn.XLOOKUP($A14,SYGK1!$A:$A,SYGK1!D:D) -> 868917 | M14: =_xlfn.XLOOKUP($A14,SYGK1!$A:$A,SYGK1!J:J) -> 7.5592838 | N14: =L14/F14 -> 8.8318036 | O14: =_xlfn.XLOOKUP(A14,Gennemsnitsalder!A:A,Gennemsnitsalder!C:C) -> 43.5 | Q14: Esbjerg | R14: 85.59162 | S14: 43.5
A15: Fanø | B15: 2798 | C15: 85.045593 | D15: 2961 | E15: 90.550459 | F15: 2897 | G15: 86.944778 | H15: =_xlfn.XLOOKUP($A15,SYGK1!$A:$A,SYGK1!B:B) -> 25289 | I15: =_xlfn.XLOOKUP($A15,SYGK1!$A:$A,SYGK1!H:H) -> 7.6866261 | J15: =_xlfn.XLOOKUP($A15,SYGK1!$A:$A,SYGK1!C:C) -> 26277 | K15: =_xlfn.XLOOKUP($A15,SYGK1!$A:$A,SYGK1!I:I) -> 8.0357798 | L15: =_xlfn.XLOOKUP($A15,SYGK1!$A:$A,SYGK1!D:D) -> 27247 | M15: =_xlfn.XLOOKUP($A15,SYGK1!$A:$A,SYGK1!J:J) -> 8.1773709 | N15: =L15/F15 -> 9.4052468 | O15: =_xlfn.XLOOKUP(A15,Gennemsnitsalder!A:A,Gennemsnitsalder!C:C) -> 52.5 | Q15: Fanø | R15: 86.944778 | S15: 52.5
A16: Favrskov | B16: 40478 | C16: 84.939671 | D16: 42120 | E16: 85.333982 | F16: 42070 | G16: 84.523738 | H16: =_xlfn.XLOOKUP($A16,SYGK1!$A:$A,SYGK1!B:B) -> 328380 | I16: =_xlfn.XLOOKUP($A16,SYGK1!$A:$A,SYGK1!H:H) -> 6.8907775 | J16: =_xlfn.XLOOKUP($A16,SYGK1!$A:$A,SYGK1!C:C) -> 351478 | K16: =_xlfn.XLOOKUP($A16,SYGK1!$A:$A,SYGK1!I:I) -> 7.1208493 | L16: =_xlfn.XLOOKUP($A16,SYGK1!$A:$A,SYGK1!D:D) -> 351996 | M16: =_xlfn.XLOOKUP($A16,SYGK1!$A:$A,SYGK1!J:J) -> 7.072027 | N16: =L16/F16 -> 8.3669123 | O16: =_xlfn.XLOOKUP(A16,Gennemsnitsalder!A:A,Gennemsnitsalder!C:C) -> 41.9 | Q16: Favrskov | R16: 84.523738 | S16: 41.9
A17: Faxe | B17: 30089 | C17: 84.486438 | D17: 31485 | E17: 83.249603 | F17: 31092 | G17: 81.514301 | H17: =_xlfn.XLOOKUP($A17,SYGK1!$A:$A,SYGK1!B:B) -> 282846 | I17: =_xlfn.XLOOKUP($A17,SYGK1!$A:$A,SYGK1!H:H) -> 7.9419891 | J17: =_xlfn.XLOOKUP($A17,SYGK1!$A:$A,SYGK1!C:C) -> 273813 | K17: =_xlfn.XLOOKUP($A17,SYGK1!$A:$A,SYGK1!I:I) -> 7.2398995 | L17: =_xlfn.XLOOKUP($A17,SYGK1!$A:$A,SYGK1!D:D) -> 255559 | M17: =_xlfn.XLOOKUP($A17,SYGK1!$A:$A,SYGK1!J:J) -> 6.7000236 | N17: =L17/F17 -> 8.2194455 | O17: =_xlfn.XLOOKUP(A17,Gennemsnitsalder!A:A,Gennemsnitsalder!C:C) -> 45.3 | Q17: Faxe | R17: 81.514301 | S17: 45.3
A18: Fredensborg | B18: 33888 | C18: 84.483446 | D18: 36053 | E18: 85.462002 | F18: 35929 | G18: 84.648368 | H18: =_xlfn.XLOOKUP($A18,SYGK1!$A:$A,SYGK1!B:B) -> 279232 | I18: =_xlfn.XLOOKUP($A18,SYGK1!$A:$A,SYGK1!H:H) -> 6.9613083 | J18: =_xlfn.XLOOKUP($A18,SYGK1!$A:$A,SYGK1!C:C) -> 311687 | K18: =_xlfn.XLOOKUP($A18,SYGK1!$A:$A,SYGK1!I:I) -> 7.388399 | L18: =_xlfn.XLOOKUP($A18,SYGK1!$A:$A,SYGK1!D:D) -> 312307 | M18: =_xlfn.XLOOKUP($A18,SYGK1!$A:$A,SYGK1!J:J) -> 7.357922 | N18: =L18/F18 -> 8.6923377 | O18: =_xlfn.XLOOKUP(A18,Gennemsnitsalder!A:A,Gennemsnitsalder!C:C) -> 44.4 | Q18: Fredensborg | R18: 84.648368 | S18: 44.4
A19: Fredericia | B19: 43284 | C19: 85.391308 | D19: 45054 | E19: 85.627946 | F19: 44875 | G19: 84.767374 | H19: =_xlfn.XLOOKUP($A19,SYGK1!$A:$A,SYGK1!B:B) -> 359795 | I19: =_xlfn.XLOOKUP($A19,SYGK1!$A:$A,SYGK1!H:H) -> 7.0980883 | J19: =_xlfn.XLOOKUP($A19,SYGK1!$A:$A,SYGK1!C:C) -> 397120 | K19: =_xlfn.XLOOKUP($A19,SYGK1!$A:$A,SYGK1!I:I) -> 7.5475141 | L19: =_xlfn.XLOOKUP($A19,SYGK1!$A:$A,SYGK1!D:D) -> 400555 | M19: =_xlfn.XLOOKUP($A19,SYGK1!$A:$A,SYGK1!J:J) -> 7.5663499 | N19: =L19/F19 -> 8.9260167 | O19: =_xlfn.XLOOKUP(A19,Gennemsnitsalder!A:A,Gennemsnitsalder!C:C) -> 44.1 | Q19: Fredericia | R19: 84.767374 | S19: 44.1
A20: Frederiksberg | B20: 85015 | C20: 81.368861 | D20: 87942 | E20: 83.089569 | F20: 88094 | G20: 82.990108 | H20: =_xlfn.XLOOKUP($A20,SYGK1!$A:$A,SYGK1!B:B) -> 625582 | I20: =_xlfn.XLOOKUP($A20,SYGK1!$A:$A,SYGK1!H:H) -> 5.9875193 | J20: =_xlfn.XLOOKUP($A20,SYGK1!$A:$A,SYGK1!C:C) -> 699022 | K20: =_xlfn.XLOOKUP($A20,SYGK1!$A:$A,SYGK1!I:I) -> 6.6045163 | L20: =_xlfn.XLOOKUP($A20,SYGK1!$A:$A,SYGK1!D:D) -> 693888 | M20: =_xlfn.XLOOKUP($A20,SYGK1!$A:$A,SYGK1!J:J) -> 6.5368629 | N20: =L20/F20 -> 7.8766772 | O20: =_xlfn.XLOOKUP(A20,Gennemsnitsalder!A:A,Gennemsnitsalder!C:C) -> 40.7 | Q20: Frederiksberg | R20: 82.990108 | S20: 40.7
... A102: Aarhus | B102: 277345 | C102: 83.881514 | D102: 312811 | E102: 83.776393 | F102: 314770 | G102: 83.193035 | H102: =_xlfn.XLOOKUP($A102,SYGK1!$A:$A,SYGK1!B:B) -> 2343013 | I102: =_xlfn.XLOOKUP($A102,SYGK1!$A:$A,SYGK1!H:H) -> 7.0863177 | J102: =_xlfn.XLOOKUP($A102,SYGK1!$A:$A,SYGK1!C:C) -> 2765719 | K102: =_xlfn.XLOOKUP($A102,SYGK1!$A:$A,SYGK1!I:I) -> 7.4070913 | L102: =_xlfn.XLOOKUP($A102,SYGK1!$A:$A,SYGK1!D:D) -> 2650861 | M102: =_xlfn.XLOOKUP($A102,SYGK1!$A:$A,SYGK1!J:J) -> 7.0061687 | N102: =L102/F102 -> 8.4215808 | O102: =_xlfn.XLOOKUP(A102,Gennemsnitsalder!A:A,Gennemsnitsalder!C:C) -> 38.2 | Q102: Aarhus | R102: 83.193035 | S102: 38.2

Sheet SYGP1
A1: Personer med kontakt til læge mv. med offentlig tilskud efter ydelsesart, område og tid
A2: Enhed: Antal
A3: Type | B3: Kommune | C3: 2015 | D3: 2024 | E3: 2025 | F3: Indbyggertal 2015 | G3: Indbyggertal 2024 | H3: Indbyggertal 2025 | I3: Andel med kontakt 2015 | J3: Andel med kontakt 2024 | K3: Andel med kontakt 2025
A4: I ALT | B4: Hele landet | C4: 5243171 | D4: 5472077 | E4: 5467264 | F4: =_xlfn.XLOOKUP($B4,FOLK1A!$A:$A,FOLK1A!B:B) -> 5707251 | G4: =_xlfn.XLOOKUP($B4,FOLK1A!$A:$A,FOLK1A!C:C) -> 5992734 | H4: =_xlfn.XLOOKUP($B4,FOLK1A!$A:$A,FOLK1A!D:D) -> 6025603 | I4: =C4/F4*100 -> 91.86859 | J4: =D4/G4*100 -> 91.311862 | K4: =E4/H4*100 -> 90.73389
A5: I ALT | B5: København | C5: 505100 | D5: 571892 | E5: 575599 | F5: =_xlfn.XLOOKUP($B5,FOLK1A!$A:$A,FOLK1A!B:B) -> 591481 | G5: =_xlfn.XLOOKUP($B5,FOLK1A!$A:$A,FOLK1A!C:C) -> 667099 | H5: =_xlfn.XLOOKUP($B5,FOLK1A!$A:$A,FOLK1A!D:D) -> 671714 | I5: =C5/F5*100 -> 85.395812 | J5: =D5/G5*100 -> 85.728205 | K5: =E5/H5*100 -> 85.691083
A6: I ALT | B6: Frederiksberg | C6: 91476 | D6: 94464 | E6: 94879 | F6: =_xlfn.XLOOKUP($B6,FOLK1A!$A:$A,FOLK1A!B:B) -> 104481 | G6: =_xlfn.XLOOKUP($B6,FOLK1A!$A:$A,FOLK1A!C:C) -> 105840 | H6: =_xlfn.XLOOKUP($B6,FOLK1A!$A:$A,FOLK1A!D:D) -> 106150 | I6: =C6/F6*100 -> 87.552761 | J6: =D6/G6*100 -> 89.251701 | K6: =E6/H6*100 -> 89.382007
A7: I ALT | B7: Dragør | C7: 12714 | D7: 13323 | E7: 13083 | F7: =_xlfn.XLOOKUP($B7,FOLK1A!$A:$A,FOLK1A!B:B) -> 14142 | G7: =_xlfn.XLOOKUP($B7,FOLK1A!$A:$A,FOLK1A!C:C) -> 14450 | H7: =_xlfn.XLOOKUP($B7,FOLK1A!$A:$A,FOLK1A!D:D) -> 14474 | I7: =C7/F7*100 -> 89.902418 | J7: =D7/G7*100 -> 92.200692 | K7: =E7/H7*100 -> 90.389664
A8: I ALT | B8: Tårnby | C8: 38551 | D8: 39658 | E8: 39562 | F8: =_xlfn.XLOOKUP($B8,FOLK1A!$A:$A,FOLK1A!B:B) -> 42860 | G8: =_xlfn.XLOOKUP($B8,FOLK1A!$A:$A,FOLK1A!C:C) -> 44034 | H8: =_xlfn.XLOOKUP($B8,FOLK1A!$A:$A,FOLK1A!D:D) -> 44214 | I8: =C8/F8*100 -> 89.946337 | J8: =D8/G8*100 -> 90.062225 | K8: =E8/H8*100 -> 89.478446
A9: I ALT | B9: Albertslund | C9: 24823 | D9: 24633 | E9: 24852 | F9: =_xlfn.XLOOKUP($B9,FOLK1A!$A:$A,FOLK1A!B:B) -> 27880 | G9: =_xlfn.XLOOKUP($B9,FOLK1A!$A:$A,FOLK1A!C:C) -> 28117 | H9: =_xlfn.XLOOKUP($B9,FOLK1A!$A:$A,FOLK1A!D:D) -> 29262 | I9: =C9/F9*100 -> 89.035151 | J9: =D9/G9*100 -> 87.60892 | K9: =E9/H9*100 -> 84.92926
A10: I ALT | B10: Ballerup | C10: 44066 | D10: 46168 | E10: 47160 | F10: =_xlfn.XLOOKUP($B10,FOLK1A!$A:$A,FOLK1A!B:B) -> 48224 | G10: =_xlfn.XLOOKUP($B10,FOLK1A!$A:$A,FOLK1A!C:C) -> 52939 | H10: =_xlfn.XLOOKUP($B10,FOLK1A!$A:$A,FOLK1A!D:D) -> 53950 | I10: =C10/F10*100 -> 91.377737 | J10: =D10/G10*100 -> 87.209808 | K10: =E10/H10*100 -> 87.414272
A11: I ALT | B11: Brøndby | C11: 31532 | D11: 34121 | E11: 34947 | F11: =_xlfn.XLOOKUP($B11,FOLK1A!$A:$A,FOLK1A!B:B) -> 35322 | G11: =_xlfn.XLOOKUP($B11,FOLK1A!$A:$A,FOLK1A!C:C) -> 40401 | H11: =_xlfn.XLOOKUP($B11,FOLK1A!$A:$A,FOLK1A!D:D) -> 40990 | I11: =C11/F11*100 -> 89.270143 | J11: =D11/G11*100 -> 84.45583 | K11: =E11/H11*100 -> 85.25738
A12: I ALT | B12: Gentofte | C12: 66315 | D12: 67118 | E12: 66532 | F12: =_xlfn.XLOOKUP($B12,FOLK1A!$A:$A,FOLK1A!B:B) -> 75350 | G12: =_xlfn.XLOOKUP($B12,FOLK1A!$A:$A,FOLK1A!C:C) -> 75076 | H12: =_xlfn.XLOOKUP($B12,FOLK1A!$A:$A,FOLK1A!D:D) -> 75106 | I12: =C12/F12*100 -> 88.00929 | J12: =D12/G12*100 -> 89.400075 | K12: =E12/H12*100 -> 88.584134
A13: I ALT | B13: Gladsaxe | C13: 60185 | D13: 62698 | E13: 62393 | F13: =_xlfn.XLOOKUP($B13,FOLK1A!$A:$A,FOLK1A!B:B) -> 67914 | G13: =_xlfn.XLOOKUP($B13,FOLK1A!$A:$A,FOLK1A!C:C) -> 70958 | H13: =_xlfn.XLOOKUP($B13,FOLK1A!$A:$A,FOLK1A!D:D) -> 71185 | I13: =C13/F13*100 -> 88.61943 | J13: =D13/G13*100 -> 88.359311 | K13: =E13/H13*100 -> 87.649083
A14: I ALT | B14: Glostrup | C14: 20138 | D14: 20911 | E14: 21822 | F14: =_xlfn.XLOOKUP($B14,FOLK1A!$A:$A,FOLK1A!B:B) -> 22461 | G14: =_xlfn.XLOOKUP($B14,FOLK1A!$A:$A,FOLK1A!C:C) -> 24869 | H14: =_xlfn.XLOOKUP($B14,FOLK1A!$A:$A,FOLK1A!D:D) -> 25834 | I14: =C14/F14*100 -> 89.657629 | J14: =D14/G14*100 -> 84.084603 | K14: =E14/H14*100 -> 84.470078
A15: I ALT | B15: Herlev | C15: 25527 | D15: 26682 | E15: 27284 | F15: =_xlfn.XLOOKUP($B15,FOLK1A!$A:$A,FOLK1A!B:B) -> 28423 | G15: =_xlfn.XLOOKUP($B15,FOLK1A!$A:$A,FOLK1A!C:C) -> 30784 | H15: =_xlfn.XLOOKUP($B15,FOLK1A!$A:$A,FOLK1A!D:D) -> 32030 | I15: =C15/F15*100 -> 89.811069 | J15: =D15/G15*100 -> 86.674896 | K15: =E15/H15*100 -> 85.182641
... A399: TANDLÆGE/TANDPLEJER | B399: Aalborg | C399: 90864 | D399: 101879 | E399: 99976 | F399: =_xlfn.XLOOKUP($B399,FOLK1A!$A:$A,FOLK1A!B:B) -> 210316 | G399: =_xlfn.XLOOKUP($B399,FOLK1A!$A:$A,FOLK1A!C:C) -> 224612 | H399: =_xlfn.XLOOKUP($B399,FOLK1A!$A:$A,FOLK1A!D:D) -> 226033 | I399: =C399/F399*100 -> 43.20356 | J399: =D399/G399*100 -> 45.357773 | K399: =E399/H399*100 -> 44.23071

Sheet FOLK1A
A1: Befolkningen den 1. i kvartalet efter område og tid
A2: Enhed: Antal
B3: 2016K1 | C3: 2025K1 | D3: 2026K1
A4: Hele landet | B4: 5707251 | C4: 5992734 | D4: 6025603
A5: København | B5: 591481 | C5: 667099 | D5: 671714
A6: Frederiksberg | B6: 104481 | C6: 105840 | D6: 106150
A7: Dragør | B7: 14142 | C7: 14450 | D7: 14474
A8: Tårnby | B8: 42860 | C8: 44034 | D8: 44214
A9: Albertslund | B9: 27880 | C9: 28117 | D9: 29262
A10: Ballerup | B10: 48224 | C10: 52939 | D10: 53950
A11: Brøndby | B11: 35322 | C11: 40401 | D11: 40990
A12: Gentofte | B12: 75350 | C12: 75076 | D12: 75106
A13: Gladsaxe | B13: 67914 | C13: 70958 | D13: 71185
A14: Glostrup | B14: 22461 | C14: 24869 | D14: 25834
A15: Herlev | B15: 28423 | C15: 30784 | D15: 32030
... A102: Aalborg | B102: 210316 | C102: 224612 | D102: 226033

Sheet SYGK1
A1: Type | B1: ALMEN LÆGE I ALT
A2: Lægebesøg mv. med offentlig tilskud efter ydelsesart, område og tid
A3: Kommune | B3: 2015 | C3: 2024 | D3: 2025 | E3: Indbyggertal 2015 | F3: Indbyggertal 2024 | G3: Indbyggertal 2025 | H3: Besøg pr. indbygger 2015 | I3: Besøg pr. indbygger 2024 | J3: Besøg pr. indbygger 2025
A4: Albertslund | B4: 171541 | C4: 189189 | D4: 186293 | E4: =_xlfn.XLOOKUP($A4,FOLK1A!$A:$A,FOLK1A!B:B) -> 27880 | F4: =_xlfn.XLOOKUP($A4,FOLK1A!$A:$A,FOLK1A!C:C) -> 28117 | G4: =_xlfn.XLOOKUP($A4,FOLK1A!$A:$A,FOLK1A!D:D) -> 29262 | H4: =B4/E4 -> 6.1528336 | I4: =C4/F4 -> 6.7286339 | J4: =D4/G4 -> 6.3663796
A5: Allerød | B5: 152206 | C5: 172626 | D5: 172313 | E5: =_xlfn.XLOOKUP($A5,FOLK1A!$A:$A,FOLK1A!B:B) -> 24732 | F5: =_xlfn.XLOOKUP($A5,FOLK1A!$A:$A,FOLK1A!C:C) -> 26128 | G5: =_xlfn.XLOOKUP($A5,FOLK1A!$A:$A,FOLK1A!D:D) -> 26496 | H5: =B5/E5 -> 6.1542132 | I5: =C5/F5 -> 6.6069351 | J5: =D5/G5 -> 6.503359
A6: Assens | B6: 308335 | C6: 328647 | D6: 321138 | E6: =_xlfn.XLOOKUP($A6,FOLK1A!$A:$A,FOLK1A!B:B) -> 41224 | F6: =_xlfn.XLOOKUP($A6,FOLK1A!$A:$A,FOLK1A!C:C) -> 40469 | G6: =_xlfn.XLOOKUP($A6,FOLK1A!$A:$A,FOLK1A!D:D) -> 40369 | H6: =B6/E6 -> 7.4795022 | I6: =C6/F6 -> 8.1209568 | J6: =D6/G6 -> 7.9550645
A7: Ballerup | B7: 326517 | C7: 351366 | D7: 354446 | E7: =_xlfn.XLOOKUP($A7,FOLK1A!$A:$A,FOLK1A!B:B) -> 48224 | F7: =_xlfn.XLOOKUP($A7,FOLK1A!$A:$A,FOLK1A!C:C) -> 52939 | G7: =_xlfn.XLOOKUP($A7,FOLK1A!$A:$A,FOLK1A!D:D) -> 53950 | H7: =B7/E7 -> 6.7708402 | I7: =C7/F7 -> 6.6371862 | J7: =D7/G7 -> 6.5698981
A8: Billund | B8: 188815 | C8: 209232 | D8: 213458 | E8: =_xlfn.XLOOKUP($A8,FOLK1A!$A:$A,FOLK1A!B:B) -> 26434 | F8: =_xlfn.XLOOKUP($A8,FOLK1A!$A:$A,FOLK1A!C:C) -> 27168 | G8: =_xlfn.XLOOKUP($A8,FOLK1A!$A:$A,FOLK1A!D:D) -> 27200 | H8: =B8/E8 -> 7.1428842 | I8: =C8/F8 -> 7.7014134 | J8: =D8/G8 -> 7.8477206
A9: Bornholm | B9: 328242 | C9: 270541 | D9: 254223 | E9: =_xlfn.XLOOKUP($A9,FOLK1A!$A:$A,FOLK1A!B:B) -> 39756 | F9: =_xlfn.XLOOKUP($A9,FOLK1A!$A:$A,FOLK1A!C:C) -> 38966 | G9: =_xlfn.XLOOKUP($A9,FOLK1A!$A:$A,FOLK1A!D:D) -> 38677 | H9: =B9/E9 -> 8.2564141 | I9: =C9/F9 -> 6.9430016 | J9: =D9/G9 -> 6.5729762
A10: Brøndby | B10: 229717 | C10: 248954 | D10: 249207 | E10: =_xlfn.XLOOKUP($A10,FOLK1A!$A:$A,FOLK1A!B:B) -> 35322 | F10: =_xlfn.XLOOKUP($A10,FOLK1A!$A:$A,FOLK1A!C:C) -> 40401 | G10: =_xlfn.XLOOKUP($A10,FOLK1A!$A:$A,FOLK1A!D:D) -> 40990 | H10: =B10/E10 -> 6.5035106 | I10: =C10/F10 -> 6.1620752 | J10: =D10/G10 -> 6.0797024
A11: Brønderslev | B11: 243009 | C11: 292535 | D11: 294354 | E11: =_xlfn.XLOOKUP($A11,FOLK1A!$A:$A,FOLK1A!B:B) -> 36047 | F11: =_xlfn.XLOOKUP($A11,FOLK1A!$A:$A,FOLK1A!C:C) -> 36706 | G11: =_xlfn.XLOOKUP($A11,FOLK1A!$A:$A,FOLK1A!D:D) -> 36529 | H11: =B11/E11 -> 6.7414487 | I11: =C11/F11 -> 7.969678 | J11: =D11/G11 -> 8.0580908
A12: Dragør | B12: 84081 | C12: 94783 | D12: 95216 | E12: =_xlfn.XLOOKUP($A12,FOLK1A!$A:$A,FOLK1A!B:B) -> 14142 | F12: =_xlfn.XLOOKUP($A12,FOLK1A!$A:$A,FOLK1A!C:C) -> 14450 | G12: =_xlfn.XLOOKUP($A12,FOLK1A!$A:$A,FOLK1A!D:D) -> 14474 | H12: =B12/E12 -> 5.9454815 | I12: =C12/F12 -> 6.5593772 | J12: =D12/G12 -> 6.5784165
A13: Egedal | B13: 250038 | C13: 269526 | D13: 265741 | E13: =_xlfn.XLOOKUP($A13,FOLK1A!$A:$A,FOLK1A!B:B) -> 42773 | F13: =_xlfn.XLOOKUP($A13,FOLK1A!$A:$A,FOLK1A!C:C) -> 45563 | G13: =_xlfn.XLOOKUP($A13,FOLK1A!$A:$A,FOLK1A!D:D) -> 46240 | H13: =B13/E13 -> 5.8456971 | I13: =C13/F13 -> 5.9154577 | J13: =D13/G13 -> 5.7469939
A14: Esbjerg | B14: 925060 | C14: 901635 | D14: 868917 | E14: =_xlfn.XLOOKUP($A14,FOLK1A!$A:$A,FOLK1A!B:B) -> 115748 | F14: =_xlfn.XLOOKUP($A14,FOLK1A!$A:$A,FOLK1A!C:C) -> 115157 | G14: =_xlfn.XLOOKUP($A14,FOLK1A!$A:$A,FOLK1A!D:D) -> 114947 | H14: =B14/E14 -> 7.9920171 | I14: =C14/F14 -> 7.8296152 | J14: =D14/G14 -> 7.5592838
A15: Fanø | B15: 25289 | C15: 26277 | D15: 27247 | E15: =_xlfn.XLOOKUP($A15,FOLK1A!$A:$A,FOLK1A!B:B) -> 3290 | F15: =_xlfn.XLOOKUP($A15,FOLK1A!$A:$A,FOLK1A!C:C) -> 3270 | G15: =_xlfn.XLOOKUP($A15,FOLK1A!$A:$A,FOLK1A!D:D) -> 3332 | H15: =B15/E15 -> 7.6866261 | I15: =C15/F15 -> 8.0357798 | J15: =D15/G15 -> 8.1773709
... A102: Aarhus | B102: 2343013 | C102: 2765719 | D102: 2650861 | E102: =_xlfn.XLOOKUP($A102,FOLK1A!$A:$A,FOLK1A!B:B) -> 330639 | F102: =_xlfn.XLOOKUP($A102,FOLK1A!$A:$A,FOLK1A!C:C) -> 373388 | G102: =_xlfn.XLOOKUP($A102,FOLK1A!$A:$A,FOLK1A!D:D) -> 378361 | H102: =B102/E102 -> 7.0863177 | I102: =C102/F102 -> 7.4070913 | J102: =D102/G102 -> 7.0061687

Sheet Gennemsnitsalder
A1: Gennemsnitsalder efter kommune og tid
A2: Enhed: Gns.
B3: 2016 | C3: 2025 | D3: 2026
A4: Hele landet | B4: 41.2 | C4: 42.6 | D4: 42.7
A5: København | B5: 35.9 | C5: 36.9 | D5: 37.1
A6: Frederiksberg | B6: 39.4 | C6: 40.7 | D6: 40.9
A7: Dragør | B7: 44 | C7: 45.5 | D7: 45.5
A8: Tårnby | B8: 41.4 | C8: 41.9 | D8: 41.9
A9: Albertslund | B9: 39.3 | C9: 41.1 | D9: 40.9
A10: Ballerup | B10: 41.9 | C10: 41.9 | D10: 41.8
A11: Brøndby | B11: 41.4 | C11: 40.4 | D11: 40.4
A12: Gentofte | B12: 41.6 | C12: 43.7 | D12: 43.9
A13: Gladsaxe | B13: 39.8 | C13: 40.3 | D13: 40.4
A14: Glostrup | B14: 41.2 | C14: 41 | D14: 40.7
A15: Herlev | B15: 41 | C15: 41.1 | D15: 40.8
... A103: Aalborg | B103: 39.8 | C103: 40.7 | D103: 40.8
