Workbook

Sheet Samle
G1: Kommune | H1: Aldersbestemt udgiftsbehov indeks 2026 | I1: Aldersbestemt udgiftsbehov indeks 2027 | J1: UDVIKLING Aldersbestemt udgiftsbehov indeks | K1: Socioøkonomisk indeks 2026 | L1: Socioøkonomisk indeks 2027 | M1: UDVIKLING Socioøkonomisk indeks | N1: Udgiftsbehov indeks 2026 | O1: Udgiftsbehov indeks 2027 | P1: UDVIKLING udgiftsbehov i alt indeks
G2: København | H2: =_xlfn.XLOOKUP(G2,'2026'!B:B,'2026'!E:E) -> 90.348155 | I2: =_xlfn.XLOOKUP(G2,'2027'!B:B,'2027'!E:E) -> 91.318208 | J2: =I2-H2 -> 0.97005392 | K2: =_xlfn.XLOOKUP(G2,'2026'!B:B,'2026'!I:I) -> 101.92248 | L2: =_xlfn.XLOOKUP(G2,'2027'!B:B,'2027'!I:I) -> 98.864597 | M2: =L2-K2 -> -3.0578797 | N2: =_xlfn.XLOOKUP(G2,'2026'!B:B,'2026'!L:L) -> 94.16723 | O2: =_xlfn.XLOOKUP(G2,'2027'!B:B,'2027'!L:L) -> 93.809397 | P2: =O2-N2 -> -0.35783325
G3: Frederiksberg | H3: =_xlfn.XLOOKUP(G3,'2026'!B:B,'2026'!E:E) -> 94.656964 | I3: =_xlfn.XLOOKUP(G3,'2027'!B:B,'2027'!E:E) -> 94.636238 | J3: =I3-H3 -> -0.020726398 | K3: =_xlfn.XLOOKUP(G3,'2026'!B:B,'2026'!I:I) -> 72.428631 | L3: =_xlfn.XLOOKUP(G3,'2027'!B:B,'2027'!I:I) -> 70.32627 | M3: =L3-K3 -> -2.1023604 | N3: =_xlfn.XLOOKUP(G3,'2026'!B:B,'2026'!L:L) -> 87.320759 | O3: =_xlfn.XLOOKUP(G3,'2027'!B:B,'2027'!L:L) -> 86.615015 | P3: =O3-N3 -> -0.70574466
G4: Ballerup | H4: =_xlfn.XLOOKUP(G4,'2026'!B:B,'2026'!E:E) -> 102.06622 | I4: =_xlfn.XLOOKUP(G4,'2027'!B:B,'2027'!E:E) -> 102.34478 | J4: =I4-H4 -> 0.27855951 | K4: =_xlfn.XLOOKUP(G4,'2026'!B:B,'2026'!I:I) -> 124.2651 | L4: =_xlfn.XLOOKUP(G4,'2027'!B:B,'2027'!I:I) -> 123.1114 | M4: =L4-K4 -> -1.1536963 | N4: =_xlfn.XLOOKUP(G4,'2026'!B:B,'2026'!L:L) -> 109.39117 | O4: =_xlfn.XLOOKUP(G4,'2027'!B:B,'2027'!L:L) -> 109.19812 | P4: =O4-N4 -> -0.19304324
B5: Antal kommuner med lavere indeks i 2027 end 2026 | C5: =COUNTIF(P2:P99,"<0") -> 48 | G5: Brøndby | H5: =_xlfn.XLOOKUP(G5,'2026'!B:B,'2026'!E:E) -> 99.05231 | I5: =_xlfn.XLOOKUP(G5,'2027'!B:B,'2027'!E:E) -> 99.238693 | J5: =I5-H5 -> 0.18638324 | K5: =_xlfn.XLOOKUP(G5,'2026'!B:B,'2026'!I:I) -> 159.36583 | L5: =_xlfn.XLOOKUP(G5,'2027'!B:B,'2027'!I:I) -> 157.50231 | M5: =L5-K5 -> -1.8635179 | N5: =_xlfn.XLOOKUP(G5,'2026'!B:B,'2026'!L:L) -> 118.95558 | O5: =_xlfn.XLOOKUP(G5,'2027'!B:B,'2027'!L:L) -> 118.46622 | P5: =O5-N5 -> -0.48936519
B6: Antal kommuner med højere indeks i 2027 end 2026 | C6: =COUNTIF(P2:P99,">0") -> 50 | G6: Dragør | H6: =_xlfn.XLOOKUP(G6,'2026'!B:B,'2026'!E:E) -> 108.00055 | I6: =_xlfn.XLOOKUP(G6,'2027'!B:B,'2027'!E:E) -> 107.43241 | J6: =I6-H6 -> -0.56813846 | K6: =_xlfn.XLOOKUP(G6,'2026'!B:B,'2026'!I:I) -> 63.239759 | L6: =_xlfn.XLOOKUP(G6,'2027'!B:B,'2027'!I:I) -> 60.972274 | M6: =L6-K6 -> -2.2674844 | N6: =_xlfn.XLOOKUP(G6,'2026'!B:B,'2026'!L:L) -> 93.229711 | O6: =_xlfn.XLOOKUP(G6,'2027'!B:B,'2027'!L:L) -> 92.10081 | P6: =O6-N6 -> -1.1289002
G7: Gentofte | H7: =_xlfn.XLOOKUP(G7,'2026'!B:B,'2026'!E:E) -> 103.6857 | I7: =_xlfn.XLOOKUP(G7,'2027'!B:B,'2027'!E:E) -> 103.47415 | J7: =I7-H7 -> -0.21155355 | K7: =_xlfn.XLOOKUP(G7,'2026'!B:B,'2026'!I:I) -> 64.172224 | L7: =_xlfn.XLOOKUP(G7,'2027'!B:B,'2027'!I:I) -> 63.291228 | M7: =L7-K7 -> -0.88099617 | N7: =_xlfn.XLOOKUP(G7,'2026'!B:B,'2026'!L:L) -> 90.645696 | O7: =_xlfn.XLOOKUP(G7,'2027'!B:B,'2027'!L:L) -> 90.214114 | P7: =O7-N7 -> -0.43158242
B8: Antal kommuner over landsgennemsnit 2027 | C8: =COUNTIF(O2:O99,">100") -> 64 | G8: Gladsaxe | H8: =_xlfn.XLOOKUP(G8,'2026'!B:B,'2026'!E:E) -> 100.50728 | I8: =_xlfn.XLOOKUP(G8,'2027'!B:B,'2027'!E:E) -> 100.89792 | J8: =I8-H8 -> 0.3906471 | K8: =_xlfn.XLOOKUP(G8,'2026'!B:B,'2026'!I:I) -> 105.41033 | L8: =_xlfn.XLOOKUP(G8,'2027'!B:B,'2027'!I:I) -> 105.70131 | M8: =L8-K8 -> 0.29098426 | N8: =_xlfn.XLOOKUP(G8,'2026'!B:B,'2026'!L:L) -> 102.12447 | O8: =_xlfn.XLOOKUP(G8,'2027'!B:B,'2027'!L:L) -> 102.48337 | P8: =O8-N8 -> 0.35889566
B9: Antal kommuner over landsgennemsnit 2026 | C9: =COUNTIF(N2:N99,">100") -> 62 | G9: Glostrup | H9: =_xlfn.XLOOKUP(G9,'2026'!B:B,'2026'!E:E) -> 99.293786 | I9: =_xlfn.XLOOKUP(G9,'2027'!B:B,'2027'!E:E) -> 99.208778 | J9: =I9-H9 -> -0.085008702 | K9: =_xlfn.XLOOKUP(G9,'2026'!B:B,'2026'!I:I) -> 118.5748 | L9: =_xlfn.XLOOKUP(G9,'2027'!B:B,'2027'!I:I) -> 118.17408 | M9: =L9-K9 -> -0.40071215 | N9: =_xlfn.XLOOKUP(G9,'2026'!B:B,'2026'!L:L) -> 105.65583 | O9: =_xlfn.XLOOKUP(G9,'2027'!B:B,'2027'!L:L) -> 105.46798 | P9: =O9-N9 -> -0.1878487
G10: Herlev | H10: =_xlfn.XLOOKUP(G10,'2026'!B:B,'2026'!E:E) -> 101.33851 | I10: =_xlfn.XLOOKUP(G10,'2027'!B:B,'2027'!E:E) -> 101.06231 | J10: =I10-H10 -> -0.276203 | K10: =_xlfn.XLOOKUP(G10,'2026'!B:B,'2026'!I:I) -> 121.59679 | L10: =_xlfn.XLOOKUP(G10,'2027'!B:B,'2027'!I:I) -> 119.77635 | M10: =L10-K10 -> -1.8204461 | N10: =_xlfn.XLOOKUP(G10,'2026'!B:B,'2026'!L:L) -> 108.02359 | O10: =_xlfn.XLOOKUP(G10,'2027'!B:B,'2027'!L:L) -> 107.23891 | P10: =O10-N10 -> -0.78468211
B11: Antal kommuner under landsgennemsnit 2027 | C11: =COUNTIF(O2:O99,"<100") -> 34 | G11: Albertslund | H11: =_xlfn.XLOOKUP(G11,'2026'!B:B,'2026'!E:E) -> 102.43158 | I11: =_xlfn.XLOOKUP(G11,'2027'!B:B,'2027'!E:E) -> 101.53551 | J11: =I11-H11 -> -0.89607496 | K11: =_xlfn.XLOOKUP(G11,'2026'!B:B,'2026'!I:I) -> 149.84411 | L11: =_xlfn.XLOOKUP(G11,'2027'!B:B,'2027'!I:I) -> 144.97209 | M11: =L11-K11 -> -4.8720177 | N11: =_xlfn.XLOOKUP(G11,'2026'!B:B,'2026'!L:L) -> 118.07704 | O11: =_xlfn.XLOOKUP(G11,'2027'!B:B,'2027'!L:L) -> 115.86962 | P11: =O11-N11 -> -2.2074179
B12: Antal kommuner under landsgennemsnit 2026 | C12: =COUNTIF(N2:N99,"<100") -> 36 | G12: Hvidovre | H12: =_xlfn.XLOOKUP(G12,'2026'!B:B,'2026'!E:E) -> 101.53197 | I12: =_xlfn.XLOOKUP(G12,'2027'!B:B,'2027'!E:E) -> 102.05886 | J12: =I12-H12 -> 0.52689325 | K12: =_xlfn.XLOOKUP(G12,'2026'!B:B,'2026'!I:I) -> 117.42925 | L12: =_xlfn.XLOOKUP(G12,'2027'!B:B,'2027'!I:I) -> 114.97729 | M12: =L12-K12 -> -2.451956 | N12: =_xlfn.XLOOKUP(G12,'2026'!B:B,'2026'!L:L) -> 106.77766 | O12: =_xlfn.XLOOKUP(G12,'2027'!B:B,'2027'!L:L) -> 106.32291 | P12: =O12-N12 -> -0.45474785
G13: Høje-Taastrup | H13: =_xlfn.XLOOKUP(G13,'2026'!B:B,'2026'!E:E) -> 98.406581 | I13: =_xlfn.XLOOKUP(G13,'2027'!B:B,'2027'!E:E) -> 98.987439 | J13: =I13-H13 -> 0.58085754 | K13: =_xlfn.XLOOKUP(G13,'2026'!B:B,'2026'!I:I) -> 119.03719 | L13: =_xlfn.XLOOKUP(G13,'2027'!B:B,'2027'!I:I) -> 117.31167 | M13: =L13-K13 -> -1.725521 | N13: =_xlfn.XLOOKUP(G13,'2026'!B:B,'2026'!L:L) -> 105.21472 | O13: =_xlfn.XLOOKUP(G13,'2027'!B:B,'2027'!L:L) -> 105.03543 | P13: =O13-N13 -> -0.17928894
B14: Kommuner med størst spring (mindre udgiftsbehov) | G14: Lyngby-Taarbæk | H14: =_xlfn.XLOOKUP(G14,'2026'!B:B,'2026'!E:E) -> 100.48263 | I14: =_xlfn.XLOOKUP(G14,'2027'!B:B,'2027'!E:E) -> 100.7255 | J14: =I14-H14 -> 0.24286873 | K14: =_xlfn.XLOOKUP(G14,'2026'!B:B,'2026'!I:I) -> 70.584842 | L14: =_xlfn.XLOOKUP(G14,'2027'!B:B,'2027'!I:I) -> 70.968458 | M14: =L14-K14 -> 0.38361612 | N14: =_xlfn.XLOOKUP(G14,'2026'!B:B,'2026'!L:L) -> 90.616207 | O14: =_xlfn.XLOOKUP(G14,'2027'!B:B,'2027'!L:L) -> 90.9062 | P14: =O14-N14 -> 0.28999259
B15: =_xlfn.XLOOKUP(C15,P:P,G:G) -> Albertslund | C15: =SMALL(P2:P99,1) -> -2.2074179 | G15: Rødovre | H15: =_xlfn.XLOOKUP(G15,'2026'!B:B,'2026'!E:E) -> 100.53687 | I15: =_xlfn.XLOOKUP(G15,'2027'!B:B,'2027'!E:E) -> 100.80205 | J15: =I15-H15 -> 0.2651768 | K15: =_xlfn.XLOOKUP(G15,'2026'!B:B,'2026'!I:I) -> 121.16014 | L15: =_xlfn.XLOOKUP(G15,'2027'!B:B,'2027'!I:I) -> 119.86806 | M15: =L15-K15 -> -1.2920861 | N15: =_xlfn.XLOOKUP(G15,'2026'!B:B,'2026'!L:L) -> 107.34165 | O15: =_xlfn.XLOOKUP(G15,'2027'!B:B,'2027'!L:L) -> 107.09388 | P15: =O15-N15 -> -0.2477709
B16: =_xlfn.XLOOKUP(C16,P:P,G:G) -> Langeland | C16: =SMALL(P2:P99,2) -> -1.8148645 | G16: Ishøj | H16: =_xlfn.XLOOKUP(G16,'2026'!B:B,'2026'!E:E) -> 98.653346 | I16: =_xlfn.XLOOKUP(G16,'2027'!B:B,'2027'!E:E) -> 99.20067 | J16: =I16-H16 -> 0.5473236 | K16: =_xlfn.XLOOKUP(G16,'2026'!B:B,'2026'!I:I) -> 161.01429 | L16: =_xlfn.XLOOKUP(G16,'2027'!B:B,'2027'!I:I) -> 159.31861 | M16: =L16-K16 -> -1.6956824 | N16: =_xlfn.XLOOKUP(G16,'2026'!B:B,'2026'!L:L) -> 119.23205 | O16: =_xlfn.XLOOKUP(G16,'2027'!B:B,'2027'!L:L) -> 119.03999 | P16: =O16-N16 -> -0.19205947
B17: =_xlfn.XLOOKUP(C17,P:P,G:G) -> Læsø | C17: =SMALL(P2:P99,3) -> -1.6209752 | G17: Tårnby | H17: =_xlfn.XLOOKUP(G17,'2026'!B:B,'2026'!E:E) -> 102.54666 | I17: =_xlfn.XLOOKUP(G17,'2027'!B:B,'2027'!E:E) -> 102.37187 | J17: =I17-H17 -> -0.17479565 | K17: =_xlfn.XLOOKUP(G17,'2026'!B:B,'2026'!I:I) -> 105.63413 | L17: =_xlfn.XLOOKUP(G17,'2027'!B:B,'2027'!I:I) -> 103.01962 | M17: =L17-K17 -> -2.614511 | N17: =_xlfn.XLOOKUP(G17,'2026'!B:B,'2026'!L:L) -> 103.56577 | O17: =_xlfn.XLOOKUP(G17,'2027'!B:B,'2027'!L:L) -> 102.58642 | P17: =O17-N17 -> -0.97935237
B18: =_xlfn.XLOOKUP(C18,P:P,G:G) -> Ærø | C18: =SMALL(P2:P99,4) -> -1.5985328 | G18: Vallensbæk | H18: =_xlfn.XLOOKUP(G18,'2026'!B:B,'2026'!E:E) -> 102.17295 | I18: =_xlfn.XLOOKUP(G18,'2027'!B:B,'2027'!E:E) -> 102.64041 | J18: =I18-H18 -> 0.46746124 | K18: =_xlfn.XLOOKUP(G18,'2026'!B:B,'2026'!I:I) -> 84.356594 | L18: =_xlfn.XLOOKUP(G18,'2027'!B:B,'2027'!I:I) -> 85.962037 | M18: =L18-K18 -> 1.6054434 | N18: =_xlfn.XLOOKUP(G18,'2026'!B:B,'2026'!L:L) -> 96.292929 | O18: =_xlfn.XLOOKUP(G18,'2027'!B:B,'2027'!L:L) -> 97.137514 | P18: =O18-N18 -> 0.84458516
B19: =_xlfn.XLOOKUP(C19,P:P,G:G) -> Lolland | C19: =SMALL(P2:P99,5) -> -1.3546083 | G19: Furesø | H19: =_xlfn.XLOOKUP(G19,'2026'!B:B,'2026'!E:E) -> 106.92213 | I19: =_xlfn.XLOOKUP(G19,'2027'!B:B,'2027'!E:E) -> 107.01927 | J19: =I19-H19 -> 0.097146712 | K19: =_xlfn.XLOOKUP(G19,'2026'!B:B,'2026'!I:I) -> 73.181929 | L19: =_xlfn.XLOOKUP(G19,'2027'!B:B,'2027'!I:I) -> 72.940297 | M19: =L19-K19 -> -0.24163158 | N19: =_xlfn.XLOOKUP(G19,'2026'!B:B,'2026'!L:L) -> 95.787922 | O19: =_xlfn.XLOOKUP(G19,'2027'!B:B,'2027'!L:L) -> 95.773698 | P19: =O19-N19 -> -0.014223402
B20: =_xlfn.XLOOKUP(C20,P:P,G:G) -> Dragør | C20: =SMALL(P2:P99,6) -> -1.1289002 | G20: Allerød | H20: =_xlfn.XLOOKUP(G20,'2026'!B:B,'2026'!E:E) -> 106.46099 | I20: =_xlfn.XLOOKUP(G20,'2027'!B:B,'2027'!E:E) -> 106.93718 | J20: =I20-H20 -> 0.47619615 | K20: =_xlfn.XLOOKUP(G20,'2026'!B:B,'2026'!I:I) -> 52.476933 | L20: =_xlfn.XLOOKUP(G20,'2027'!B:B,'2027'!I:I) -> 51.629599 | M20: =L20-K20 -> -0.84733359 | N20: =_xlfn.XLOOKUP(G20,'2026'!B:B,'2026'!L:L) -> 88.646556 | O20: =_xlfn.XLOOKUP(G20,'2027'!B:B,'2027'!L:L) -> 88.686182 | P20: =O20-N20 -> 0.03962597
B21: =_xlfn.XLOOKUP(C21,P:P,G:G) -> Hørsholm | C21: =SMALL(P2:P99,7) -> -1.1288443 | G21: Fredensborg | H21: =_xlfn.XLOOKUP(G21,'2026'!B:B,'2026'!E:E) -> 103.63547 | I21: =_xlfn.XLOOKUP(G21,'2027'!B:B,'2027'!E:E) -> 103.82586 | J21: =I21-H21 -> 0.19039068 | K21: =_xlfn.XLOOKUP(G21,'2026'!B:B,'2026'!I:I) -> 89.542203 | L21: =_xlfn.XLOOKUP(G21,'2027'!B:B,'2027'!I:I) -> 89.191514 | M21: =L21-K21 -> -0.35068969 | N21: =_xlfn.XLOOKUP(G21,'2026'!B:B,'2026'!L:L) -> 98.983842 | O21: =_xlfn.XLOOKUP(G21,'2027'!B:B,'2027'!L:L) -> 98.997494 | P21: =O21-N21 -> 0.013651503
B22: =_xlfn.XLOOKUP(C22,P:P,G:G) -> Tårnby | C22: =SMALL(P2:P99,8) -> -0.97935237 | G22: Helsingør | H22: =_xlfn.XLOOKUP(G22,'2026'!B:B,'2026'!E:E) -> 102.55798 | I22: =_xlfn.XLOOKUP(G22,'2027'!B:B,'2027'!E:E) -> 102.122 | J22: =I22-H22 -> -0.43597511 | K22: =_xlfn.XLOOKUP(G22,'2026'!B:B,'2026'!I:I) -> 101.31704 | L22: =_xlfn.XLOOKUP(G22,'2027'!B:B,'2027'!I:I) -> 99.706351 | M22: =L22-K22 -> -1.6106878 | N22: =_xlfn.XLOOKUP(G22,'2026'!B:B,'2026'!L:L) -> 102.14782 | O22: =_xlfn.XLOOKUP(G22,'2027'!B:B,'2027'!L:L) -> 101.32565 | P22: =O22-N22 -> -0.82216679
B23: =_xlfn.XLOOKUP(C23,P:P,G:G) -> Halsnæs | C23: =SMALL(P2:P99,9) -> -0.93605452 | G23: Hillerød | H23: =_xlfn.XLOOKUP(G23,'2026'!B:B,'2026'!E:E) -> 100.98264 | I23: =_xlfn.XLOOKUP(G23,'2027'!B:B,'2027'!E:E) -> 101.39546 | J23: =I23-H23 -> 0.41282341 | K23: =_xlfn.XLOOKUP(G23,'2026'!B:B,'2026'!I:I) -> 75.674857 | L23: =_xlfn.XLOOKUP(G23,'2027'!B:B,'2027'!I:I) -> 75.615052 | M23: =L23-K23 -> -0.059805488 | N23: =_xlfn.XLOOKUP(G23,'2026'!B:B,'2026'!L:L) -> 92.63132 | O23: =_xlfn.XLOOKUP(G23,'2027'!B:B,'2027'!L:L) -> 92.888312 | P23: =O23-N23 -> 0.25699188
B24: =_xlfn.XLOOKUP(C24,P:P,G:G) -> Norddjurs | C24: =SMALL(P2:P99,10) -> -0.90851019 | G24: Hørsholm | H24: =_xlfn.XLOOKUP(G24,'2026'!B:B,'2026'!E:E) -> 107.01379 | I24: =_xlfn.XLOOKUP(G24,'2027'!B:B,'2027'!E:E) -> 106.23452 | J24: =I24-H24 -> -0.77927063 | K24: =_xlfn.XLOOKUP(G24,'2026'!B:B,'2026'!I:I) -> 64.269199 | L24: =_xlfn.XLOOKUP(G24,'2027'!B:B,'2027'!I:I) -> 62.430009 | M24: =L24-K24 -> -1.8391902 | N24: =_xlfn.XLOOKUP(G24,'2026'!B:B,'2026'!L:L) -> 92.907784 | O24: =_xlfn.XLOOKUP(G24,'2027'!B:B,'2027'!L:L) -> 91.77894 | P24: =O24-N24 -> -1.1288443
B25: Kommuner med størst spring (højere udgiftsbehov) | G25: Rudersdal | H25: =_xlfn.XLOOKUP(G25,'2026'!B:B,'2026'!E:E) -> 106.77955 | I25: =_xlfn.XLOOKUP(G25,'2027'!B:B,'2027'!E:E) -> 106.53634 | J25: =I25-H25 -> -0.24321099 | K25: =_xlfn.XLOOKUP(G25,'2026'!B:B,'2026'!I:I) -> 61.23991 | L25: =_xlfn.XLOOKUP(G25,'2027'!B:B,'2027'!I:I) -> 60.719379 | M25: =L25-K25 -> -0.52053148 | N25: =_xlfn.XLOOKUP(G25,'2026'!B:B,'2026'!L:L) -> 91.751551 | O25: =_xlfn.XLOOKUP(G25,'2027'!B:B,'2027'!L:L) -> 91.41763 | P25: =O25-N25 -> -0.3339209
B26: =_xlfn.XLOOKUP(C26,P:P,G:G) -> Nordfyn | C26: =LARGE(P2:P99,1) -> 1.3126969 | G26: Egedal | H26: =_xlfn.XLOOKUP(G26,'2026'!B:B,'2026'!E:E) -> 103.57213 | I26: =_xlfn.XLOOKUP(G26,'2027'!B:B,'2027'!E:E) -> 104.34217 | J26: =I26-H26 -> 0.77004721 | K26: =_xlfn.XLOOKUP(G26,'2026'!B:B,'2026'!I:I) -> 60.702243 | L26: =_xlfn.XLOOKUP(G26,'2027'!B:B,'2027'!I:I) -> 61.309777 | M26: =L26-K26 -> 0.60753396 | N26: =_xlfn.XLOOKUP(G26,'2026'!B:B,'2026'!L:L) -> 89.424341 | O26: =_xlfn.XLOOKUP(G26,'2027'!B:B,'2027'!L:L) -> 90.141598 | P26: =O26-N26 -> 0.71725655
B27: =_xlfn.XLOOKUP(C27,P:P,G:G) -> Ikast-Brande | C27: =LARGE(P2:P99,2) -> 1.2997457 | G27: Frederikssund | H27: =_xlfn.XLOOKUP(G27,'2026'!B:B,'2026'!E:E) -> 101.57782 | I27: =_xlfn.XLOOKUP(G27,'2027'!B:B,'2027'!E:E) -> 101.14704 | J27: =I27-H27 -> -0.430784 | K27: =_xlfn.XLOOKUP(G27,'2026'!B:B,'2026'!I:I) -> 89.516223 | L27: =_xlfn.XLOOKUP(G27,'2027'!B:B,'2027'!I:I) -> 91.154655 | M27: =L27-K27 -> 1.6384321 | N27: =_xlfn.XLOOKUP(G27,'2026'!B:B,'2026'!L:L) -> 97.596609 | O27: =_xlfn.XLOOKUP(G27,'2027'!B:B,'2027'!L:L) -> 97.849955 | P27: =O27-N27 -> 0.25334612
B28: =_xlfn.XLOOKUP(C28,P:P,G:G) -> Assens | C28: =LARGE(P2:P99,3) -> 1.2114201 | G28: Greve | H28: =_xlfn.XLOOKUP(G28,'2026'!B:B,'2026'!E:E) -> 102.6982 | I28: =_xlfn.XLOOKUP(G28,'2027'!B:B,'2027'!E:E) -> 103.28139 | J28: =I28-H28 -> 0.58318853 | K28: =_xlfn.XLOOKUP(G28,'2026'!B:B,'2026'!I:I) -> 88.436704 | L28: =_xlfn.XLOOKUP(G28,'2027'!B:B,'2027'!I:I) -> 89.356346 | M28: =L28-K28 -> 0.91964175 | N28: =_xlfn.XLOOKUP(G28,'2026'!B:B,'2026'!L:L) -> 97.99103 | O28: =_xlfn.XLOOKUP(G28,'2027'!B:B,'2027'!L:L) -> 98.687073 | P28: =O28-N28 -> 0.69604272
B29: =_xlfn.XLOOKUP(C29,P:P,G:G) -> Randers | C29: =LARGE(P2:P99,4) -> 1.1515368 | G29: Køge | H29: =_xlfn.XLOOKUP(G29,'2026'!B:B,'2026'!E:E) -> 100.65017 | I29: =_xlfn.XLOOKUP(G29,'2027'!B:B,'2027'!E:E) -> 100.81022 | J29: =I29-H29 -> 0.16004444 | K29: =_xlfn.XLOOKUP(G29,'2026'!B:B,'2026'!I:I) -> 101.37897 | L29: =_xlfn.XLOOKUP(G29,'2027'!B:B,'2027'!I:I) -> 100.57345 | M29: =L29-K29 -> -0.80551553 | N29: =_xlfn.XLOOKUP(G29,'2026'!B:B,'2026'!L:L) -> 100.89083 | O29: =_xlfn.XLOOKUP(G29,'2027'!B:B,'2027'!L:L) -> 100.7328 | P29: =O29-N29 -> -0.15803109
B30: =_xlfn.XLOOKUP(C30,P:P,G:G) -> Kolding | C30: =LARGE(P2:P99,5) -> 1.1330116 | G30: Halsnæs | H30: =_xlfn.XLOOKUP(G30,'2026'!B:B,'2026'!E:E) -> 100.85603 | I30: =_xlfn.XLOOKUP(G30,'2027'!B:B,'2027'!E:E) -> 99.526673 | J30: =I30-H30 -> -1.329353 | K30: =_xlfn.XLOOKUP(G30,'2026'!B:B,'2026'!I:I) -> 103.08201 | L30: =_xlfn.XLOOKUP(G30,'2027'!B:B,'2027'!I:I) -> 102.94228 | M30: =L30-K30 -> -0.13973398 | N30: =_xlfn.XLOOKUP(G30,'2026'!B:B,'2026'!L:L) -> 101.58997 | O30: =_xlfn.XLOOKUP(G30,'2027'!B:B,'2027'!L:L) -> 100.65392 | P30: =O30-N30 -> -0.93605452
B31: =_xlfn.XLOOKUP(C31,P:P,G:G) -> Faxe | C31: =LARGE(P2:P99,6) -> 0.97703409 | G31: Roskilde | H31: =_xlfn.XLOOKUP(G31,'2026'!B:B,'2026'!E:E) -> 101.07834 | I31: =_xlfn.XLOOKUP(G31,'2027'!B:B,'2027'!E:E) -> 101.08911 | J31: =I31-H31 -> 0.010772862 | K31: =_xlfn.XLOOKUP(G31,'2026'!B:B,'2026'!I:I) -> 76.528106 | L31: =_xlfn.XLOOKUP(G31,'2027'!B:B,'2027'!I:I) -> 75.911589 | M31: =L31-K31 -> -0.61651656 | N31: =_xlfn.XLOOKUP(G31,'2026'!B:B,'2026'!L:L) -> 92.976593 | O31: =_xlfn.XLOOKUP(G31,'2027'!B:B,'2027'!L:L) -> 92.781446 | P31: =O31-N31 -> -0.19514674
B32: =_xlfn.XLOOKUP(C32,P:P,G:G) -> Vejle | C32: =LARGE(P2:P99,7) -> 0.93419054 | G32: Solrød | H32: =_xlfn.XLOOKUP(G32,'2026'!B:B,'2026'!E:E) -> 103.80585 | I32: =_xlfn.XLOOKUP(G32,'2027'!B:B,'2027'!E:E) -> 104.31746 | J32: =I32-H32 -> 0.51160686 | K32: =_xlfn.XLOOKUP(G32,'2026'!B:B,'2026'!I:I) -> 64.297562 | L32: =_xlfn.XLOOKUP(G32,'2027'!B:B,'2027'!I:I) -> 63.907455 | M32: =L32-K32 -> -0.39010607 | N32: =_xlfn.XLOOKUP(G32,'2026'!B:B,'2026'!L:L) -> 90.76734 | O32: =_xlfn.XLOOKUP(G32,'2027'!B:B,'2027'!L:L) -> 90.982532 | P32: =O32-N32 -> 0.21519205
B33: =_xlfn.XLOOKUP(C33,P:P,G:G) -> Samsø | C33: =LARGE(P2:P99,8) -> 0.91251775 | G33: Gribskov | H33: =_xlfn.XLOOKUP(G33,'2026'!B:B,'2026'!E:E) -> 101.82734 | I33: =_xlfn.XLOOKUP(G33,'2027'!B:B,'2027'!E:E) -> 100.85023 | J33: =I33-H33 -> -0.97710922 | K33: =_xlfn.XLOOKUP(G33,'2026'!B:B,'2026'!I:I) -> 89.658773 | L33: =_xlfn.XLOOKUP(G33,'2027'!B:B,'2027'!I:I) -> 89.275658 | M33: =L33-K33 -> -0.38311496 | N33: =_xlfn.XLOOKUP(G33,'2026'!B:B,'2026'!L:L) -> 97.811636 | O33: =_xlfn.XLOOKUP(G33,'2027'!B:B,'2027'!L:L) -> 97.030648 | P33: =O33-N33 -> -0.78098837
B34: =_xlfn.XLOOKUP(C34,P:P,G:G) -> Ringsted | C34: =LARGE(P2:P99,9) -> 0.88202922 | G34: Odsherred | H34: =_xlfn.XLOOKUP(G34,'2026'!B:B,'2026'!E:E) -> 104.06389 | I34: =_xlfn.XLOOKUP(G34,'2027'!B:B,'2027'!E:E) -> 103.45769 | J34: =I34-H34 -> -0.60619845 | K34: =_xlfn.XLOOKUP(G34,'2026'!B:B,'2026'!I:I) -> 125.43307 | L34: =_xlfn.XLOOKUP(G34,'2027'!B:B,'2027'!I:I) -> 127.49826 | M34: =L34-K34 -> 2.0651867 | N34: =_xlfn.XLOOKUP(G34,'2026'!B:B,'2026'!L:L) -> 111.11507 | O34: =_xlfn.XLOOKUP(G34,'2027'!B:B,'2027'!L:L) -> 111.39142 | P34: =O34-N34 -> 0.27635237
B35: =_xlfn.XLOOKUP(C35,P:P,G:G) -> Vesthimmerland | C35: =LARGE(P2:P99,10) -> 0.85507106 | G35: Holbæk | H35: =_xlfn.XLOOKUP(G35,'2026'!B:B,'2026'!E:E) -> 100.73094 | I35: =_xlfn.XLOOKUP(G35,'2027'!B:B,'2027'!E:E) -> 100.34507 | J35: =I35-H35 -> -0.38586591 | K35: =_xlfn.XLOOKUP(G35,'2026'!B:B,'2026'!I:I) -> 107.57085 | L35: =_xlfn.XLOOKUP(G35,'2027'!B:B,'2027'!I:I) -> 106.70497 | M35: =L35-K35 -> -0.86587306 | N35: =_xlfn.XLOOKUP(G35,'2026'!B:B,'2026'!L:L) -> 102.98827 | O35: =_xlfn.XLOOKUP(G35,'2027'!B:B,'2027'!L:L) -> 102.44393 | P35: =O35-N35 -> -0.54433857
G36: Faxe | H36: =_xlfn.XLOOKUP(G36,'2026'!B:B,'2026'!E:E) -> 99.916396 | I36: =_xlfn.XLOOKUP(G36,'2027'!B:B,'2027'!E:E) -> 99.614593 | J36: =I36-H36 -> -0.30180266 | K36: =_xlfn.XLOOKUP(G36,'2026'!B:B,'2026'!I:I) -> 103.87039 | L36: =_xlfn.XLOOKUP(G36,'2027'!B:B,'2027'!I:I) -> 107.44134 | M36: =L36-K36 -> 3.570944 | N36: =_xlfn.XLOOKUP(G36,'2026'!B:B,'2026'!L:L) -> 101.22136 | O36: =_xlfn.XLOOKUP(G36,'2027'!B:B,'2027'!L:L) -> 102.19839 | P36: =O36-N36 -> 0.97703409
G37: Kalundborg | H37: =_xlfn.XLOOKUP(G37,'2026'!B:B,'2026'!E:E) -> 102.18022 | I37: =_xlfn.XLOOKUP(G37,'2027'!B:B,'2027'!E:E) -> 101.59433 | J37: =I37-H37 -> -0.58588925 | K37: =_xlfn.XLOOKUP(G37,'2026'!B:B,'2026'!I:I) -> 124.70136 | L37: =_xlfn.XLOOKUP(G37,'2027'!B:B,'2027'!I:I) -> 123.71748 | M37: =L37-K37 -> -0.98388084 | N37: =_xlfn.XLOOKUP(G37,'2026'!B:B,'2026'!L:L) -> 109.61234 | O37: =_xlfn.XLOOKUP(G37,'2027'!B:B,'2027'!L:L) -> 108.89533 | P37: =O37-N37 -> -0.71700164
G38: Ringsted | H38: =_xlfn.XLOOKUP(G38,'2026'!B:B,'2026'!E:E) -> 99.514326 | I38: =_xlfn.XLOOKUP(G38,'2027'!B:B,'2027'!E:E) -> 99.769844 | J38: =I38-H38 -> 0.25551735 | K38: =_xlfn.XLOOKUP(G38,'2026'!B:B,'2026'!I:I) -> 105.81261 | L38: =_xlfn.XLOOKUP(G38,'2027'!B:B,'2027'!I:I) -> 107.96294 | M38: =L38-K38 -> 2.1503335 | N38: =_xlfn.XLOOKUP(G38,'2026'!B:B,'2026'!L:L) -> 101.59243 | O38: =_xlfn.XLOOKUP(G38,'2027'!B:B,'2027'!L:L) -> 102.47446 | P38: =O38-N38 -> 0.88202922
G39: Slagelse | H39: =_xlfn.XLOOKUP(G39,'2026'!B:B,'2026'!E:E) -> 99.445944 | I39: =_xlfn.XLOOKUP(G39,'2027'!B:B,'2027'!E:E) -> 99.18971 | J39: =I39-H39 -> -0.25623461 | K39: =_xlfn.XLOOKUP(G39,'2026'!B:B,'2026'!I:I) -> 128.9036 | L39: =_xlfn.XLOOKUP(G39,'2027'!B:B,'2027'!I:I) -> 130.24502 | M39: =L39-K39 -> 1.3414191 | N39: =_xlfn.XLOOKUP(G39,'2026'!B:B,'2026'!L:L) -> 109.16631 | O39: =_xlfn.XLOOKUP(G39,'2027'!B:B,'2027'!L:L) -> 109.43857 | P39: =O39-N39 -> 0.27226276
G40: Stevns | H40: =_xlfn.XLOOKUP(G40,'2026'!B:B,'2026'!E:E) -> 102.03449 | I40: =_xlfn.XLOOKUP(G40,'2027'!B:B,'2027'!E:E) -> 101.24776 | J40: =I40-H40 -> -0.78672522 | K40: =_xlfn.XLOOKUP(G40,'2026'!B:B,'2026'!I:I) -> 95.634868 | L40: =_xlfn.XLOOKUP(G40,'2027'!B:B,'2027'!I:I) -> 95.596668 | M40: =L40-K40 -> -0.03820048 | N40: =_xlfn.XLOOKUP(G40,'2026'!B:B,'2026'!L:L) -> 99.92259 | O40: =_xlfn.XLOOKUP(G40,'2027'!B:B,'2027'!L:L) -> 99.382975 | P40: =O40-N40 -> -0.53961495
G41: Sorø | H41: =_xlfn.XLOOKUP(G41,'2026'!B:B,'2026'!E:E) -> 101.93828 | I41: =_xlfn.XLOOKUP(G41,'2027'!B:B,'2027'!E:E) -> 101.81839 | J41: =I41-H41 -> -0.11988758 | K41: =_xlfn.XLOOKUP(G41,'2026'!B:B,'2026'!I:I) -> 101.64342 | L41: =_xlfn.XLOOKUP(G41,'2027'!B:B,'2027'!I:I) -> 103.73176 | M41: =L41-K41 -> 2.0883347 | N41: =_xlfn.XLOOKUP(G41,'2026'!B:B,'2026'!L:L) -> 101.84063 | O41: =_xlfn.XLOOKUP(G41,'2027'!B:B,'2027'!L:L) -> 102.45029 | P41: =O41-N41 -> 0.60965413
G42: Lejre | H42: =_xlfn.XLOOKUP(G42,'2026'!B:B,'2026'!E:E) -> 103.34506 | I42: =_xlfn.XLOOKUP(G42,'2027'!B:B,'2027'!E:E) -> 103.57747 | J42: =I42-H42 -> 0.23240735 | K42: =_xlfn.XLOOKUP(G42,'2026'!B:B,'2026'!I:I) -> 72.760475 | L42: =_xlfn.XLOOKUP(G42,'2027'!B:B,'2027'!I:I) -> 74.031044 | M42: =L42-K42 -> 1.2705693 | N42: =_xlfn.XLOOKUP(G42,'2026'!B:B,'2026'!L:L) -> 93.251828 | O42: =_xlfn.XLOOKUP(G42,'2027'!B:B,'2027'!L:L) -> 93.827208 | P42: =O42-N42 -> 0.57537988
G43: Lolland | H43: =_xlfn.XLOOKUP(G43,'2026'!B:B,'2026'!E:E) -> 109.1313 | I43: =_xlfn.XLOOKUP(G43,'2027'!B:B,'2027'!E:E) -> 107.29874 | J43: =I43-H43 -> -1.8325591 | K43: =_xlfn.XLOOKUP(G43,'2026'!B:B,'2026'!I:I) -> 162.09137 | L43: =_xlfn.XLOOKUP(G43,'2027'!B:B,'2027'!I:I) -> 161.70349 | M43: =L43-K43 -> -0.3878843 | N43: =_xlfn.XLOOKUP(G43,'2026'!B:B,'2026'!L:L) -> 126.6081 | O43: =_xlfn.XLOOKUP(G43,'2027'!B:B,'2027'!L:L) -> 125.25349 | P43: =O43-N43 -> -1.3546083
G44: Næstved | H44: =_xlfn.XLOOKUP(G44,'2026'!B:B,'2026'!E:E) -> 100.06906 | I44: =_xlfn.XLOOKUP(G44,'2027'!B:B,'2027'!E:E) -> 99.780944 | J44: =I44-H44 -> -0.28811513 | K44: =_xlfn.XLOOKUP(G44,'2026'!B:B,'2026'!I:I) -> 109.74412 | L44: =_xlfn.XLOOKUP(G44,'2027'!B:B,'2027'!I:I) -> 109.78537 | M44: =L44-K44 -> 0.04125575 | N44: =_xlfn.XLOOKUP(G44,'2026'!B:B,'2026'!L:L) -> 103.26104 | O44: =_xlfn.XLOOKUP(G44,'2027'!B:B,'2027'!L:L) -> 103.08258 | P44: =O44-N44 -> -0.17846364
G45: Guldborgsund | H45: =_xlfn.XLOOKUP(G45,'2026'!B:B,'2026'!E:E) -> 104.06148 | I45: =_xlfn.XLOOKUP(G45,'2027'!B:B,'2027'!E:E) -> 103.25378 | J45: =I45-H45 -> -0.80769648 | K45: =_xlfn.XLOOKUP(G45,'2026'!B:B,'2026'!I:I) -> 132.3227 | L45: =_xlfn.XLOOKUP(G45,'2027'!B:B,'2027'!I:I) -> 132.83594 | M45: =L45-K45 -> 0.5132347 | N45: =_xlfn.XLOOKUP(G45,'2026'!B:B,'2026'!L:L) -> 113.38699 | O45: =_xlfn.XLOOKUP(G45,'2027'!B:B,'2027'!L:L) -> 113.01604 | P45: =O45-N45 -> -0.37094513
G46: Vordingborg | H46: =_xlfn.XLOOKUP(G46,'2026'!B:B,'2026'!E:E) -> 103.33922 | I46: =_xlfn.XLOOKUP(G46,'2027'!B:B,'2027'!E:E) -> 102.47559 | J46: =I46-H46 -> -0.8636247 | K46: =_xlfn.XLOOKUP(G46,'2026'!B:B,'2026'!I:I) -> 118.36731 | L46: =_xlfn.XLOOKUP(G46,'2027'!B:B,'2027'!I:I) -> 119.23928 | M46: =L46-K46 -> 0.87196101 | N46: =_xlfn.XLOOKUP(G46,'2026'!B:B,'2026'!L:L) -> 108.2976 | O46: =_xlfn.XLOOKUP(G46,'2027'!B:B,'2027'!L:L) -> 108.0086 | P46: =O46-N46 -> -0.28899766
G47: Bornholm | H47: =_xlfn.XLOOKUP(G47,'2026'!B:B,'2026'!E:E) -> 104.05005 | I47: =_xlfn.XLOOKUP(G47,'2027'!B:B,'2027'!E:E) -> 103.91073 | J47: =I47-H47 -> -0.13932207 | K47: =_xlfn.XLOOKUP(G47,'2026'!B:B,'2026'!I:I) -> 108.13406 | L47: =_xlfn.XLOOKUP(G47,'2027'!B:B,'2027'!I:I) -> 107.45501 | M47: =L47-K47 -> -0.679055 | N47: =_xlfn.XLOOKUP(G47,'2026'!B:B,'2026'!L:L) -> 105.3978 | O47: =_xlfn.XLOOKUP(G47,'2027'!B:B,'2027'!L:L) -> 105.08123 | P47: =O47-N47 -> -0.31656958
... G100: Hele landet | H100: =_xlfn.XLOOKUP(G100,'2026'!B:B,'2026'!E:E) -> 100 | I100: =_xlfn.XLOOKUP(G100,'2027'!B:B,'2027'!E:E) -> 100 | J100: =I100-H100 -> 0 | K100: =_xlfn.XLOOKUP(G100,'2026'!B:B,'2026'!I:I) -> 100 | L100: =_xlfn.XLOOKUP(G100,'2027'!B:B,'2027'!I:I) -> 100 | M100: =L100-K100 -> 0 | N100: =_xlfn.XLOOKUP(G100,'2026'!B:B,'2026'!L:L) -> 100 | O100: =_xlfn.XLOOKUP(G100,'2027'!B:B,'2027'!L:L) -> 100 | P100: =O100-N100 -> 0

Sheet 2027
A1: Kommune | B1: Kommune | C1: Alders- bestemte udgifts- behov (1.000 kr.) | D1: Aldersbestemt udgiftsbehov pr. indbygger | E1: Aldersbestemt udgiftsbehov indeks | F1: Samlet folketal | G1: Socio- økono- miske udgifts- behov (1.000 kr.) | H1: Socioøkonomisk udgiftsbehov pr. indbygger | I1: Socioøkonomisk indeks | J1: Udgifts- behov i alt (1.000 kr.) | K1: Udgifts- behov pr. ind- bygger (kroner) | L1: Udgiftsbehov indeks 2027
A2: 101 København | B2: =INDEX(_xlfn.TEXTSPLIT(A2," "),1,2) -> København | C2: 32624990 | D2: =C2*1000/F2 -> 48092.074 | E2: =D2/D$100*100 -> 91.318208 | F2: 678386 | G2: 17396943 | H2: =G2*1000/F2 -> 25644.608 | I2: =H2/H$100*100 -> 98.864597 | J2: 50021934 | K2: 73737 | L2: =K2/K$100*100 -> 93.809397
A3: 147 Frederiksberg | B3: =INDEX(_xlfn.TEXTSPLIT(A3," "),1,2) -> Frederiksberg | C3: 5311245 | D3: =C3*1000/F3 -> 49839.491 | E3: =D3/D$100*100 -> 94.636238 | F3: 106567 | G3: 1943997 | H3: =G3*1000/F3 -> 18242.017 | I3: =H3/H$100*100 -> 70.32627 | J3: 7255241 | K3: 68082 | L3: =K3/K$100*100 -> 86.615015
A4: 151 Ballerup | B4: =INDEX(_xlfn.TEXTSPLIT(A4," "),1,2) -> Ballerup | C4: 2959494 | D4: =C4*1000/F4 -> 53899.14 | E4: =D4/D$100*100 -> 102.34478 | F4: 54908 | G4: 1753433 | H4: =G4*1000/F4 -> 31934.017 | I4: =H4/H$100*100 -> 123.1114 | J4: 4712927 | K4: 85833 | L4: =K4/K$100*100 -> 109.19812
A5: 153 Brøndby | B5: =INDEX(_xlfn.TEXTSPLIT(A5," "),1,2) -> Brøndby | C5: 2199764 | D5: =C5*1000/F5 -> 52263.34 | E5: =D5/D$100*100 -> 99.238693 | F5: 42090 | G5: 1719575 | H5: =G5*1000/F5 -> 40854.716 | I5: =H5/H$100*100 -> 157.50231 | J5: 3919339 | K5: 93118 | L5: =K5/K$100*100 -> 118.46622
A6: 155 Dragør | B6: =INDEX(_xlfn.TEXTSPLIT(A6," "),1,2) -> Dragør | C6: 813712 | D6: =C6*1000/F6 -> 56578.501 | E6: =D6/D$100*100 -> 107.43241 | F6: 14382 | G6: 227461 | H6: =G6*1000/F6 -> 15815.672 | I6: =H6/H$100*100 -> 60.972274 | J6: 1041172 | K6: 72394 | L6: =K6/K$100*100 -> 92.10081
A7: 157 Gentofte | B7: =INDEX(_xlfn.TEXTSPLIT(A7," "),1,2) -> Gentofte | C7: 4089768 | D7: =C7*1000/F7 -> 54493.911 | E7: =D7/D$100*100 -> 103.47415 | F7: 75050 | G7: 1232110 | H7: =G7*1000/F7 -> 16417.189 | I7: =H7/H$100*100 -> 63.291228 | J7: 5321879 | K7: 70911 | L7: =K7/K$100*100 -> 90.214114
A8: 159 Gladsaxe | B8: =INDEX(_xlfn.TEXTSPLIT(A8," "),1,2) -> Gladsaxe | C8: 3807012 | D8: =C8*1000/F8 -> 53137.162 | E8: =D8/D$100*100 -> 100.89792 | F8: 71645 | G8: 1964362 | H8: =G8*1000/F8 -> 27417.991 | I8: =H8/H$100*100 -> 105.70131 | J8: 5771374 | K8: 80555 | L8: =K8/K$100*100 -> 102.48337
A9: 161 Glostrup | B9: =INDEX(_xlfn.TEXTSPLIT(A9," "),1,2) -> Glostrup | C9: 1368730 | D9: =C9*1000/F9 -> 52247.586 | E9: =D9/D$100*100 -> 99.208778 | F9: 26197 | G9: 803025 | H9: =G9*1000/F9 -> 30653.319 | I9: =H9/H$100*100 -> 118.17408 | J9: 2171755 | K9: 82901 | L9: =K9/K$100*100 -> 105.46798
A10: 163 Herlev | B10: =INDEX(_xlfn.TEXTSPLIT(A10," "),1,2) -> Herlev | C10: 1738021 | D10: =C10*1000/F10 -> 53223.733 | E10: =D10/D$100*100 -> 101.06231 | F10: 32655 | G10: 1014556 | H10: =G10*1000/F10 -> 31068.933 | I10: =H10/H$100*100 -> 119.77635 | J10: 2752576 | K10: 84293 | L10: =K10/K$100*100 -> 107.23891
A11: 165 Albertslund | B11: =INDEX(_xlfn.TEXTSPLIT(A11," "),1,2) -> Albertslund | C11: 1578040 | D11: =C11*1000/F11 -> 53472.942 | E11: =D11/D$100*100 -> 101.53551 | F11: 29511 | G11: 1109746 | H11: =G11*1000/F11 -> 37604.486 | I11: =H11/H$100*100 -> 144.97209 | J11: 2687786 | K11: 91077 | L11: =K11/K$100*100 -> 115.86962
A12: 167 Hvidovre | B12: =INDEX(_xlfn.TEXTSPLIT(A12," "),1,2) -> Hvidovre | C12: 2930049 | D12: =C12*1000/F12 -> 53748.56 | E12: =D12/D$100*100 -> 102.05886 | F12: 54514 | G12: 1625831 | H12: =G12*1000/F12 -> 29824.1 | I12: =H12/H$100*100 -> 114.97729 | J12: 4555880 | K12: 83573 | L12: =K12/K$100*100 -> 106.32291
A13: 169 Høje-Taastrup | B13: =INDEX(_xlfn.TEXTSPLIT(A13," "),1,2) -> Høje-Taastrup | C13: 3224095 | D13: =C13*1000/F13 -> 52131.019 | E13: =D13/D$100*100 -> 98.987439 | F13: 61846 | G13: 1881950 | H13: =G13*1000/F13 -> 30429.615 | I13: =H13/H$100*100 -> 117.31167 | J13: 5106045 | K13: 82561 | L13: =K13/K$100*100 -> 105.03543
... A99: 860 Hjørring | B99: =INDEX(_xlfn.TEXTSPLIT(A99," "),1,2) -> Hjørring | C99: 3451879 | D99: =C99*1000/F99 -> 55000.382 | E99: =D99/D$100*100 -> 104.43584 | F99: 62761 | G99: 1704981 | H99: =G99*1000/F99 -> 27166.25 | I99: =H99/H$100*100 -> 104.7308 | J99: 5156860 | K99: 82167 | L99: =K99/K$100*100 -> 104.53418
A100: HELE LANDET | B100: Hele landet | C100: 319115975 | D100: =C100*1000/F100 -> 52664.277 | E100: =D100/D$100*100 -> 100 | F100: 6059439 | G100: 157176525 | H100: =G100*1000/F100 -> 25939.122 | I100: =H100/H$100*100 -> 100 | J100: 476292500 | K100: 78603 | L100: =K100/K$100*100 -> 100

Sheet 2026
A1: Kommune | B1: Kommune | C1: Alders- bestemte udgifts- behov (1.000 kr.) | D1: Aldersbestemt udgiftsbehov pr. indbygger | E1: Aldersbestemt udgiftsbehov indeks | F1: Samlet folketal | G1: Socio- økono- miske udgifts- behov (1.000 kr.) | H1: Socioøkonomisk udgiftsbehov pr. indbygger | I1: Socioøkonomisk indeks | J1: Udgifts- behov i alt (1.000 kr.) | K1: Udgifts- behov pr. ind- bygger (kroner) | L1: Udgiftsbehov indeks 2026
A2: 101 København | B2: =INDEX(_xlfn.TEXTSPLIT(A2," "),1,2) -> København | C2: 33139517 | D2: =C2*1000/F2 -> 49264.833 | E2: =D2/D$100*100 -> 90.348155 | F2: 672681 | G2: 18413485 | H2: =G2*1000/F2 -> 27373.279 | I2: =H2/H$100*100 -> 101.92248 | J2: 51553002 | K2: 76638 | L2: =K2/K$100*100 -> 94.16723
A3: 147 Frederiksberg | B3: =INDEX(_xlfn.TEXTSPLIT(A3," "),1,2) -> Frederiksberg | C3: 5465906 | D3: =C3*1000/F3 -> 51614.331 | E3: =D3/D$100*100 -> 94.656964 | F3: 105899 | G3: 2059961 | H3: =G3*1000/F3 -> 19452.129 | I3: =H3/H$100*100 -> 72.428631 | J3: 7525866 | K3: 71066 | L3: =K3/K$100*100 -> 87.320759
A4: 151 Ballerup | B4: =INDEX(_xlfn.TEXTSPLIT(A4," "),1,2) -> Ballerup | C4: 2983189 | D4: =C4*1000/F4 -> 55654.435 | E4: =D4/D$100*100 -> 102.06622 | F4: 53602 | G4: 1788904 | H4: =G4*1000/F4 -> 33373.829 | I4: =H4/H$100*100 -> 124.2651 | J4: 4772093 | K4: 89028 | L4: =K4/K$100*100 -> 109.39117
A5: 153 Brøndby | B5: =INDEX(_xlfn.TEXTSPLIT(A5," "),1,2) -> Brøndby | C5: 2231141 | D5: =C5*1000/F5 -> 54011.015 | E5: =D5/D$100*100 -> 99.05231 | F5: 41309 | G5: 1768059 | H5: =G5*1000/F5 -> 42800.818 | I5: =H5/H$100*100 -> 159.36583 | J5: 3999200 | K5: 96812 | L5: =K5/K$100*100 -> 118.95558
A6: 155 Dragør | B6: =INDEX(_xlfn.TEXTSPLIT(A6," "),1,2) -> Dragør | C6: 846489 | D6: =C6*1000/F6 -> 58890.288 | E6: =D6/D$100*100 -> 108.00055 | F6: 14374 | G6: 244132 | H6: =G6*1000/F6 -> 16984.277 | I6: =H6/H$100*100 -> 63.239759 | J6: 1090621 | K6: 75875 | L6: =K6/K$100*100 -> 93.229711
A7: 157 Gentofte | B7: =INDEX(_xlfn.TEXTSPLIT(A7," "),1,2) -> Gentofte | C7: 4234489 | D7: =C7*1000/F7 -> 56537.498 | E7: =D7/D$100*100 -> 103.6857 | F7: 74897 | G7: 1290828 | H7: =G7*1000/F7 -> 17234.709 | I7: =H7/H$100*100 -> 64.172224 | J7: 5525318 | K7: 73772 | L7: =K7/K$100*100 -> 90.645696
A8: 159 Gladsaxe | B8: =INDEX(_xlfn.TEXTSPLIT(A8," "),1,2) -> Gladsaxe | C8: 3905305 | D8: =C8*1000/F8 -> 54804.376 | E8: =D8/D$100*100 -> 100.50728 | F8: 71259 | G8: 2017343 | H8: =G8*1000/F8 -> 28310.01 | I8: =H8/H$100*100 -> 105.41033 | J8: 5922647 | K8: 83114 | L8: =K8/K$100*100 -> 102.12447
A9: 161 Glostrup | B9: =INDEX(_xlfn.TEXTSPLIT(A9," "),1,2) -> Glostrup | C9: 1357303 | D9: =C9*1000/F9 -> 54142.686 | E9: =D9/D$100*100 -> 99.293786 | F9: 25069 | G9: 798337 | H9: =G9*1000/F9 -> 31845.586 | I9: =H9/H$100*100 -> 118.5748 | J9: 2155640 | K9: 85988 | L9: =K9/K$100*100 -> 105.65583
A10: 163 Herlev | B10: =INDEX(_xlfn.TEXTSPLIT(A10," "),1,2) -> Herlev | C10: 1718678 | D10: =C10*1000/F10 -> 55257.628 | E10: =D10/D$100*100 -> 101.33851 | F10: 31103 | G10: 1015737 | H10: =G10*1000/F10 -> 32657.203 | I10: =H10/H$100*100 -> 121.59679 | J10: 2734415 | K10: 87915 | L10: =K10/K$100*100 -> 108.02359
A11: 165 Albertslund | B11: =INDEX(_xlfn.TEXTSPLIT(A11," "),1,2) -> Albertslund | C11: 1575129 | D11: =C11*1000/F11 -> 55853.658 | E11: =D11/D$100*100 -> 102.43158 | F11: 28201 | G11: 1134909 | H11: =G11*1000/F11 -> 40243.573 | I11: =H11/H$100*100 -> 149.84411 | J11: 2710039 | K11: 96097 | L11: =K11/K$100*100 -> 118.07704
A12: 167 Hvidovre | B12: =INDEX(_xlfn.TEXTSPLIT(A12," "),1,2) -> Hvidovre | C12: 2983629 | D12: =C12*1000/F12 -> 55363.115 | E12: =D12/D$100*100 -> 101.53197 | F12: 53892 | G12: 1699642 | H12: =G12*1000/F12 -> 31537.928 | I12: =H12/H$100*100 -> 117.42925 | J12: 4683271 | K12: 86901 | L12: =K12/K$100*100 -> 106.77766
A13: 169 Høje-Taastrup | B13: =INDEX(_xlfn.TEXTSPLIT(A13," "),1,2) -> Høje-Taastrup | C13: 3234130 | D13: =C13*1000/F13 -> 53658.913 | E13: =D13/D$100*100 -> 98.406581 | F13: 60272 | G13: 1926882 | H13: =G13*1000/F13 -> 31969.77 | I13: =H13/H$100*100 -> 119.03719 | J13: 5161012 | K13: 85629 | L13: =K13/K$100*100 -> 105.21472
... A99: 860 Hjørring | B99: =INDEX(_xlfn.TEXTSPLIT(A99," "),1,2) -> Hjørring | C99: 3620997 | D99: =C99*1000/F99 -> 57428.741 | E99: =D99/D$100*100 -> 105.32017 | F99: 63052 | G99: 1761903 | H99: =G99*1000/F99 -> 27943.65 | I99: =H99/H$100*100 -> 104.04621 | J99: 5382900 | K99: 85372 | L99: =K99/K$100*100 -> 104.89894
A100: HELE LANDET | B100: Hele landet | C100: 328278761 | D100: =C100*1000/F100 -> 54527.769 | E100: =D100/D$100*100 -> 100 | F100: 6020396 | G100: 161689539 | H100: =G100*1000/F100 -> 26856.961 | I100: =H100/H$100*100 -> 100 | J100: 489968300 | K100: 81385 | L100: =K100/K$100*100 -> 100
