Workbook
Name qwd: '[2]Makro mv.'!$B$10
Name aar: '[1]Makro mv.'!$B$10

Sheet Udklip
A1: Kommune | B1: Rang før udligning | C1: Rang efter udligning | D1: Bevægelse
A2: Gentofte | B2: =VLOOKUP(A2,Analyse!$A$1:$M$99,8,FALSE) -> 1 | C2: =VLOOKUP(A2,Analyse!$A$1:$M$99,12,FALSE) -> 3 | D2: =B2-C2 -> -2
A3: Rudersdal | B3: =VLOOKUP(A3,Analyse!$A$1:$M$99,8,FALSE) -> 2 | C3: =VLOOKUP(A3,Analyse!$A$1:$M$99,12,FALSE) -> 5 | D3: =B3-C3 -> -3
A4: Hørsholm | B4: =VLOOKUP(A4,Analyse!$A$1:$M$99,8,FALSE) -> 3 | C4: =VLOOKUP(A4,Analyse!$A$1:$M$99,12,FALSE) -> 6 | D4: =B4-C4 -> -3
A5: Lyngby-Taarbæk | B5: =VLOOKUP(A5,Analyse!$A$1:$M$99,8,FALSE) -> 4 | C5: =VLOOKUP(A5,Analyse!$A$1:$M$99,12,FALSE) -> 7 | D5: =B5-C5 -> -3
A6: Gladsaxe | B6: =VLOOKUP(A6,Analyse!$A$1:$M$99,8,FALSE) -> 5 | C6: =VLOOKUP(A6,Analyse!$A$1:$M$99,12,FALSE) -> 1 | D6: =B6-C6 -> 4
A7: Dragør | B7: =VLOOKUP(A7,Analyse!$A$1:$M$99,8,FALSE) -> 6 | C7: =VLOOKUP(A7,Analyse!$A$1:$M$99,12,FALSE) -> 20 | D7: =B7-C7 -> -14
A8: Furesø | B8: =VLOOKUP(A8,Analyse!$A$1:$M$99,8,FALSE) -> 7 | C8: =VLOOKUP(A8,Analyse!$A$1:$M$99,12,FALSE) -> 15 | D8: =B8-C8 -> -8
A9: Allerød | B9: =VLOOKUP(A9,Analyse!$A$1:$M$99,8,FALSE) -> 8 | C9: =VLOOKUP(A9,Analyse!$A$1:$M$99,12,FALSE) -> 12 | D9: =B9-C9 -> -4
A10: Frederiksberg | B10: =VLOOKUP(A10,Analyse!$A$1:$M$99,8,FALSE) -> 10 | C10: =VLOOKUP(A10,Analyse!$A$1:$M$99,12,FALSE) -> 18 | D10: =B10-C10 -> -8
A11: Hillerød | B11: =VLOOKUP(A11,Analyse!$A$1:$M$99,8,FALSE) -> 9 | C11: =VLOOKUP(A11,Analyse!$A$1:$M$99,12,FALSE) -> 10 | D11: =B11-C11 -> -1
A12: Billund | B12: =VLOOKUP(A12,Analyse!$A$1:$M$99,8,FALSE) -> 11 | C12: =VLOOKUP(A12,Analyse!$A$1:$M$99,12,FALSE) -> 4 | D12: =B12-C12 -> 7
A13: Ballerup | B13: =VLOOKUP(A13,Analyse!$A$1:$M$99,8,FALSE) -> 12 | C13: =VLOOKUP(A13,Analyse!$A$1:$M$99,12,FALSE) -> 2 | D13: =B13-C13 -> 10
... A99: Ishøj | B99: =VLOOKUP(A99,Analyse!$A$1:$M$99,8,FALSE) -> 96 | C99: =VLOOKUP(A99,Analyse!$A$1:$M$99,12,FALSE) -> 8 | D99: =B99-C99 -> 88

Sheet Analyse
A1: Kommune | B1: Beskatningsgrundlag | C1: Selskabsskat | D1: Dækningsafgift offentlig | E1: Dækningsafgift privat | F1: Samlet 1 | G1: Pr. indbygger | H1: Rang før udligning | I1: Tilskud og udligning | J1: Samlet 2 | K1: Pr. indbygger | L1: Rang efter udligning | M1: Kom.type IM
A2: Gladsaxe | B2: =VLOOKUP(A2,Beskatningsgrundlag!$B$18:$N$115,10,FALSE)*0.2505 -> 5137585.7 | C2: =VLOOKUP(A2,selskabsskat!$B$1:$C$99,2,FALSE) -> 1540436 | D2: =VLOOKUP(A2,dækningsafgift!$B$1:$C$99,2,FALSE) -> 2506 | E2: =VLOOKUP(A2,BUDKC!$C$5:$D$103,2,FALSE)*-1*1.026 -> 70721.154 | F2: =SUM(B2:E2) -> 6751248.8 | G2: =F2/VLOOKUP(A2,Beskatningsgrundlag!$B$18:$N$115,12,FALSE)*1000 -> 94231.961 | H2: 5 | I2: =VLOOKUP(A2,'Tilskud og udligning'!$B$18:$BD$115,55,FALSE) -> -411480 | J2: =I2+F2 -> 6339768.8 | K2: =J2/VLOOKUP(A2,Beskatningsgrundlag!$B$18:$N$115,12,FALSE)*1000 -> 88488.643 | L2: 1 | M2: =VLOOKUP(A2,Kommunetyper!$A$1:$C$99,3,FALSE) -> bykommune
A3: Ballerup | B3: =VLOOKUP(A3,Beskatningsgrundlag!$B$18:$N$115,10,FALSE)*0.2505 -> 3546237.3 | C3: =VLOOKUP(A3,selskabsskat!$B$1:$C$99,2,FALSE) -> 799966 | D3: =VLOOKUP(A3,dækningsafgift!$B$1:$C$99,2,FALSE) -> 8434 | E3: =VLOOKUP(A3,BUDKC!$C$5:$D$103,2,FALSE)*-1*1.026 -> 143145.47 | F3: =SUM(B3:E3) -> 4497782.8 | G3: =F3/VLOOKUP(A3,Beskatningsgrundlag!$B$18:$N$115,12,FALSE)*1000 -> 81914.89 | H3: 12 | I3: =VLOOKUP(A3,'Tilskud og udligning'!$B$18:$BD$115,55,FALSE) -> 233304 | J3: =I3+F3 -> 4731086.8 | K3: =J3/VLOOKUP(A3,Beskatningsgrundlag!$B$18:$N$115,12,FALSE)*1000 -> 86163.888 | L3: 2 | M3: =VLOOKUP(A3,Kommunetyper!$A$1:$C$99,3,FALSE) -> bykommune
A4: Gentofte | B4: =VLOOKUP(A4,Beskatningsgrundlag!$B$18:$N$115,10,FALSE)*0.2505 -> 9930753.1 | C4: =VLOOKUP(A4,selskabsskat!$B$1:$C$99,2,FALSE) -> 391434 | D4: =VLOOKUP(A4,dækningsafgift!$B$1:$C$99,2,FALSE) -> 7468 | E4: =VLOOKUP(A4,BUDKC!$C$5:$D$103,2,FALSE)*-1*1.026 -> 95573.952 | F4: =SUM(B4:E4) -> 10425229 | G4: =F4/VLOOKUP(A4,Beskatningsgrundlag!$B$18:$N$115,12,FALSE)*1000 -> 138910.45 | H4: 1 | I4: =VLOOKUP(A4,'Tilskud og udligning'!$B$18:$BD$115,55,FALSE) -> -3965640 | J4: =I4+F4 -> 6459589.1 | K4: =J4/VLOOKUP(A4,Beskatningsgrundlag!$B$18:$N$115,12,FALSE)*1000 -> 86070.474 | L4: 3 | M4: =VLOOKUP(A4,Kommunetyper!$A$1:$C$99,3,FALSE) -> bykommune
A5: Billund | B5: =VLOOKUP(A5,Beskatningsgrundlag!$B$18:$N$115,10,FALSE)*0.2505 -> 1667714.8 | C5: =VLOOKUP(A5,selskabsskat!$B$1:$C$99,2,FALSE) -> 608159 | D5: =VLOOKUP(A5,dækningsafgift!$B$1:$C$99,2,FALSE) -> 1129 | E5: =VLOOKUP(A5,BUDKC!$C$5:$D$103,2,FALSE)*-1*1.026 -> 0 | F5: =SUM(B5:E5) -> 2277002.8 | G5: =F5/VLOOKUP(A5,Beskatningsgrundlag!$B$18:$N$115,12,FALSE)*1000 -> 83421.974 | H5: 11 | I5: =VLOOKUP(A5,'Tilskud og udligning'!$B$18:$BD$115,55,FALSE) -> 68604 | J5: =I5+F5 -> 2345606.8 | K5: =J5/VLOOKUP(A5,Beskatningsgrundlag!$B$18:$N$115,12,FALSE)*1000 -> 85935.401 | L5: 4 | M5: =VLOOKUP(A5,Kommunetyper!$A$1:$C$99,3,FALSE) -> mellemkommune
A6: Rudersdal | B6: =VLOOKUP(A6,Beskatningsgrundlag!$B$18:$N$115,10,FALSE)*0.2505 -> 6677505.9 | C6: =VLOOKUP(A6,selskabsskat!$B$1:$C$99,2,FALSE) -> 168637 | D6: =VLOOKUP(A6,dækningsafgift!$B$1:$C$99,2,FALSE) -> 2097 | E6: =VLOOKUP(A6,BUDKC!$C$5:$D$103,2,FALSE)*-1*1.026 -> 63728.964 | F6: =SUM(B6:E6) -> 6911968.8 | G6: =F6/VLOOKUP(A6,Beskatningsgrundlag!$B$18:$N$115,12,FALSE)*1000 -> 119449.91 | H6: 2 | I6: =VLOOKUP(A6,'Tilskud og udligning'!$B$18:$BD$115,55,FALSE) -> -2041224 | J6: =I6+F6 -> 4870744.8 | K6: =J6/VLOOKUP(A6,Beskatningsgrundlag!$B$18:$N$115,12,FALSE)*1000 -> 84174.282 | L6: 5 | M6: =VLOOKUP(A6,Kommunetyper!$A$1:$C$99,3,FALSE) -> mindre bykommune
A7: Hørsholm | B7: =VLOOKUP(A7,Beskatningsgrundlag!$B$18:$N$115,10,FALSE)*0.2505 -> 2744768.6 | C7: =VLOOKUP(A7,selskabsskat!$B$1:$C$99,2,FALSE) -> 127081 | D7: =VLOOKUP(A7,dækningsafgift!$B$1:$C$99,2,FALSE) -> 1549 | E7: =VLOOKUP(A7,BUDKC!$C$5:$D$103,2,FALSE)*-1*1.026 -> 27191.052 | F7: =SUM(B7:E7) -> 2900589.6 | G7: =F7/VLOOKUP(A7,Beskatningsgrundlag!$B$18:$N$115,12,FALSE)*1000 -> 114182.96 | H7: 3 | I7: =VLOOKUP(A7,'Tilskud og udligning'!$B$18:$BD$115,55,FALSE) -> -763068 | J7: =I7+F7 -> 2137521.6 | K7: =J7/VLOOKUP(A7,Beskatningsgrundlag!$B$18:$N$115,12,FALSE)*1000 -> 84144.457 | L7: 6 | M7: =VLOOKUP(A7,Kommunetyper!$A$1:$C$99,3,FALSE) -> mindre bykommune
A8: Lyngby-Taarbæk | B8: =VLOOKUP(A8,Beskatningsgrundlag!$B$18:$N$115,10,FALSE)*0.2505 -> 5723954.8 | C8: =VLOOKUP(A8,selskabsskat!$B$1:$C$99,2,FALSE) -> 310156 | D8: =VLOOKUP(A8,dækningsafgift!$B$1:$C$99,2,FALSE) -> 4065 | E8: =VLOOKUP(A8,BUDKC!$C$5:$D$103,2,FALSE)*-1*1.026 -> 94395.078 | F8: =SUM(B8:E8) -> 6132570.9 | G8: =F8/VLOOKUP(A8,Beskatningsgrundlag!$B$18:$N$115,12,FALSE)*1000 -> 104288.33 | H8: 4 | I8: =VLOOKUP(A8,'Tilskud og udligning'!$B$18:$BD$115,55,FALSE) -> -1201176 | J8: =I8+F8 -> 4931394.9 | K8: =J8/VLOOKUP(A8,Beskatningsgrundlag!$B$18:$N$115,12,FALSE)*1000 -> 83861.555 | L8: 7 | M8: =VLOOKUP(A8,Kommunetyper!$A$1:$C$99,3,FALSE) -> bykommune
A9: Ishøj | B9: =VLOOKUP(A9,Beskatningsgrundlag!$B$18:$N$115,10,FALSE)*0.2505 -> 1315454.4 | C9: =VLOOKUP(A9,selskabsskat!$B$1:$C$99,2,FALSE) -> 24974 | D9: =VLOOKUP(A9,dækningsafgift!$B$1:$C$99,2,FALSE) -> 1384 | E9: =VLOOKUP(A9,BUDKC!$C$5:$D$103,2,FALSE)*-1*1.026 -> 37754.748 | F9: =SUM(B9:E9) -> 1379567.2 | G9: =F9/VLOOKUP(A9,Beskatningsgrundlag!$B$18:$N$115,12,FALSE)*1000 -> 55218.026 | H9: 96 | I9: =VLOOKUP(A9,'Tilskud og udligning'!$B$18:$BD$115,55,FALSE) -> 697716 | J9: =I9+F9 -> 2077283.2 | K9: =J9/VLOOKUP(A9,Beskatningsgrundlag!$B$18:$N$115,12,FALSE)*1000 -> 83144.539 | L9: 8 | M9: =VLOOKUP(A9,Kommunetyper!$A$1:$C$99,3,FALSE) -> bykommune
A10: Brøndby | B10: =VLOOKUP(A10,Beskatningsgrundlag!$B$18:$N$115,10,FALSE)*0.2505 -> 2251374 | C10: =VLOOKUP(A10,selskabsskat!$B$1:$C$99,2,FALSE) -> 174540 | D10: =VLOOKUP(A10,dækningsafgift!$B$1:$C$99,2,FALSE) -> 3768 | E10: =VLOOKUP(A10,BUDKC!$C$5:$D$103,2,FALSE)*-1*1.026 -> 112146.93 | F10: =SUM(B10:E10) -> 2541828.9 | G10: =F10/VLOOKUP(A10,Beskatningsgrundlag!$B$18:$N$115,12,FALSE)*1000 -> 60390.329 | H10: 64 | I10: =VLOOKUP(A10,'Tilskud og udligning'!$B$18:$BD$115,55,FALSE) -> 926412 | J10: =I10+F10 -> 3468240.9 | K10: =J10/VLOOKUP(A10,Beskatningsgrundlag!$B$18:$N$115,12,FALSE)*1000 -> 82400.593 | L10: 9 | M10: =VLOOKUP(A10,Kommunetyper!$A$1:$C$99,3,FALSE) -> bykommune
A11: Hillerød | B11: =VLOOKUP(A11,Beskatningsgrundlag!$B$18:$N$115,10,FALSE)*0.2505 -> 4125432.4 | C11: =VLOOKUP(A11,selskabsskat!$B$1:$C$99,2,FALSE) -> 511202 | D11: =VLOOKUP(A11,dækningsafgift!$B$1:$C$99,2,FALSE) -> 8064 | E11: =VLOOKUP(A11,BUDKC!$C$5:$D$103,2,FALSE)*-1*1.026 -> 42029.064 | F11: =SUM(B11:E11) -> 4686727.5 | G11: =F11/VLOOKUP(A11,Beskatningsgrundlag!$B$18:$N$115,12,FALSE)*1000 -> 84243.659 | H11: 9 | I11: =VLOOKUP(A11,'Tilskud og udligning'!$B$18:$BD$115,55,FALSE) -> -122604 | J11: =I11+F11 -> 4564123.5 | K11: =J11/VLOOKUP(A11,Beskatningsgrundlag!$B$18:$N$115,12,FALSE)*1000 -> 82039.859 | L11: 10 | M11: =VLOOKUP(A11,Kommunetyper!$A$1:$C$99,3,FALSE) -> mindre bykommune
A12: Kalundborg | B12: =VLOOKUP(A12,Beskatningsgrundlag!$B$18:$N$115,10,FALSE)*0.2505 -> 3104994.6 | C12: =VLOOKUP(A12,selskabsskat!$B$1:$C$99,2,FALSE) -> 552555 | D12: =VLOOKUP(A12,dækningsafgift!$B$1:$C$99,2,FALSE) -> 404 | E12: =VLOOKUP(A12,BUDKC!$C$5:$D$103,2,FALSE)*-1*1.026 -> 0 | F12: =SUM(B12:E12) -> 3657953.6 | G12: =F12/VLOOKUP(A12,Beskatningsgrundlag!$B$18:$N$115,12,FALSE)*1000 -> 76467.036 | H12: 15 | I12: =VLOOKUP(A12,'Tilskud og udligning'!$B$18:$BD$115,55,FALSE) -> 249816 | J12: =I12+F12 -> 3907769.6 | K12: =J12/VLOOKUP(A12,Beskatningsgrundlag!$B$18:$N$115,12,FALSE)*1000 -> 81689.27 | L12: 11 | M12: =VLOOKUP(A12,Kommunetyper!$A$1:$C$99,3,FALSE) -> yderkommune
A13: Allerød | B13: =VLOOKUP(A13,Beskatningsgrundlag!$B$18:$N$115,10,FALSE)*0.2505 -> 2224788.4 | C13: =VLOOKUP(A13,selskabsskat!$B$1:$C$99,2,FALSE) -> 90374 | D13: =VLOOKUP(A13,dækningsafgift!$B$1:$C$99,2,FALSE) -> 717 | E13: =VLOOKUP(A13,BUDKC!$C$5:$D$103,2,FALSE)*-1*1.026 -> 34652.124 | F13: =SUM(B13:E13) -> 2350531.6 | G13: =F13/VLOOKUP(A13,Beskatningsgrundlag!$B$18:$N$115,12,FALSE)*1000 -> 88435.666 | H13: 8 | I13: =VLOOKUP(A13,'Tilskud og udligning'!$B$18:$BD$115,55,FALSE) -> -189648 | J13: =I13+F13 -> 2160883.6 | K13: =J13/VLOOKUP(A13,Beskatningsgrundlag!$B$18:$N$115,12,FALSE)*1000 -> 81300.409 | L13: 12 | M13: =VLOOKUP(A13,Kommunetyper!$A$1:$C$99,3,FALSE) -> mindre bykommune
... A99: Odder | B99: =VLOOKUP(A99,Beskatningsgrundlag!$B$18:$N$115,10,FALSE)*0.2505 -> 1505338.7 | C99: =VLOOKUP(A99,selskabsskat!$B$1:$C$99,2,FALSE) -> 12250 | D99: =VLOOKUP(A99,dækningsafgift!$B$1:$C$99,2,FALSE) -> 0 | E99: =VLOOKUP(A99,BUDKC!$C$5:$D$103,2,FALSE)*-1*1.026 -> 0 | F99: =SUM(B99:E99) -> 1517588.7 | G99: =F99/VLOOKUP(A99,Beskatningsgrundlag!$B$18:$N$115,12,FALSE)*1000 -> 61874.207 | H99: 51 | I99: =VLOOKUP(A99,'Tilskud og udligning'!$B$18:$BD$115,55,FALSE) -> 287868 | J99: =I99+F99 -> 1805456.7 | K99: =J99/VLOOKUP(A99,Beskatningsgrundlag!$B$18:$N$115,12,FALSE)*1000 -> 73610.987 | L99: 98 | M99: =VLOOKUP(A99,Kommunetyper!$A$1:$C$99,3,FALSE) -> mellemkommune

Sheet Kommunetyper
A1: Kommune | B1: nr | C1: type
A2: Albertslund | B2: 4 | C2: bykommune
A3: Allerød | B3: 3 | C3: mindre bykommune
A4: Assens | B4: 2 | C4: mellemkommune
A5: Ballerup | B5: 4 | C5: bykommune
A6: Billund | B6: 2 | C6: mellemkommune
A7: Bornholm | B7: 1 | C7: yderkommune
A8: Brøndby | B8: 4 | C8: bykommune
A9: Brønderslev | B9: 2 | C9: mellemkommune
A10: Dragør | B10: 3 | C10: mindre bykommune
A11: Egedal | B11: 3 | C11: mindre bykommune
A12: Esbjerg | B12: 4 | C12: bykommune
A13: Fanø | B13: 2 | C13: mellemkommune
... A99: Aarhus | B99: 4 | C99: bykommune

Sheet Beskatningsgrundlag
A1: ="Bilagstabel 2: Grunddata til statsgaranti "&aar -> Bilagstabel 2: Grunddata til statsgaranti 2026 | G1: lukkes sammen
A3: knr | B3: kommunenavn | C3: Udskriv- | D3: Indkomst- | E3: Udskriv- | F3: Grund- | G3: Grund- | H3: Grund- | I3: Beregnings- | J3: Beregnings- | K3: Beskat- | L3: Udgifts- | M3: Samlet | N3: Udgifts-
C4: nings- | D4: skat | E4: nings- | F4: skylds- | G4: skylds- | H4: skylds- | I4: tekniske | J4: tekniske | K4: nings- | L4: behov | M4: antal | N4: behov
C5: procent | E5: grundlag | F5: promille, | G5: promille, | H5: provenu | I5: grund- | J5: grund- | K5: grundlag | M5: indbyg- | N5: pr.
F6: øvrige | G6: produk- | I6: værdier, | J6: værdier, | M6: gere | N6: indbygger
F7: ejen- | G7: tions- | I7: øvrige | J7: produk- | M7: (IM-
F8: domme | G8: jord | I8: ejen- | J8: tions- | M8: skøn)
I9: domme | J9: jord
F10: Anvendes | G10: Anvendes | H10: Anvendes
F11: ikke | G11: ikke | H11: ikke
F12: i 2024 | G12: i 2024 | H12: i 2024
C14: 1 | D14: =+C14+1 -> 2 | E14: =+D14+1 -> 3 | F14: =+E14+1 -> 4 | G14: =+F14+1 -> 5 | H14: =+G14+1 -> 6 | I14: =+H14+1 -> 7 | J14: =+I14+1 -> 8 | K14: =+J14+1 -> 9 | ... N14: =+M14+1 -> 12
A16: 1 | B16: Kommuner i alt | C16: =100*D16/E16 -> 25.047892 | D16: =SUM(D18:D115) -> 356979967 | E16: =SUM(E18:E115) -> 1425189633 | F16: --- | G16: --- | H16: =SUM(H18:H115) -> 0 | I16: =SUM(I18:I115) -> 1287985607 | J16: =SUM(J18:J115) -> 114009601 | K16: =SUM(K18:K115) -> 1556591795 | L16: =SUM(L18:L115) -> 4.762925e+08 | M16: =SUM(M18:M115) -> 6059439 | N16: =+L16/M16*1000 -> 78603.399
A18: 101 | B18: København | C18: 23.39 | D18: 40165630 | E18: 171721377 | F18: 0 | G18: 0 | H18: 0 | I18: 145600535 | J18: 0 | K18: 186180806 | L18: 50021934 | M18: 678386 | N18: 73736.683
A19: 147 | B19: Frederiksberg | C19: 24.5 | D19: 7964685 | E19: 32508918 | F19: 0 | G19: 0 | H19: 0 | I19: 23746322 | J19: 0 | K19: 34867139 | L19: 7255241.3 | M19: 106567 | N19: 68081.501
A20: 151 | B20: Ballerup | C20: 25.5 | D20: 3182463 | E20: 12480247 | F20: 0 | G20: 0 | H20: 0 | I20: 16877535 | J20: 9762 | K20: 14156636 | L20: 4712927.5 | M20: 54908 | N20: 85833.166
A21: 153 | B21: Brøndby | C21: 24.3 | D21: 1967126 | E21: 8095169 | F21: 0 | G21: 0 | H21: 0 | I21: 8985621 | J21: 0 | K21: 8987521 | L21: 3919339.4 | M21: 42090 | N21: 93118.067
A22: 155 | B22: Dragør | C22: 24.8 | D22: 1085041 | E22: 4375165 | F22: 0 | G22: 0 | H22: 0 | I22: 6974788 | J22: 22557 | K22: 5068515 | L22: 1041172.2 | M22: 14382 | N22: 72394.114
A23: 157 | B23: Gentofte | C23: 24.14 | D23: 8451155 | E23: 35008927 | F23: 0 | G23: 0 | H23: 0 | I23: 46670519 | J23: 0 | K23: 39643725 | L23: 5321878.8 | M23: 75050 | N23: 70911.111
A24: 159 | B24: Gladsaxe | C24: 23.6 | D24: 4280973 | E24: 18139716 | F24: 0 | G24: 0 | H24: 0 | I24: 23860941 | J24: 121 | K24: 20509324 | L24: 5771373.6 | M24: 71645 | N24: 80555.149
A25: 161 | B25: Glostrup | C25: 24.6 | D25: 1396759 | E25: 5677882 | F25: 0 | G25: 0 | H25: 0 | I25: 6891025 | J25: 1284 | K25: 6362261 | L25: 2171755 | M25: 26197 | N25: 82900.903
A26: 163 | B26: Herlev | C26: 23.7 | D26: 1690358 | E26: 7132312 | F26: 0 | G26: 0 | H26: 0 | I26: 8474078 | J26: 4194 | K26: 7973992 | L26: 2752576.2 | M26: 32655 | N26: 84292.643
A27: 165 | B27: Albertslund | C27: 25.6 | D27: 1491167 | E27: 5824871 | F27: 0 | G27: 0 | H27: 0 | I27: 7232256 | J27: 319 | K27: 6543108 | L27: 2687785.6 | M27: 29511 | N27: 91077.416
A28: 167 | B28: Hvidovre | C28: 25.4 | D28: 3144480 | E28: 12379843 | F28: 0 | G28: 0 | H28: 0 | I28: 15420964 | J28: 2304 | K28: 13911353 | L28: 4555879.5 | M28: 54514 | N28: 83572.652
A29: 169 | B29: Høje-Taastrup | C29: 24.6 | D29: 3129885 | E29: 12723110 | F29: 0 | G29: 0 | H29: 0 | I29: 15162488 | J29: 148744 | K29: 14233438 | L29: 5106045.4 | M29: 61846 | N29: 82560.64
... A115: 860 | B115: Hjørring | C115: 26.21 | D115: 3515926 | E115: 13414445 | F115: 0 | G115: 0 | H115: 0 | I115: 8364194 | J115: 2029935 | K115: 14307290 | L115: 5156860.5 | M115: 62761 | N115: 82166.639

Sheet selskabsskat
A1: Nr | B1: Navn | C1: Provenu vedr. selskabsskat 1.000 kr. (1)
A2: 101 | B2: København | C2: 2834438
A3: 147 | B3: Frederiksberg | C3: 138048
A4: 151 | B4: Ballerup | C4: 799966
A5: 153 | B5: Brøndby | C5: 174540
A6: 155 | B6: Dragør | C6: 12753
A7: 157 | B7: Gentofte | C7: 391434
A8: 159 | B8: Gladsaxe | C8: 1540436
A9: 161 | B9: Glostrup | C9: 65907
A10: 163 | B10: Herlev | C10: 66124
A11: 165 | B11: Albertslund | C11: 56688
A12: 167 | B12: Hvidovre | C12: 104207
A13: 169 | B13: Høje-Taastrup | C13: 255825
... A99: 860 | B99: Hjørring | C99: 136072

Sheet dækningsafgift
A1: Nr | B1: Navn | C1: Dæknings afgifter vedr. offentlige ejendomme
A2: 101 | B2: København | C2: 289960
A3: 147 | B3: Frederiksberg | C3: 33924
A4: 151 | B4: Ballerup | C4: 8434
A5: 153 | B5: Brøndby | C5: 3768
A6: 155 | B6: Dragør | C6: 312
A7: 157 | B7: Gentofte | C7: 7468
A8: 159 | B8: Gladsaxe | C8: 2506
A9: 161 | B9: Glostrup | C9: 13190
A10: 163 | B10: Herlev | C10: 21316
A11: 165 | B11: Albertslund | C11: 1348
A12: 167 | B12: Hvidovre | C12: 9197
A13: 169 | B13: Høje-Taastrup | C13: 3436
... A99: 860 | B99: Hjørring | C99: 5971

Sheet Tilskud og udligning
A1: ="Bilagstabel 1: Udligningsbeløb statsgaranti "&aar -> Bilagstabel 1: Udligningsbeløb statsgaranti 2026 | G1: samle 1 | N1: samle 2 | R1: samle 3 | T1: samle 4.1 | AF1: samle 4.2 | AS1: samle 4.3
C2: 1 | D2: =+C2+1 -> 2 | E2: =+D2+1 -> 3 | F2: =+E2+1 -> 4 | G2: =+F2+1 -> 5 | H2: =+G2+1 -> 6 | I2: =+H2+1 -> 7 | J2: =+I2+1 -> 8 | K2: =+J2+1 -> 9 | L2: =+K2+1 -> 10 | M2: 1 | N2: =+M2+1 -> 2 | O2: =+N2+1 -> 3 | P2: =+O2+1 -> 4 | Q2: 1 | R2: =+Q2+1 -> 2 | S2: =+R2+1 -> 3 | T2: 1 | U2: =+T2+1 -> 2 | V2: =+U2+1 -> 3 | W2: =+V2+1 -> 4 | X2: =+W2+1 -> 5 | Y2: =+X2+1 -> 6 | Z2: =+Y2+1 -> 7 | AA2: =+Z2+1 -> 8 | AB2: =+AA2+1 -> 9 | ... AE2: =+AD2+1 -> 12 | AF2: 1 | AG2: =+AF2+1 -> 2 | AH2: =+AG2+1 -> 3 | AI2: =+AH2+1 -> 4 | AJ2: =+AI2+1 -> 5 | AK2: =+AJ2+1 -> 6 | AL2: =+AK2+1 -> 7 | AM2: =+AL2+1 -> 8 | AN2: =+AM2+1 -> 9 | ... AQ2: =+AP2+1 -> 12 | AR2: 13 | AS2: 1 | AT2: =+AS2+1 -> 2 | AU2: =+AT2+1 -> 3 | AV2: =+AU2+1 -> 4 | AW2: =+AV2+1 -> 5 | AX2: =+AW2+1 -> 6 | AY2: =+AX2+1 -> 7 | AZ2: =+AY2+1 -> 8 | BA2: =+AZ2+1 -> 9 | ... BC2: =+BB2+1 -> 11
A3: knr | B3: kommunenavn | C3: Udlig- | D3: Tillæg | E3: Tillæg | F3: Finan- | G3: Over- | H3: Korrek- | I3: Udlig- | J3: Tillæg | K3: Finan- | L3: Særlig | M3: Tilskud | N3: Bidrag | O3: Udlig- | P3: Udlig- | Q3: Ordinært | R3: Betinget | S3: Betinget | T3: Finan- | U3: Ekstra | V3: Tilskud | W3: Tilskud | X3: Tilskud | Y3: Tilskud | Z3: Tilskud | AA3: Tilskud | AB3: Tilskud | AC3: Bidrag | AD3: Tilskud | AE3: Tilskud | AF3: Tilskud | AG3: Tilskud | AH3: Tilskud | AI3: Tilskud | AJ3: Tilskud | AK3: Tilskud | AL3: Tilskud | AM3: Moms- | AN3: Moms- | AO3: Tilskud | AP3: Om- | AQ3: Kompen- | AR3: Tilskud | AS3: Indivi- | AT3: Indivi- | AU3: Midler- | AV3: Midler- | AW3: Midler- | AX3: Midler- | AY3: Per- | AZ3: Indivi- | BA3: Indivi-
C4: ning | D4: for kom- | E4: for kom- | F4: siering | G4: udlig- | H4: tion | I4: ning | J4: for | K4: siering | L4: kom- | M4: vedr. | N4: vedr. | O4: ning | P4: ning | Q4: blok- | R4: blok- | S4: blok- | T4: sierings- | U4: finan- | V4: til | W4: til | X4: til | Y4: til | Z4: til | AA4: til | AB4: til | AC4: til | AD4: til | AE4: vedr. | AF4: til | AG4: til | AH4: til kom- | AI4: til | AJ4: til | AK4: til | AL4: til | AM4: kompen- | AN4: kompen- | AO4: til | AP4: stil- | AQ4: sations- | AR4: til kom- | AS4: duelle | AT4: duelle | AU4: tidigt | AV4: tidigt | AW4: tidigt | AX4: tidigt | AY4: manent | AZ4: duel | BA4: duel | BB4: (tom) | BC4: (tom)
C5: af | D5: muner | E5: muner | F5: af | G5: ning | H5: vedr. | I5: udgifts- | J5: kom- | K5: af | L5: pen- | M5: ind- | N5: ind- | O5: af | P5: af | Q5: tilskud | R5: tilskud | S5: tilskud | T5: tilskud | U5: sierings- | V5: bedre | W5: generelt | X5: styrket | Y5: værdig | Z5: bekæm- | AA5: udsatte | AB5: udsatte | AC5: udsatte | AD5: grænse- | AE5: høj | AF5: Furesø | AG5: vanske- | AH5: muner | AI5: kom- | AJ5: kom- | AK5: nedsæt- | AL5: nedsæt- | AM5: sation | AN5: sation | AO5: færge- | AP5: lings- | AQ5: tilskud | AR5: muner | AS5: tilskud | AT5: tilskud | AU5: tilskud | AV5: tilskud | AW5: tilskud | AX5: tilskud | AY5: tilskud | AZ5: mod- | BA5: mod-
C6: beskat- | D6: med | E6: med | F6: tillæg | H6: over- | I6: behov | J6: muner | K6: tillæg | L6: sation | M6: vandrer | N6: vandrer | O6: sel- | P6: dæk- | R6: vedr. | S6: vedr. | U6: tilskud | V6: kvalitet | W6: løft i | X6: kvalitet | Y6: ældre- | Z6: pelse | AA6: ø- | AB6: hoved- | AC6: hoved- | AD6: nære | AE6: krimi- | AF6: Kom- | AG6: ligt | AH6: med | AI6: muner | AJ6: muner | AK6: telse | AL6: telse | AM6: vedr. | AN6: vedr. | AO6: drift | AP6: støtte | AQ6: vedr. | AR6: der | AS6: vedr. | AT6: vedr. | AU6: vedr. | AV6: vedr. | AW6: vedr. | AX6: vedr. | AY6: vedr. | AZ6: regning | BA6: regning
C7: nings- | D7: lavt | E7: højt | F7: vedr. | H7: udlig- | J7: med | K7: vedr. | M7: og | N7: og | O7: skabs- | P7: nings- | R7: service- | S7: anlæg | V7: i dag- | W7: ældre- | X7: ældre- | Y7: pleje | Z7: af | AA7: og | AB7: stads- | AC7: stads- | AD7: kom- | AE7: nalitet | AF7: mune | AG7: stillede | AH7: vanske- | AI7: med | AJ7: på øer | AK7: af | AL7: af | AM7: færge- | AN7: færge- | AP7: (færger) | AQ7: netto- | AR7: valgte | AS7: skatte- | AT7: skatte- | AU7: skatte- | AV7: skatte- | AW7: skatte- | AX7: skatte- | AY7: skatte- | AZ7: sfa. | BA7: sfa.
C8: grundlag | D8: beskat- | E8: beskat- | F8: beskat- | H8: ning | J8: højt | K8: udgifts- | M8: efter- | N8: efter- | O8: skat | P8: afgift | R8: udgifter | V8: tilbud | W8: plejen | X8: pleje | Z8: ensom- | AA8: yder- | AB8: kom- | AC8: kom- | AD8: muner | AE8: i visse | AG8: kom- | AH8: lige | AI8: mindre | AJ8: uden | AK8: takster | AL8: takster | AM8: takster | AN8: takster | AQ8: tab sfa. | AR8: stats- | AS8: nedsæt- | AT8: nedsæt- | AU8: nedsæt- | AV8: nedsæt- | AW8: nedsæt- | AX8: nedsæt- | AY8: nedsæt- | AZ8: skatte- | BA8: skatte-
D9: nings- | E9: nings- | F9: nings- | J9: udgifts- | K9: behov | M9: kom- | N9: kom- | Z9: hed på | AA9: kom- | AB9: muner | AC9: muner | AE9: bolig- | AG9: muner | AH9: økono- | AI9: øer | AJ9: fast | AK9: for | AL9: for | AM9: for | AN9: for | AQ9: ændring | AR9: garanti | AS9: telser | AT9: telser | AU9: telser | AV9: telser | AW9: telser | AX9: telser | AY9: telser | AZ9: stig- | BA9: stig-
D10: grundlag | E10: grundlag | F10: grundlag | J10: behov | M10: mere | N10: mere | Z10: ældre- | AA10: muner | AE10: områder | AH10: miske | AJ10: forbin- | AK10: gods- | AL10: passa- | AM10: gods- | AN10: passa- | AQ10: i dæk- | AR10: 1 2024 | AS10: (ØA) | AT10: (ØA) | AU10: (Udl.ref) | AV10: (Udl.ref) | AW10: (Udl.ref) | AX10: (Udl.ref) | AY10: (Udl.ref) | AZ10: ninger | BA10: ninger
Z11: området | AH11: vilkår | AJ11: delse | AK11: transport | AL11: gerer mv. | AM11: transport | AN11: gerer mv. | AQ11: nings- | AS11: 2022-2023 | AT11: 2024-2025 | AU11: 2021-2022 | AV11: 2022-2023 | AW11: 2023-2024 | AX11: 2024-2025 | AY11: 2020-2021 | AZ11: 2022-2023 | BA11: 2023-2024
AQ12: afgiften
C13: 3 | D13: =+C13+1 -> 4 | E13: =+D13+1 -> 5 | F13: =+E13+1 -> 6 | G13: =+F13+1 -> 7 | H13: =+G13+1 -> 8 | I13: =+H13+1 -> 9 | J13: =+I13+1 -> 10 | K13: =+J13+1 -> 11 | ... BC13: =+BB13+1 -> 55
C14: 1 | D14: =+C14+1 -> 2 | E14: =+D14+1 -> 3 | F14: =+E14+1 -> 4 | G14: =+F14+1 -> 5 | H14: =+G14+1 -> 6 | I14: =+H14+1 -> 7 | J14: =+I14+1 -> 8 | K14: =+J14+1 -> 9 | ... BC14: =+BB14+1 -> 53
A16: 1 | B16: Kommuner i alt | C16: =SUM(C18:C115) -> 0 | D16: =SUM(D18:D115) -> 520236 | E16: =SUM(E18:E115) -> -1483992 | F16: =SUM(F18:F115) -> 963756 | G16: =SUM(G18:G115) -> 315528 | H16: =SUM(H18:H115) -> -315528 | I16: =SUM(I18:I115) -> 0 | J16: =SUM(J18:J115) -> 256224 | ... BC16: =SUM(BC18:BC115) -> 0
A18: 101 | B18: København | C18: -2237808 | D18: 0 | E18: 0 | F18: 107892 | G18: 0 | H18: -35328 | I18: -3070404 | J18: 0 | K18: -28680 | L18: 182604 | M18: 563928 | N18: -439620 | O18: -545616 | P18: -19884 | Q18: 4746768 | R18: 335868 | S18: 111960 | T18: 167928 | U18: 51168 | V18: 82668 | W18: 50700 | X18: 67920 | Y18: 71148 | Z18: 6780 | AA18: 0 | AB18: 0 | AC18: -61272 | AD18: 30276 | AE18: 30312 | AF18: 0 | AG18: 0 | AH18: 0 | AI18: 0 | AJ18: 0 | AK18: 0 | AL18: 0 | AM18: 0 | AN18: 0 | AO18: 0 | AP18: 0 | AQ18: 0 | AR18: 0 | AS18: 32904 | AT18: 68724 | AU18: 0 | AV18: 0 | AW18: 68124 | AX18: 13752 | AY18: 0 | AZ18: 0 | BA18: 0 | BD18: =SUM(C18:AE18)-I18-J18-K18 -> 3268392
A19: 147 | B19: Frederiksberg | C19: -1407336 | D19: 0 | E19: -29196 | F19: 16944 | G19: 3300 | H19: -5544 | I19: -1042800 | J19: 0 | K19: -4512 | L19: -24384 | M19: 53436 | N19: -69060 | O19: 67896 | P19: -1956 | Q19: 745668 | R19: 52764 | S19: 17592 | T19: 26376 | U19: 8040 | V19: 12408 | W19: 13668 | X19: 18312 | Y19: 19188 | Z19: 1824 | AA19: 0 | AB19: 0 | AC19: -12744 | AD19: 0 | AE19: 0 | AF19: 0 | AG19: 0 | AH19: 0 | AI19: 0 | AJ19: 0 | AK19: 0 | AL19: 0 | AM19: 0 | AN19: 0 | AO19: 0 | AP19: 0 | AQ19: 10848 | AR19: 0 | AS19: 0 | AT19: 0 | AU19: 0 | AV19: 0 | AW19: 0 | AX19: 0 | AY19: 0 | AZ19: -37284 | BA19: -134196 | BD19: =SUM(C19:AE19)-I19-J19-K19 -> -492804
A20: 151 | B20: Ballerup | C20: -9672 | D20: 0 | E20: 0 | F20: 8736 | G20: 0 | H20: -2856 | I20: 369180 | J20: 7944 | K20: -2316 | L20: -11340 | M20: 61524 | N20: -35580 | O20: -307512 | P20: -108 | Q20: 384204 | R20: 27180 | S20: 9060 | T20: 28692 | U20: 14484 | V20: 6984 | W20: 8148 | X20: 10920 | Y20: 11436 | Z20: 1092 | AA20: 0 | AB20: 32988 | AC20: -5076 | AD20: 0 | AE20: 0 | AF20: 0 | AG20: 0 | AH20: 0 | AI20: 0 | AJ20: 0 | AK20: 0 | AL20: 0 | AM20: 0 | AN20: 0 | AO20: 0 | AP20: 0 | AQ20: 0 | AR20: 0 | AS20: 0 | AT20: 0 | AU20: 0 | AV20: 0 | AW20: 0 | AX20: 0 | AY20: 0 | AZ20: 0 | BA20: 0 | BD20: =SUM(C20:AE20)-I20-J20-K20 -> 233304
A21: 153 | B21: Brøndby | C21: 342816 | D21: 37248 | E21: 0 | F21: 6696 | G21: 0 | H21: -2196 | I21: 568152 | J21: 12216 | K21: -1776 | L21: 47592 | M21: 73584 | N21: -27276 | O21: -33192 | P21: 192 | Q21: 294516 | R21: 20844 | S21: 6948 | T21: 37944 | U21: 22044 | V21: 5508 | W21: 5280 | X21: 7068 | Y21: 7404 | Z21: 708 | AA21: 0 | AB21: 75852 | AC21: -3168 | AD21: 0 | AE21: 0 | AF21: 0 | AG21: 0 | AH21: 0 | AI21: 0 | AJ21: 0 | AK21: 0 | AL21: 0 | AM21: 0 | AN21: 0 | AO21: 0 | AP21: 0 | AQ21: 0 | AR21: 0 | AS21: 0 | AT21: 0 | AU21: 0 | AV21: 0 | AW21: 0 | AX21: 0 | AY21: 0 | AZ21: 0 | BA21: 0 | BD21: =SUM(C21:AE21)-I21-J21-K21 -> 926412
A22: 155 | B22: Dragør | C22: -258108 | D22: 0 | E22: -20304 | F22: 2292 | G22: 1032 | H22: -744 | I22: -83052 | J22: 0 | K22: -612 | L22: -3336 | M22: 4200 | N22: -9324 | O22: 12108 | P22: 168 | Q22: 100632 | R22: 7116 | S22: 2376 | T22: 3564 | U22: 1080 | V22: 1644 | W22: 2796 | X22: 3744 | Y22: 3924 | Z22: 372 | AA22: 0 | AB22: 0 | AC22: -2328 | AD22: 0 | AE22: 0 | AF22: 0 | AG22: 0 | AH22: 0 | AI22: 0 | AJ22: 0 | AK22: 0 | AL22: 0 | AM22: 0 | AN22: 0 | AO22: 0 | AP22: 0 | AQ22: 252 | AR22: 18912 | AS22: 0 | AT22: 0 | AU22: 0 | AV22: 0 | AW22: 0 | AX22: 0 | AY22: 0 | AZ22: 0 | BA22: 0 | BD22: =SUM(C22:AE22)-I22-J22-K22 -> -147096
A23: 157 | B23: Gentofte | C23: -3825636 | D23: 0 | E23: -700848 | F23: 11940 | G23: 131244 | H23: -3912 | I23: -536892 | J23: 0 | K23: -3168 | L23: -17568 | M23: 49692 | N23: -48636 | O23: -99288 | P23: 264 | Q23: 525132 | R23: 37152 | S23: 12384 | T23: 18576 | U23: 5664 | V23: 7968 | W23: 12420 | X23: 16644 | Y23: 17436 | Z23: 1668 | AA23: 0 | AB23: 0 | AC23: -117936 | AD23: 0 | AE23: 0 | AF23: 0 | AG23: 0 | AH23: 0 | AI23: 0 | AJ23: 0 | AK23: 0 | AL23: 0 | AM23: 0 | AN23: 0 | AO23: 0 | AP23: 0 | AQ23: 0 | AR23: 0 | AS23: 0 | AT23: 3528 | AU23: 0 | AV23: 0 | AW23: 0 | AX23: 10572 | AY23: 0 | AZ23: 0 | BA23: 0 | BD23: =SUM(C23:AE23)-I23-J23-K23 -> -3965640
A24: 159 | B24: Gladsaxe | C24: -395376 | D24: 0 | E24: 0 | F24: 11400 | G24: 0 | H24: -3732 | I24: 130044 | J24: 2796 | K24: -3024 | L24: -16404 | M24: 92712 | N24: -46428 | O24: -662088 | P24: 708 | Q24: 501312 | R24: 35472 | S24: 11820 | T24: 17736 | U24: 5400 | V24: 9036 | W24: 8880 | X24: 11904 | Y24: 12468 | Z24: 1188 | AA24: 0 | AB24: 0 | AC24: -7488 | AD24: 0 | AE24: 0 | AF24: 0 | AG24: 0 | AH24: 0 | AI24: 0 | AJ24: 0 | AK24: 0 | AL24: 0 | AM24: 0 | AN24: 0 | AO24: 0 | AP24: 0 | AQ24: 0 | AR24: 0 | AS24: 0 | AT24: 0 | AU24: 0 | AV24: 0 | AW24: 0 | AX24: 0 | AY24: 0 | AZ24: 0 | BA24: 0 | BD24: =SUM(C24:AE24)-I24-J24-K24 -> -411480
A25: 161 | B25: Glostrup | C25: 69024 | D25: 0 | E25: 0 | F25: 4164 | G25: 0 | H25: -1368 | I25: 104700 | J25: 2256 | K25: -1104 | L25: -5304 | M25: 39060 | N25: -16980 | O25: 708 | P25: -972 | Q25: 183300 | R25: 12972 | S25: 4320 | T25: 13692 | U25: 6912 | V25: 3396 | W25: 3324 | X25: 4464 | Y25: 4668 | Z25: 444 | AA25: 0 | AB25: 15732 | AC25: -2316 | AD25: 4848 | AE25: 0 | AF25: 0 | AG25: 0 | AH25: 0 | AI25: 0 | AJ25: 0 | AK25: 0 | AL25: 0 | AM25: 0 | AN25: 0 | AO25: 0 | AP25: 0 | AQ25: 0 | AR25: 34212 | AS25: 0 | AT25: 0 | AU25: 0 | AV25: 0 | AW25: 0 | AX25: 0 | AY25: 0 | AZ25: -9864 | BA25: 0 | BD25: =SUM(C25:AE25)-I25-J25-K25 -> 344088
A26: 163 | B26: Herlev | C26: 77892 | D26: 0 | E26: 0 | F26: 5196 | G26: 0 | H26: -1704 | I26: 172776 | J26: 3720 | K26: -1380 | L26: -6780 | M26: 42048 | N26: -21156 | O26: 8892 | P26: -1692 | Q26: 228492 | R26: 16164 | S26: 5388 | T26: 17064 | U26: 8616 | V26: 4152 | W26: 4356 | X26: 5832 | Y26: 6108 | Z26: 576 | AA26: 0 | AB26: 39228 | AC26: -2844 | AD26: 0 | AE26: 0 | AF26: 0 | AG26: 0 | AH26: 0 | AI26: 0 | AJ26: 0 | AK26: 0 | AL26: 0 | AM26: 0 | AN26: 0 | AO26: 0 | AP26: 0 | AQ26: 0 | AR26: 0 | AS26: 0 | AT26: 0 | AU26: 0 | AV26: 0 | AW26: 0 | AX26: 0 | AY26: 0 | AZ26: 0 | BA26: 0 | BD26: =SUM(C26:AE26)-I26-J26-K26 -> 435828
A27: 165 | B27: Albertslund | C27: 194976 | D27: 14016 | E27: 0 | F27: 4692 | G27: 0 | H27: -1536 | I27: 342348 | J27: 7368 | K27: -1248 | L27: 84192 | M27: 41316 | N27: -19128 | O27: 9576 | P27: 264 | Q27: 206496 | R27: 14616 | S27: 4872 | T27: 26604 | U27: 15456 | V27: 3336 | W27: 3996 | X27: 5352 | Y27: 5616 | Z27: 540 | AA27: 0 | AB27: 35448 | AC27: -2460 | AD27: 0 | AE27: 0 | AF27: 0 | AG27: 0 | AH27: 0 | AI27: 0 | AJ27: 0 | AK27: 0 | AL27: 0 | AM27: 0 | AN27: 0 | AO27: 0 | AP27: 0 | AQ27: 0 | AR27: 0 | AS27: 0 | AT27: 0 | AU27: 0 | AV27: 0 | AW27: 0 | AX27: 0 | AY27: 0 | AZ27: 0 | BA27: 0 | BD27: =SUM(C27:AE27)-I27-J27-K27 -> 648240
A28: 167 | B28: Hvidovre | C28: 17388 | D28: 0 | E28: 0 | F28: 8676 | G28: 0 | H28: -2844 | I28: 251928 | J28: 5412 | K28: -2304 | L28: 33024 | M28: 46140 | N28: -35328 | O28: 17940 | P28: -192 | Q28: 381444 | R28: 26988 | S28: 9000 | T28: 28476 | U28: 14388 | V28: 6648 | W28: 7164 | X28: 9600 | Y28: 10056 | Z28: 960 | AA28: 0 | AB28: 65496 | AC28: -5172 | AD28: 0 | AE28: 0 | AF28: 0 | AG28: 0 | AH28: 0 | AI28: 0 | AJ28: 0 | AK28: 0 | AL28: 0 | AM28: 0 | AN28: 0 | AO28: 0 | AP28: 0 | AQ28: 0 | AR28: 108744 | AS28: 0 | AT28: 0 | AU28: 0 | AV28: 7284 | AW28: 0 | AX28: 0 | AY28: 0 | AZ28: 0 | BA28: 0 | BD28: =SUM(C28:AE28)-I28-J28-K28 -> 639852
A29: 169 | B29: Høje-Taastrup | C29: 310716 | D29: 3264 | E29: 0 | F29: 9840 | G29: 0 | H29: -3216 | I29: 227604 | J29: 4896 | K29: -2616 | L29: 132984 | M29: 107148 | N29: -40080 | O29: -48456 | P29: 492 | Q29: 432744 | R29: 30624 | S29: 10212 | T29: 32316 | U29: 16320 | V29: 8652 | W29: 7020 | X29: 9396 | Y29: 9840 | Z29: 936 | AA29: 0 | AB29: 74304 | AC29: -4740 | AD29: 0 | AE29: 6060 | AF29: 0 | AG29: 0 | AH29: 0 | AI29: 0 | AJ29: 0 | AK29: 0 | AL29: 0 | AM29: 0 | AN29: 0 | AO29: 0 | AP29: 0 | AQ29: 0 | AR29: 0 | AS29: 0 | AT29: 0 | AU29: 0 | AV29: 0 | AW29: 0 | AX29: 0 | AY29: 0 | AZ29: 0 | BA29: 0 | BD29: =SUM(C29:AE29)-I29-J29-K29 -> 1106376
... A115: 860 | B115: Hjørring | C115: 341004 | D115: 10164 | E115: 0 | F115: 9984 | G115: 0 | H115: -3264 | I115: 207984 | J115: 4476 | K115: -2652 | L115: 15144 | M115: 27384 | N115: -40668 | O115: 12600 | P115: 240 | Q115: 439152 | R115: 31068 | S115: 10356 | T115: 56580 | U115: 32868 | V115: 6192 | W115: 12192 | X115: 16332 | Y115: 17100 | Z115: 1632 | AA115: 98952 | AB115: 0 | AC115: 0 | AD115: 0 | AE115: 0 | AF115: 0 | AG115: 0 | AH115: 26064 | AI115: 0 | AJ115: 0 | AK115: 0 | AL115: 0 | AM115: 0 | AN115: 0 | AO115: 0 | AP115: 0 | AQ115: 7752 | AR115: 103620 | AS115: 0 | AT115: 0 | AU115: 0 | AV115: 0 | AW115: 0 | AX115: 0 | AY115: 0 | AZ115: 0 | BA115: 0 | BD115: =SUM(C115:AE115)-I115-J115-K115 -> 1095012

Sheet BUDKC
A1: Kommunernes budgetter, grupperinger med tekst - efter prisenhed, art, område, tid og dranst funktion og gruppering
A2: Enhed: 1.000 kr.
D3: 2026
D4: Finansiering - 7.68.95 Anden skat på fast ejendom - Grp. 3 Dækningsafgift af forretningsejendommes grundværdi
A5: Løbende priser (1.000 kr.) | B5: I alt (netto) | C5: Hele landet | D5: -2706386
C6: København | D6: -1161782
C7: Frederiksberg | D7: -32726
C8: Dragør | D8: -4038
C9: Tårnby | D9: -33579
C10: Albertslund | D10: -36543
C11: Ballerup | D11: -139518
C12: Brøndby | D12: -109305
C13: Gentofte | D13: -93152
C14: Gladsaxe | D14: -68929
C15: Glostrup | D15: -53600
C16: Herlev | D16: -67351
C17: Hvidovre | D17: -43643
... C103: Aalborg | D103: -101234
A105: Data bliver ikke revideret. Senere rettelser kan dog forekomme, hvis der opdages fejl i data eller databehandlingen. Disse rettelser vil slå igennem i statistikken som enten ekstraordinære rettelser eller i forbindelse med planlagte opdateringer af statistikken. Se alle ændringer i tabellerne siden december 2020 vedrørende budgetter og årsregnskaber for kommuner og regioner i Statistikdokumentationen under &quot;Præcision og pålidelighed&quot; (Praksis for revisioner): https://www.dst.dk/da/Statistik/dokumentation/statistikdokumentation/budgetter-og-aarsregnskaber-for-kommuner-og-regioner/praecision-og-paalidelighed
