Workbook

Sheet Samle
A1: Kommune | B1: Antal fuldtidspersoner førtidspension 2. kvartal 2021 | C1: Antal fuldtidspersoner førtidspension 2. kvartal 2026 | E1: Andel af befolkning førtidspension 2. kvartal 2021 | F1: Andel af befolkning førtidspension 2. kvartal 2026 | G1: Udvikling andel af befolkningen på førtidspension | H1: Udgifter til førtidspension i alt 2. kvartal 2021 | I1: Udgifter til førtidspension i alt 2. kvartal 2026 | J1: Udvikling udgifter til førtidspension | K1: Udgifter til førtidspension pr. indbygger 2. kvartal 2021 | L1: Udgifter til førtidspension pr. indbygger 2. kvartal 2026 | M1: Udvikling udgifter til førtidspension pr. indbygger | N1: Indeks udgifter pr. indbygger 2021 | O1: Indeks udgifter pr. indbygger 2026 | P1: Udvikling indeks | R1: Største stigning | S1: Udvikling indeks | T1: Indeks udgifter pr. indbygger 2021 | U1: Indeks udgifter pr. indbygger 2026 | V1: Udgifter pr. indbygger 2021 | W1: Udgifter pr. indbygger 2026 | X1: Udvikling udgifter til førtidspension pr. indbygger | Y1: Samlede udgifter 2021 | Z1: Samlede udgifter 2026 | AA1: Andel 2021 | AB1: Andel 2026
A2: Hele landet | B2: =_xlfn.XLOOKUP(A2,Antal!A:A,Antal!B:B) -> 216457 | C2: =_xlfn.XLOOKUP(A2,Antal!A:A,Antal!H:H) -> 260755 | D2: =C2-B2 -> 44298 | E2: =_xlfn.XLOOKUP(A2,Antal!K:K,Antal!M:M) -> 5.9 | F2: =_xlfn.XLOOKUP(A2,Antal!K:K,Antal!R:R) -> 6.7 | G2: =F2-E2 -> 0.8 | H2: =_xlfn.XLOOKUP(A2,Udgifter!A:A,Udgifter!C:C) -> 1.3347726e+10 | I2: =_xlfn.XLOOKUP(A2,Udgifter!A:A,Udgifter!H:H) -> 15315794350 | J2: =I2-H2 -> 1.9680682e+09 | K2: =_xlfn.XLOOKUP(A2,Udgifter!A:A,Udgifter!K:K) -> 2284.2604 | L2: =_xlfn.XLOOKUP(A2,Udgifter!A:A,Udgifter!P:P) -> 2539.4076 | M2: =L2-K2 -> 255.14718 | N2: =K2/K$2*100 -> 100 | O2: =L2/L$2*100 -> 100 | P2: =O2-N2 -> 0 | R2: =_xlfn.XLOOKUP(S2,P:P,A:A) -> Lemvig | S2: {=LARGE(_xlfn._xlws.FILTER(P2:P100,O2:O100>100),1)} -> 18.779085 | T2: =_xlfn.XLOOKUP(S2,P:P,N:N) -> 113.09303 | U2: =_xlfn.XLOOKUP(S2,P:P,O:O) -> 131.87212 | V2: =_xlfn.XLOOKUP(S2,P:P,K:K) -> 2583.3393 | W2: =_xlfn.XLOOKUP(S2,P:P,L:L) -> 3348.7705 | X2: =_xlfn.XLOOKUP(S2,P:P,M:M) -> 765.43118 | Y2: =_xlfn.XLOOKUP(S2,P:P,H:H) -> 50530117 | Z2: =_xlfn.XLOOKUP(S2,P:P,I:I) -> 62039322 | AA2: =_xlfn.XLOOKUP(S2,P:P,E:E) -> 7.1 | AB2: =_xlfn.XLOOKUP(S2,P:P,F:F) -> 9.5
A3: Albertslund | B3: =_xlfn.XLOOKUP(A3,Antal!A:A,Antal!B:B) -> 1056 | C3: =_xlfn.XLOOKUP(A3,Antal!A:A,Antal!H:H) -> 1458 | E3: =_xlfn.XLOOKUP(A3,Antal!K:K,Antal!M:M) -> 6.2 | F3: =_xlfn.XLOOKUP(A3,Antal!K:K,Antal!R:R) -> 7.6 | G3: =F3-E3 -> 1.4 | H3: =_xlfn.XLOOKUP(A3,Udgifter!A:A,Udgifter!C:C) -> 65320173 | I3: =_xlfn.XLOOKUP(A3,Udgifter!A:A,Udgifter!H:H) -> 85479838 | J3: =I3-H3 -> 20159665 | K3: =_xlfn.XLOOKUP(A3,Udgifter!A:A,Udgifter!K:K) -> 2402.1835 | L3: =_xlfn.XLOOKUP(A3,Udgifter!A:A,Udgifter!P:P) -> 2912.6291 | M3: =L3-K3 -> 510.44559 | N3: =K3/K$2*100 -> 105.16242 | O3: =L3/L$2*100 -> 114.69719 | P3: =O3-N3 -> 9.5347685 | R3: =_xlfn.XLOOKUP(S3,P:P,A:A) -> Faxe | S3: {=LARGE(_xlfn._xlws.FILTER(P2:P100,O2:O100>100),2)} -> 15.704676 | T3: =_xlfn.XLOOKUP(S3,P:P,N:N) -> 97.382323 | U3: =_xlfn.XLOOKUP(S3,P:P,O:O) -> 113.087 | V3: =_xlfn.XLOOKUP(S3,P:P,K:K) -> 2224.4658 | W3: =_xlfn.XLOOKUP(S3,P:P,L:L) -> 2871.7398 | X3: =_xlfn.XLOOKUP(S3,P:P,M:M) -> 647.27399 | Y3: =_xlfn.XLOOKUP(S3,P:P,H:H) -> 81867016 | Z3: =_xlfn.XLOOKUP(S3,P:P,I:I) -> 109528157 | AA3: =_xlfn.XLOOKUP(S3,P:P,E:E) -> 5.9 | AB3: =_xlfn.XLOOKUP(S3,P:P,F:F) -> 7.6
A4: Allerød | B4: =_xlfn.XLOOKUP(A4,Antal!A:A,Antal!B:B) -> 396 | C4: =_xlfn.XLOOKUP(A4,Antal!A:A,Antal!H:H) -> 461 | E4: =_xlfn.XLOOKUP(A4,Antal!K:K,Antal!M:M) -> 2.5 | F4: =_xlfn.XLOOKUP(A4,Antal!K:K,Antal!R:R) -> 2.9 | G4: =F4-E4 -> 0.4 | H4: =_xlfn.XLOOKUP(A4,Udgifter!A:A,Udgifter!C:C) -> 23031108 | I4: =_xlfn.XLOOKUP(A4,Udgifter!A:A,Udgifter!H:H) -> 26512953 | J4: =I4-H4 -> 3481845.4 | K4: =_xlfn.XLOOKUP(A4,Udgifter!A:A,Udgifter!K:K) -> 889.98793 | L4: =_xlfn.XLOOKUP(A4,Udgifter!A:A,Udgifter!P:P) -> 1002.4938 | M4: =L4-K4 -> 112.50585 | N4: =K4/K$2*100 -> 38.961755 | O4: =L4/L$2*100 -> 39.477467 | P4: =O4-N4 -> 0.5157121 | R4: =_xlfn.XLOOKUP(S4,P:P,A:A) -> Faaborg-Midtfyn | S4: {=LARGE(_xlfn._xlws.FILTER(P2:P100,O2:O100>100),3)} -> 15.691317 | T4: =_xlfn.XLOOKUP(S4,P:P,N:N) -> 121.30404 | U4: =_xlfn.XLOOKUP(S4,P:P,O:O) -> 136.99535 | V4: =_xlfn.XLOOKUP(S4,P:P,K:K) -> 2770.9 | W4: =_xlfn.XLOOKUP(S4,P:P,L:L) -> 3478.8704 | X4: =_xlfn.XLOOKUP(S4,P:P,M:M) -> 707.97032 | Y4: =_xlfn.XLOOKUP(S4,P:P,H:H) -> 1.4308651e+08 | Z4: =_xlfn.XLOOKUP(S4,P:P,I:I) -> 181850990 | AA4: =_xlfn.XLOOKUP(S4,P:P,E:E) -> 7.6 | AB4: =_xlfn.XLOOKUP(S4,P:P,F:F) -> 9.7
A5: Assens | B5: =_xlfn.XLOOKUP(A5,Antal!A:A,Antal!B:B) -> 1764 | C5: =_xlfn.XLOOKUP(A5,Antal!A:A,Antal!H:H) -> 2265 | E5: =_xlfn.XLOOKUP(A5,Antal!K:K,Antal!M:M) -> 7.4 | F5: =_xlfn.XLOOKUP(A5,Antal!K:K,Antal!R:R) -> 9.2 | G5: =F5-E5 -> 1.8 | H5: =_xlfn.XLOOKUP(A5,Udgifter!A:A,Udgifter!C:C) -> 1.118643e+08 | I5: =_xlfn.XLOOKUP(A5,Udgifter!A:A,Udgifter!H:H) -> 134163823 | J5: =I5-H5 -> 22299525 | K5: =_xlfn.XLOOKUP(A5,Udgifter!A:A,Udgifter!K:K) -> 2736.4065 | L5: =_xlfn.XLOOKUP(A5,Udgifter!A:A,Udgifter!P:P) -> 3333.5111 | M5: =L5-K5 -> 597.10463 | N5: =K5/K$2*100 -> 119.79398 | O5: =L5/L$2*100 -> 131.27121 | P5: =O5-N5 -> 11.47723 | R5: =_xlfn.XLOOKUP(S5,P:P,A:A) -> Sorø | S5: {=LARGE(_xlfn._xlws.FILTER(P2:P100,O2:O100>100),4)} -> 14.551307 | T5: =_xlfn.XLOOKUP(S5,P:P,N:N) -> 112.0188 | U5: =_xlfn.XLOOKUP(S5,P:P,O:O) -> 126.5701 | V5: =_xlfn.XLOOKUP(S5,P:P,K:K) -> 2558.801 | W5: =_xlfn.XLOOKUP(S5,P:P,L:L) -> 3214.1308 | X5: =_xlfn.XLOOKUP(S5,P:P,M:M) -> 655.32979 | Y5: =_xlfn.XLOOKUP(S5,P:P,H:H) -> 76592591 | Z5: =_xlfn.XLOOKUP(S5,P:P,I:I) -> 99409852 | AA5: =_xlfn.XLOOKUP(S5,P:P,E:E) -> 6.7 | AB5: =_xlfn.XLOOKUP(S5,P:P,F:F) -> 8.7
A6: Ballerup | B6: =_xlfn.XLOOKUP(A6,Antal!A:A,Antal!B:B) -> 2048 | C6: =_xlfn.XLOOKUP(A6,Antal!A:A,Antal!H:H) -> 2342 | E6: =_xlfn.XLOOKUP(A6,Antal!K:K,Antal!M:M) -> 6.9 | F6: =_xlfn.XLOOKUP(A6,Antal!K:K,Antal!R:R) -> 6.7 | G6: =F6-E6 -> -0.2 | H6: =_xlfn.XLOOKUP(A6,Udgifter!A:A,Udgifter!C:C) -> 1.2454956e+08 | I6: =_xlfn.XLOOKUP(A6,Udgifter!A:A,Udgifter!H:H) -> 136680327 | J6: =I6-H6 -> 12130772 | K6: =_xlfn.XLOOKUP(A6,Udgifter!A:A,Udgifter!K:K) -> 2536.1343 | L6: =_xlfn.XLOOKUP(A6,Udgifter!A:A,Udgifter!P:P) -> 2531.6798 | M6: =L6-K6 -> -4.4545288 | N6: =K6/K$2*100 -> 111.0265 | O6: =L6/L$2*100 -> 99.695684 | P6: =O6-N6 -> -11.330812 | R6: =_xlfn.XLOOKUP(S6,P:P,A:A) -> Assens | S6: {=LARGE(_xlfn._xlws.FILTER(P2:P100,O2:O100>100),5)} -> 11.47723 | T6: =_xlfn.XLOOKUP(S6,P:P,N:N) -> 119.79398 | U6: =_xlfn.XLOOKUP(S6,P:P,O:O) -> 131.27121 | V6: =_xlfn.XLOOKUP(S6,P:P,K:K) -> 2736.4065 | W6: =_xlfn.XLOOKUP(S6,P:P,L:L) -> 3333.5111 | X6: =_xlfn.XLOOKUP(S6,P:P,M:M) -> 597.10463 | Y6: =_xlfn.XLOOKUP(S6,P:P,H:H) -> 1.118643e+08 | Z6: =_xlfn.XLOOKUP(S6,P:P,I:I) -> 134163823 | AA6: =_xlfn.XLOOKUP(S6,P:P,E:E) -> 7.4 | AB6: =_xlfn.XLOOKUP(S6,P:P,F:F) -> 9.2
A7: Billund | B7: =_xlfn.XLOOKUP(A7,Antal!A:A,Antal!B:B) -> 1152 | C7: =_xlfn.XLOOKUP(A7,Antal!A:A,Antal!H:H) -> 1459 | E7: =_xlfn.XLOOKUP(A7,Antal!K:K,Antal!M:M) -> 7.1 | F7: =_xlfn.XLOOKUP(A7,Antal!K:K,Antal!R:R) -> 8.6 | G7: =F7-E7 -> 1.5 | H7: =_xlfn.XLOOKUP(A7,Udgifter!A:A,Udgifter!C:C) -> 69555129 | I7: =_xlfn.XLOOKUP(A7,Udgifter!A:A,Udgifter!H:H) -> 85256782 | J7: =I7-H7 -> 15701653 | K7: =_xlfn.XLOOKUP(A7,Udgifter!A:A,Udgifter!K:K) -> 2625.9109 | L7: =_xlfn.XLOOKUP(A7,Udgifter!A:A,Udgifter!P:P) -> 3132.4827 | M7: =L7-K7 -> 506.57178 | N7: =K7/K$2*100 -> 114.95672 | O7: =L7/L$2*100 -> 123.35486 | P7: =O7-N7 -> 8.3981372 | R7: Hele landet | V7: =K2 -> 2284.2604 | W7: =L2 -> 2539.4076 | AA7: =E2 -> 5.9 | AB7: =F2 -> 6.7
A8: Bornholm | B8: =_xlfn.XLOOKUP(A8,Antal!A:A,Antal!B:B) -> 2435 | C8: =_xlfn.XLOOKUP(A8,Antal!A:A,Antal!H:H) -> 2685 | E8: =_xlfn.XLOOKUP(A8,Antal!K:K,Antal!M:M) -> 10.9 | F8: =_xlfn.XLOOKUP(A8,Antal!K:K,Antal!R:R) -> 12.2 | G8: =F8-E8 -> 1.3 | H8: =_xlfn.XLOOKUP(A8,Udgifter!A:A,Udgifter!C:C) -> 1.5520292e+08 | I8: =_xlfn.XLOOKUP(A8,Udgifter!A:A,Udgifter!H:H) -> 162340271 | J8: =I8-H8 -> 7137355.7 | K8: =_xlfn.XLOOKUP(A8,Udgifter!A:A,Udgifter!K:K) -> 3913.9284 | L8: =_xlfn.XLOOKUP(A8,Udgifter!A:A,Udgifter!P:P) -> 4204.3994 | M8: =L8-K8 -> 290.47107 | N8: =K8/K$2*100 -> 171.34335 | O8: =L8/L$2*100 -> 165.56615 | P8: =O8-N8 -> -5.7772006
A9: Brøndby | B9: =_xlfn.XLOOKUP(A9,Antal!A:A,Antal!B:B) -> 1495 | C9: =_xlfn.XLOOKUP(A9,Antal!A:A,Antal!H:H) -> 1822 | E9: =_xlfn.XLOOKUP(A9,Antal!K:K,Antal!M:M) -> 6.6 | F9: =_xlfn.XLOOKUP(A9,Antal!K:K,Antal!R:R) -> 6.7 | G9: =F9-E9 -> 0.1 | H9: =_xlfn.XLOOKUP(A9,Udgifter!A:A,Udgifter!C:C) -> 88480109 | I9: =_xlfn.XLOOKUP(A9,Udgifter!A:A,Udgifter!H:H) -> 105863578 | J9: =I9-H9 -> 17383469 | K9: =_xlfn.XLOOKUP(A9,Udgifter!A:A,Udgifter!K:K) -> 2500.3563 | L9: =_xlfn.XLOOKUP(A9,Udgifter!A:A,Udgifter!P:P) -> 2578.3282 | M9: =L9-K9 -> 77.971895 | N9: =K9/K$2*100 -> 109.46021 | O9: =L9/L$2*100 -> 101.53267 | P9: =O9-N9 -> -7.9275481 | R9: Største fald | S9: Udvikling indeks | T9: Indeks udgifter pr. indbygger 2021 | U9: Indeks udgifter pr. indbygger 2026 | V9: Udgifter pr. indbygger 2021 | W9: Udgifter pr. indbygger 2026 | X9: Udvikling udgifter til førtidspension pr. indbygger | Y9: Samlede udgifter 2021 | Z9: Samlede udgifter 2026 | AA9: Andel 2021 | AB9: Andel 2026
A10: Brønderslev | B10: =_xlfn.XLOOKUP(A10,Antal!A:A,Antal!B:B) -> 1523 | C10: =_xlfn.XLOOKUP(A10,Antal!A:A,Antal!H:H) -> 1785 | E10: =_xlfn.XLOOKUP(A10,Antal!K:K,Antal!M:M) -> 7 | F10: =_xlfn.XLOOKUP(A10,Antal!K:K,Antal!R:R) -> 8 | G10: =F10-E10 -> 1 | H10: =_xlfn.XLOOKUP(A10,Udgifter!A:A,Udgifter!C:C) -> 94217133 | I10: =_xlfn.XLOOKUP(A10,Udgifter!A:A,Udgifter!H:H) -> 106780823 | J10: =I10-H10 -> 12563690 | K10: =_xlfn.XLOOKUP(A10,Udgifter!A:A,Udgifter!K:K) -> 2607.0042 | L10: =_xlfn.XLOOKUP(A10,Udgifter!A:A,Udgifter!P:P) -> 2914.9602 | M10: =L10-K10 -> 307.95599 | N10: =K10/K$2*100 -> 114.12903 | O10: =L10/L$2*100 -> 114.78899 | P10: =O10-N10 -> 0.65995645 | R10: =_xlfn.XLOOKUP(S10,P:P,A:A) -> Ærø | S10: =SMALL(P2:P100,1) -> -24.319816 | T10: =_xlfn.XLOOKUP(S10,P:P,N:N) -> 123.72622 | U10: =_xlfn.XLOOKUP(S10,P:P,O:O) -> 99.406403 | V10: =_xlfn.XLOOKUP(S10,P:P,K:K) -> 2826.229 | W10: =_xlfn.XLOOKUP(S10,P:P,L:L) -> 2524.3337 | X10: =_xlfn.XLOOKUP(S10,P:P,M:M) -> -301.89528 | Y10: =_xlfn.XLOOKUP(S10,P:P,H:H) -> 16968679 | Z10: =_xlfn.XLOOKUP(S10,P:P,I:I) -> 14514919 | AA10: =_xlfn.XLOOKUP(S10,P:P,E:E) -> 8.5 | AB10: =_xlfn.XLOOKUP(S10,P:P,F:F) -> 7.9
A11: Dragør | B11: =_xlfn.XLOOKUP(A11,Antal!A:A,Antal!B:B) -> 193 | C11: =_xlfn.XLOOKUP(A11,Antal!A:A,Antal!H:H) -> 245 | E11: =_xlfn.XLOOKUP(A11,Antal!K:K,Antal!M:M) -> 2.5 | F11: =_xlfn.XLOOKUP(A11,Antal!K:K,Antal!R:R) -> 3 | G11: =F11-E11 -> 0.5 | H11: =_xlfn.XLOOKUP(A11,Udgifter!A:A,Udgifter!C:C) -> 11601433 | I11: =_xlfn.XLOOKUP(A11,Udgifter!A:A,Udgifter!H:H) -> 13446174 | J11: =I11-H11 -> 1844741 | K11: =_xlfn.XLOOKUP(A11,Udgifter!A:A,Udgifter!K:K) -> 795.98168 | L11: =_xlfn.XLOOKUP(A11,Udgifter!A:A,Udgifter!P:P) -> 929.37338 | M11: =L11-K11 -> 133.39169 | N11: =K11/K$2*100 -> 34.846364 | O11: =L11/L$2*100 -> 36.598039 | P11: =O11-N11 -> 1.7516754 | R11: =_xlfn.XLOOKUP(S11,P:P,A:A) -> Nyborg | S11: =SMALL(P3:P101,2) -> -19.153497 | T11: =_xlfn.XLOOKUP(S11,P:P,N:N) -> 160.92741 | U11: =_xlfn.XLOOKUP(S11,P:P,O:O) -> 141.77391 | V11: =_xlfn.XLOOKUP(S11,P:P,K:K) -> 3676.001 | W11: =_xlfn.XLOOKUP(S11,P:P,L:L) -> 3600.2174 | X11: =_xlfn.XLOOKUP(S11,P:P,M:M) -> -75.78362 | Y11: =_xlfn.XLOOKUP(S11,P:P,H:H) -> 1.1750337e+08 | Z11: =_xlfn.XLOOKUP(S11,P:P,I:I) -> 116852256 | AA11: =_xlfn.XLOOKUP(S11,P:P,E:E) -> 9.9 | AB11: =_xlfn.XLOOKUP(S11,P:P,F:F) -> 9.9
A12: Egedal | B12: =_xlfn.XLOOKUP(A12,Antal!A:A,Antal!B:B) -> 803 | C12: =_xlfn.XLOOKUP(A12,Antal!A:A,Antal!H:H) -> 998 | E12: =_xlfn.XLOOKUP(A12,Antal!K:K,Antal!M:M) -> 3.1 | F12: =_xlfn.XLOOKUP(A12,Antal!K:K,Antal!R:R) -> 3.4 | G12: =F12-E12 -> 0.3 | H12: =_xlfn.XLOOKUP(A12,Udgifter!A:A,Udgifter!C:C) -> 48180148 | I12: =_xlfn.XLOOKUP(A12,Udgifter!A:A,Udgifter!H:H) -> 58171397 | J12: =I12-H12 -> 9991249.4 | K12: =_xlfn.XLOOKUP(A12,Udgifter!A:A,Udgifter!K:K) -> 1103.1264 | L12: =_xlfn.XLOOKUP(A12,Udgifter!A:A,Udgifter!P:P) -> 1254.5862 | M12: =L12-K12 -> 151.4598 | N12: =K12/K$2*100 -> 48.292497 | O12: =L12/L$2*100 -> 49.404679 | P12: =O12-N12 -> 1.1121827 | R12: =_xlfn.XLOOKUP(S12,P:P,A:A) -> Tønder | S12: =SMALL(P4:P102,3) -> -17.967266 | T12: =_xlfn.XLOOKUP(S12,P:P,N:N) -> 131.5029 | U12: =_xlfn.XLOOKUP(S12,P:P,O:O) -> 113.53563 | V12: =_xlfn.XLOOKUP(S12,P:P,K:K) -> 3003.8686 | W12: =_xlfn.XLOOKUP(S12,P:P,L:L) -> 2883.1324 | X12: =_xlfn.XLOOKUP(S12,P:P,M:M) -> -120.73618 | Y12: =_xlfn.XLOOKUP(S12,P:P,H:H) -> 1.1120922e+08 | Z12: =_xlfn.XLOOKUP(S12,P:P,I:I) -> 104421289 | AA12: =_xlfn.XLOOKUP(S12,P:P,E:E) -> 8.2 | AB12: =_xlfn.XLOOKUP(S12,P:P,F:F) -> 8.3
A13: Esbjerg | B13: =_xlfn.XLOOKUP(A13,Antal!A:A,Antal!B:B) -> 5117 | C13: =_xlfn.XLOOKUP(A13,Antal!A:A,Antal!H:H) -> 5835 | E13: =_xlfn.XLOOKUP(A13,Antal!K:K,Antal!M:M) -> 7.1 | F13: =_xlfn.XLOOKUP(A13,Antal!K:K,Antal!R:R) -> 8.1 | G13: =F13-E13 -> 1 | H13: =_xlfn.XLOOKUP(A13,Udgifter!A:A,Udgifter!C:C) -> 3.1653522e+08 | I13: =_xlfn.XLOOKUP(A13,Udgifter!A:A,Udgifter!H:H) -> 348313747 | J13: =I13-H13 -> 31778532 | K13: =_xlfn.XLOOKUP(A13,Udgifter!A:A,Udgifter!K:K) -> 2738.7388 | L13: =_xlfn.XLOOKUP(A13,Udgifter!A:A,Udgifter!P:P) -> 3032.3221 | M13: =L13-K13 -> 293.58333 | N13: =K13/K$2*100 -> 119.89609 | O13: =L13/L$2*100 -> 119.41061 | P13: =O13-N13 -> -0.48547367 | R13: =_xlfn.XLOOKUP(S13,P:P,A:A) -> Sønderborg | S13: =SMALL(P5:P103,4) -> -16.290195 | T13: =_xlfn.XLOOKUP(S13,P:P,N:N) -> 131.5133 | U13: =_xlfn.XLOOKUP(S13,P:P,O:O) -> 115.2231 | V13: =_xlfn.XLOOKUP(S13,P:P,K:K) -> 3004.1061 | W13: =_xlfn.XLOOKUP(S13,P:P,L:L) -> 2925.9841 | X13: =_xlfn.XLOOKUP(S13,P:P,M:M) -> -78.12198 | Y13: =_xlfn.XLOOKUP(S13,P:P,H:H) -> 2.2169101e+08 | Z13: =_xlfn.XLOOKUP(S13,P:P,I:I) -> 216525752 | AA13: =_xlfn.XLOOKUP(S13,P:P,E:E) -> 8.3 | AB13: =_xlfn.XLOOKUP(S13,P:P,F:F) -> 8.1
A14: Fanø | B14: =_xlfn.XLOOKUP(A14,Antal!A:A,Antal!B:B) -> 86 | C14: =_xlfn.XLOOKUP(A14,Antal!A:A,Antal!H:H) -> 100 | E14: =_xlfn.XLOOKUP(A14,Antal!K:K,Antal!M:M) -> 5.1 | F14: =_xlfn.XLOOKUP(A14,Antal!K:K,Antal!R:R) -> 5.9 | G14: =F14-E14 -> 0.8 | H14: =_xlfn.XLOOKUP(A14,Udgifter!A:A,Udgifter!C:C) -> 5587665.4 | I14: =_xlfn.XLOOKUP(A14,Udgifter!A:A,Udgifter!H:H) -> 5815581 | J14: =I14-H14 -> 227915.56 | K14: =_xlfn.XLOOKUP(A14,Udgifter!A:A,Udgifter!K:K) -> 1620.0828 | L14: =_xlfn.XLOOKUP(A14,Udgifter!A:A,Udgifter!P:P) -> 1744.3254 | M14: =L14-K14 -> 124.24267 | N14: =K14/K$2*100 -> 70.923734 | O14: =L14/L$2*100 -> 68.690251 | P14: =O14-N14 -> -2.2334829 | R14: =_xlfn.XLOOKUP(S14,P:P,A:A) -> Samsø | S14: =SMALL(P6:P104,5) -> -16.233175 | T14: =_xlfn.XLOOKUP(S14,P:P,N:N) -> 119.05455 | U14: =_xlfn.XLOOKUP(S14,P:P,O:O) -> 102.82137 | V14: =_xlfn.XLOOKUP(S14,P:P,K:K) -> 2719.5158 | W14: =_xlfn.XLOOKUP(S14,P:P,L:L) -> 2611.0537 | X14: =_xlfn.XLOOKUP(S14,P:P,M:M) -> -108.46215 | Y14: =_xlfn.XLOOKUP(S14,P:P,H:H) -> 10045891 | Z14: =_xlfn.XLOOKUP(S14,P:P,I:I) -> 9436348 | AA14: =_xlfn.XLOOKUP(S14,P:P,E:E) -> 8.3 | AB14: =_xlfn.XLOOKUP(S14,P:P,F:F) -> 8.1
A15: Favrskov | B15: =_xlfn.XLOOKUP(A15,Antal!A:A,Antal!B:B) -> 1387 | C15: =_xlfn.XLOOKUP(A15,Antal!A:A,Antal!H:H) -> 1497 | E15: =_xlfn.XLOOKUP(A15,Antal!K:K,Antal!M:M) -> 4.6 | F15: =_xlfn.XLOOKUP(A15,Antal!K:K,Antal!R:R) -> 4.9 | G15: =F15-E15 -> 0.3 | H15: =_xlfn.XLOOKUP(A15,Udgifter!A:A,Udgifter!C:C) -> 82956995 | I15: =_xlfn.XLOOKUP(A15,Udgifter!A:A,Udgifter!H:H) -> 88357831 | J15: =I15-H15 -> 5400835.9 | K15: =_xlfn.XLOOKUP(A15,Udgifter!A:A,Udgifter!K:K) -> 1710.7004 | L15: =_xlfn.XLOOKUP(A15,Udgifter!A:A,Udgifter!P:P) -> 1771.9409 | M15: =L15-K15 -> 61.240448 | N15: =K15/K$2*100 -> 74.890779 | O15: =L15/L$2*100 -> 69.777726 | P15: =O15-N15 -> -5.1130534 | R15: Hele landet | V15: 2284.2604 | W15: 2539.4076 | AA15: 5.9 | AB15: 6.7
A16: Faxe | B16: =_xlfn.XLOOKUP(A16,Antal!A:A,Antal!B:B) -> 1239 | C16: =_xlfn.XLOOKUP(A16,Antal!A:A,Antal!H:H) -> 1829 | E16: =_xlfn.XLOOKUP(A16,Antal!K:K,Antal!M:M) -> 5.9 | F16: =_xlfn.XLOOKUP(A16,Antal!K:K,Antal!R:R) -> 7.6 | G16: =F16-E16 -> 1.7 | H16: =_xlfn.XLOOKUP(A16,Udgifter!A:A,Udgifter!C:C) -> 81867016 | I16: =_xlfn.XLOOKUP(A16,Udgifter!A:A,Udgifter!H:H) -> 109528157 | J16: =I16-H16 -> 27661141 | K16: =_xlfn.XLOOKUP(A16,Udgifter!A:A,Udgifter!K:K) -> 2224.4658 | L16: =_xlfn.XLOOKUP(A16,Udgifter!A:A,Udgifter!P:P) -> 2871.7398 | M16: =L16-K16 -> 647.27399 | N16: =K16/K$2*100 -> 97.382323 | O16: =L16/L$2*100 -> 113.087 | P16: =O16-N16 -> 15.704676
A17: Fredensborg | B17: =_xlfn.XLOOKUP(A17,Antal!A:A,Antal!B:B) -> 1279 | C17: =_xlfn.XLOOKUP(A17,Antal!A:A,Antal!H:H) -> 1443 | E17: =_xlfn.XLOOKUP(A17,Antal!K:K,Antal!M:M) -> 5.2 | F17: =_xlfn.XLOOKUP(A17,Antal!K:K,Antal!R:R) -> 5.7 | G17: =F17-E17 -> 0.5 | H17: =_xlfn.XLOOKUP(A17,Udgifter!A:A,Udgifter!C:C) -> 76561136 | I17: =_xlfn.XLOOKUP(A17,Udgifter!A:A,Udgifter!H:H) -> 84933100 | J17: =I17-H17 -> 8371964.4 | K17: =_xlfn.XLOOKUP(A17,Udgifter!A:A,Udgifter!K:K) -> 1865.2066 | L17: =_xlfn.XLOOKUP(A17,Udgifter!A:A,Udgifter!P:P) -> 1999.3197 | M17: =L17-K17 -> 134.11309 | N17: =K17/K$2*100 -> 81.654728 | O17: =L17/L$2*100 -> 78.731737 | P17: =O17-N17 -> -2.9229908
A18: Fredericia | B18: =_xlfn.XLOOKUP(A18,Antal!A:A,Antal!B:B) -> 2070 | C18: =_xlfn.XLOOKUP(A18,Antal!A:A,Antal!H:H) -> 2806 | E18: =_xlfn.XLOOKUP(A18,Antal!K:K,Antal!M:M) -> 6.8 | F18: =_xlfn.XLOOKUP(A18,Antal!K:K,Antal!R:R) -> 8.3 | G18: =F18-E18 -> 1.5 | H18: =_xlfn.XLOOKUP(A18,Udgifter!A:A,Udgifter!C:C) -> 1.3239721e+08 | I18: =_xlfn.XLOOKUP(A18,Udgifter!A:A,Udgifter!H:H) -> 165033703 | J18: =I18-H18 -> 32636490 | K18: =_xlfn.XLOOKUP(A18,Udgifter!A:A,Udgifter!K:K) -> 2577.3255 | L18: =_xlfn.XLOOKUP(A18,Udgifter!A:A,Udgifter!P:P) -> 3118.5507 | M18: =L18-K18 -> 541.22516 | N18: =K18/K$2*100 -> 112.82976 | O18: =L18/L$2*100 -> 122.80623 | P18: =O18-N18 -> 9.9764686
A19: Frederiksberg | B19: =_xlfn.XLOOKUP(A19,Antal!A:A,Antal!B:B) -> 2225 | C19: =_xlfn.XLOOKUP(A19,Antal!A:A,Antal!H:H) -> 2797 | E19: =_xlfn.XLOOKUP(A19,Antal!K:K,Antal!M:M) -> 3.3 | F19: =_xlfn.XLOOKUP(A19,Antal!K:K,Antal!R:R) -> 3.8 | G19: =F19-E19 -> 0.5 | H19: =_xlfn.XLOOKUP(A19,Udgifter!A:A,Udgifter!C:C) -> 1.4008619e+08 | I19: =_xlfn.XLOOKUP(A19,Udgifter!A:A,Udgifter!H:H) -> 164252204 | J19: =I19-H19 -> 24166015 | K19: =_xlfn.XLOOKUP(A19,Udgifter!A:A,Udgifter!K:K) -> 1356.3203 | L19: =_xlfn.XLOOKUP(A19,Udgifter!A:A,Udgifter!P:P) -> 1543.2451 | M19: =L19-K19 -> 186.92476 | N19: =K19/K$2*100 -> 59.376783 | O19: =L19/L$2*100 -> 60.771855 | P19: =O19-N19 -> 1.3950721 | S19: Kommune | T19: Antal fuldtidspersoner førtidspension 2. kvartal 2021 | U19: Antal fuldtidspersoner førtidspension 2. kvartal 2026 | V19: Andel af befolkning førtidspension 2. kvartal 2021 | W19: Andel af befolkning førtidspension 2. kvartal 2026 | X19: Udgifter til førtidspension i alt 2. kvartal 2021 | Y19: Udgifter til førtidspension i alt 2. kvartal 2026 | Z19: Udgifter til førtidspension pr. indbygger 2. kvartal 2021 | AA19: Udgifter til førtidspension pr. indbygger 2. kvartal 2026
A20: Frederikshavn | B20: =_xlfn.XLOOKUP(A20,Antal!A:A,Antal!B:B) -> 2953 | C20: =_xlfn.XLOOKUP(A20,Antal!A:A,Antal!H:H) -> 3294 | E20: =_xlfn.XLOOKUP(A20,Antal!K:K,Antal!M:M) -> 8.5 | F20: =_xlfn.XLOOKUP(A20,Antal!K:K,Antal!R:R) -> 9.6 | G20: =F20-E20 -> 1.1 | H20: =_xlfn.XLOOKUP(A20,Udgifter!A:A,Udgifter!C:C) -> 1.838354e+08 | I20: =_xlfn.XLOOKUP(A20,Udgifter!A:A,Udgifter!H:H) -> 196486786 | J20: =I20-H20 -> 12651383 | K20: =_xlfn.XLOOKUP(A20,Udgifter!A:A,Udgifter!K:K) -> 3119.3967 | L20: =_xlfn.XLOOKUP(A20,Udgifter!A:A,Udgifter!P:P) -> 3420.4928 | M20: =L20-K20 -> 301.0961 | N20: =K20/K$2*100 -> 136.56047 | O20: =L20/L$2*100 -> 134.69649 | P20: =O20-N20 -> -1.8639812 | S20: Hele landet | T20: 216457 | U20: 260755 | V20: 5.9 | W20: 6.7 | X20: 1.3347726e+10 | Y20: 15315794350 | Z20: 2284.2604 | AA20: 2539.4076
A21: Frederikssund | B21: =_xlfn.XLOOKUP(A21,Antal!A:A,Antal!B:B) -> 1349 | C21: =_xlfn.XLOOKUP(A21,Antal!A:A,Antal!H:H) -> 1943 | E21: =_xlfn.XLOOKUP(A21,Antal!K:K,Antal!M:M) -> 5.2 | F21: =_xlfn.XLOOKUP(A21,Antal!K:K,Antal!R:R) -> 6.7 | G21: =F21-E21 -> 1.5 | H21: =_xlfn.XLOOKUP(A21,Udgifter!A:A,Udgifter!C:C) -> 86594035 | I21: =_xlfn.XLOOKUP(A21,Udgifter!A:A,Udgifter!H:H) -> 114271846 | J21: =I21-H21 -> 27677811 | K21: =_xlfn.XLOOKUP(A21,Udgifter!A:A,Udgifter!K:K) -> 1898.2011 | L21: =_xlfn.XLOOKUP(A21,Udgifter!A:A,Udgifter!P:P) -> 2392.276 | M21: =L21-K21 -> 494.07489 | N21: =K21/K$2*100 -> 83.099154 | O21: =L21/L$2*100 -> 94.206065 | P21: =O21-N21 -> 11.106911
A22: Furesø | B22: =_xlfn.XLOOKUP(A22,Antal!A:A,Antal!B:B) -> 834 | C22: =_xlfn.XLOOKUP(A22,Antal!A:A,Antal!H:H) -> 1023 | E22: =_xlfn.XLOOKUP(A22,Antal!K:K,Antal!M:M) -> 3.5 | F22: =_xlfn.XLOOKUP(A22,Antal!K:K,Antal!R:R) -> 4 | G22: =F22-E22 -> 0.5 | H22: =_xlfn.XLOOKUP(A22,Udgifter!A:A,Udgifter!C:C) -> 51636614 | I22: =_xlfn.XLOOKUP(A22,Udgifter!A:A,Udgifter!H:H) -> 60282564 | J22: =I22-H22 -> 8645949.8 | K22: =_xlfn.XLOOKUP(A22,Udgifter!A:A,Udgifter!K:K) -> 1260.9674 | L22: =_xlfn.XLOOKUP(A22,Udgifter!A:A,Udgifter!P:P) -> 1405.2535 | M22: =L22-K22 -> 144.28611 | N22: =K22/K$2*100 -> 55.202436 | O22: =L22/L$2*100 -> 55.337847 | P22: =O22-N22 -> 0.13541131
A23: Faaborg-Midtfyn | B23: =_xlfn.XLOOKUP(A23,Antal!A:A,Antal!B:B) -> 2308 | C23: =_xlfn.XLOOKUP(A23,Antal!A:A,Antal!H:H) -> 3053 | E23: =_xlfn.XLOOKUP(A23,Antal!K:K,Antal!M:M) -> 7.6 | F23: =_xlfn.XLOOKUP(A23,Antal!K:K,Antal!R:R) -> 9.7 | G23: =F23-E23 -> 2.1 | H23: =_xlfn.XLOOKUP(A23,Udgifter!A:A,Udgifter!C:C) -> 1.4308651e+08 | I23: =_xlfn.XLOOKUP(A23,Udgifter!A:A,Udgifter!H:H) -> 181850990 | J23: =I23-H23 -> 38764483 | K23: =_xlfn.XLOOKUP(A23,Udgifter!A:A,Udgifter!K:K) -> 2770.9 | L23: =_xlfn.XLOOKUP(A23,Udgifter!A:A,Udgifter!P:P) -> 3478.8704 | M23: =L23-K23 -> 707.97032 | N23: =K23/K$2*100 -> 121.30404 | O23: =L23/L$2*100 -> 136.99535 | P23: =O23-N23 -> 15.691317
A24: Gentofte | B24: =_xlfn.XLOOKUP(A24,Antal!A:A,Antal!B:B) -> 1120 | C24: =_xlfn.XLOOKUP(A24,Antal!A:A,Antal!H:H) -> 1350 | E24: =_xlfn.XLOOKUP(A24,Antal!K:K,Antal!M:M) -> 2.6 | F24: =_xlfn.XLOOKUP(A24,Antal!K:K,Antal!R:R) -> 2.9 | G24: =F24-E24 -> 0.3 | H24: =_xlfn.XLOOKUP(A24,Udgifter!A:A,Udgifter!C:C) -> 72630299 | I24: =_xlfn.XLOOKUP(A24,Udgifter!A:A,Udgifter!H:H) -> 79767954 | J24: =I24-H24 -> 7137655.3 | K24: =_xlfn.XLOOKUP(A24,Udgifter!A:A,Udgifter!K:K) -> 977.27766 | L24: =_xlfn.XLOOKUP(A24,Udgifter!A:A,Udgifter!P:P) -> 1062.3546 | M24: =L24-K24 -> 85.07689 | N24: =K24/K$2*100 -> 42.783111 | O24: =L24/L$2*100 -> 41.83474 | P24: =O24-N24 -> -0.94837133 | S24: Kommune
A25: Gladsaxe | B25: =_xlfn.XLOOKUP(A25,Antal!A:A,Antal!B:B) -> 2016 | C25: =_xlfn.XLOOKUP(A25,Antal!A:A,Antal!H:H) -> 2443 | E25: =_xlfn.XLOOKUP(A25,Antal!K:K,Antal!M:M) -> 4.6 | F25: =_xlfn.XLOOKUP(A25,Antal!K:K,Antal!R:R) -> 5.2 | G25: =F25-E25 -> 0.6 | H25: =_xlfn.XLOOKUP(A25,Udgifter!A:A,Udgifter!C:C) -> 1.2599861e+08 | I25: =_xlfn.XLOOKUP(A25,Udgifter!A:A,Udgifter!H:H) -> 145645659 | J25: =I25-H25 -> 19647048 | K25: =_xlfn.XLOOKUP(A25,Udgifter!A:A,Udgifter!K:K) -> 1821.5525 | L25: =_xlfn.XLOOKUP(A25,Udgifter!A:A,Udgifter!P:P) -> 2052.8219 | M25: =L25-K25 -> 231.26933 | N25: =K25/K$2*100 -> 79.743647 | O25: =L25/L$2*100 -> 80.838613 | P25: =O25-N25 -> 1.0949665 | S25: Hele landet
A26: Glostrup | B26: =_xlfn.XLOOKUP(A26,Antal!A:A,Antal!B:B) -> 736 | C26: =_xlfn.XLOOKUP(A26,Antal!A:A,Antal!H:H) -> 891 | E26: =_xlfn.XLOOKUP(A26,Antal!K:K,Antal!M:M) -> 5 | F26: =_xlfn.XLOOKUP(A26,Antal!K:K,Antal!R:R) -> 5.1 | G26: =F26-E26 -> 0.1 | H26: =_xlfn.XLOOKUP(A26,Udgifter!A:A,Udgifter!C:C) -> 46818890 | I26: =_xlfn.XLOOKUP(A26,Udgifter!A:A,Udgifter!H:H) -> 52920021 | J26: =I26-H26 -> 6101130.9 | K26: =_xlfn.XLOOKUP(A26,Udgifter!A:A,Udgifter!K:K) -> 1994.5848 | L26: =_xlfn.XLOOKUP(A26,Udgifter!A:A,Udgifter!P:P) -> 2046.1671 | M26: =L26-K26 -> 51.582305 | N26: =K26/K$2*100 -> 87.318628 | O26: =L26/L$2*100 -> 80.576555 | P26: =O26-N26 -> -6.7420731
A27: Greve | B27: =_xlfn.XLOOKUP(A27,Antal!A:A,Antal!B:B) -> 1449 | C27: =_xlfn.XLOOKUP(A27,Antal!A:A,Antal!H:H) -> 1870 | E27: =_xlfn.XLOOKUP(A27,Antal!K:K,Antal!M:M) -> 4.9 | F27: =_xlfn.XLOOKUP(A27,Antal!K:K,Antal!R:R) -> 5.6 | G27: =F27-E27 -> 0.7 | H27: =_xlfn.XLOOKUP(A27,Udgifter!A:A,Udgifter!C:C) -> 87258869 | I27: =_xlfn.XLOOKUP(A27,Udgifter!A:A,Udgifter!H:H) -> 107009860 | J27: =I27-H27 -> 19750991 | K27: =_xlfn.XLOOKUP(A27,Udgifter!A:A,Udgifter!K:K) -> 1726.4967 | L27: =_xlfn.XLOOKUP(A27,Udgifter!A:A,Udgifter!P:P) -> 1975.2628 | M27: =L27-K27 -> 248.76608 | N27: =K27/K$2*100 -> 75.582306 | O27: =L27/L$2*100 -> 77.784393 | P27: =O27-N27 -> 2.2020866
A28: Gribskov | B28: =_xlfn.XLOOKUP(A28,Antal!A:A,Antal!B:B) -> 1293 | C28: =_xlfn.XLOOKUP(A28,Antal!A:A,Antal!H:H) -> 1765 | E28: =_xlfn.XLOOKUP(A28,Antal!K:K,Antal!M:M) -> 5.5 | F28: =_xlfn.XLOOKUP(A28,Antal!K:K,Antal!R:R) -> 7.2 | G28: =F28-E28 -> 1.7 | H28: =_xlfn.XLOOKUP(A28,Udgifter!A:A,Udgifter!C:C) -> 80897151 | I28: =_xlfn.XLOOKUP(A28,Udgifter!A:A,Udgifter!H:H) -> 104712726 | J28: =I28-H28 -> 23815575 | K28: =_xlfn.XLOOKUP(A28,Udgifter!A:A,Udgifter!K:K) -> 1971.5625 | L28: =_xlfn.XLOOKUP(A28,Udgifter!A:A,Udgifter!P:P) -> 2496.965 | M28: =L28-K28 -> 525.40258 | N28: =K28/K$2*100 -> 86.310758 | O28: =L28/L$2*100 -> 98.328644 | P28: =O28-N28 -> 12.017886
A29: Guldborgsund | B29: =_xlfn.XLOOKUP(A29,Antal!A:A,Antal!B:B) -> 3523 | C29: =_xlfn.XLOOKUP(A29,Antal!A:A,Antal!H:H) -> 3638 | E29: =_xlfn.XLOOKUP(A29,Antal!K:K,Antal!M:M) -> 9.8 | F29: =_xlfn.XLOOKUP(A29,Antal!K:K,Antal!R:R) -> 10.3 | G29: =F29-E29 -> 0.5 | H29: =_xlfn.XLOOKUP(A29,Udgifter!A:A,Udgifter!C:C) -> 2.1662113e+08 | I29: =_xlfn.XLOOKUP(A29,Udgifter!A:A,Udgifter!H:H) -> 218004943 | J29: =I29-H29 -> 1383810.5 | K29: =_xlfn.XLOOKUP(A29,Udgifter!A:A,Udgifter!K:K) -> 3589.7114 | L29: =_xlfn.XLOOKUP(A29,Udgifter!A:A,Udgifter!P:P) -> 3694.7485 | M29: =L29-K29 -> 105.03718 | N29: =K29/K$2*100 -> 157.14983 | O29: =L29/L$2*100 -> 145.49648 | P29: =O29-N29 -> -11.653356
A30: Haderslev | B30: =_xlfn.XLOOKUP(A30,Antal!A:A,Antal!B:B) -> 2603 | C30: =_xlfn.XLOOKUP(A30,Antal!A:A,Antal!H:H) -> 2790 | E30: =_xlfn.XLOOKUP(A30,Antal!K:K,Antal!M:M) -> 7.6 | F30: =_xlfn.XLOOKUP(A30,Antal!K:K,Antal!R:R) -> 8.2 | G30: =F30-E30 -> 0.6 | H30: =_xlfn.XLOOKUP(A30,Udgifter!A:A,Udgifter!C:C) -> 1.5605334e+08 | I30: =_xlfn.XLOOKUP(A30,Udgifter!A:A,Udgifter!H:H) -> 163916186 | J30: =I30-H30 -> 7862849.5 | K30: =_xlfn.XLOOKUP(A30,Udgifter!A:A,Udgifter!K:K) -> 2819.9522 | L30: =_xlfn.XLOOKUP(A30,Udgifter!A:A,Udgifter!P:P) -> 2969.4961 | M30: =L30-K30 -> 149.54389 | N30: =K30/K$2*100 -> 123.45143 | O30: =L30/L$2*100 -> 116.93657 | P30: =O30-N30 -> -6.5148646
A31: Halsnæs | B31: =_xlfn.XLOOKUP(A31,Antal!A:A,Antal!B:B) -> 1275 | C31: =_xlfn.XLOOKUP(A31,Antal!A:A,Antal!H:H) -> 1496 | E31: =_xlfn.XLOOKUP(A31,Antal!K:K,Antal!M:M) -> 7 | F31: =_xlfn.XLOOKUP(A31,Antal!K:K,Antal!R:R) -> 7.9 | G31: =F31-E31 -> 0.9 | H31: =_xlfn.XLOOKUP(A31,Udgifter!A:A,Udgifter!C:C) -> 80528484 | I31: =_xlfn.XLOOKUP(A31,Udgifter!A:A,Udgifter!H:H) -> 89474286 | J31: =I31-H31 -> 8945801.6 | K31: =_xlfn.XLOOKUP(A31,Udgifter!A:A,Udgifter!K:K) -> 2560.5241 | L31: =_xlfn.XLOOKUP(A31,Udgifter!A:A,Udgifter!P:P) -> 2815.9591 | M31: =L31-K31 -> 255.435 | N31: =K31/K$2*100 -> 112.09423 | O31: =L31/L$2*100 -> 110.8904 | P31: =O31-N31 -> -1.2038349
A32: Hedensted | B32: =_xlfn.XLOOKUP(A32,Antal!A:A,Antal!B:B) -> 1387 | C32: =_xlfn.XLOOKUP(A32,Antal!A:A,Antal!H:H) -> 1748 | E32: =_xlfn.XLOOKUP(A32,Antal!K:K,Antal!M:M) -> 4.9 | F32: =_xlfn.XLOOKUP(A32,Antal!K:K,Antal!R:R) -> 5.7 | G32: =F32-E32 -> 0.8 | H32: =_xlfn.XLOOKUP(A32,Udgifter!A:A,Udgifter!C:C) -> 86816082 | I32: =_xlfn.XLOOKUP(A32,Udgifter!A:A,Udgifter!H:H) -> 103794067 | J32: =I32-H32 -> 16977985 | K32: =_xlfn.XLOOKUP(A32,Udgifter!A:A,Udgifter!K:K) -> 1852.0369 | L32: =_xlfn.XLOOKUP(A32,Udgifter!A:A,Udgifter!P:P) -> 2129.1964 | M32: =L32-K32 -> 277.15951 | N32: =K32/K$2*100 -> 81.078187 | O32: =L32/L$2*100 -> 83.846187 | P32: =O32-N32 -> 2.768
A33: Helsingør | B33: =_xlfn.XLOOKUP(A33,Antal!A:A,Antal!B:B) -> 2360 | C33: =_xlfn.XLOOKUP(A33,Antal!A:A,Antal!H:H) -> 2817 | E33: =_xlfn.XLOOKUP(A33,Antal!K:K,Antal!M:M) -> 6.4 | F33: =_xlfn.XLOOKUP(A33,Antal!K:K,Antal!R:R) -> 7.3 | G33: =F33-E33 -> 0.9 | H33: =_xlfn.XLOOKUP(A33,Udgifter!A:A,Udgifter!C:C) -> 1.4736057e+08 | I33: =_xlfn.XLOOKUP(A33,Udgifter!A:A,Udgifter!H:H) -> 167014990 | J33: =I33-H33 -> 19654422 | K33: =_xlfn.XLOOKUP(A33,Udgifter!A:A,Udgifter!K:K) -> 2336.7199 | L33: =_xlfn.XLOOKUP(A33,Udgifter!A:A,Udgifter!P:P) -> 2593.7227 | M33: =L33-K33 -> 257.00276 | N33: =K33/K$2*100 -> 102.29656 | O33: =L33/L$2*100 -> 102.13889 | P33: =O33-N33 -> -0.15767648
A34: Herlev | B34: =_xlfn.XLOOKUP(A34,Antal!A:A,Antal!B:B) -> 979 | C34: =_xlfn.XLOOKUP(A34,Antal!A:A,Antal!H:H) -> 1181 | E34: =_xlfn.XLOOKUP(A34,Antal!K:K,Antal!M:M) -> 5.5 | F34: =_xlfn.XLOOKUP(A34,Antal!K:K,Antal!R:R) -> 5.7 | G34: =F34-E34 -> 0.2 | H34: =_xlfn.XLOOKUP(A34,Udgifter!A:A,Udgifter!C:C) -> 60129908 | I34: =_xlfn.XLOOKUP(A34,Udgifter!A:A,Udgifter!H:H) -> 69737436 | J34: =I34-H34 -> 9607527.8 | K34: =_xlfn.XLOOKUP(A34,Udgifter!A:A,Udgifter!K:K) -> 2084.3701 | L34: =_xlfn.XLOOKUP(A34,Udgifter!A:A,Udgifter!P:P) -> 2169.3295 | M34: =L34-K34 -> 84.959433 | N34: =K34/K$2*100 -> 91.249233 | O34: =L34/L$2*100 -> 85.426598 | P34: =O34-N34 -> -5.8226342
A35: Herning | B35: =_xlfn.XLOOKUP(A35,Antal!A:A,Antal!B:B) -> 3776 | C35: =_xlfn.XLOOKUP(A35,Antal!A:A,Antal!H:H) -> 4223 | E35: =_xlfn.XLOOKUP(A35,Antal!K:K,Antal!M:M) -> 6.7 | F35: =_xlfn.XLOOKUP(A35,Antal!K:K,Antal!R:R) -> 7.4 | G35: =F35-E35 -> 0.7 | H35: =_xlfn.XLOOKUP(A35,Udgifter!A:A,Udgifter!C:C) -> 2.246799e+08 | I35: =_xlfn.XLOOKUP(A35,Udgifter!A:A,Udgifter!H:H) -> 247102696 | J35: =I35-H35 -> 22422799 | K35: =_xlfn.XLOOKUP(A35,Udgifter!A:A,Udgifter!K:K) -> 2515.4489 | L35: =_xlfn.XLOOKUP(A35,Udgifter!A:A,Udgifter!P:P) -> 2725.5377 | M35: =L35-K35 -> 210.08876 | N35: =K35/K$2*100 -> 110.12094 | O35: =L35/L$2*100 -> 107.32967 | P35: =O35-N35 -> -2.7912695
A36: Hillerød | B36: =_xlfn.XLOOKUP(A36,Antal!A:A,Antal!B:B) -> 1493 | C36: =_xlfn.XLOOKUP(A36,Antal!A:A,Antal!H:H) -> 1674 | E36: =_xlfn.XLOOKUP(A36,Antal!K:K,Antal!M:M) -> 4.9 | F36: =_xlfn.XLOOKUP(A36,Antal!K:K,Antal!R:R) -> 4.7 | G36: =F36-E36 -> -0.2 | H36: =_xlfn.XLOOKUP(A36,Udgifter!A:A,Udgifter!C:C) -> 96233918 | I36: =_xlfn.XLOOKUP(A36,Udgifter!A:A,Udgifter!H:H) -> 99139230 | J36: =I36-H36 -> 2905311.6 | K36: =_xlfn.XLOOKUP(A36,Udgifter!A:A,Udgifter!K:K) -> 1859.7364 | L36: =_xlfn.XLOOKUP(A36,Udgifter!A:A,Udgifter!P:P) -> 1790.7774 | M36: =L36-K36 -> -68.958931 | N36: =K36/K$2*100 -> 81.415253 | O36: =L36/L$2*100 -> 70.519497 | P36: =O36-N36 -> -10.895756
A37: Hjørring | B37: =_xlfn.XLOOKUP(A37,Antal!A:A,Antal!B:B) -> 3001 | C37: =_xlfn.XLOOKUP(A37,Antal!A:A,Antal!H:H) -> 3075 | E37: =_xlfn.XLOOKUP(A37,Antal!K:K,Antal!M:M) -> 7.9 | F37: =_xlfn.XLOOKUP(A37,Antal!K:K,Antal!R:R) -> 8.1 | G37: =F37-E37 -> 0.2 | H37: =_xlfn.XLOOKUP(A37,Udgifter!A:A,Udgifter!C:C) -> 1.8988414e+08 | I37: =_xlfn.XLOOKUP(A37,Udgifter!A:A,Udgifter!H:H) -> 184613281 | J37: =I37-H37 -> -5270859.5 | K37: =_xlfn.XLOOKUP(A37,Udgifter!A:A,Udgifter!K:K) -> 2962.3573 | L37: =_xlfn.XLOOKUP(A37,Udgifter!A:A,Udgifter!P:P) -> 2933.3495 | M37: =L37-K37 -> -29.007849 | N37: =K37/K$2*100 -> 129.68562 | O37: =L37/L$2*100 -> 115.51314 | P37: =O37-N37 -> -14.172481
... A100: Aarhus | B100: =_xlfn.XLOOKUP(A100,Antal!A:A,Antal!B:B) -> 13425 | C100: =_xlfn.XLOOKUP(A100,Antal!A:A,Antal!H:H) -> 15580 | E100: =_xlfn.XLOOKUP(A100,Antal!K:K,Antal!M:M) -> 5.6 | F100: =_xlfn.XLOOKUP(A100,Antal!K:K,Antal!R:R) -> 5.8 | G100: =F100-E100 -> 0.2 | H100: =_xlfn.XLOOKUP(A100,Udgifter!A:A,Udgifter!C:C) -> 8.3799894e+08 | I100: =_xlfn.XLOOKUP(A100,Udgifter!A:A,Udgifter!H:H) -> 919920771 | J100: =I100-H100 -> 81921833 | K100: =_xlfn.XLOOKUP(A100,Udgifter!A:A,Udgifter!K:K) -> 2378.3275 | L100: =_xlfn.XLOOKUP(A100,Udgifter!A:A,Udgifter!P:P) -> 2431.755 | M100: =L100-K100 -> 53.427535 | N100: =K100/K$2*100 -> 104.11806 | O100: =L100/L$2*100 -> 95.760722 | P100: =O100-N100 -> -8.3573331

Sheet Udgifter
A1: ydelsesgruppe | B1: Førtidspension | Y1: ydelsesgruppe | Z1: Seniorpension | BC1: ydelsesgruppe | BD1: Ydelsesgrupper i alt
A3: Summen af Offentlige udgifter, 2026 pl (kr.) | B3: Kolonnemærkater | Y3: Summen af Offentlige udgifter, 2026 pl (kr.) | Z3: Kolonnemærkater | BC3: Summen af Offentlige udgifter, 2026 pl (kr.) | BD3: Kolonnemærkater
A4: Rækkemærkater | B4: 2. kvt 2020 | C4: 2. kvt 2021 | D4: 2. kvt 2022 | E4: 2. kvt 2023 | F4: 2. kvt 2024 | G4: 2. kvt 2025 | H4: 2. kvt 2026 | I4: Hovedtotal | J4: pr. indbygger 2. kvt. 2020 | K4: pr. indbygger 2. kvt. 2021 | L4: pr. indbygger 2. kvt. 2022 | M4: pr. indbygger 2. kvt. 2023 | N4: pr. indbygger 2. kvt. 2024 | O4: pr. indbygger 2. kvt. 2025 | P4: pr. indbygger 2. kvt. 2026 | Q4: pr. 16-66 år 2. kvt 2020 | R4: pr. 16-66 år 2. kvt 2021 | S4: pr. 16-66 år 2. kvt 2022 | T4: pr. 16-66 år 2. kvt 2023 | U4: pr. 16-66 år 2. kvt 2024 | V4: pr. 16-66 år 2. kvt 2025 | W4: pr. 16-66 år 2. kvt 2026 | Y4: Rækkemærkater | Z4: 2. kvt 2020 | AA4: 2. kvt 2021 | AB4: 2. kvt 2022 | AC4: 2. kvt 2023 | AD4: 2. kvt 2024 | AE4: 2. kvt 2025 | AF4: 2. kvt 2026 | AG4: Hovedtotal | AH4: pr. indbygger 2. kvt. 2020 | AI4: pr. indbygger 2. kvt. 2021 | AJ4: pr. indbygger 2. kvt. 2022 | AK4: pr. indbygger 2. kvt. 2023 | AL4: pr. indbygger 2. kvt. 2024 | AM4: pr. indbygger 2. kvt. 2025 | AN4: pr. indbygger 2. kvt. 2026 | AO4: pr. 16-66 år 2. kvt 2020 | AP4: pr. 16-66 år 2. kvt 2021 | AQ4: pr. 16-66 år 2. kvt 2022 | AR4: pr. 16-66 år 2. kvt 2023 | AS4: pr. 16-66 år 2. kvt 2024 | AT4: pr. 16-66 år 2. kvt 2025 | AU4: pr. 16-66 år 2. kvt 2026 | BC4: Rækkemærkater | BD4: 2. kvt 2020 | BE4: 2. kvt 2021 | BF4: 2. kvt 2022 | BG4: 2. kvt 2023 | BH4: 2. kvt 2024 | BI4: 2. kvt 2025 | BJ4: 2. kvt 2026 | BK4: Hovedtotal | BL4: pr. indbygger 2. kvt. 2020 | BM4: pr. indbygger 2. kvt. 2021 | BN4: pr. indbygger 2. kvt. 2022 | BO4: pr. indbygger 2. kvt. 2023 | BP4: pr. indbygger 2. kvt. 2024 | BQ4: pr. indbygger 2. kvt. 2025 | BR4: pr. indbygger 2. kvt. 2026 | BS4: pr. 16-66 år 2. kvt 2020 | BT4: pr. 16-66 år 2. kvt 2021 | BU4: pr. 16-66 år 2. kvt 2022 | BV4: pr. 16-66 år 2. kvt 2023 | BW4: pr. 16-66 år 2. kvt 2024 | BX4: pr. 16-66 år 2. kvt 2025 | BY4: pr. 16-66 år 2. kvt 2026 | CB4: Kommune | CC4: 2. kvt 2020 | CD4: 2. kvt 2021 | CE4: 2. kvt 2022 | CF4: 2. kvt 2023 | CG4: 2. kvt 2024 | CH4: 2. kvt 2025 | CI4: 2. kvt 2026
A5: Albertslund | B5: 63318103 | C5: 65320173 | D5: 67247201 | E5: 72658933 | F5: 78002634 | G5: 82732406 | H5: 85479838 | I5: 5.1475929e+08 | J5: =B5/_xlfn.XLOOKUP($A5,Folketal!$A:$A,Folketal!B:B) -> 2290.2341 | K5: =C5/_xlfn.XLOOKUP($A5,Folketal!$A:$A,Folketal!C:C) -> 2402.1835 | L5: =D5/_xlfn.XLOOKUP($A5,Folketal!$A:$A,Folketal!D:D) -> 2441.0919 | M5: =E5/_xlfn.XLOOKUP($A5,Folketal!$A:$A,Folketal!E:E) -> 2639.5514 | N5: =F5/_xlfn.XLOOKUP($A5,Folketal!$A:$A,Folketal!F:F) -> 2822.8073 | O5: =G5/_xlfn.XLOOKUP($A5,Folketal!$A:$A,Folketal!G:G) -> 2913.4206 | P5: =H5/_xlfn.XLOOKUP($A5,Folketal!$A:$A,Folketal!H:H) -> 2912.6291 | Q5: =B5/_xlfn.XLOOKUP($A5,'16-66 år'!$A:$A,'16-66 år'!B:B) -> 3553.6033 | R5: =C5/_xlfn.XLOOKUP($A5,'16-66 år'!$A:$A,'16-66 år'!C:C) -> 3749.5077 | S5: =D5/_xlfn.XLOOKUP($A5,'16-66 år'!$A:$A,'16-66 år'!D:D) -> 3802.4994 | T5: =E5/_xlfn.XLOOKUP($A5,'16-66 år'!$A:$A,'16-66 år'!E:E) -> 4103.6334 | U5: =F5/_xlfn.XLOOKUP($A5,'16-66 år'!$A:$A,'16-66 år'!F:F) -> 4389.0746 | V5: =G5/_xlfn.XLOOKUP($A5,'16-66 år'!$A:$A,'16-66 år'!G:G) -> 4485.1136 | W5: =H5/_xlfn.XLOOKUP($A5,'16-66 år'!$A:$A,'16-66 år'!H:H) -> 4444.8982 | Y5: Albertslund | Z5: 294119.23 | AA5: 3075663.9 | AB5: 3913417.9 | AC5: 5291279.9 | AD5: 6168370.5 | AE5: 6110297.8 | AF5: 6845270 | AG5: 31698419 | AH5: =Z5/_xlfn.XLOOKUP($Y5,Folketal!$A:$A,Folketal!B:B) -> 10.638378 | AI5: =AA5/_xlfn.XLOOKUP($Y5,Folketal!$A:$A,Folketal!C:C) -> 113.10914 | AJ5: =AB5/_xlfn.XLOOKUP($Y5,Folketal!$A:$A,Folketal!D:D) -> 142.05815 | AK5: =AC5/_xlfn.XLOOKUP($Y5,Folketal!$A:$A,Folketal!E:E) -> 192.22145 | AL5: =AD5/_xlfn.XLOOKUP($Y5,Folketal!$A:$A,Folketal!F:F) -> 223.22478 | AM5: =AE5/_xlfn.XLOOKUP($Y5,Folketal!$A:$A,Folketal!G:G) -> 215.17406 | AN5: =AF5/_xlfn.XLOOKUP($Y5,Folketal!$A:$A,Folketal!H:H) -> 233.24485 | AO5: =Z5/_xlfn.XLOOKUP($Y5,'16-66 år'!$A:$A,'16-66 år'!B:B) -> 16.50686 | AP5: =AA5/_xlfn.XLOOKUP($Y5,'16-66 år'!$A:$A,'16-66 år'!C:C) -> 176.54921 | AQ5: =AB5/_xlfn.XLOOKUP($Y5,'16-66 år'!$A:$A,'16-66 år'!D:D) -> 221.28459 | AR5: =AC5/_xlfn.XLOOKUP($Y5,'16-66 år'!$A:$A,'16-66 år'!E:E) -> 298.84107 | AS5: =AD5/_xlfn.XLOOKUP($Y5,'16-66 år'!$A:$A,'16-66 år'!F:F) -> 347.08364 | AT5: =AE5/_xlfn.XLOOKUP($Y5,'16-66 år'!$A:$A,'16-66 år'!G:G) -> 331.25327 | AU5: =AF5/_xlfn.XLOOKUP($Y5,'16-66 år'!$A:$A,'16-66 år'!H:H) -> 355.94977 | BC5: Albertslund | BD5: 1.8049069e+08 | BE5: 1.7926499e+08 | BF5: 1.5691184e+08 | BG5: 1.5370843e+08 | BH5: 1.597384e+08 | BI5: 1.6510013e+08 | BJ5: 174833923 | BK5: 1.1700484e+09 | BL5: =BD5/_xlfn.XLOOKUP($BC5,Folketal!$A:$A,Folketal!B:B) -> 6528.4006 | BM5: =BE5/_xlfn.XLOOKUP($BC5,Folketal!$A:$A,Folketal!C:C) -> 6592.5635 | BN5: =BF5/_xlfn.XLOOKUP($BC5,Folketal!$A:$A,Folketal!D:D) -> 5695.9431 | BO5: =BG5/_xlfn.XLOOKUP($BC5,Folketal!$A:$A,Folketal!E:E) -> 5583.9151 | BP5: =BH5/_xlfn.XLOOKUP($BC5,Folketal!$A:$A,Folketal!F:F) -> 5780.7114 | BQ5: =BI5/_xlfn.XLOOKUP($BC5,Folketal!$A:$A,Folketal!G:G) -> 5813.999 | BR5: =BJ5/_xlfn.XLOOKUP($BC5,Folketal!$A:$A,Folketal!H:H) -> 5957.2687 | BS5: =BD5/_xlfn.XLOOKUP($BC5,'16-66 år'!$A:$A,'16-66 år'!B:B) -> 10129.683 | BT5: =BE5/_xlfn.XLOOKUP($BC5,'16-66 år'!$A:$A,'16-66 år'!C:C) -> 10290.166 | BU5: =BF5/_xlfn.XLOOKUP($BC5,'16-66 år'!$A:$A,'16-66 år'!D:D) -> 8872.5948 | BV5: =BG5/_xlfn.XLOOKUP($BC5,'16-66 år'!$A:$A,'16-66 år'!E:E) -> 8681.1494 | BW5: =BH5/_xlfn.XLOOKUP($BC5,'16-66 år'!$A:$A,'16-66 år'!F:F) -> 8988.2061 | BX5: =BI5/_xlfn.XLOOKUP($BC5,'16-66 år'!$A:$A,'16-66 år'!G:G) -> 8950.457 | BY5: =BJ5/_xlfn.XLOOKUP($BC5,'16-66 år'!$A:$A,'16-66 år'!H:H) -> 9091.2549 | CB5: Albertslund | CC5: =_xlfn.XLOOKUP($CB5,$A:$A,B:B)/_xlfn.XLOOKUP($CB5,$BC:$BC,BD:BD)*100 -> 35.081091 | CD5: =_xlfn.XLOOKUP($CB5,$A:$A,C:C)/_xlfn.XLOOKUP($CB5,$BC:$BC,BE:BE)*100 -> 36.437775 | CE5: =_xlfn.XLOOKUP($CB5,$A:$A,D:D)/_xlfn.XLOOKUP($CB5,$BC:$BC,BF:BF)*100 -> 42.856677 | CF5: =_xlfn.XLOOKUP($CB5,$A:$A,E:E)/_xlfn.XLOOKUP($CB5,$BC:$BC,BG:BG)*100 -> 47.270623 | CG5: =_xlfn.XLOOKUP($CB5,$A:$A,F:F)/_xlfn.XLOOKUP($CB5,$BC:$BC,BH:BH)*100 -> 48.831486 | CH5: =_xlfn.XLOOKUP($CB5,$A:$A,G:G)/_xlfn.XLOOKUP($CB5,$BC:$BC,BI:BI)*100 -> 50.110443 | CI5: =_xlfn.XLOOKUP($CB5,$A:$A,H:H)/_xlfn.XLOOKUP($CB5,$BC:$BC,BJ:BJ)*100 -> 48.892021
A6: Allerød | B6: 22935847 | C6: 23031108 | D6: 21358400 | E6: 22361051 | F6: 23766442 | G6: 25371696 | H6: 26512953 | I6: 1.653375e+08 | J6: =B6/_xlfn.XLOOKUP($A6,Folketal!$A:$A,Folketal!B:B) -> 894.77808 | K6: =C6/_xlfn.XLOOKUP($A6,Folketal!$A:$A,Folketal!C:C) -> 889.98793 | L6: =D6/_xlfn.XLOOKUP($A6,Folketal!$A:$A,Folketal!D:D) -> 825.41351 | M6: =E6/_xlfn.XLOOKUP($A6,Folketal!$A:$A,Folketal!E:E) -> 859.51147 | N6: =F6/_xlfn.XLOOKUP($A6,Folketal!$A:$A,Folketal!F:F) -> 914.90326 | O6: =G6/_xlfn.XLOOKUP($A6,Folketal!$A:$A,Folketal!G:G) -> 967.64669 | P6: =H6/_xlfn.XLOOKUP($A6,Folketal!$A:$A,Folketal!H:H) -> 1002.4938 | Q6: =B6/_xlfn.XLOOKUP($A6,'16-66 år'!$A:$A,'16-66 år'!B:B) -> 1486.3487 | R6: =C6/_xlfn.XLOOKUP($A6,'16-66 år'!$A:$A,'16-66 år'!C:C) -> 1485.4946 | S6: =D6/_xlfn.XLOOKUP($A6,'16-66 år'!$A:$A,'16-66 år'!D:D) -> 1384.3023 | T6: =E6/_xlfn.XLOOKUP($A6,'16-66 år'!$A:$A,'16-66 år'!E:E) -> 1442.2762 | U6: =F6/_xlfn.XLOOKUP($A6,'16-66 år'!$A:$A,'16-66 år'!F:F) -> 1536.3916 | V6: =G6/_xlfn.XLOOKUP($A6,'16-66 år'!$A:$A,'16-66 år'!G:G) -> 1621.7128 | W6: =H6/_xlfn.XLOOKUP($A6,'16-66 år'!$A:$A,'16-66 år'!H:H) -> 1682.7211 | Y6: Allerød | Z6: 149188.1 | AA6: 1555583.9 | AB6: 2386490.3 | AC6: 3164065.8 | AD6: 3766323.3 | AE6: 4390239.1 | AF6: 4455335 | AG6: 19867225 | AH6: =Z6/_xlfn.XLOOKUP($Y6,Folketal!$A:$A,Folketal!B:B) -> 5.8201577 | AI6: =AA6/_xlfn.XLOOKUP($Y6,Folketal!$A:$A,Folketal!C:C) -> 60.112214 | AJ6: =AB6/_xlfn.XLOOKUP($Y6,Folketal!$A:$A,Folketal!D:D) -> 92.227944 | AK6: =AC6/_xlfn.XLOOKUP($Y6,Folketal!$A:$A,Folketal!E:E) -> 121.61999 | AL6: =AD6/_xlfn.XLOOKUP($Y6,Folketal!$A:$A,Folketal!F:F) -> 144.98685 | AM6: =AE6/_xlfn.XLOOKUP($Y6,Folketal!$A:$A,Folketal!G:G) -> 167.43856 | AN6: =AF6/_xlfn.XLOOKUP($Y6,Folketal!$A:$A,Folketal!H:H) -> 168.46277 | AO6: =Z6/_xlfn.XLOOKUP($Y6,'16-66 år'!$A:$A,'16-66 år'!B:B) -> 9.6680775 | AP6: =AA6/_xlfn.XLOOKUP($Y6,'16-66 år'!$A:$A,'16-66 år'!C:C) -> 100.33436 | AQ6: =AB6/_xlfn.XLOOKUP($Y6,'16-66 år'!$A:$A,'16-66 år'!D:D) -> 154.67563 | AR6: =AC6/_xlfn.XLOOKUP($Y6,'16-66 år'!$A:$A,'16-66 år'!E:E) -> 204.08061 | AS6: =AD6/_xlfn.XLOOKUP($Y6,'16-66 år'!$A:$A,'16-66 år'!F:F) -> 243.47555 | AT6: =AE6/_xlfn.XLOOKUP($Y6,'16-66 år'!$A:$A,'16-66 år'!G:G) -> 280.61611 | AU6: =AF6/_xlfn.XLOOKUP($Y6,'16-66 år'!$A:$A,'16-66 år'!H:H) -> 282.77069 | BC6: Allerød | BD6: 78828559 | BE6: 77754742 | BF6: 64578589 | BG6: 61340859 | BH6: 65265120 | BI6: 69113941 | BJ6: 71946977 | BK6: 4.8882879e+08 | BL6: =BD6/_xlfn.XLOOKUP($BC6,Folketal!$A:$A,Folketal!B:B) -> 3075.2764 | BM6: =BE6/_xlfn.XLOOKUP($BC6,Folketal!$A:$A,Folketal!C:C) -> 3004.6658 | BN6: =BF6/_xlfn.XLOOKUP($BC6,Folketal!$A:$A,Folketal!D:D) -> 2495.6944 | BO6: =BG6/_xlfn.XLOOKUP($BC6,Folketal!$A:$A,Folketal!E:E) -> 2357.8128 | BP6: =BH6/_xlfn.XLOOKUP($BC6,Folketal!$A:$A,Folketal!F:F) -> 2512.4194 | BQ6: =BI6/_xlfn.XLOOKUP($BC6,Folketal!$A:$A,Folketal!G:G) -> 2635.9245 | BR6: =BJ6/_xlfn.XLOOKUP($BC6,Folketal!$A:$A,Folketal!H:H) -> 2720.4211 | BS6: =BD6/_xlfn.XLOOKUP($BC6,'16-66 år'!$A:$A,'16-66 år'!B:B) -> 5108.4543 | BT6: =BE6/_xlfn.XLOOKUP($BC6,'16-66 år'!$A:$A,'16-66 år'!C:C) -> 5015.1407 | BU6: =BF6/_xlfn.XLOOKUP($BC6,'16-66 år'!$A:$A,'16-66 år'!D:D) -> 4185.533 | BV6: =BG6/_xlfn.XLOOKUP($BC6,'16-66 år'!$A:$A,'16-66 år'!E:E) -> 3956.4537 | BW6: =BH6/_xlfn.XLOOKUP($BC6,'16-66 år'!$A:$A,'16-66 år'!F:F) -> 4219.0911 | BX6: =BI6/_xlfn.XLOOKUP($BC6,'16-66 år'!$A:$A,'16-66 år'!G:G) -> 4417.6377 | BY6: =BJ6/_xlfn.XLOOKUP($BC6,'16-66 år'!$A:$A,'16-66 år'!H:H) -> 4566.3225 | CB6: Allerød | CC6: =_xlfn.XLOOKUP($CB6,$A:$A,B:B)/_xlfn.XLOOKUP($CB6,$BC:$BC,BD:BD)*100 -> 29.095859 | CD6: =_xlfn.XLOOKUP($CB6,$A:$A,C:C)/_xlfn.XLOOKUP($CB6,$BC:$BC,BE:BE)*100 -> 29.620197 | CE6: =_xlfn.XLOOKUP($CB6,$A:$A,D:D)/_xlfn.XLOOKUP($CB6,$BC:$BC,BF:BF)*100 -> 33.073501 | CF6: =_xlfn.XLOOKUP($CB6,$A:$A,E:E)/_xlfn.XLOOKUP($CB6,$BC:$BC,BG:BG)*100 -> 36.453762 | CG6: =_xlfn.XLOOKUP($CB6,$A:$A,F:F)/_xlfn.XLOOKUP($CB6,$BC:$BC,BH:BH)*100 -> 36.415228 | CH6: =_xlfn.XLOOKUP($CB6,$A:$A,G:G)/_xlfn.XLOOKUP($CB6,$BC:$BC,BI:BI)*100 -> 36.709955 | CI6: =_xlfn.XLOOKUP($CB6,$A:$A,H:H)/_xlfn.XLOOKUP($CB6,$BC:$BC,BJ:BJ)*100 -> 36.850684
A7: Assens | B7: 1.0619665e+08 | C7: 1.118643e+08 | D7: 1.1589149e+08 | E7: 1.2172355e+08 | F7: 1.2538475e+08 | G7: 1.2767647e+08 | H7: 134163823 | I7: 8.4290103e+08 | J7: =B7/_xlfn.XLOOKUP($A7,Folketal!$A:$A,Folketal!B:B) -> 2595.226 | K7: =C7/_xlfn.XLOOKUP($A7,Folketal!$A:$A,Folketal!C:C) -> 2736.4065 | L7: =D7/_xlfn.XLOOKUP($A7,Folketal!$A:$A,Folketal!D:D) -> 2832.7016 | M7: =E7/_xlfn.XLOOKUP($A7,Folketal!$A:$A,Folketal!E:E) -> 2977.9463 | N7: =F7/_xlfn.XLOOKUP($A7,Folketal!$A:$A,Folketal!F:F) -> 3083.8128 | O7: =G7/_xlfn.XLOOKUP($A7,Folketal!$A:$A,Folketal!G:G) -> 3154.6085 | P7: =H7/_xlfn.XLOOKUP($A7,Folketal!$A:$A,Folketal!H:H) -> 3333.5111 | Q7: =B7/_xlfn.XLOOKUP($A7,'16-66 år'!$A:$A,'16-66 år'!B:B) -> 4199.3218 | R7: =C7/_xlfn.XLOOKUP($A7,'16-66 år'!$A:$A,'16-66 år'!C:C) -> 4450.8932 | S7: =D7/_xlfn.XLOOKUP($A7,'16-66 år'!$A:$A,'16-66 år'!D:D) -> 4610.3945 | T7: =E7/_xlfn.XLOOKUP($A7,'16-66 år'!$A:$A,'16-66 år'!E:E) -> 4855.5409 | U7: =F7/_xlfn.XLOOKUP($A7,'16-66 år'!$A:$A,'16-66 år'!F:F) -> 5031.4906 | V7: =G7/_xlfn.XLOOKUP($A7,'16-66 år'!$A:$A,'16-66 år'!G:G) -> 5159.8962 | W7: =H7/_xlfn.XLOOKUP($A7,'16-66 år'!$A:$A,'16-66 år'!H:H) -> 5465.8121 | Y7: Assens | Z7: 359741.8 | AA7: 5582227.8 | AB7: 10309173 | AC7: 14379574 | AD7: 16038232 | AE7: 16911052 | AF7: 16494445 | AG7: 80074447 | AH7: =Z7/_xlfn.XLOOKUP($Y7,Folketal!$A:$A,Folketal!B:B) -> 8.7913441 | AI7: =AA7/_xlfn.XLOOKUP($Y7,Folketal!$A:$A,Folketal!C:C) -> 136.55156 | AJ7: =AB7/_xlfn.XLOOKUP($Y7,Folketal!$A:$A,Folketal!D:D) -> 251.9841 | AK7: =AC7/_xlfn.XLOOKUP($Y7,Folketal!$A:$A,Folketal!E:E) -> 351.79386 | AL7: =AD7/_xlfn.XLOOKUP($Y7,Folketal!$A:$A,Folketal!F:F) -> 394.45712 | AM7: =AE7/_xlfn.XLOOKUP($Y7,Folketal!$A:$A,Folketal!G:G) -> 417.83541 | AN7: =AF7/_xlfn.XLOOKUP($Y7,Folketal!$A:$A,Folketal!H:H) -> 409.83042 | AO7: =Z7/_xlfn.XLOOKUP($Y7,'16-66 år'!$A:$A,'16-66 år'!B:B) -> 14.225228 | AP7: =AA7/_xlfn.XLOOKUP($Y7,'16-66 år'!$A:$A,'16-66 år'!C:C) -> 222.1075 | AQ7: =AB7/_xlfn.XLOOKUP($Y7,'16-66 år'!$A:$A,'16-66 år'!D:D) -> 410.11948 | AR7: =AC7/_xlfn.XLOOKUP($Y7,'16-66 år'!$A:$A,'16-66 år'!E:E) -> 573.59983 | AS7: =AD7/_xlfn.XLOOKUP($Y7,'16-66 år'!$A:$A,'16-66 år'!F:F) -> 643.58877 | AT7: =AE7/_xlfn.XLOOKUP($Y7,'16-66 år'!$A:$A,'16-66 år'!G:G) -> 683.44053 | AU7: =AF7/_xlfn.XLOOKUP($Y7,'16-66 år'!$A:$A,'16-66 år'!H:H) -> 671.98097 | BC7: Assens | BD7: 2.7654964e+08 | BE7: 2.6516717e+08 | BF7: 2.5141754e+08 | BG7: 2.6049431e+08 | BH7: 2.6548365e+08 | BI7: 2.618949e+08 | BJ7: 261719484 | BK7: 1.8427267e+09 | BL7: =BD7/_xlfn.XLOOKUP($BC7,Folketal!$A:$A,Folketal!B:B) -> 6758.3 | BM7: =BE7/_xlfn.XLOOKUP($BC7,Folketal!$A:$A,Folketal!C:C) -> 6486.4767 | BN7: =BF7/_xlfn.XLOOKUP($BC7,Folketal!$A:$A,Folketal!D:D) -> 6145.325 | BO7: =BG7/_xlfn.XLOOKUP($BC7,Folketal!$A:$A,Folketal!E:E) -> 6372.9494 | BP7: =BH7/_xlfn.XLOOKUP($BC7,Folketal!$A:$A,Folketal!F:F) -> 6529.5176 | BQ7: =BI7/_xlfn.XLOOKUP($BC7,Folketal!$A:$A,Folketal!G:G) -> 6470.8547 | BR7: =BJ7/_xlfn.XLOOKUP($BC7,Folketal!$A:$A,Folketal!H:H) -> 6502.8321 | BS7: =BD7/_xlfn.XLOOKUP($BC7,'16-66 år'!$A:$A,'16-66 år'!B:B) -> 10935.57 | BT7: =BE7/_xlfn.XLOOKUP($BC7,'16-66 år'!$A:$A,'16-66 år'!C:C) -> 10550.558 | BU7: =BF7/_xlfn.XLOOKUP($BC7,'16-66 år'!$A:$A,'16-66 år'!D:D) -> 10001.891 | BV7: =BG7/_xlfn.XLOOKUP($BC7,'16-66 år'!$A:$A,'16-66 år'!E:E) -> 10391.093 | BW7: =BH7/_xlfn.XLOOKUP($BC7,'16-66 år'!$A:$A,'16-66 år'!F:F) -> 10653.437 | BX7: =BI7/_xlfn.XLOOKUP($BC7,'16-66 år'!$A:$A,'16-66 år'!G:G) -> 10584.178 | BY7: =BJ7/_xlfn.XLOOKUP($BC7,'16-66 år'!$A:$A,'16-66 år'!H:H) -> 10662.409 | CB7: Assens | CC7: =_xlfn.XLOOKUP($CB7,$A:$A,B:B)/_xlfn.XLOOKUP($CB7,$BC:$BC,BD:BD)*100 -> 38.400574 | CD7: =_xlfn.XLOOKUP($CB7,$A:$A,C:C)/_xlfn.XLOOKUP($CB7,$BC:$BC,BE:BE)*100 -> 42.186331 | CE7: =_xlfn.XLOOKUP($CB7,$A:$A,D:D)/_xlfn.XLOOKUP($CB7,$BC:$BC,BF:BF)*100 -> 46.095229 | CF7: =_xlfn.XLOOKUP($CB7,$A:$A,E:E)/_xlfn.XLOOKUP($CB7,$BC:$BC,BG:BG)*100 -> 46.727913 | CG7: =_xlfn.XLOOKUP($CB7,$A:$A,F:F)/_xlfn.XLOOKUP($CB7,$BC:$BC,BH:BH)*100 -> 47.228801 | CH7: =_xlfn.XLOOKUP($CB7,$A:$A,G:G)/_xlfn.XLOOKUP($CB7,$BC:$BC,BI:BI)*100 -> 48.751033 | CI7: =_xlfn.XLOOKUP($CB7,$A:$A,H:H)/_xlfn.XLOOKUP($CB7,$BC:$BC,BJ:BJ)*100 -> 51.262451
A8: Ballerup | B8: 1.2053628e+08 | C8: 1.2454956e+08 | D8: 1.2496974e+08 | E8: 1.3038836e+08 | F8: 1.3373028e+08 | G8: 1.3542003e+08 | H8: 136680327 | I8: 9.0627457e+08 | J8: =B8/_xlfn.XLOOKUP($A8,Folketal!$A:$A,Folketal!B:B) -> 2470.512 | K8: =C8/_xlfn.XLOOKUP($A8,Folketal!$A:$A,Folketal!C:C) -> 2536.1343 | L8: =D8/_xlfn.XLOOKUP($A8,Folketal!$A:$A,Folketal!D:D) -> 2528.6256 | M8: =E8/_xlfn.XLOOKUP($A8,Folketal!$A:$A,Folketal!E:E) -> 2600.4341 | N8: =F8/_xlfn.XLOOKUP($A8,Folketal!$A:$A,Folketal!F:F) -> 2590.7182 | O8: =G8/_xlfn.XLOOKUP($A8,Folketal!$A:$A,Folketal!G:G) -> 2536.0505 | P8: =H8/_xlfn.XLOOKUP($A8,Folketal!$A:$A,Folketal!H:H) -> 2531.6798 | Q8: =B8/_xlfn.XLOOKUP($A8,'16-66 år'!$A:$A,'16-66 år'!B:B) -> 3958.7585 | R8: =C8/_xlfn.XLOOKUP($A8,'16-66 år'!$A:$A,'16-66 år'!C:C) -> 4044.6046 | S8: =D8/_xlfn.XLOOKUP($A8,'16-66 år'!$A:$A,'16-66 år'!D:D) -> 4024.6606 | T8: =E8/_xlfn.XLOOKUP($A8,'16-66 år'!$A:$A,'16-66 år'!E:E) -> 4122.6915 | U8: =F8/_xlfn.XLOOKUP($A8,'16-66 år'!$A:$A,'16-66 år'!F:F) -> 4065.2445 | V8: =G8/_xlfn.XLOOKUP($A8,'16-66 år'!$A:$A,'16-66 år'!G:G) -> 3942.4736 | W8: =H8/_xlfn.XLOOKUP($A8,'16-66 år'!$A:$A,'16-66 år'!H:H) -> 3936.1919 | Y8: Ballerup | Z8: 808410.13 | AA8: 4461667.6 | AB8: 7398636.5 | AC8: 10113758 | AD8: 12082325 | AE8: 12413533 | AF8: 12926853 | AG8: 60205183 | AH8: =Z8/_xlfn.XLOOKUP($Y8,Folketal!$A:$A,Folketal!B:B) -> 16.569177 | AI8: =AA8/_xlfn.XLOOKUP($Y8,Folketal!$A:$A,Folketal!C:C) -> 90.850492 | AJ8: =AB8/_xlfn.XLOOKUP($Y8,Folketal!$A:$A,Folketal!D:D) -> 149.7033 | AK8: =AC8/_xlfn.XLOOKUP($Y8,Folketal!$A:$A,Folketal!E:E) -> 201.70634 | AL8: =AD8/_xlfn.XLOOKUP($Y8,Folketal!$A:$A,Folketal!F:F) -> 234.06739 | AM8: =AE8/_xlfn.XLOOKUP($Y8,Folketal!$A:$A,Folketal!G:G) -> 232.47188 | AN8: =AF8/_xlfn.XLOOKUP($Y8,Folketal!$A:$A,Folketal!H:H) -> 239.43938 | AO8: =Z8/_xlfn.XLOOKUP($Y8,'16-66 år'!$A:$A,'16-66 år'!B:B) -> 26.550517 | AP8: =AA8/_xlfn.XLOOKUP($Y8,'16-66 år'!$A:$A,'16-66 år'!C:C) -> 144.88756 | AQ8: =AB8/_xlfn.XLOOKUP($Y8,'16-66 år'!$A:$A,'16-66 år'!D:D) -> 238.27369 | AR8: =AC8/_xlfn.XLOOKUP($Y8,'16-66 år'!$A:$A,'16-66 år'!E:E) -> 319.78239 | AS8: =AD8/_xlfn.XLOOKUP($Y8,'16-66 år'!$A:$A,'16-66 år'!F:F) -> 367.28857 | AT8: =AE8/_xlfn.XLOOKUP($Y8,'16-66 år'!$A:$A,'16-66 år'!G:G) -> 361.39431 | AU8: =AF8/_xlfn.XLOOKUP($Y8,'16-66 år'!$A:$A,'16-66 år'!H:H) -> 372.27431 | BC8: Ballerup | BD8: 2.9053365e+08 | BE8: 2.8625751e+08 | BF8: 2.5258465e+08 | BG8: 2.5788369e+08 | BH8: 2.6918918e+08 | BI8: 2.7870167e+08 | BJ8: 286011474 | BK8: 1.9211618e+09 | BL8: =BD8/_xlfn.XLOOKUP($BC8,Folketal!$A:$A,Folketal!B:B) -> 5954.7786 | BM8: =BE8/_xlfn.XLOOKUP($BC8,Folketal!$A:$A,Folketal!C:C) -> 5828.9046 | BN8: =BF8/_xlfn.XLOOKUP($BC8,Folketal!$A:$A,Folketal!D:D) -> 5110.7735 | BO8: =BG8/_xlfn.XLOOKUP($BC8,Folketal!$A:$A,Folketal!E:E) -> 5143.17 | BP8: =BH8/_xlfn.XLOOKUP($BC8,Folketal!$A:$A,Folketal!F:F) -> 5214.9243 | BQ8: =BI8/_xlfn.XLOOKUP($BC8,Folketal!$A:$A,Folketal!G:G) -> 5219.3279 | BR8: =BJ8/_xlfn.XLOOKUP($BC8,Folketal!$A:$A,Folketal!H:H) -> 5297.686 | BS8: =BD8/_xlfn.XLOOKUP($BC8,'16-66 år'!$A:$A,'16-66 år'!B:B) -> 9541.9616 | BT8: =BE8/_xlfn.XLOOKUP($BC8,'16-66 år'!$A:$A,'16-66 år'!C:C) -> 9295.8857 | BU8: =BF8/_xlfn.XLOOKUP($BC8,'16-66 år'!$A:$A,'16-66 år'!D:D) -> 8134.5093 | BV8: =BG8/_xlfn.XLOOKUP($BC8,'16-66 år'!$A:$A,'16-66 år'!E:E) -> 8153.9093 | BW8: =BH8/_xlfn.XLOOKUP($BC8,'16-66 år'!$A:$A,'16-66 år'!F:F) -> 8183.0368 | BX8: =BI8/_xlfn.XLOOKUP($BC8,'16-66 år'!$A:$A,'16-66 år'!G:G) -> 8113.822 | BY8: =BJ8/_xlfn.XLOOKUP($BC8,'16-66 år'!$A:$A,'16-66 år'!H:H) -> 8236.7087 | CB8: Ballerup | CC8: =_xlfn.XLOOKUP($CB8,$A:$A,B:B)/_xlfn.XLOOKUP($CB8,$BC:$BC,BD:BD)*100 -> 41.48789 | CD8: =_xlfn.XLOOKUP($CB8,$A:$A,C:C)/_xlfn.XLOOKUP($CB8,$BC:$BC,BE:BE)*100 -> 43.509621 | CE8: =_xlfn.XLOOKUP($CB8,$A:$A,D:D)/_xlfn.XLOOKUP($CB8,$BC:$BC,BF:BF)*100 -> 49.476379 | CF8: =_xlfn.XLOOKUP($CB8,$A:$A,E:E)/_xlfn.XLOOKUP($CB8,$BC:$BC,BG:BG)*100 -> 50.560919 | CG8: =_xlfn.XLOOKUP($CB8,$A:$A,F:F)/_xlfn.XLOOKUP($CB8,$BC:$BC,BH:BH)*100 -> 49.678922 | CH8: =_xlfn.XLOOKUP($CB8,$A:$A,G:G)/_xlfn.XLOOKUP($CB8,$BC:$BC,BI:BI)*100 -> 48.5896 | CI8: =_xlfn.XLOOKUP($CB8,$A:$A,H:H)/_xlfn.XLOOKUP($CB8,$BC:$BC,BJ:BJ)*100 -> 47.788407
A9: Billund | B9: 67962668 | C9: 69555129 | D9: 70318399 | E9: 74687370 | F9: 76963546 | G9: 80947034 | H9: 85256782 | I9: 5.2569093e+08 | J9: =B9/_xlfn.XLOOKUP($A9,Folketal!$A:$A,Folketal!B:B) -> 2556.333 | K9: =C9/_xlfn.XLOOKUP($A9,Folketal!$A:$A,Folketal!C:C) -> 2625.9109 | L9: =D9/_xlfn.XLOOKUP($A9,Folketal!$A:$A,Folketal!D:D) -> 2628.4304 | M9: =E9/_xlfn.XLOOKUP($A9,Folketal!$A:$A,Folketal!E:E) -> 2762.3112 | N9: =F9/_xlfn.XLOOKUP($A9,Folketal!$A:$A,Folketal!F:F) -> 2833.2921 | O9: =G9/_xlfn.XLOOKUP($A9,Folketal!$A:$A,Folketal!G:G) -> 2976.8694 | P9: =H9/_xlfn.XLOOKUP($A9,Folketal!$A:$A,Folketal!H:H) -> 3132.4827 | Q9: =B9/_xlfn.XLOOKUP($A9,'16-66 år'!$A:$A,'16-66 år'!B:B) -> 4082.8228 | R9: =C9/_xlfn.XLOOKUP($A9,'16-66 år'!$A:$A,'16-66 år'!C:C) -> 4210.8687 | S9: =D9/_xlfn.XLOOKUP($A9,'16-66 år'!$A:$A,'16-66 år'!D:D) -> 4201.8763 | T9: =E9/_xlfn.XLOOKUP($A9,'16-66 år'!$A:$A,'16-66 år'!E:E) -> 4408.9356 | U9: =F9/_xlfn.XLOOKUP($A9,'16-66 år'!$A:$A,'16-66 år'!F:F) -> 4526.7348 | V9: =G9/_xlfn.XLOOKUP($A9,'16-66 år'!$A:$A,'16-66 år'!G:G) -> 4771.695 | W9: =H9/_xlfn.XLOOKUP($A9,'16-66 år'!$A:$A,'16-66 år'!H:H) -> 5035.5432 | Y9: Billund | Z9: 153988.12 | AA9: 3078437.4 | AB9: 5497268.8 | AC9: 8254398.4 | AD9: 9355848.6 | AE9: 9640108.4 | AF9: 8458362 | AG9: 44438412 | AH9: =Z9/_xlfn.XLOOKUP($Y9,Folketal!$A:$A,Folketal!B:B) -> 5.7920756 | AI9: =AA9/_xlfn.XLOOKUP($Y9,Folketal!$A:$A,Folketal!C:C) -> 116.22008 | AJ9: =AB9/_xlfn.XLOOKUP($Y9,Folketal!$A:$A,Folketal!D:D) -> 205.48233 | AK9: =AC9/_xlfn.XLOOKUP($Y9,Folketal!$A:$A,Folketal!E:E) -> 305.28879 | AL9: =AD9/_xlfn.XLOOKUP($Y9,Folketal!$A:$A,Folketal!F:F) -> 344.42087 | AM9: =AE9/_xlfn.XLOOKUP($Y9,Folketal!$A:$A,Folketal!G:G) -> 354.52002 | AN9: =AF9/_xlfn.XLOOKUP($Y9,Folketal!$A:$A,Folketal!H:H) -> 310.77496 | AO9: =Z9/_xlfn.XLOOKUP($Y9,'16-66 år'!$A:$A,'16-66 år'!B:B) -> 9.2507582 | AP9: =AA9/_xlfn.XLOOKUP($Y9,'16-66 år'!$A:$A,'16-66 år'!C:C) -> 186.36865 | AQ9: =AB9/_xlfn.XLOOKUP($Y9,'16-66 år'!$A:$A,'16-66 år'!D:D) -> 328.48932 | AR9: =AC9/_xlfn.XLOOKUP($Y9,'16-66 år'!$A:$A,'16-66 år'!E:E) -> 487.27263 | AS9: =AD9/_xlfn.XLOOKUP($Y9,'16-66 år'!$A:$A,'16-66 år'!F:F) -> 550.27929 | AT9: =AE9/_xlfn.XLOOKUP($Y9,'16-66 år'!$A:$A,'16-66 år'!G:G) -> 568.26859 | AU9: =AF9/_xlfn.XLOOKUP($Y9,'16-66 år'!$A:$A,'16-66 år'!H:H) -> 499.57841 | BC9: Billund | BD9: 1.5861957e+08 | BE9: 1.5996599e+08 | BF9: 1.437761e+08 | BG9: 1.472371e+08 | BH9: 1.467284e+08 | BI9: 1.5144583e+08 | BJ9: 150146085 | BK9: 1.0579191e+09 | BL9: =BD9/_xlfn.XLOOKUP($BC9,Folketal!$A:$A,Folketal!B:B) -> 5966.2818 | BM9: =BE9/_xlfn.XLOOKUP($BC9,Folketal!$A:$A,Folketal!C:C) -> 6039.1872 | BN9: =BF9/_xlfn.XLOOKUP($BC9,Folketal!$A:$A,Folketal!D:D) -> 5374.2047 | BO9: =BG9/_xlfn.XLOOKUP($BC9,Folketal!$A:$A,Folketal!E:E) -> 5445.5619 | BP9: =BH9/_xlfn.XLOOKUP($BC9,Folketal!$A:$A,Folketal!F:F) -> 5401.5757 | BQ9: =BI9/_xlfn.XLOOKUP($BC9,Folketal!$A:$A,Folketal!G:G) -> 5569.4995 | BR9: =BJ9/_xlfn.XLOOKUP($BC9,Folketal!$A:$A,Folketal!H:H) -> 5516.6288 | BS9: =BD9/_xlfn.XLOOKUP($BC9,'16-66 år'!$A:$A,'16-66 år'!B:B) -> 9528.99 | BT9: =BE9/_xlfn.XLOOKUP($BC9,'16-66 år'!$A:$A,'16-66 år'!C:C) -> 9684.3438 | BU9: =BF9/_xlfn.XLOOKUP($BC9,'16-66 år'!$A:$A,'16-66 år'!D:D) -> 8591.3414 | BV9: =BG9/_xlfn.XLOOKUP($BC9,'16-66 år'!$A:$A,'16-66 år'!E:E) -> 8691.6826 | BW9: =BH9/_xlfn.XLOOKUP($BC9,'16-66 år'!$A:$A,'16-66 år'!F:F) -> 8630.0672 | BX9: =BI9/_xlfn.XLOOKUP($BC9,'16-66 år'!$A:$A,'16-66 år'!G:G) -> 8927.4835 | BY9: =BJ9/_xlfn.XLOOKUP($BC9,'16-66 år'!$A:$A,'16-66 år'!H:H) -> 8868.1168 | CB9: Billund | CC9: =_xlfn.XLOOKUP($CB9,$A:$A,B:B)/_xlfn.XLOOKUP($CB9,$BC:$BC,BD:BD)*100 -> 42.846333 | CD9: =_xlfn.XLOOKUP($CB9,$A:$A,C:C)/_xlfn.XLOOKUP($CB9,$BC:$BC,BE:BE)*100 -> 43.481198 | CE9: =_xlfn.XLOOKUP($CB9,$A:$A,D:D)/_xlfn.XLOOKUP($CB9,$BC:$BC,BF:BF)*100 -> 48.908268 | CF9: =_xlfn.XLOOKUP($CB9,$A:$A,E:E)/_xlfn.XLOOKUP($CB9,$BC:$BC,BG:BG)*100 -> 50.725916 | CG9: =_xlfn.XLOOKUP($CB9,$A:$A,F:F)/_xlfn.XLOOKUP($CB9,$BC:$BC,BH:BH)*100 -> 52.453066 | CH9: =_xlfn.XLOOKUP($CB9,$A:$A,G:G)/_xlfn.XLOOKUP($CB9,$BC:$BC,BI:BI)*100 -> 53.449497 | CI9: =_xlfn.XLOOKUP($CB9,$A:$A,H:H)/_xlfn.XLOOKUP($CB9,$BC:$BC,BJ:BJ)*100 -> 56.782554
A10: Bornholm | B10: 1.4959847e+08 | C10: 1.5520292e+08 | D10: 1.5181646e+08 | E10: 1.5794027e+08 | F10: 1.6062349e+08 | G10: 1.6031101e+08 | H10: 162340271 | I10: 1.0978329e+09 | J10: =B10/_xlfn.XLOOKUP($A10,Folketal!$A:$A,Folketal!B:B) -> 3793.1608 | K10: =C10/_xlfn.XLOOKUP($A10,Folketal!$A:$A,Folketal!C:C) -> 3913.9284 | L10: =D10/_xlfn.XLOOKUP($A10,Folketal!$A:$A,Folketal!D:D) -> 3840.052 | M10: =E10/_xlfn.XLOOKUP($A10,Folketal!$A:$A,Folketal!E:E) -> 3993.9379 | N10: =F10/_xlfn.XLOOKUP($A10,Folketal!$A:$A,Folketal!F:F) -> 4094.509 | O10: =G10/_xlfn.XLOOKUP($A10,Folketal!$A:$A,Folketal!G:G) -> 4120.4701 | P10: =H10/_xlfn.XLOOKUP($A10,Folketal!$A:$A,Folketal!H:H) -> 4204.3994 | Q10: =B10/_xlfn.XLOOKUP($A10,'16-66 år'!$A:$A,'16-66 år'!B:B) -> 6404.044 | R10: =C10/_xlfn.XLOOKUP($A10,'16-66 år'!$A:$A,'16-66 år'!C:C) -> 6666.2192 | S10: =D10/_xlfn.XLOOKUP($A10,'16-66 år'!$A:$A,'16-66 år'!D:D) -> 6586.3972 | T10: =E10/_xlfn.XLOOKUP($A10,'16-66 år'!$A:$A,'16-66 år'!E:E) -> 6882.8288 | U10: =F10/_xlfn.XLOOKUP($A10,'16-66 år'!$A:$A,'16-66 år'!F:F) -> 7104.7192 | V10: =G10/_xlfn.XLOOKUP($A10,'16-66 år'!$A:$A,'16-66 år'!G:G) -> 7176.2841 | W10: =H10/_xlfn.XLOOKUP($A10,'16-66 år'!$A:$A,'16-66 år'!H:H) -> 7372.401 | Y10: Bornholm | Z10: 2677455.6 | AA10: 9518327.1 | AB10: 14543604 | AC10: 18457299 | AD10: 20430723 | AE10: 19569016 | AF10: 18876547 | AG10: 1.0407297e+08 | AH10: =Z10/_xlfn.XLOOKUP($Y10,Folketal!$A:$A,Folketal!B:B) -> 67.888527 | AI10: =AA10/_xlfn.XLOOKUP($Y10,Folketal!$A:$A,Folketal!C:C) -> 240.03448 | AJ10: =AB10/_xlfn.XLOOKUP($Y10,Folketal!$A:$A,Folketal!D:D) -> 367.86655 | AK10: =AC10/_xlfn.XLOOKUP($Y10,Folketal!$A:$A,Folketal!E:E) -> 466.74166 | AL10: =AD10/_xlfn.XLOOKUP($Y10,Folketal!$A:$A,Folketal!F:F) -> 520.80663 | AM10: =AE10/_xlfn.XLOOKUP($Y10,Folketal!$A:$A,Folketal!G:G) -> 502.98197 | AN10: =AF10/_xlfn.XLOOKUP($Y10,Folketal!$A:$A,Folketal!H:H) -> 488.87773 | AO10: =Z10/_xlfn.XLOOKUP($Y10,'16-66 år'!$A:$A,'16-66 år'!B:B) -> 114.61711 | AP10: =AA10/_xlfn.XLOOKUP($Y10,'16-66 år'!$A:$A,'16-66 år'!C:C) -> 408.82773 | AQ10: =AB10/_xlfn.XLOOKUP($Y10,'16-66 år'!$A:$A,'16-66 år'!D:D) -> 630.95896 | AR10: =AC10/_xlfn.XLOOKUP($Y10,'16-66 år'!$A:$A,'16-66 år'!E:E) -> 804.34476 | AS10: =AD10/_xlfn.XLOOKUP($Y10,'16-66 år'!$A:$A,'16-66 år'!F:F) -> 903.69442 | AT10: =AE10/_xlfn.XLOOKUP($Y10,'16-66 år'!$A:$A,'16-66 år'!G:G) -> 876.00235 | AU10: =AF10/_xlfn.XLOOKUP($Y10,'16-66 år'!$A:$A,'16-66 år'!H:H) -> 857.24555 | BC10: Bornholm | BD10: 3.1187736e+08 | BE10: 2.9753992e+08 | BF10: 2.7420356e+08 | BG10: 2.7224346e+08 | BH10: 2.7007517e+08 | BI10: 2.6030929e+08 | BJ10: 259644550 | BK10: 1.9458933e+09 | BL10: =BD10/_xlfn.XLOOKUP($BC10,Folketal!$A:$A,Folketal!B:B) -> 7907.8414 | BM10: =BE10/_xlfn.XLOOKUP($BC10,Folketal!$A:$A,Folketal!C:C) -> 7503.4025 | BN10: =BF10/_xlfn.XLOOKUP($BC10,Folketal!$A:$A,Folketal!D:D) -> 6935.7167 | BO10: =BG10/_xlfn.XLOOKUP($BC10,Folketal!$A:$A,Folketal!E:E) -> 6884.3966 | BP10: =BH10/_xlfn.XLOOKUP($BC10,Folketal!$A:$A,Folketal!F:F) -> 6884.5794 | BQ10: =BI10/_xlfn.XLOOKUP($BC10,Folketal!$A:$A,Folketal!G:G) -> 6690.7236 | BR10: =BJ10/_xlfn.XLOOKUP($BC10,Folketal!$A:$A,Folketal!H:H) -> 6724.4522 | BS10: =BD10/_xlfn.XLOOKUP($BC10,'16-66 år'!$A:$A,'16-66 år'!B:B) -> 13350.914 | BT10: =BE10/_xlfn.XLOOKUP($BC10,'16-66 år'!$A:$A,'16-66 år'!C:C) -> 12779.827 | BU10: =BF10/_xlfn.XLOOKUP($BC10,'16-66 år'!$A:$A,'16-66 år'!D:D) -> 11896.033 | BV10: =BG10/_xlfn.XLOOKUP($BC10,'16-66 år'!$A:$A,'16-66 år'!E:E) -> 11864.011 | BW10: =BH10/_xlfn.XLOOKUP($BC10,'16-66 år'!$A:$A,'16-66 år'!F:F) -> 11946 | BX10: =BI10/_xlfn.XLOOKUP($BC10,'16-66 år'!$A:$A,'16-66 år'!G:G) -> 11652.683 | BY10: =BJ10/_xlfn.XLOOKUP($BC10,'16-66 år'!$A:$A,'16-66 år'!H:H) -> 11791.306 | CB10: Bornholm | CC10: =_xlfn.XLOOKUP($CB10,$A:$A,B:B)/_xlfn.XLOOKUP($CB10,$BC:$BC,BD:BD)*100 -> 47.967082 | CD10: =_xlfn.XLOOKUP($CB10,$A:$A,C:C)/_xlfn.XLOOKUP($CB10,$BC:$BC,BE:BE)*100 -> 52.162047 | CE10: =_xlfn.XLOOKUP($CB10,$A:$A,D:D)/_xlfn.XLOOKUP($CB10,$BC:$BC,BF:BF)*100 -> 55.366333 | CF10: =_xlfn.XLOOKUP($CB10,$A:$A,E:E)/_xlfn.XLOOKUP($CB10,$BC:$BC,BG:BG)*100 -> 58.014349 | CG10: =_xlfn.XLOOKUP($CB10,$A:$A,F:F)/_xlfn.XLOOKUP($CB10,$BC:$BC,BH:BH)*100 -> 59.473626 | CH10: =_xlfn.XLOOKUP($CB10,$A:$A,G:G)/_xlfn.XLOOKUP($CB10,$BC:$BC,BI:BI)*100 -> 61.58482 | CI10: =_xlfn.XLOOKUP($CB10,$A:$A,H:H)/_xlfn.XLOOKUP($CB10,$BC:$BC,BJ:BJ)*100 -> 62.524043
A11: Brøndby | B11: 88250802 | C11: 88480109 | D11: 86863356 | E11: 93927251 | F11: 99007207 | G11: 1.0223197e+08 | H11: 105863578 | I11: 6.6462427e+08 | J11: =B11/_xlfn.XLOOKUP($A11,Folketal!$A:$A,Folketal!B:B) -> 2514.4111 | K11: =C11/_xlfn.XLOOKUP($A11,Folketal!$A:$A,Folketal!C:C) -> 2500.3563 | L11: =D11/_xlfn.XLOOKUP($A11,Folketal!$A:$A,Folketal!D:D) -> 2422.9667 | M11: =E11/_xlfn.XLOOKUP($A11,Folketal!$A:$A,Folketal!E:E) -> 2503.4583 | N11: =F11/_xlfn.XLOOKUP($A11,Folketal!$A:$A,Folketal!F:F) -> 2512.8733 | O11: =G11/_xlfn.XLOOKUP($A11,Folketal!$A:$A,Folketal!G:G) -> 2523.1871 | P11: =H11/_xlfn.XLOOKUP($A11,Folketal!$A:$A,Folketal!H:H) -> 2578.3282 | Q11: =B11/_xlfn.XLOOKUP($A11,'16-66 år'!$A:$A,'16-66 år'!B:B) -> 3915.6448 | R11: =C11/_xlfn.XLOOKUP($A11,'16-66 år'!$A:$A,'16-66 år'!C:C) -> 3890.2616 | S11: =D11/_xlfn.XLOOKUP($A11,'16-66 år'!$A:$A,'16-66 år'!D:D) -> 3753.6561 | T11: =E11/_xlfn.XLOOKUP($A11,'16-66 år'!$A:$A,'16-66 år'!E:E) -> 3828.1403 | U11: =F11/_xlfn.XLOOKUP($A11,'16-66 år'!$A:$A,'16-66 år'!F:F) -> 3802.8503 | V11: =G11/_xlfn.XLOOKUP($A11,'16-66 år'!$A:$A,'16-66 år'!G:G) -> 3812.492 | W11: =H11/_xlfn.XLOOKUP($A11,'16-66 år'!$A:$A,'16-66 år'!H:H) -> 3884.3318 | Y11: Brøndby | Z11: 728218.85 | AA11: 4928267.9 | AB11: 7421144.9 | AC11: 10023146 | AD11: 10767089 | AE11: 10739637 | AF11: 10754218 | AG11: 55361721 | AH11: =Z11/_xlfn.XLOOKUP($Y11,Folketal!$A:$A,Folketal!B:B) -> 20.748158 | AI11: =AA11/_xlfn.XLOOKUP($Y11,Folketal!$A:$A,Folketal!C:C) -> 139.26775 | AJ11: =AB11/_xlfn.XLOOKUP($Y11,Folketal!$A:$A,Folketal!D:D) -> 207.00544 | AK11: =AC11/_xlfn.XLOOKUP($Y11,Folketal!$A:$A,Folketal!E:E) -> 267.14853 | AL11: =AD11/_xlfn.XLOOKUP($Y11,Folketal!$A:$A,Folketal!F:F) -> 273.27636 | AM11: =AE11/_xlfn.XLOOKUP($Y11,Folketal!$A:$A,Folketal!G:G) -> 265.06497 | AN11: =AF11/_xlfn.XLOOKUP($Y11,Folketal!$A:$A,Folketal!H:H) -> 261.92109 | AO11: =Z11/_xlfn.XLOOKUP($Y11,'16-66 år'!$A:$A,'16-66 år'!B:B) -> 32.310713 | AP11: =AA11/_xlfn.XLOOKUP($Y11,'16-66 år'!$A:$A,'16-66 år'!C:C) -> 216.68431 | AQ11: =AB11/_xlfn.XLOOKUP($Y11,'16-66 år'!$A:$A,'16-66 år'!D:D) -> 320.69249 | AR11: =AC11/_xlfn.XLOOKUP($Y11,'16-66 år'!$A:$A,'16-66 år'!E:E) -> 408.50773 | AS11: =AD11/_xlfn.XLOOKUP($Y11,'16-66 år'!$A:$A,'16-66 år'!F:F) -> 413.56207 | AT11: =AE11/_xlfn.XLOOKUP($Y11,'16-66 år'!$A:$A,'16-66 år'!G:G) -> 400.50857 | AU11: =AF11/_xlfn.XLOOKUP($Y11,'16-66 år'!$A:$A,'16-66 år'!H:H) -> 394.59228 | BC11: Brøndby | BD11: 2.5256343e+08 | BE11: 2.5697438e+08 | BF11: 2.2593523e+08 | BG11: 2.3087184e+08 | BH11: 2.3218639e+08 | BI11: 2.3869479e+08 | BJ11: 241280227 | BK11: 1.6785063e+09 | BL11: =BD11/_xlfn.XLOOKUP($BC11,Folketal!$A:$A,Folketal!B:B) -> 7195.9493 | BM11: =BE11/_xlfn.XLOOKUP($BC11,Folketal!$A:$A,Folketal!C:C) -> 7261.8301 | BN11: =BF11/_xlfn.XLOOKUP($BC11,Folketal!$A:$A,Folketal!D:D) -> 6302.238 | BO11: =BG11/_xlfn.XLOOKUP($BC11,Folketal!$A:$A,Folketal!E:E) -> 6153.4646 | BP11: =BH11/_xlfn.XLOOKUP($BC11,Folketal!$A:$A,Folketal!F:F) -> 5893.0557 | BQ11: =BI11/_xlfn.XLOOKUP($BC11,Folketal!$A:$A,Folketal!G:G) -> 5891.2256 | BR11: =BJ11/_xlfn.XLOOKUP($BC11,Folketal!$A:$A,Folketal!H:H) -> 5876.4273 | BS11: =BD11/_xlfn.XLOOKUP($BC11,'16-66 år'!$A:$A,'16-66 år'!B:B) -> 11206.115 | BT11: =BE11/_xlfn.XLOOKUP($BC11,'16-66 år'!$A:$A,'16-66 år'!C:C) -> 11298.557 | BU11: =BF11/_xlfn.XLOOKUP($BC11,'16-66 år'!$A:$A,'16-66 år'!D:D) -> 9763.4171 | BV11: =BG11/_xlfn.XLOOKUP($BC11,'16-66 år'!$A:$A,'16-66 år'!E:E) -> 9409.5141 | BW11: =BH11/_xlfn.XLOOKUP($BC11,'16-66 år'!$A:$A,'16-66 år'!F:F) -> 8918.2406 | BX11: =BI11/_xlfn.XLOOKUP($BC11,'16-66 år'!$A:$A,'16-66 år'!G:G) -> 8901.5397 | BY11: =BJ11/_xlfn.XLOOKUP($BC11,'16-66 år'!$A:$A,'16-66 år'!H:H) -> 8853.0207 | CB11: Brøndby | CC11: =_xlfn.XLOOKUP($CB11,$A:$A,B:B)/_xlfn.XLOOKUP($CB11,$BC:$BC,BD:BD)*100 -> 34.942035 | CD11: =_xlfn.XLOOKUP($CB11,$A:$A,C:C)/_xlfn.XLOOKUP($CB11,$BC:$BC,BE:BE)*100 -> 34.43149 | CE11: =_xlfn.XLOOKUP($CB11,$A:$A,D:D)/_xlfn.XLOOKUP($CB11,$BC:$BC,BF:BF)*100 -> 38.446131 | CF11: =_xlfn.XLOOKUP($CB11,$A:$A,E:E)/_xlfn.XLOOKUP($CB11,$BC:$BC,BG:BG)*100 -> 40.683719 | CG11: =_xlfn.XLOOKUP($CB11,$A:$A,F:F)/_xlfn.XLOOKUP($CB11,$BC:$BC,BH:BH)*100 -> 42.641261 | CH11: =_xlfn.XLOOKUP($CB11,$A:$A,G:G)/_xlfn.XLOOKUP($CB11,$BC:$BC,BI:BI)*100 -> 42.829579 | CI11: =_xlfn.XLOOKUP($CB11,$A:$A,H:H)/_xlfn.XLOOKUP($CB11,$BC:$BC,BJ:BJ)*100 -> 43.875779
A12: Brønderslev | B12: 92252263 | C12: 94217133 | D12: 95181545 | E12: 97827218 | F12: 1.0128237e+08 | G12: 1.0204093e+08 | H12: 106780823 | I12: 6.8958229e+08 | J12: =B12/_xlfn.XLOOKUP($A12,Folketal!$A:$A,Folketal!B:B) -> 2538.1683 | K12: =C12/_xlfn.XLOOKUP($A12,Folketal!$A:$A,Folketal!C:C) -> 2607.0042 | L12: =D12/_xlfn.XLOOKUP($A12,Folketal!$A:$A,Folketal!D:D) -> 2619.8438 | M12: =E12/_xlfn.XLOOKUP($A12,Folketal!$A:$A,Folketal!E:E) -> 2674.5555 | N12: =F12/_xlfn.XLOOKUP($A12,Folketal!$A:$A,Folketal!F:F) -> 2767.6561 | O12: =G12/_xlfn.XLOOKUP($A12,Folketal!$A:$A,Folketal!G:G) -> 2790.1381 | P12: =H12/_xlfn.XLOOKUP($A12,Folketal!$A:$A,Folketal!H:H) -> 2914.9602 | Q12: =B12/_xlfn.XLOOKUP($A12,'16-66 år'!$A:$A,'16-66 år'!B:B) -> 4140.7722 | R12: =C12/_xlfn.XLOOKUP($A12,'16-66 år'!$A:$A,'16-66 år'!C:C) -> 4268.4335 | S12: =D12/_xlfn.XLOOKUP($A12,'16-66 år'!$A:$A,'16-66 år'!D:D) -> 4289.0026 | T12: =E12/_xlfn.XLOOKUP($A12,'16-66 år'!$A:$A,'16-66 år'!E:E) -> 4379.6041 | U12: =F12/_xlfn.XLOOKUP($A12,'16-66 år'!$A:$A,'16-66 år'!F:F) -> 4546.4997 | V12: =G12/_xlfn.XLOOKUP($A12,'16-66 år'!$A:$A,'16-66 år'!G:G) -> 4581.5791 | W12: =H12/_xlfn.XLOOKUP($A12,'16-66 år'!$A:$A,'16-66 år'!H:H) -> 4777.238 | Y12: Brønderslev | Z12: 317360.98 | AA12: 3329821.7 | AB12: 6074853.2 | AC12: 9610406.1 | AD12: 11923416 | AE12: 12964958 | AF12: 13309655 | AG12: 57530472 | AH12: =Z12/_xlfn.XLOOKUP($Y12,Folketal!$A:$A,Folketal!B:B) -> 8.7316618 | AI12: =AA12/_xlfn.XLOOKUP($Y12,Folketal!$A:$A,Folketal!C:C) -> 92.136738 | AJ12: =AB12/_xlfn.XLOOKUP($Y12,Folketal!$A:$A,Folketal!D:D) -> 167.20853 | AK12: =AC12/_xlfn.XLOOKUP($Y12,Folketal!$A:$A,Folketal!E:E) -> 262.74451 | AL12: =AD12/_xlfn.XLOOKUP($Y12,Folketal!$A:$A,Folketal!F:F) -> 325.82091 | AM12: =AE12/_xlfn.XLOOKUP($Y12,Folketal!$A:$A,Folketal!G:G) -> 354.50504 | AN12: =AF12/_xlfn.XLOOKUP($Y12,Folketal!$A:$A,Folketal!H:H) -> 363.33411 | AO12: =Z12/_xlfn.XLOOKUP($Y12,'16-66 år'!$A:$A,'16-66 år'!B:B) -> 14.244848 | AP12: =AA12/_xlfn.XLOOKUP($Y12,'16-66 år'!$A:$A,'16-66 år'!C:C) -> 150.85497 | AQ12: =AB12/_xlfn.XLOOKUP($Y12,'16-66 år'!$A:$A,'16-66 år'!D:D) -> 273.74068 | AR12: =AC12/_xlfn.XLOOKUP($Y12,'16-66 år'!$A:$A,'16-66 år'!E:E) -> 430.24605 | AS12: =AD12/_xlfn.XLOOKUP($Y12,'16-66 år'!$A:$A,'16-66 år'!F:F) -> 535.23438 | AT12: =AE12/_xlfn.XLOOKUP($Y12,'16-66 år'!$A:$A,'16-66 år'!G:G) -> 582.11918 | AU12: =AF12/_xlfn.XLOOKUP($Y12,'16-66 år'!$A:$A,'16-66 år'!H:H) -> 595.45701 | BC12: Brønderslev | BD12: 2.344985e+08 | BE12: 2.2657539e+08 | BF12: 2.1247156e+08 | BG12: 2.1779755e+08 | BH12: 2.2146131e+08 | BI12: 2.1885048e+08 | BJ12: 221799753 | BK12: 1.5534545e+09 | BL12: =BD12/_xlfn.XLOOKUP($BC12,Folketal!$A:$A,Folketal!B:B) -> 6451.8379 | BM12: =BE12/_xlfn.XLOOKUP($BC12,Folketal!$A:$A,Folketal!C:C) -> 6269.38 | BN12: =BF12/_xlfn.XLOOKUP($BC12,Folketal!$A:$A,Folketal!D:D) -> 5848.2168 | BO12: =BG12/_xlfn.XLOOKUP($BC12,Folketal!$A:$A,Folketal!E:E) -> 5954.4946 | BP12: =BH12/_xlfn.XLOOKUP($BC12,Folketal!$A:$A,Folketal!F:F) -> 6051.6821 | BQ12: =BI12/_xlfn.XLOOKUP($BC12,Folketal!$A:$A,Folketal!G:G) -> 5984.0994 | BR12: =BJ12/_xlfn.XLOOKUP($BC12,Folketal!$A:$A,Folketal!H:H) -> 6054.8087 | BS12: =BD12/_xlfn.XLOOKUP($BC12,'16-66 år'!$A:$A,'16-66 år'!B:B) -> 10525.54 | BT12: =BE12/_xlfn.XLOOKUP($BC12,'16-66 år'!$A:$A,'16-66 år'!C:C) -> 10264.821 | BU12: =BF12/_xlfn.XLOOKUP($BC12,'16-66 år'!$A:$A,'16-66 år'!D:D) -> 9574.2413 | BV12: =BG12/_xlfn.XLOOKUP($BC12,'16-66 år'!$A:$A,'16-66 år'!E:E) -> 9750.5282 | BW12: =BH12/_xlfn.XLOOKUP($BC12,'16-66 år'!$A:$A,'16-66 år'!F:F) -> 9941.2535 | BX12: =BI12/_xlfn.XLOOKUP($BC12,'16-66 år'!$A:$A,'16-66 år'!G:G) -> 9826.2609 | BY12: =BJ12/_xlfn.XLOOKUP($BC12,'16-66 år'!$A:$A,'16-66 år'!H:H) -> 9923.0383 | CB12: Brønderslev | CC12: =_xlfn.XLOOKUP($CB12,$A:$A,B:B)/_xlfn.XLOOKUP($CB12,$BC:$BC,BD:BD)*100 -> 39.340236 | CD12: =_xlfn.XLOOKUP($CB12,$A:$A,C:C)/_xlfn.XLOOKUP($CB12,$BC:$BC,BE:BE)*100 -> 41.583127 | CE12: =_xlfn.XLOOKUP($CB12,$A:$A,D:D)/_xlfn.XLOOKUP($CB12,$BC:$BC,BF:BF)*100 -> 44.79731 | CF12: =_xlfn.XLOOKUP($CB12,$A:$A,E:E)/_xlfn.XLOOKUP($CB12,$BC:$BC,BG:BG)*100 -> 44.916584 | CG12: =_xlfn.XLOOKUP($CB12,$A:$A,F:F)/_xlfn.XLOOKUP($CB12,$BC:$BC,BH:BH)*100 -> 45.733666 | CH12: =_xlfn.XLOOKUP($CB12,$A:$A,G:G)/_xlfn.XLOOKUP($CB12,$BC:$BC,BI:BI)*100 -> 46.625864 | CI12: =_xlfn.XLOOKUP($CB12,$A:$A,H:H)/_xlfn.XLOOKUP($CB12,$BC:$BC,BJ:BJ)*100 -> 48.142895
A13: Dragør | B13: 10844784 | C13: 11601433 | D13: 11001258 | E13: 12541922 | F13: 12186781 | G13: 12648729 | H13: 13446174 | I13: 84271081 | J13: =B13/_xlfn.XLOOKUP($A13,Folketal!$A:$A,Folketal!B:B) -> 747.50372 | K13: =C13/_xlfn.XLOOKUP($A13,Folketal!$A:$A,Folketal!C:C) -> 795.98168 | L13: =D13/_xlfn.XLOOKUP($A13,Folketal!$A:$A,Folketal!D:D) -> 754.28577 | M13: =E13/_xlfn.XLOOKUP($A13,Folketal!$A:$A,Folketal!E:E) -> 862.8773 | N13: =F13/_xlfn.XLOOKUP($A13,Folketal!$A:$A,Folketal!F:F) -> 840.23587 | O13: =G13/_xlfn.XLOOKUP($A13,Folketal!$A:$A,Folketal!G:G) -> 876.55783 | P13: =H13/_xlfn.XLOOKUP($A13,Folketal!$A:$A,Folketal!H:H) -> 929.37338 | Q13: =B13/_xlfn.XLOOKUP($A13,'16-66 år'!$A:$A,'16-66 år'!B:B) -> 1293.9725 | R13: =C13/_xlfn.XLOOKUP($A13,'16-66 år'!$A:$A,'16-66 år'!C:C) -> 1386.5702 | S13: =D13/_xlfn.XLOOKUP($A13,'16-66 år'!$A:$A,'16-66 år'!D:D) -> 1321.3137 | T13: =E13/_xlfn.XLOOKUP($A13,'16-66 år'!$A:$A,'16-66 år'!E:E) -> 1516.1897 | U13: =F13/_xlfn.XLOOKUP($A13,'16-66 år'!$A:$A,'16-66 år'!F:F) -> 1476.112 | V13: =G13/_xlfn.XLOOKUP($A13,'16-66 år'!$A:$A,'16-66 år'!G:G) -> 1551.23 | W13: =H13/_xlfn.XLOOKUP($A13,'16-66 år'!$A:$A,'16-66 år'!H:H) -> 1635.3897 | Y13: Dragør | Z13: 104483.22 | AA13: 1629187.6 | AB13: 2785640.9 | AC13: 3889248.1 | AD13: 3681675.4 | AE13: 3774276.4 | AF13: 3843808 | AG13: 19708320 | AH13: =Z13/_xlfn.XLOOKUP($Y13,Folketal!$A:$A,Folketal!B:B) -> 7.2017663 | AI13: =AA13/_xlfn.XLOOKUP($Y13,Folketal!$A:$A,Folketal!C:C) -> 111.77959 | AJ13: =AB13/_xlfn.XLOOKUP($Y13,Folketal!$A:$A,Folketal!D:D) -> 190.99355 | AK13: =AC13/_xlfn.XLOOKUP($Y13,Folketal!$A:$A,Folketal!E:E) -> 267.57813 | AL13: =AD13/_xlfn.XLOOKUP($Y13,Folketal!$A:$A,Folketal!F:F) -> 253.83862 | AM13: =AE13/_xlfn.XLOOKUP($Y13,Folketal!$A:$A,Folketal!G:G) -> 261.55762 | AN13: =AF13/_xlfn.XLOOKUP($Y13,Folketal!$A:$A,Folketal!H:H) -> 265.67653 | AO13: =Z13/_xlfn.XLOOKUP($Y13,'16-66 år'!$A:$A,'16-66 år'!B:B) -> 12.466678 | AP13: =AA13/_xlfn.XLOOKUP($Y13,'16-66 år'!$A:$A,'16-66 år'!C:C) -> 194.71586 | AQ13: =AB13/_xlfn.XLOOKUP($Y13,'16-66 år'!$A:$A,'16-66 år'!D:D) -> 334.57133 | AR13: =AC13/_xlfn.XLOOKUP($Y13,'16-66 år'!$A:$A,'16-66 år'!E:E) -> 470.17022 | AS13: =AD13/_xlfn.XLOOKUP($Y13,'16-66 år'!$A:$A,'16-66 år'!F:F) -> 445.93937 | AT13: =AE13/_xlfn.XLOOKUP($Y13,'16-66 år'!$A:$A,'16-66 år'!G:G) -> 462.87422 | AU13: =AF13/_xlfn.XLOOKUP($Y13,'16-66 år'!$A:$A,'16-66 år'!H:H) -> 467.5028 | BC13: Dragør | BD13: 47150723 | BE13: 52107162 | BF13: 41896223 | BG13: 40422214 | BH13: 39866535 | BI13: 38703116 | BJ13: 40424276 | BK13: 3.0057025e+08 | BL13: =BD13/_xlfn.XLOOKUP($BC13,Folketal!$A:$A,Folketal!B:B) -> 3249.9809 | BM13: =BE13/_xlfn.XLOOKUP($BC13,Folketal!$A:$A,Folketal!C:C) -> 3575.1054 | BN13: =BF13/_xlfn.XLOOKUP($BC13,Folketal!$A:$A,Folketal!D:D) -> 2872.5556 | BO13: =BG13/_xlfn.XLOOKUP($BC13,Folketal!$A:$A,Folketal!E:E) -> 2781.0261 | BP13: =BH13/_xlfn.XLOOKUP($BC13,Folketal!$A:$A,Folketal!F:F) -> 2748.658 | BQ13: =BI13/_xlfn.XLOOKUP($BC13,Folketal!$A:$A,Folketal!G:G) -> 2682.1286 | BR13: =BJ13/_xlfn.XLOOKUP($BC13,Folketal!$A:$A,Folketal!H:H) -> 2794.0473 | BS13: =BD13/_xlfn.XLOOKUP($BC13,'16-66 år'!$A:$A,'16-66 år'!B:B) -> 5625.9065 | BT13: =BE13/_xlfn.XLOOKUP($BC13,'16-66 år'!$A:$A,'16-66 år'!C:C) -> 6227.6995 | BU13: =BF13/_xlfn.XLOOKUP($BC13,'16-66 år'!$A:$A,'16-66 år'!D:D) -> 5031.9749 | BV13: =BG13/_xlfn.XLOOKUP($BC13,'16-66 år'!$A:$A,'16-66 år'!E:E) -> 4886.6313 | BW13: =BH13/_xlfn.XLOOKUP($BC13,'16-66 år'!$A:$A,'16-66 år'!F:F) -> 4828.7955 | BX13: =BI13/_xlfn.XLOOKUP($BC13,'16-66 år'!$A:$A,'16-66 år'!G:G) -> 4746.519 | BY13: =BJ13/_xlfn.XLOOKUP($BC13,'16-66 år'!$A:$A,'16-66 år'!H:H) -> 4916.5989 | CB13: Dragør | CC13: =_xlfn.XLOOKUP($CB13,$A:$A,B:B)/_xlfn.XLOOKUP($CB13,$BC:$BC,BD:BD)*100 -> 23.00025 | CD13: =_xlfn.XLOOKUP($CB13,$A:$A,C:C)/_xlfn.XLOOKUP($CB13,$BC:$BC,BE:BE)*100 -> 22.264565 | CE13: =_xlfn.XLOOKUP($CB13,$A:$A,D:D)/_xlfn.XLOOKUP($CB13,$BC:$BC,BF:BF)*100 -> 26.258353 | CF13: =_xlfn.XLOOKUP($CB13,$A:$A,E:E)/_xlfn.XLOOKUP($CB13,$BC:$BC,BG:BG)*100 -> 31.0273 | CG13: =_xlfn.XLOOKUP($CB13,$A:$A,F:F)/_xlfn.XLOOKUP($CB13,$BC:$BC,BH:BH)*100 -> 30.568949 | CH13: =_xlfn.XLOOKUP($CB13,$A:$A,G:G)/_xlfn.XLOOKUP($CB13,$BC:$BC,BI:BI)*100 -> 32.681424 | CI13: =_xlfn.XLOOKUP($CB13,$A:$A,H:H)/_xlfn.XLOOKUP($CB13,$BC:$BC,BJ:BJ)*100 -> 33.262622
A14: Egedal | B14: 46737139 | C14: 48180148 | D14: 47030246 | E14: 51214597 | F14: 53457954 | G14: 54713884 | H14: 58171397 | I14: 3.5950536e+08 | J14: =B14/_xlfn.XLOOKUP($A14,Folketal!$A:$A,Folketal!B:B) -> 1077.4884 | K14: =C14/_xlfn.XLOOKUP($A14,Folketal!$A:$A,Folketal!C:C) -> 1103.1264 | L14: =D14/_xlfn.XLOOKUP($A14,Folketal!$A:$A,Folketal!D:D) -> 1056.1237 | M14: =E14/_xlfn.XLOOKUP($A14,Folketal!$A:$A,Folketal!E:E) -> 1130.4902 | N14: =F14/_xlfn.XLOOKUP($A14,Folketal!$A:$A,Folketal!F:F) -> 1173.4558 | O14: =G14/_xlfn.XLOOKUP($A14,Folketal!$A:$A,Folketal!G:G) -> 1197.3976 | P14: =H14/_xlfn.XLOOKUP($A14,Folketal!$A:$A,Folketal!H:H) -> 1254.5862 | Q14: =B14/_xlfn.XLOOKUP($A14,'16-66 år'!$A:$A,'16-66 år'!B:B) -> 1733.895 | R14: =C14/_xlfn.XLOOKUP($A14,'16-66 år'!$A:$A,'16-66 år'!C:C) -> 1774.7218 | S14: =D14/_xlfn.XLOOKUP($A14,'16-66 år'!$A:$A,'16-66 år'!D:D) -> 1695.3335 | T14: =E14/_xlfn.XLOOKUP($A14,'16-66 år'!$A:$A,'16-66 år'!E:E) -> 1804.1567 | U14: =F14/_xlfn.XLOOKUP($A14,'16-66 år'!$A:$A,'16-66 år'!F:F) -> 1867.7225 | V14: =G14/_xlfn.XLOOKUP($A14,'16-66 år'!$A:$A,'16-66 år'!G:G) -> 1910.5344 | W14: =H14/_xlfn.XLOOKUP($A14,'16-66 år'!$A:$A,'16-66 år'!H:H) -> 2004.1825 | Y14: Egedal | Z14: 566671.26 | AA14: 2281267.9 | AB14: 4106133.6 | AC14: 6963767.4 | AD14: 8920497.9 | AE14: 9698651.1 | AF14: 9887334 | AG14: 42424323 | AH14: =Z14/_xlfn.XLOOKUP($Y14,Folketal!$A:$A,Folketal!B:B) -> 13.064166 | AI14: =AA14/_xlfn.XLOOKUP($Y14,Folketal!$A:$A,Folketal!C:C) -> 52.231613 | AJ14: =AB14/_xlfn.XLOOKUP($Y14,Folketal!$A:$A,Folketal!D:D) -> 92.208429 | AK14: =AC14/_xlfn.XLOOKUP($Y14,Folketal!$A:$A,Folketal!E:E) -> 153.71537 | AL14: =AD14/_xlfn.XLOOKUP($Y14,Folketal!$A:$A,Folketal!F:F) -> 195.8139 | AM14: =AE14/_xlfn.XLOOKUP($Y14,Folketal!$A:$A,Folketal!G:G) -> 212.25218 | AN14: =AF14/_xlfn.XLOOKUP($Y14,Folketal!$A:$A,Folketal!H:H) -> 213.24075 | AO14: =Z14/_xlfn.XLOOKUP($Y14,'16-66 år'!$A:$A,'16-66 år'!B:B) -> 21.022863 | AP14: =AA14/_xlfn.XLOOKUP($Y14,'16-66 år'!$A:$A,'16-66 år'!C:C) -> 84.030792 | AQ14: =AB14/_xlfn.XLOOKUP($Y14,'16-66 år'!$A:$A,'16-66 år'!D:D) -> 148.01678 | AR14: =AC14/_xlfn.XLOOKUP($Y14,'16-66 år'!$A:$A,'16-66 år'!E:E) -> 245.31537 | AS14: =AD14/_xlfn.XLOOKUP($Y14,'16-66 år'!$A:$A,'16-66 år'!F:F) -> 311.66578 | AT14: =AE14/_xlfn.XLOOKUP($Y14,'16-66 år'!$A:$A,'16-66 år'!G:G) -> 338.6637 | AU14: =AF14/_xlfn.XLOOKUP($Y14,'16-66 år'!$A:$A,'16-66 år'!H:H) -> 340.64889 | BC14: Egedal | BD14: 1.4974641e+08 | BE14: 1.5475472e+08 | BF14: 1.3213631e+08 | BG14: 1.4119706e+08 | BH14: 1.4558786e+08 | BI14: 1.4668287e+08 | BJ14: 158857897 | BK14: 1.0289631e+09 | BL14: =BD14/_xlfn.XLOOKUP($BC14,Folketal!$A:$A,Folketal!B:B) -> 3452.2873 | BM14: =BE14/_xlfn.XLOOKUP($BC14,Folketal!$A:$A,Folketal!C:C) -> 3543.244 | BN14: =BF14/_xlfn.XLOOKUP($BC14,Folketal!$A:$A,Folketal!D:D) -> 2967.2883 | BO14: =BG14/_xlfn.XLOOKUP($BC14,Folketal!$A:$A,Folketal!E:E) -> 3116.7265 | BP14: =BH14/_xlfn.XLOOKUP($BC14,Folketal!$A:$A,Folketal!F:F) -> 3195.8 | BQ14: =BI14/_xlfn.XLOOKUP($BC14,Folketal!$A:$A,Folketal!G:G) -> 3210.1123 | BR14: =BJ14/_xlfn.XLOOKUP($BC14,Folketal!$A:$A,Folketal!H:H) -> 3426.0982 | BS14: =BD14/_xlfn.XLOOKUP($BC14,'16-66 år'!$A:$A,'16-66 år'!B:B) -> 5555.4226 | BT14: =BE14/_xlfn.XLOOKUP($BC14,'16-66 år'!$A:$A,'16-66 år'!C:C) -> 5700.4098 | BU14: =BF14/_xlfn.XLOOKUP($BC14,'16-66 år'!$A:$A,'16-66 år'!D:D) -> 4763.2138 | BV14: =BG14/_xlfn.XLOOKUP($BC14,'16-66 år'!$A:$A,'16-66 år'!E:E) -> 4974.0044 | BW14: =BH14/_xlfn.XLOOKUP($BC14,'16-66 år'!$A:$A,'16-66 år'!F:F) -> 5086.572 | BX14: =BI14/_xlfn.XLOOKUP($BC14,'16-66 år'!$A:$A,'16-66 år'!G:G) -> 5121.9663 | BY14: =BJ14/_xlfn.XLOOKUP($BC14,'16-66 år'!$A:$A,'16-66 år'!H:H) -> 5473.1403 | CB14: Egedal | CC14: =_xlfn.XLOOKUP($CB14,$A:$A,B:B)/_xlfn.XLOOKUP($CB14,$BC:$BC,BD:BD)*100 -> 31.210857 | CD14: =_xlfn.XLOOKUP($CB14,$A:$A,C:C)/_xlfn.XLOOKUP($CB14,$BC:$BC,BE:BE)*100 -> 31.133232 | CE14: =_xlfn.XLOOKUP($CB14,$A:$A,D:D)/_xlfn.XLOOKUP($CB14,$BC:$BC,BF:BF)*100 -> 35.592219 | CF14: =_xlfn.XLOOKUP($CB14,$A:$A,E:E)/_xlfn.XLOOKUP($CB14,$BC:$BC,BG:BG)*100 -> 36.271715 | CG14: =_xlfn.XLOOKUP($CB14,$A:$A,F:F)/_xlfn.XLOOKUP($CB14,$BC:$BC,BH:BH)*100 -> 36.718688 | CH14: =_xlfn.XLOOKUP($CB14,$A:$A,G:G)/_xlfn.XLOOKUP($CB14,$BC:$BC,BI:BI)*100 -> 37.3008 | CI14: =_xlfn.XLOOKUP($CB14,$A:$A,H:H)/_xlfn.XLOOKUP($CB14,$BC:$BC,BJ:BJ)*100 -> 36.618511
A15: Esbjerg | B15: 3.0986397e+08 | C15: 3.1653522e+08 | D15: 3.1622868e+08 | E15: 3.2639453e+08 | F15: 3.2857841e+08 | G15: 3.394876e+08 | H15: 348313747 | I15: 2.2854022e+09 | J15: =B15/_xlfn.XLOOKUP($A15,Folketal!$A:$A,Folketal!B:B) -> 2679.1632 | K15: =C15/_xlfn.XLOOKUP($A15,Folketal!$A:$A,Folketal!C:C) -> 2738.7388 | L15: =D15/_xlfn.XLOOKUP($A15,Folketal!$A:$A,Folketal!D:D) -> 2738.4559 | M15: =E15/_xlfn.XLOOKUP($A15,Folketal!$A:$A,Folketal!E:E) -> 2818.4109 | N15: =F15/_xlfn.XLOOKUP($A15,Folketal!$A:$A,Folketal!F:F) -> 2849.2998 | O15: =G15/_xlfn.XLOOKUP($A15,Folketal!$A:$A,Folketal!G:G) -> 2950.7062 | P15: =H15/_xlfn.XLOOKUP($A15,Folketal!$A:$A,Folketal!H:H) -> 3032.3221 | Q15: =B15/_xlfn.XLOOKUP($A15,'16-66 år'!$A:$A,'16-66 år'!B:B) -> 4173.8143 | R15: =C15/_xlfn.XLOOKUP($A15,'16-66 år'!$A:$A,'16-66 år'!C:C) -> 4293.1672 | S15: =D15/_xlfn.XLOOKUP($A15,'16-66 år'!$A:$A,'16-66 år'!D:D) -> 4312.9934 | T15: =E15/_xlfn.XLOOKUP($A15,'16-66 år'!$A:$A,'16-66 år'!E:E) -> 4450.612 | U15: =F15/_xlfn.XLOOKUP($A15,'16-66 år'!$A:$A,'16-66 år'!F:F) -> 4516.4796 | V15: =G15/_xlfn.XLOOKUP($A15,'16-66 år'!$A:$A,'16-66 år'!G:G) -> 4692.2309 | W15: =H15/_xlfn.XLOOKUP($A15,'16-66 år'!$A:$A,'16-66 år'!H:H) -> 4826.7637 | Y15: Esbjerg | Z15: 5017738.9 | AA15: 16387111 | AB15: 24804634 | AC15: 33330544 | AD15: 39083002 | AE15: 40873212 | AF15: 42323508 | AG15: 2.0181975e+08 | AH15: =Z15/_xlfn.XLOOKUP($Y15,Folketal!$A:$A,Folketal!B:B) -> 43.384654 | AI15: =AA15/_xlfn.XLOOKUP($Y15,Folketal!$A:$A,Folketal!C:C) -> 141.78523 | AJ15: =AB15/_xlfn.XLOOKUP($Y15,Folketal!$A:$A,Folketal!D:D) -> 214.80151 | AK15: =AC15/_xlfn.XLOOKUP($Y15,Folketal!$A:$A,Folketal!E:E) -> 287.80865 | AL15: =AD15/_xlfn.XLOOKUP($Y15,Folketal!$A:$A,Folketal!F:F) -> 338.91208 | AM15: =AE15/_xlfn.XLOOKUP($Y15,Folketal!$A:$A,Folketal!G:G) -> 355.25551 | AN15: =AF15/_xlfn.XLOOKUP($Y15,Folketal!$A:$A,Folketal!H:H) -> 368.45663 | AO15: =Z15/_xlfn.XLOOKUP($Y15,'16-66 år'!$A:$A,'16-66 år'!B:B) -> 67.588078 | AP15: =AA15/_xlfn.XLOOKUP($Y15,'16-66 år'!$A:$A,'16-66 år'!C:C) -> 222.25839 | AQ15: =AB15/_xlfn.XLOOKUP($Y15,'16-66 år'!$A:$A,'16-66 år'!D:D) -> 338.30652 | AR15: =AC15/_xlfn.XLOOKUP($Y15,'16-66 år'!$A:$A,'16-66 år'!E:E) -> 454.48469 | AS15: =AD15/_xlfn.XLOOKUP($Y15,'16-66 år'!$A:$A,'16-66 år'!F:F) -> 537.21601 | AT15: =AE15/_xlfn.XLOOKUP($Y15,'16-66 år'!$A:$A,'16-66 år'!G:G) -> 564.92947 | AU15: =AF15/_xlfn.XLOOKUP($Y15,'16-66 år'!$A:$A,'16-66 år'!H:H) -> 586.49873 | BC15: Esbjerg | BD15: 7.5245141e+08 | BE15: 7.3053108e+08 | BF15: 6.7152047e+08 | BG15: 6.8777199e+08 | BH15: 6.9167264e+08 | BI15: 6.9298705e+08 | BJ15: 689561366 | BK15: 4.916496e+09 | BL15: =BD15/_xlfn.XLOOKUP($BC15,Folketal!$A:$A,Folketal!B:B) -> 6505.8873 | BM15: =BE15/_xlfn.XLOOKUP($BC15,Folketal!$A:$A,Folketal!C:C) -> 6320.7306 | BN15: =BF15/_xlfn.XLOOKUP($BC15,Folketal!$A:$A,Folketal!D:D) -> 5815.1881 | BO15: =BG15/_xlfn.XLOOKUP($BC15,Folketal!$A:$A,Folketal!E:E) -> 5938.8988 | BP15: =BH15/_xlfn.XLOOKUP($BC15,Folketal!$A:$A,Folketal!F:F) -> 5997.907 | BQ15: =BI15/_xlfn.XLOOKUP($BC15,Folketal!$A:$A,Folketal!G:G) -> 6023.1984 | BR15: =BJ15/_xlfn.XLOOKUP($BC15,Folketal!$A:$A,Folketal!H:H) -> 6003.1285 | BS15: =BD15/_xlfn.XLOOKUP($BC15,'16-66 år'!$A:$A,'16-66 år'!B:B) -> 10135.391 | BT15: =BE15/_xlfn.XLOOKUP($BC15,'16-66 år'!$A:$A,'16-66 år'!C:C) -> 9908.1931 | BU15: =BF15/_xlfn.XLOOKUP($BC15,'16-66 år'!$A:$A,'16-66 år'!D:D) -> 9158.7626 | BV15: =BG15/_xlfn.XLOOKUP($BC15,'16-66 år'!$A:$A,'16-66 år'!E:E) -> 9378.24 | BW15: =BH15/_xlfn.XLOOKUP($BC15,'16-66 år'!$A:$A,'16-66 år'!F:F) -> 9507.397 | BX15: =BI15/_xlfn.XLOOKUP($BC15,'16-66 år'!$A:$A,'16-66 år'!G:G) -> 9578.1268 | BY15: =BJ15/_xlfn.XLOOKUP($BC15,'16-66 år'!$A:$A,'16-66 år'!H:H) -> 9555.6084 | CB15: Esbjerg | CC15: =_xlfn.XLOOKUP($CB15,$A:$A,B:B)/_xlfn.XLOOKUP($CB15,$BC:$BC,BD:BD)*100 -> 41.180596 | CD15: =_xlfn.XLOOKUP($CB15,$A:$A,C:C)/_xlfn.XLOOKUP($CB15,$BC:$BC,BE:BE)*100 -> 43.329466 | CE15: =_xlfn.XLOOKUP($CB15,$A:$A,D:D)/_xlfn.XLOOKUP($CB15,$BC:$BC,BF:BF)*100 -> 47.091443 | CF15: =_xlfn.XLOOKUP($CB15,$A:$A,E:E)/_xlfn.XLOOKUP($CB15,$BC:$BC,BG:BG)*100 -> 47.456794 | CG15: =_xlfn.XLOOKUP($CB15,$A:$A,F:F)/_xlfn.XLOOKUP($CB15,$BC:$BC,BH:BH)*100 -> 47.504902 | CH15: =_xlfn.XLOOKUP($CB15,$A:$A,G:G)/_xlfn.XLOOKUP($CB15,$BC:$BC,BI:BI)*100 -> 48.989025 | CI15: =_xlfn.XLOOKUP($CB15,$A:$A,H:H)/_xlfn.XLOOKUP($CB15,$BC:$BC,BJ:BJ)*100 -> 50.512364
A16: Fanø | B16: 5221388.6 | C16: 5587665.4 | D16: 5632858.1 | E16: 5803032.3 | F16: 5695773.8 | G16: 5506272.4 | H16: 5815581 | I16: 39262572 | J16: =B16/_xlfn.XLOOKUP($A16,Folketal!$A:$A,Folketal!B:B) -> 1501.6936 | K16: =C16/_xlfn.XLOOKUP($A16,Folketal!$A:$A,Folketal!C:C) -> 1620.0828 | L16: =D16/_xlfn.XLOOKUP($A16,Folketal!$A:$A,Folketal!D:D) -> 1643.1908 | M16: =E16/_xlfn.XLOOKUP($A16,Folketal!$A:$A,Folketal!E:E) -> 1702.2682 | N16: =F16/_xlfn.XLOOKUP($A16,Folketal!$A:$A,Folketal!F:F) -> 1703.7912 | O16: =G16/_xlfn.XLOOKUP($A16,Folketal!$A:$A,Folketal!G:G) -> 1680.2784 | P16: =H16/_xlfn.XLOOKUP($A16,Folketal!$A:$A,Folketal!H:H) -> 1744.3254 | Q16: =B16/_xlfn.XLOOKUP($A16,'16-66 år'!$A:$A,'16-66 år'!B:B) -> 2796.6731 | R16: =C16/_xlfn.XLOOKUP($A16,'16-66 år'!$A:$A,'16-66 år'!C:C) -> 3078.6035 | S16: =D16/_xlfn.XLOOKUP($A16,'16-66 år'!$A:$A,'16-66 år'!D:D) -> 3122.4269 | T16: =E16/_xlfn.XLOOKUP($A16,'16-66 år'!$A:$A,'16-66 år'!E:E) -> 3295.3051 | U16: =F16/_xlfn.XLOOKUP($A16,'16-66 år'!$A:$A,'16-66 år'!F:F) -> 3376.2738 | V16: =G16/_xlfn.XLOOKUP($A16,'16-66 år'!$A:$A,'16-66 år'!G:G) -> 3361.5826 | W16: =H16/_xlfn.XLOOKUP($A16,'16-66 år'!$A:$A,'16-66 år'!H:H) -> 3451.3834 | Y16: Fanø | Z16: 137834.56 | AA16: 594769.52 | AB16: 835343.82 | AC16: 1365552.9 | AD16: 1481351.4 | AE16: 1447491.5 | AF16: 1573364 | AG16: 7435707.7 | AH16: =Z16/_xlfn.XLOOKUP($Y16,Folketal!$A:$A,Folketal!B:B) -> 39.641806 | AI16: =AA16/_xlfn.XLOOKUP($Y16,Folketal!$A:$A,Folketal!C:C) -> 172.44695 | AJ16: =AB16/_xlfn.XLOOKUP($Y16,Folketal!$A:$A,Folketal!D:D) -> 243.68256 | AK16: =AC16/_xlfn.XLOOKUP($Y16,Folketal!$A:$A,Folketal!E:E) -> 400.57288 | AL16: =AD16/_xlfn.XLOOKUP($Y16,Folketal!$A:$A,Folketal!F:F) -> 443.12036 | AM16: =AE16/_xlfn.XLOOKUP($Y16,Folketal!$A:$A,Folketal!G:G) -> 441.7124 | AN16: =AF16/_xlfn.XLOOKUP($Y16,Folketal!$A:$A,Folketal!H:H) -> 471.91482 | AO16: =Z16/_xlfn.XLOOKUP($Y16,'16-66 år'!$A:$A,'16-66 år'!B:B) -> 73.826759 | AP16: =AA16/_xlfn.XLOOKUP($Y16,'16-66 år'!$A:$A,'16-66 år'!C:C) -> 327.6967 | AQ16: =AB16/_xlfn.XLOOKUP($Y16,'16-66 år'!$A:$A,'16-66 år'!D:D) -> 463.0509 | AR16: =AC16/_xlfn.XLOOKUP($Y16,'16-66 år'!$A:$A,'16-66 år'!E:E) -> 775.44176 | AS16: =AD16/_xlfn.XLOOKUP($Y16,'16-66 år'!$A:$A,'16-66 år'!F:F) -> 878.09802 | AT16: =AE16/_xlfn.XLOOKUP($Y16,'16-66 år'!$A:$A,'16-66 år'!G:G) -> 883.69447 | AU16: =AF16/_xlfn.XLOOKUP($Y16,'16-66 år'!$A:$A,'16-66 år'!H:H) -> 933.74718 | BC16: Fanø | BD16: 16157074 | BE16: 17177757 | BF16: 14880059 | BG16: 15435759 | BH16: 13815254 | BI16: 13381332 | BJ16: 13032005 | BK16: 1.0387924e+08 | BL16: =BD16/_xlfn.XLOOKUP($BC16,Folketal!$A:$A,Folketal!B:B) -> 4646.8432 | BM16: =BE16/_xlfn.XLOOKUP($BC16,Folketal!$A:$A,Folketal!C:C) -> 4980.5038 | BN16: =BF16/_xlfn.XLOOKUP($BC16,Folketal!$A:$A,Folketal!D:D) -> 4340.7407 | BO16: =BG16/_xlfn.XLOOKUP($BC16,Folketal!$A:$A,Folketal!E:E) -> 4527.9435 | BP16: =BH16/_xlfn.XLOOKUP($BC16,Folketal!$A:$A,Folketal!F:F) -> 4132.5918 | BQ16: =BI16/_xlfn.XLOOKUP($BC16,Folketal!$A:$A,Folketal!G:G) -> 4083.4091 | BR16: =BJ16/_xlfn.XLOOKUP($BC16,Folketal!$A:$A,Folketal!H:H) -> 3908.8197 | BS16: =BD16/_xlfn.XLOOKUP($BC16,'16-66 år'!$A:$A,'16-66 år'!B:B) -> 8654.0299 | BT16: =BE16/_xlfn.XLOOKUP($BC16,'16-66 år'!$A:$A,'16-66 år'!C:C) -> 9464.3292 | BU16: =BF16/_xlfn.XLOOKUP($BC16,'16-66 år'!$A:$A,'16-66 år'!D:D) -> 8248.3698 | BV16: =BG16/_xlfn.XLOOKUP($BC16,'16-66 år'!$A:$A,'16-66 år'!E:E) -> 8765.3376 | BW16: =BH16/_xlfn.XLOOKUP($BC16,'16-66 år'!$A:$A,'16-66 år'!F:F) -> 8189.2439 | BX16: =BI16/_xlfn.XLOOKUP($BC16,'16-66 år'!$A:$A,'16-66 år'!G:G) -> 8169.3112 | BY16: =BJ16/_xlfn.XLOOKUP($BC16,'16-66 år'!$A:$A,'16-66 år'!H:H) -> 7734.1276 | CB16: Fanø | CC16: =_xlfn.XLOOKUP($CB16,$A:$A,B:B)/_xlfn.XLOOKUP($CB16,$BC:$BC,BD:BD)*100 -> 32.316425 | CD16: =_xlfn.XLOOKUP($CB16,$A:$A,C:C)/_xlfn.XLOOKUP($CB16,$BC:$BC,BE:BE)*100 -> 32.528492 | CE16: =_xlfn.XLOOKUP($CB16,$A:$A,D:D)/_xlfn.XLOOKUP($CB16,$BC:$BC,BF:BF)*100 -> 37.855079 | CF16: =_xlfn.XLOOKUP($CB16,$A:$A,E:E)/_xlfn.XLOOKUP($CB16,$BC:$BC,BG:BG)*100 -> 37.594731 | CG16: =_xlfn.XLOOKUP($CB16,$A:$A,F:F)/_xlfn.XLOOKUP($CB16,$BC:$BC,BH:BH)*100 -> 41.22815 | CH16: =_xlfn.XLOOKUP($CB16,$A:$A,G:G)/_xlfn.XLOOKUP($CB16,$BC:$BC,BI:BI)*100 -> 41.148912 | CI16: =_xlfn.XLOOKUP($CB16,$A:$A,H:H)/_xlfn.XLOOKUP($CB16,$BC:$BC,BJ:BJ)*100 -> 44.625374
... A47: Ikast-Brande | B47: 95575627 | C47: 95412630 | D47: 93191769 | E47: 96395074 | F47: 1.0082685e+08 | G47: 1.0436429e+08 | H47: 105553456 | I47: 6.913197e+08 | J47: =B47/_xlfn.XLOOKUP($A47,Folketal!$A:$A,Folketal!B:B) -> 2309.4268 | K47: =C47/_xlfn.XLOOKUP($A47,Folketal!$A:$A,Folketal!C:C) -> 2295.3937 | L47: =D47/_xlfn.XLOOKUP($A47,Folketal!$A:$A,Folketal!D:D) -> 2216.1079 | M47: =E47/_xlfn.XLOOKUP($A47,Folketal!$A:$A,Folketal!E:E) -> 2262.2641 | N47: =F47/_xlfn.XLOOKUP($A47,Folketal!$A:$A,Folketal!F:F) -> 2356.5934 | O47: =G47/_xlfn.XLOOKUP($A47,Folketal!$A:$A,Folketal!G:G) -> 2417.575 | P47: =H47/_xlfn.XLOOKUP($A47,Folketal!$A:$A,Folketal!H:H) -> 2434.6317 | Q47: =B47/_xlfn.XLOOKUP($A47,'16-66 år'!$A:$A,'16-66 år'!B:B) -> 3670.198 | R47: =C47/_xlfn.XLOOKUP($A47,'16-66 år'!$A:$A,'16-66 år'!C:C) -> 3651.1798 | S47: =D47/_xlfn.XLOOKUP($A47,'16-66 år'!$A:$A,'16-66 år'!D:D) -> 3529.9913 | T47: =E47/_xlfn.XLOOKUP($A47,'16-66 år'!$A:$A,'16-66 år'!E:E) -> 3600.5929 | U47: =F47/_xlfn.XLOOKUP($A47,'16-66 år'!$A:$A,'16-66 år'!F:F) -> 3757.0089 | V47: =G47/_xlfn.XLOOKUP($A47,'16-66 år'!$A:$A,'16-66 år'!G:G) -> 3847.9572 | W47: =H47/_xlfn.XLOOKUP($A47,'16-66 år'!$A:$A,'16-66 år'!H:H) -> 3872.5265 | Y47: Ikast-Brande | Z47: 756066.84 | AA47: 5124071.6 | AB47: 9086007.8 | AC47: 12810510 | AD47: 14878295 | AE47: 16336117 | AF47: 15921815 | AG47: 74912883 | AH47: =Z47/_xlfn.XLOOKUP($Y47,Folketal!$A:$A,Folketal!B:B) -> 18.269103 | AI47: =AA47/_xlfn.XLOOKUP($Y47,Folketal!$A:$A,Folketal!C:C) -> 123.27259 | AJ47: =AB47/_xlfn.XLOOKUP($Y47,Folketal!$A:$A,Folketal!D:D) -> 216.06601 | AK47: =AC47/_xlfn.XLOOKUP($Y47,Folketal!$A:$A,Folketal!E:E) -> 300.64562 | AL47: =AD47/_xlfn.XLOOKUP($Y47,Folketal!$A:$A,Folketal!F:F) -> 347.74559 | AM47: =AE47/_xlfn.XLOOKUP($Y47,Folketal!$A:$A,Folketal!G:G) -> 378.42241 | AN47: =AF47/_xlfn.XLOOKUP($Y47,Folketal!$A:$A,Folketal!H:H) -> 367.24288 | AO47: =Z47/_xlfn.XLOOKUP($Y47,'16-66 år'!$A:$A,'16-66 år'!B:B) -> 29.03371 | AP47: =AA47/_xlfn.XLOOKUP($Y47,'16-66 år'!$A:$A,'16-66 år'!C:C) -> 196.08417 | AQ47: =AB47/_xlfn.XLOOKUP($Y47,'16-66 år'!$A:$A,'16-66 år'!D:D) -> 344.16696 | AR47: =AC47/_xlfn.XLOOKUP($Y47,'16-66 år'!$A:$A,'16-66 år'!E:E) -> 478.50403 | AS47: =AD47/_xlfn.XLOOKUP($Y47,'16-66 år'!$A:$A,'16-66 år'!F:F) -> 554.39487 | AT47: =AE47/_xlfn.XLOOKUP($Y47,'16-66 år'!$A:$A,'16-66 år'!G:G) -> 602.31977 | AU47: =AF47/_xlfn.XLOOKUP($Y47,'16-66 år'!$A:$A,'16-66 år'!H:H) -> 584.13674 | BC47: Ikast-Brande | BD47: 2.494716e+08 | BE47: 2.4334138e+08 | BF47: 2.2283834e+08 | BG47: 2.3147274e+08 | BH47: 2.3562052e+08 | BI47: 2.3290579e+08 | BJ47: 231493854 | BK47: 1.6471442e+09 | BL47: =BD47/_xlfn.XLOOKUP($BC47,Folketal!$A:$A,Folketal!B:B) -> 6028.0681 | BM47: =BE47/_xlfn.XLOOKUP($BC47,Folketal!$A:$A,Folketal!C:C) -> 5854.1963 | BN47: =BF47/_xlfn.XLOOKUP($BC47,Folketal!$A:$A,Folketal!D:D) -> 5299.114 | BO47: =BG47/_xlfn.XLOOKUP($BC47,Folketal!$A:$A,Folketal!E:E) -> 5432.3573 | BP47: =BH47/_xlfn.XLOOKUP($BC47,Folketal!$A:$A,Folketal!F:F) -> 5507.0823 | BQ47: =BI47/_xlfn.XLOOKUP($BC47,Folketal!$A:$A,Folketal!G:G) -> 5395.2093 | BR47: =BJ47/_xlfn.XLOOKUP($BC47,Folketal!$A:$A,Folketal!H:H) -> 5339.4961 | BS47: =BD47/_xlfn.XLOOKUP($BC47,'16-66 år'!$A:$A,'16-66 år'!B:B) -> 9579.9547 | BT47: =BE47/_xlfn.XLOOKUP($BC47,'16-66 år'!$A:$A,'16-66 år'!C:C) -> 9312.0074 | BU47: =BF47/_xlfn.XLOOKUP($BC47,'16-66 år'!$A:$A,'16-66 år'!D:D) -> 8440.8463 | BV47: =BG47/_xlfn.XLOOKUP($BC47,'16-66 år'!$A:$A,'16-66 år'!E:E) -> 8646.0759 | BW47: =BH47/_xlfn.XLOOKUP($BC47,'16-66 år'!$A:$A,'16-66 år'!F:F) -> 8779.6891 | BX47: =BI47/_xlfn.XLOOKUP($BC47,'16-66 år'!$A:$A,'16-66 år'!G:G) -> 8587.3384 | BY47: =BJ47/_xlfn.XLOOKUP($BC47,'16-66 år'!$A:$A,'16-66 år'!H:H) -> 8493.0056 | CB47: Ikast-Brande | CC47: =_xlfn.XLOOKUP($CB47,$A:$A,B:B)/_xlfn.XLOOKUP($CB47,$BC:$BC,BD:BD)*100 -> 38.311225 | CD47: =_xlfn.XLOOKUP($CB47,$A:$A,C:C)/_xlfn.XLOOKUP($CB47,$BC:$BC,BE:BE)*100 -> 39.209374 | CE47: =_xlfn.XLOOKUP($CB47,$A:$A,D:D)/_xlfn.XLOOKUP($CB47,$BC:$BC,BF:BF)*100 -> 41.820348 | CF47: =_xlfn.XLOOKUP($CB47,$A:$A,E:E)/_xlfn.XLOOKUP($CB47,$BC:$BC,BG:BG)*100 -> 41.644244 | CG47: =_xlfn.XLOOKUP($CB47,$A:$A,F:F)/_xlfn.XLOOKUP($CB47,$BC:$BC,BH:BH)*100 -> 42.792049 | CH47: =_xlfn.XLOOKUP($CB47,$A:$A,G:G)/_xlfn.XLOOKUP($CB47,$BC:$BC,BI:BI)*100 -> 44.80966 | CI47: =_xlfn.XLOOKUP($CB47,$A:$A,H:H)/_xlfn.XLOOKUP($CB47,$BC:$BC,BJ:BJ)*100 -> 45.596656
A48: Ishøj | B48: 57658765 | C48: 61634897 | D48: 61366332 | E48: 64424651 | F48: 65022155 | G48: 65847954 | H48: 65797823 | I48: 4.4175258e+08 | J48: =B48/_xlfn.XLOOKUP($A48,Folketal!$A:$A,Folketal!B:B) -> 2514.7752 | K48: =C48/_xlfn.XLOOKUP($A48,Folketal!$A:$A,Folketal!C:C) -> 2669.3329 | L48: =D48/_xlfn.XLOOKUP($A48,Folketal!$A:$A,Folketal!D:D) -> 2634.5397 | M48: =E48/_xlfn.XLOOKUP($A48,Folketal!$A:$A,Folketal!E:E) -> 2723.7412 | N48: =F48/_xlfn.XLOOKUP($A48,Folketal!$A:$A,Folketal!F:F) -> 2740.4288 | O48: =G48/_xlfn.XLOOKUP($A48,Folketal!$A:$A,Folketal!G:G) -> 2698.0232 | P48: =H48/_xlfn.XLOOKUP($A48,Folketal!$A:$A,Folketal!H:H) -> 2638.0332 | Q48: =B48/_xlfn.XLOOKUP($A48,'16-66 år'!$A:$A,'16-66 år'!B:B) -> 3840.0776 | R48: =C48/_xlfn.XLOOKUP($A48,'16-66 år'!$A:$A,'16-66 år'!C:C) -> 4070.4595 | S48: =D48/_xlfn.XLOOKUP($A48,'16-66 år'!$A:$A,'16-66 år'!D:D) -> 3991.8254 | T48: =E48/_xlfn.XLOOKUP($A48,'16-66 år'!$A:$A,'16-66 år'!E:E) -> 4110.2878 | U48: =F48/_xlfn.XLOOKUP($A48,'16-66 år'!$A:$A,'16-66 år'!F:F) -> 4126.0331 | V48: =G48/_xlfn.XLOOKUP($A48,'16-66 år'!$A:$A,'16-66 år'!G:G) -> 4024.6901 | W48: =H48/_xlfn.XLOOKUP($A48,'16-66 år'!$A:$A,'16-66 år'!H:H) -> 3918.6364 | Y48: Ishøj | AA48: 1958374.7 | AB48: 3436965.8 | AC48: 4529867.6 | AD48: 4958956.4 | AE48: 5615173.7 | AF48: 5421270 | AG48: 25920608 | AH48: =Z48/_xlfn.XLOOKUP($Y48,Folketal!$A:$A,Folketal!B:B) -> 0 | AI48: =AA48/_xlfn.XLOOKUP($Y48,Folketal!$A:$A,Folketal!C:C) -> 84.814843 | AJ48: =AB48/_xlfn.XLOOKUP($Y48,Folketal!$A:$A,Folketal!D:D) -> 147.55359 | AK48: =AC48/_xlfn.XLOOKUP($Y48,Folketal!$A:$A,Folketal!E:E) -> 191.51345 | AL48: =AD48/_xlfn.XLOOKUP($Y48,Folketal!$A:$A,Folketal!F:F) -> 209.00057 | AM48: =AE48/_xlfn.XLOOKUP($Y48,Folketal!$A:$A,Folketal!G:G) -> 230.0735 | AN48: =AF48/_xlfn.XLOOKUP($Y48,Folketal!$A:$A,Folketal!H:H) -> 217.35506 | AO48: =Z48/_xlfn.XLOOKUP($Y48,'16-66 år'!$A:$A,'16-66 år'!B:B) -> 0 | AP48: =AA48/_xlfn.XLOOKUP($Y48,'16-66 år'!$A:$A,'16-66 år'!C:C) -> 129.33395 | AQ48: =AB48/_xlfn.XLOOKUP($Y48,'16-66 år'!$A:$A,'16-66 år'!D:D) -> 223.57157 | AR48: =AC48/_xlfn.XLOOKUP($Y48,'16-66 år'!$A:$A,'16-66 år'!E:E) -> 289.0052 | AS48: =AD48/_xlfn.XLOOKUP($Y48,'16-66 år'!$A:$A,'16-66 år'!F:F) -> 314.67456 | AT48: =AE48/_xlfn.XLOOKUP($Y48,'16-66 år'!$A:$A,'16-66 år'!G:G) -> 343.2048 | AU48: =AF48/_xlfn.XLOOKUP($Y48,'16-66 år'!$A:$A,'16-66 år'!H:H) -> 322.86761 | BC48: Ishøj | BD48: 1.6297635e+08 | BE48: 1.6872093e+08 | BF48: 1.4794026e+08 | BG48: 1.5273254e+08 | BH48: 1.5640864e+08 | BI48: 1.5681946e+08 | BJ48: 160131920 | BK48: 1.1057301e+09 | BL48: =BD48/_xlfn.XLOOKUP($BC48,Folketal!$A:$A,Folketal!B:B) -> 7108.18 | BM48: =BE48/_xlfn.XLOOKUP($BC48,Folketal!$A:$A,Folketal!C:C) -> 7307.0994 | BN48: =BF48/_xlfn.XLOOKUP($BC48,Folketal!$A:$A,Folketal!D:D) -> 6351.2754 | BO48: =BG48/_xlfn.XLOOKUP($BC48,Folketal!$A:$A,Folketal!E:E) -> 6457.2163 | BP48: =BH48/_xlfn.XLOOKUP($BC48,Folketal!$A:$A,Folketal!F:F) -> 6592.0109 | BQ48: =BI48/_xlfn.XLOOKUP($BC48,Folketal!$A:$A,Folketal!G:G) -> 6425.447 | BR48: =BJ48/_xlfn.XLOOKUP($BC48,Folketal!$A:$A,Folketal!H:H) -> 6420.1716 | BS48: =BD48/_xlfn.XLOOKUP($BC48,'16-66 år'!$A:$A,'16-66 år'!B:B) -> 10854.236 | BT48: =BE48/_xlfn.XLOOKUP($BC48,'16-66 år'!$A:$A,'16-66 år'!C:C) -> 11142.579 | BU48: =BF48/_xlfn.XLOOKUP($BC48,'16-66 år'!$A:$A,'16-66 år'!D:D) -> 9623.3824 | BV48: =BG48/_xlfn.XLOOKUP($BC48,'16-66 år'!$A:$A,'16-66 år'!E:E) -> 9744.3242 | BW48: =BH48/_xlfn.XLOOKUP($BC48,'16-66 år'!$A:$A,'16-66 år'!F:F) -> 9925.036 | BX48: =BI48/_xlfn.XLOOKUP($BC48,'16-66 år'!$A:$A,'16-66 år'!G:G) -> 9584.9556 | BY48: =BJ48/_xlfn.XLOOKUP($BC48,'16-66 år'!$A:$A,'16-66 år'!H:H) -> 9536.7709 | CB48: Ishøj | CC48: =_xlfn.XLOOKUP($CB48,$A:$A,B:B)/_xlfn.XLOOKUP($CB48,$BC:$BC,BD:BD)*100 -> 35.378608 | CD48: =_xlfn.XLOOKUP($CB48,$A:$A,C:C)/_xlfn.XLOOKUP($CB48,$BC:$BC,BE:BE)*100 -> 36.530678 | CE48: =_xlfn.XLOOKUP($CB48,$A:$A,D:D)/_xlfn.XLOOKUP($CB48,$BC:$BC,BF:BF)*100 -> 41.480482 | CF48: =_xlfn.XLOOKUP($CB48,$A:$A,E:E)/_xlfn.XLOOKUP($CB48,$BC:$BC,BG:BG)*100 -> 42.181353 | CG48: =_xlfn.XLOOKUP($CB48,$A:$A,F:F)/_xlfn.XLOOKUP($CB48,$BC:$BC,BH:BH)*100 -> 41.571971 | CH48: =_xlfn.XLOOKUP($CB48,$A:$A,G:G)/_xlfn.XLOOKUP($CB48,$BC:$BC,BI:BI)*100 -> 41.989658 | CI48: =_xlfn.XLOOKUP($CB48,$A:$A,H:H)/_xlfn.XLOOKUP($CB48,$BC:$BC,BJ:BJ)*100 -> 41.089761
A49: Jammerbugt | B49: 99810455 | C49: 1.0327073e+08 | D49: 1.02071e+08 | E49: 1.0435999e+08 | F49: 1.0552871e+08 | G49: 1.0490133e+08 | H49: 107344695 | I49: 7.2728691e+08 | J49: =B49/_xlfn.XLOOKUP($A49,Folketal!$A:$A,Folketal!B:B) -> 2599.4337 | K49: =C49/_xlfn.XLOOKUP($A49,Folketal!$A:$A,Folketal!C:C) -> 2705.8307 | L49: =D49/_xlfn.XLOOKUP($A49,Folketal!$A:$A,Folketal!D:D) -> 2674.6763 | M49: =E49/_xlfn.XLOOKUP($A49,Folketal!$A:$A,Folketal!E:E) -> 2720.8966 | N49: =F49/_xlfn.XLOOKUP($A49,Folketal!$A:$A,Folketal!F:F) -> 2765.4999 | O49: =G49/_xlfn.XLOOKUP($A49,Folketal!$A:$A,Folketal!G:G) -> 2762.8151 | P49: =H49/_xlfn.XLOOKUP($A49,Folketal!$A:$A,Folketal!H:H) -> 2829.8499 | Q49: =B49/_xlfn.XLOOKUP($A49,'16-66 år'!$A:$A,'16-66 år'!B:B) -> 4286.2859 | R49: =C49/_xlfn.XLOOKUP($A49,'16-66 år'!$A:$A,'16-66 år'!C:C) -> 4508.261 | S49: =D49/_xlfn.XLOOKUP($A49,'16-66 år'!$A:$A,'16-66 år'!D:D) -> 4461.73 | T49: =E49/_xlfn.XLOOKUP($A49,'16-66 år'!$A:$A,'16-66 år'!E:E) -> 4549.8535 | U49: =F49/_xlfn.XLOOKUP($A49,'16-66 år'!$A:$A,'16-66 år'!F:F) -> 4622.9777 | V49: =G49/_xlfn.XLOOKUP($A49,'16-66 år'!$A:$A,'16-66 år'!G:G) -> 4637.9577 | W49: =H49/_xlfn.XLOOKUP($A49,'16-66 år'!$A:$A,'16-66 år'!H:H) -> 4759.8747 | Y49: Jammerbugt | Z49: 1695091.8 | AA49: 5048825.9 | AB49: 7957846.3 | AC49: 12482414 | AD49: 15719781 | AE49: 16302511 | AF49: 17533012 | AG49: 76739482 | AH49: =Z49/_xlfn.XLOOKUP($Y49,Folketal!$A:$A,Folketal!B:B) -> 44.146464 | AI49: =AA49/_xlfn.XLOOKUP($Y49,Folketal!$A:$A,Folketal!C:C) -> 132.28596 | AJ49: =AB49/_xlfn.XLOOKUP($Y49,Folketal!$A:$A,Folketal!D:D) -> 208.52802 | AK49: =AC49/_xlfn.XLOOKUP($Y49,Folketal!$A:$A,Folketal!E:E) -> 325.44424 | AL49: =AD49/_xlfn.XLOOKUP($Y49,Folketal!$A:$A,Folketal!F:F) -> 411.95474 | AM49: =AE49/_xlfn.XLOOKUP($Y49,Folketal!$A:$A,Folketal!G:G) -> 429.36371 | AN49: =AF49/_xlfn.XLOOKUP($Y49,Folketal!$A:$A,Folketal!H:H) -> 462.21 | AO49: =Z49/_xlfn.XLOOKUP($Y49,'16-66 år'!$A:$A,'16-66 år'!B:B) -> 72.794459 | AP49: =AA49/_xlfn.XLOOKUP($Y49,'16-66 år'!$A:$A,'16-66 år'!C:C) -> 220.40537 | AQ49: =AB49/_xlfn.XLOOKUP($Y49,'16-66 år'!$A:$A,'16-66 år'!D:D) -> 347.85358 | AR49: =AC49/_xlfn.XLOOKUP($Y49,'16-66 år'!$A:$A,'16-66 år'!E:E) -> 544.2043 | AS49: =AD49/_xlfn.XLOOKUP($Y49,'16-66 år'!$A:$A,'16-66 år'!F:F) -> 688.64858 | AT49: =AE49/_xlfn.XLOOKUP($Y49,'16-66 år'!$A:$A,'16-66 år'!G:G) -> 720.77596 | AU49: =AF49/_xlfn.XLOOKUP($Y49,'16-66 år'!$A:$A,'16-66 år'!H:H) -> 777.44821 | BC49: Jammerbugt | BD49: 2.4274845e+08 | BE49: 2.417242e+08 | BF49: 2.2447467e+08 | BG49: 2.3283441e+08 | BH49: 2.3306678e+08 | BI49: 2.3190973e+08 | BJ49: 235556027 | BK49: 1.6423143e+09 | BL49: =BD49/_xlfn.XLOOKUP($BC49,Folketal!$A:$A,Folketal!B:B) -> 6322.0681 | BM49: =BE49/_xlfn.XLOOKUP($BC49,Folketal!$A:$A,Folketal!C:C) -> 6333.4958 | BN49: =BF49/_xlfn.XLOOKUP($BC49,Folketal!$A:$A,Folketal!D:D) -> 5882.1516 | BO49: =BG49/_xlfn.XLOOKUP($BC49,Folketal!$A:$A,Folketal!E:E) -> 6070.5101 | BP49: =BH49/_xlfn.XLOOKUP($BC49,Folketal!$A:$A,Folketal!F:F) -> 6107.7802 | BQ49: =BI49/_xlfn.XLOOKUP($BC49,Folketal!$A:$A,Folketal!G:G) -> 6107.8705 | BR49: =BJ49/_xlfn.XLOOKUP($BC49,Folketal!$A:$A,Folketal!H:H) -> 6209.7917 | BS49: =BD49/_xlfn.XLOOKUP($BC49,'16-66 år'!$A:$A,'16-66 år'!B:B) -> 10424.652 | BT49: =BE49/_xlfn.XLOOKUP($BC49,'16-66 år'!$A:$A,'16-66 år'!C:C) -> 10552.416 | BU49: =BF49/_xlfn.XLOOKUP($BC49,'16-66 år'!$A:$A,'16-66 år'!D:D) -> 9812.2423 | BV49: =BG49/_xlfn.XLOOKUP($BC49,'16-66 år'!$A:$A,'16-66 år'!E:E) -> 10151.04 | BW49: =BH49/_xlfn.XLOOKUP($BC49,'16-66 år'!$A:$A,'16-66 år'!F:F) -> 10210.136 | BX49: =BI49/_xlfn.XLOOKUP($BC49,'16-66 år'!$A:$A,'16-66 år'!G:G) -> 10253.326 | BY49: =BJ49/_xlfn.XLOOKUP($BC49,'16-66 år'!$A:$A,'16-66 år'!H:H) -> 10445.017 | CB49: Jammerbugt | CC49: =_xlfn.XLOOKUP($CB49,$A:$A,B:B)/_xlfn.XLOOKUP($CB49,$BC:$BC,BD:BD)*100 -> 41.116825 | CD49: =_xlfn.XLOOKUP($CB49,$A:$A,C:C)/_xlfn.XLOOKUP($CB49,$BC:$BC,BE:BE)*100 -> 42.722546 | CE49: =_xlfn.XLOOKUP($CB49,$A:$A,D:D)/_xlfn.XLOOKUP($CB49,$BC:$BC,BF:BF)*100 -> 45.471054 | CF49: =_xlfn.XLOOKUP($CB49,$A:$A,E:E)/_xlfn.XLOOKUP($CB49,$BC:$BC,BG:BG)*100 -> 44.821549 | CG49: =_xlfn.XLOOKUP($CB49,$A:$A,F:F)/_xlfn.XLOOKUP($CB49,$BC:$BC,BH:BH)*100 -> 45.278314 | CH49: =_xlfn.XLOOKUP($CB49,$A:$A,G:G)/_xlfn.XLOOKUP($CB49,$BC:$BC,BI:BI)*100 -> 45.233688 | CI49: =_xlfn.XLOOKUP($CB49,$A:$A,H:H)/_xlfn.XLOOKUP($CB49,$BC:$BC,BJ:BJ)*100 -> 45.57077
A50: Kalundborg | B50: 1.6934847e+08 | C50: 1.7320808e+08 | D50: 1.7353765e+08 | E50: 1.8267332e+08 | F50: 1.8068857e+08 | G50: 1.8604732e+08 | H50: 194572734 | I50: 1.2600761e+09 | J50: =B50/_xlfn.XLOOKUP($A50,Folketal!$A:$A,Folketal!B:B) -> 3500.6712 | K50: =C50/_xlfn.XLOOKUP($A50,Folketal!$A:$A,Folketal!C:C) -> 3575.3551 | L50: =D50/_xlfn.XLOOKUP($A50,Folketal!$A:$A,Folketal!D:D) -> 3583.0458 | M50: =E50/_xlfn.XLOOKUP($A50,Folketal!$A:$A,Folketal!E:E) -> 3764.5198 | N50: =F50/_xlfn.XLOOKUP($A50,Folketal!$A:$A,Folketal!F:F) -> 3739.3383 | O50: =G50/_xlfn.XLOOKUP($A50,Folketal!$A:$A,Folketal!G:G) -> 3872.0332 | P50: =H50/_xlfn.XLOOKUP($A50,Folketal!$A:$A,Folketal!H:H) -> 4067.2408 | Q50: =B50/_xlfn.XLOOKUP($A50,'16-66 år'!$A:$A,'16-66 år'!B:B) -> 5663.4496 | R50: =C50/_xlfn.XLOOKUP($A50,'16-66 år'!$A:$A,'16-66 år'!C:C) -> 5801.0609 | S50: =D50/_xlfn.XLOOKUP($A50,'16-66 år'!$A:$A,'16-66 år'!D:D) -> 5803.5468 | T50: =E50/_xlfn.XLOOKUP($A50,'16-66 år'!$A:$A,'16-66 år'!E:E) -> 6086.2705 | U50: =F50/_xlfn.XLOOKUP($A50,'16-66 år'!$A:$A,'16-66 år'!F:F) -> 6055.0439 | V50: =G50/_xlfn.XLOOKUP($A50,'16-66 år'!$A:$A,'16-66 år'!G:G) -> 6264.0087 | W50: =H50/_xlfn.XLOOKUP($A50,'16-66 år'!$A:$A,'16-66 år'!H:H) -> 6573.4032 | Y50: Kalundborg | Z50: 1245045.5 | AA50: 7787997.2 | AB50: 12842952 | AC50: 18301608 | AD50: 19870195 | AE50: 19465922 | AF50: 20298789 | AG50: 99812509 | AH50: =Z50/_xlfn.XLOOKUP($Y50,Folketal!$A:$A,Folketal!B:B) -> 25.736843 | AI50: =AA50/_xlfn.XLOOKUP($Y50,Folketal!$A:$A,Folketal!C:C) -> 160.75957 | AJ50: =AB50/_xlfn.XLOOKUP($Y50,Folketal!$A:$A,Folketal!D:D) -> 265.16944 | AK50: =AC50/_xlfn.XLOOKUP($Y50,Folketal!$A:$A,Folketal!E:E) -> 377.15834 | AL50: =AD50/_xlfn.XLOOKUP($Y50,Folketal!$A:$A,Folketal!F:F) -> 411.21242 | AM50: =AE50/_xlfn.XLOOKUP($Y50,Folketal!$A:$A,Folketal!G:G) -> 405.12647 | AN50: =AF50/_xlfn.XLOOKUP($Y50,Folketal!$A:$A,Folketal!H:H) -> 424.31466 | AO50: =Z50/_xlfn.XLOOKUP($Y50,'16-66 år'!$A:$A,'16-66 år'!B:B) -> 41.637533 | AP50: =AA50/_xlfn.XLOOKUP($Y50,'16-66 år'!$A:$A,'16-66 år'!C:C) -> 260.83452 | AQ50: =AB50/_xlfn.XLOOKUP($Y50,'16-66 år'!$A:$A,'16-66 år'!D:D) -> 429.50142 | AR50: =AC50/_xlfn.XLOOKUP($Y50,'16-66 år'!$A:$A,'16-66 år'!E:E) -> 609.76905 | AS50: =AD50/_xlfn.XLOOKUP($Y50,'16-66 år'!$A:$A,'16-66 år'!F:F) -> 665.86895 | AT50: =AE50/_xlfn.XLOOKUP($Y50,'16-66 år'!$A:$A,'16-66 år'!G:G) -> 655.39618 | AU50: =AF50/_xlfn.XLOOKUP($Y50,'16-66 år'!$A:$A,'16-66 år'!H:H) -> 685.7699 | BC50: Kalundborg | BD50: 3.6450385e+08 | BE50: 3.5910222e+08 | BF50: 3.4188103e+08 | BG50: 3.4579644e+08 | BH50: 3.3904769e+08 | BI50: 3.3194637e+08 | BJ50: 338208996 | BK50: 2.4204866e+09 | BL50: =BD50/_xlfn.XLOOKUP($BC50,Folketal!$A:$A,Folketal!B:B) -> 7534.8075 | BM50: =BE50/_xlfn.XLOOKUP($BC50,Folketal!$A:$A,Folketal!C:C) -> 7412.5754 | BN50: =BF50/_xlfn.XLOOKUP($BC50,Folketal!$A:$A,Folketal!D:D) -> 7058.8448 | BO50: =BG50/_xlfn.XLOOKUP($BC50,Folketal!$A:$A,Folketal!E:E) -> 7126.1503 | BP50: =BH50/_xlfn.XLOOKUP($BC50,Folketal!$A:$A,Folketal!F:F) -> 7016.5703 | BQ50: =BI50/_xlfn.XLOOKUP($BC50,Folketal!$A:$A,Folketal!G:G) -> 6908.4969 | BR50: =BJ50/_xlfn.XLOOKUP($BC50,Folketal!$A:$A,Folketal!H:H) -> 7069.7338 | BS50: =BD50/_xlfn.XLOOKUP($BC50,'16-66 år'!$A:$A,'16-66 år'!B:B) -> 12189.949 | BT50: =BE50/_xlfn.XLOOKUP($BC50,'16-66 år'!$A:$A,'16-66 år'!C:C) -> 12027.002 | BU50: =BF50/_xlfn.XLOOKUP($BC50,'16-66 år'!$A:$A,'16-66 år'!D:D) -> 11433.383 | BV50: =BG50/_xlfn.XLOOKUP($BC50,'16-66 år'!$A:$A,'16-66 år'!E:E) -> 11521.172 | BW50: =BH50/_xlfn.XLOOKUP($BC50,'16-66 år'!$A:$A,'16-66 år'!F:F) -> 11361.807 | BX50: =BI50/_xlfn.XLOOKUP($BC50,'16-66 år'!$A:$A,'16-66 år'!G:G) -> 11176.269 | BY50: =BJ50/_xlfn.XLOOKUP($BC50,'16-66 år'!$A:$A,'16-66 år'!H:H) -> 11425.98 | CB50: Kalundborg | CC50: =_xlfn.XLOOKUP($CB50,$A:$A,B:B)/_xlfn.XLOOKUP($CB50,$BC:$BC,BD:BD)*100 -> 46.459995 | CD50: =_xlfn.XLOOKUP($CB50,$A:$A,C:C)/_xlfn.XLOOKUP($CB50,$BC:$BC,BE:BE)*100 -> 48.233642 | CE50: =_xlfn.XLOOKUP($CB50,$A:$A,D:D)/_xlfn.XLOOKUP($CB50,$BC:$BC,BF:BF)*100 -> 50.759662 | CF50: =_xlfn.XLOOKUP($CB50,$A:$A,E:E)/_xlfn.XLOOKUP($CB50,$BC:$BC,BG:BG)*100 -> 52.826836 | CG50: =_xlfn.XLOOKUP($CB50,$A:$A,F:F)/_xlfn.XLOOKUP($CB50,$BC:$BC,BH:BH)*100 -> 53.292964 | CH50: =_xlfn.XLOOKUP($CB50,$A:$A,G:G)/_xlfn.XLOOKUP($CB50,$BC:$BC,BI:BI)*100 -> 56.047404 | CI50: =_xlfn.XLOOKUP($CB50,$A:$A,H:H)/_xlfn.XLOOKUP($CB50,$BC:$BC,BJ:BJ)*100 -> 57.530325
A51: Kerteminde | B51: 57326693 | C51: 59626186 | D51: 59338655 | E51: 62857185 | F51: 66603098 | G51: 69238412 | H51: 71087694 | I51: 4.4607792e+08 | J51: =B51/_xlfn.XLOOKUP($A51,Folketal!$A:$A,Folketal!B:B) -> 2404.744 | K51: =C51/_xlfn.XLOOKUP($A51,Folketal!$A:$A,Folketal!C:C) -> 2501.6231 | L51: =D51/_xlfn.XLOOKUP($A51,Folketal!$A:$A,Folketal!D:D) -> 2468.3301 | M51: =E51/_xlfn.XLOOKUP($A51,Folketal!$A:$A,Folketal!E:E) -> 2616.7597 | N51: =F51/_xlfn.XLOOKUP($A51,Folketal!$A:$A,Folketal!F:F) -> 2786.3907 | O51: =G51/_xlfn.XLOOKUP($A51,Folketal!$A:$A,Folketal!G:G) -> 2876.9025 | P51: =H51/_xlfn.XLOOKUP($A51,Folketal!$A:$A,Folketal!H:H) -> 2923.735 | Q51: =B51/_xlfn.XLOOKUP($A51,'16-66 år'!$A:$A,'16-66 år'!B:B) -> 3977.7056 | R51: =C51/_xlfn.XLOOKUP($A51,'16-66 år'!$A:$A,'16-66 år'!C:C) -> 4153.6876 | S51: =D51/_xlfn.XLOOKUP($A51,'16-66 år'!$A:$A,'16-66 år'!D:D) -> 4107.334 | T51: =E51/_xlfn.XLOOKUP($A51,'16-66 år'!$A:$A,'16-66 år'!E:E) -> 4375.7177 | U51: =F51/_xlfn.XLOOKUP($A51,'16-66 år'!$A:$A,'16-66 år'!F:F) -> 4661.7973 | V51: =G51/_xlfn.XLOOKUP($A51,'16-66 år'!$A:$A,'16-66 år'!G:G) -> 4803.5529 | W51: =H51/_xlfn.XLOOKUP($A51,'16-66 år'!$A:$A,'16-66 år'!H:H) -> 4888.44 | Y51: Kerteminde | Z51: 793580.67 | AA51: 4305735.1 | AB51: 6706455.9 | AC51: 9075859.4 | AD51: 10380044 | AE51: 10380509 | AF51: 10912455 | AG51: 52554639 | AH51: =Z51/_xlfn.XLOOKUP($Y51,Folketal!$A:$A,Folketal!B:B) -> 33.289176 | AI51: =AA51/_xlfn.XLOOKUP($Y51,Folketal!$A:$A,Folketal!C:C) -> 180.64758 | AJ51: =AB51/_xlfn.XLOOKUP($Y51,Folketal!$A:$A,Folketal!D:D) -> 278.97071 | AK51: =AC51/_xlfn.XLOOKUP($Y51,Folketal!$A:$A,Folketal!E:E) -> 377.83021 | AL51: =AD51/_xlfn.XLOOKUP($Y51,Folketal!$A:$A,Folketal!F:F) -> 434.25695 | AM51: =AE51/_xlfn.XLOOKUP($Y51,Folketal!$A:$A,Folketal!G:G) -> 431.31711 | AN51: =AF51/_xlfn.XLOOKUP($Y51,Folketal!$A:$A,Folketal!H:H) -> 448.81365 | AO51: =Z51/_xlfn.XLOOKUP($Y51,'16-66 år'!$A:$A,'16-66 år'!B:B) -> 55.063882 | AP51: =AA51/_xlfn.XLOOKUP($Y51,'16-66 år'!$A:$A,'16-66 år'!C:C) -> 299.94672 | AQ51: =AB51/_xlfn.XLOOKUP($Y51,'16-66 år'!$A:$A,'16-66 år'!D:D) -> 464.21097 | AR51: =AC51/_xlfn.XLOOKUP($Y51,'16-66 år'!$A:$A,'16-66 år'!E:E) -> 631.80365 | AS51: =AD51/_xlfn.XLOOKUP($Y51,'16-66 år'!$A:$A,'16-66 år'!F:F) -> 726.53769 | AT51: =AE51/_xlfn.XLOOKUP($Y51,'16-66 år'!$A:$A,'16-66 år'!G:G) -> 720.16851 | AU51: =AF51/_xlfn.XLOOKUP($Y51,'16-66 år'!$A:$A,'16-66 år'!H:H) -> 750.4095 | BC51: Kerteminde | BD51: 1.5226403e+08 | BE51: 1.4823412e+08 | BF51: 1.3731488e+08 | BG51: 1.3792188e+08 | BH51: 1.4806779e+08 | BI51: 1.4730678e+08 | BJ51: 150157383 | BK51: 1.0212669e+09 | BL51: =BD51/_xlfn.XLOOKUP($BC51,Folketal!$A:$A,Folketal!B:B) -> 6387.1818 | BM51: =BE51/_xlfn.XLOOKUP($BC51,Folketal!$A:$A,Folketal!C:C) -> 6219.1783 | BN51: =BF51/_xlfn.XLOOKUP($BC51,Folketal!$A:$A,Folketal!D:D) -> 5711.9333 | BO51: =BG51/_xlfn.XLOOKUP($BC51,Folketal!$A:$A,Folketal!E:E) -> 5741.7211 | BP51: =BH51/_xlfn.XLOOKUP($BC51,Folketal!$A:$A,Folketal!F:F) -> 6194.5275 | BQ51: =BI51/_xlfn.XLOOKUP($BC51,Folketal!$A:$A,Folketal!G:G) -> 6120.6956 | BR51: =BJ51/_xlfn.XLOOKUP($BC51,Folketal!$A:$A,Folketal!H:H) -> 6175.7581 | BS51: =BD51/_xlfn.XLOOKUP($BC51,'16-66 år'!$A:$A,'16-66 år'!B:B) -> 10565.086 | BT51: =BE51/_xlfn.XLOOKUP($BC51,'16-66 år'!$A:$A,'16-66 år'!C:C) -> 10326.306 | BU51: =BF51/_xlfn.XLOOKUP($BC51,'16-66 år'!$A:$A,'16-66 år'!D:D) -> 9504.733 | BV51: =BG51/_xlfn.XLOOKUP($BC51,'16-66 år'!$A:$A,'16-66 år'!E:E) -> 9601.2449 | BW51: =BH51/_xlfn.XLOOKUP($BC51,'16-66 år'!$A:$A,'16-66 år'!F:F) -> 10363.813 | BX51: =BI51/_xlfn.XLOOKUP($BC51,'16-66 år'!$A:$A,'16-66 år'!G:G) -> 10219.702 | BY51: =BJ51/_xlfn.XLOOKUP($BC51,'16-66 år'!$A:$A,'16-66 år'!H:H) -> 10325.772 | CB51: Kerteminde | CC51: =_xlfn.XLOOKUP($CB51,$A:$A,B:B)/_xlfn.XLOOKUP($CB51,$BC:$BC,BD:BD)*100 -> 37.649532 | CD51: =_xlfn.XLOOKUP($CB51,$A:$A,C:C)/_xlfn.XLOOKUP($CB51,$BC:$BC,BE:BE)*100 -> 40.224334 | CE51: =_xlfn.XLOOKUP($CB51,$A:$A,D:D)/_xlfn.XLOOKUP($CB51,$BC:$BC,BF:BF)*100 -> 43.213566 | CF51: =_xlfn.XLOOKUP($CB51,$A:$A,E:E)/_xlfn.XLOOKUP($CB51,$BC:$BC,BG:BG)*100 -> 45.574482 | CG51: =_xlfn.XLOOKUP($CB51,$A:$A,F:F)/_xlfn.XLOOKUP($CB51,$BC:$BC,BH:BH)*100 -> 44.98149 | CH51: =_xlfn.XLOOKUP($CB51,$A:$A,G:G)/_xlfn.XLOOKUP($CB51,$BC:$BC,BI:BI)*100 -> 47.002868 | CI51: =_xlfn.XLOOKUP($CB51,$A:$A,H:H)/_xlfn.XLOOKUP($CB51,$BC:$BC,BJ:BJ)*100 -> 47.342124
A52: Kolding | B52: 2.0411642e+08 | C52: 2.0254199e+08 | D52: 1.9923327e+08 | E52: 2.0840546e+08 | F52: 2.16645e+08 | G52: 2.2750633e+08 | H52: 245018068 | I52: 1.5034665e+09 | J52: =B52/_xlfn.XLOOKUP($A52,Folketal!$A:$A,Folketal!B:B) -> 2190.2548 | K52: =C52/_xlfn.XLOOKUP($A52,Folketal!$A:$A,Folketal!C:C) -> 2175.0877 | L52: =D52/_xlfn.XLOOKUP($A52,Folketal!$A:$A,Folketal!D:D) -> 2123.7957 | M52: =E52/_xlfn.XLOOKUP($A52,Folketal!$A:$A,Folketal!E:E) -> 2201.8072 | N52: =F52/_xlfn.XLOOKUP($A52,Folketal!$A:$A,Folketal!F:F) -> 2278.9624 | O52: =G52/_xlfn.XLOOKUP($A52,Folketal!$A:$A,Folketal!G:G) -> 2369.907 | P52: =H52/_xlfn.XLOOKUP($A52,Folketal!$A:$A,Folketal!H:H) -> 2546.5948 | Q52: =B52/_xlfn.XLOOKUP($A52,'16-66 år'!$A:$A,'16-66 år'!B:B) -> 3399.3907 | R52: =C52/_xlfn.XLOOKUP($A52,'16-66 år'!$A:$A,'16-66 år'!C:C) -> 3394.1414 | S52: =D52/_xlfn.XLOOKUP($A52,'16-66 år'!$A:$A,'16-66 år'!D:D) -> 3311.8884 | T52: =E52/_xlfn.XLOOKUP($A52,'16-66 år'!$A:$A,'16-66 år'!E:E) -> 3429.1314 | U52: =F52/_xlfn.XLOOKUP($A52,'16-66 år'!$A:$A,'16-66 år'!F:F) -> 3553.538 | V52: =G52/_xlfn.XLOOKUP($A52,'16-66 år'!$A:$A,'16-66 år'!G:G) -> 3681.0939 | W52: =H52/_xlfn.XLOOKUP($A52,'16-66 år'!$A:$A,'16-66 år'!H:H) -> 3957.7132 | Y52: Kolding | Z52: 2425295 | AA52: 9233814.8 | AB52: 15002905 | AC52: 22896148 | AD52: 27434519 | AE52: 29287503 | AF52: 31146455 | AG52: 1.3742664e+08 | AH52: =Z52/_xlfn.XLOOKUP($Y52,Folketal!$A:$A,Folketal!B:B) -> 26.024433 | AI52: =AA52/_xlfn.XLOOKUP($Y52,Folketal!$A:$A,Folketal!C:C) -> 99.161447 | AJ52: =AB52/_xlfn.XLOOKUP($Y52,Folketal!$A:$A,Folketal!D:D) -> 159.92863 | AK52: =AC52/_xlfn.XLOOKUP($Y52,Folketal!$A:$A,Folketal!E:E) -> 241.8982 | AL52: =AD52/_xlfn.XLOOKUP($Y52,Folketal!$A:$A,Folketal!F:F) -> 288.59303 | AM52: =AE52/_xlfn.XLOOKUP($Y52,Folketal!$A:$A,Folketal!G:G) -> 305.08451 | AN52: =AF52/_xlfn.XLOOKUP($Y52,Folketal!$A:$A,Folketal!H:H) -> 323.72061 | AO52: =Z52/_xlfn.XLOOKUP($Y52,'16-66 år'!$A:$A,'16-66 år'!B:B) -> 40.391289 | AP52: =AA52/_xlfn.XLOOKUP($Y52,'16-66 år'!$A:$A,'16-66 år'!C:C) -> 154.73765 | AQ52: =AB52/_xlfn.XLOOKUP($Y52,'16-66 år'!$A:$A,'16-66 år'!D:D) -> 249.39583 | AR52: =AC52/_xlfn.XLOOKUP($Y52,'16-66 år'!$A:$A,'16-66 år'!E:E) -> 376.73629 | AS52: =AD52/_xlfn.XLOOKUP($Y52,'16-66 år'!$A:$A,'16-66 år'!F:F) -> 449.99704 | AT52: =AE52/_xlfn.XLOOKUP($Y52,'16-66 år'!$A:$A,'16-66 år'!G:G) -> 473.87715 | AU52: =AF52/_xlfn.XLOOKUP($Y52,'16-66 år'!$A:$A,'16-66 år'!H:H) -> 503.1006 | BC52: Kolding | BD52: 5.4494172e+08 | BE52: 5.1638136e+08 | BF52: 4.7459754e+08 | BG52: 4.8930558e+08 | BH52: 5.0319998e+08 | BI52: 5.0472393e+08 | BJ52: 508295423 | BK52: 3.5414455e+09 | BL52: =BD52/_xlfn.XLOOKUP($BC52,Folketal!$A:$A,Folketal!B:B) -> 5847.4533 | BM52: =BE52/_xlfn.XLOOKUP($BC52,Folketal!$A:$A,Folketal!C:C) -> 5545.3921 | BN52: =BF52/_xlfn.XLOOKUP($BC52,Folketal!$A:$A,Folketal!D:D) -> 5059.1359 | BO52: =BG52/_xlfn.XLOOKUP($BC52,Folketal!$A:$A,Folketal!E:E) -> 5169.5218 | BP52: =BH52/_xlfn.XLOOKUP($BC52,Folketal!$A:$A,Folketal!F:F) -> 5293.3316 | BQ52: =BI52/_xlfn.XLOOKUP($BC52,Folketal!$A:$A,Folketal!G:G) -> 5257.6505 | BR52: =BJ52/_xlfn.XLOOKUP($BC52,Folketal!$A:$A,Folketal!H:H) -> 5282.9674 | BS52: =BD52/_xlfn.XLOOKUP($BC52,'16-66 år'!$A:$A,'16-66 år'!B:B) -> 9075.5553 | BT52: =BE52/_xlfn.XLOOKUP($BC52,'16-66 år'!$A:$A,'16-66 år'!C:C) -> 8653.3727 | BU52: =BF52/_xlfn.XLOOKUP($BC52,'16-66 år'!$A:$A,'16-66 år'!D:D) -> 7889.3153 | BV52: =BG52/_xlfn.XLOOKUP($BC52,'16-66 år'!$A:$A,'16-66 år'!E:E) -> 8051.0996 | BW52: =BH52/_xlfn.XLOOKUP($BC52,'16-66 år'!$A:$A,'16-66 år'!F:F) -> 8253.7804 | BX52: =BI52/_xlfn.XLOOKUP($BC52,'16-66 år'!$A:$A,'16-66 år'!G:G) -> 8166.5253 | BY52: =BJ52/_xlfn.XLOOKUP($BC52,'16-66 år'!$A:$A,'16-66 år'!H:H) -> 8210.364 | CB52: Kolding | CC52: =_xlfn.XLOOKUP($CB52,$A:$A,B:B)/_xlfn.XLOOKUP($CB52,$BC:$BC,BD:BD)*100 -> 37.456559 | CD52: =_xlfn.XLOOKUP($CB52,$A:$A,C:C)/_xlfn.XLOOKUP($CB52,$BC:$BC,BE:BE)*100 -> 39.223335 | CE52: =_xlfn.XLOOKUP($CB52,$A:$A,D:D)/_xlfn.XLOOKUP($CB52,$BC:$BC,BF:BF)*100 -> 41.979415 | CF52: =_xlfn.XLOOKUP($CB52,$A:$A,E:E)/_xlfn.XLOOKUP($CB52,$BC:$BC,BG:BG)*100 -> 42.592087 | CG52: =_xlfn.XLOOKUP($CB52,$A:$A,F:F)/_xlfn.XLOOKUP($CB52,$BC:$BC,BH:BH)*100 -> 43.05346 | CH52: =_xlfn.XLOOKUP($CB52,$A:$A,G:G)/_xlfn.XLOOKUP($CB52,$BC:$BC,BI:BI)*100 -> 45.075399 | CI52: =_xlfn.XLOOKUP($CB52,$A:$A,H:H)/_xlfn.XLOOKUP($CB52,$BC:$BC,BJ:BJ)*100 -> 48.203871
A53: København | B53: 8.0160964e+08 | C53: 8.5735754e+08 | D53: 8.7465675e+08 | E53: 9.1707897e+08 | F53: 9.8168913e+08 | G53: 1.0529424e+09 | H53: 1114857885 | I53: 6.6001923e+09 | J53: =B53/_xlfn.XLOOKUP($A53,Folketal!$A:$A,Folketal!B:B) -> 1265.4683 | K53: =C53/_xlfn.XLOOKUP($A53,Folketal!$A:$A,Folketal!C:C) -> 1342.394 | L53: =D53/_xlfn.XLOOKUP($A53,Folketal!$A:$A,Folketal!D:D) -> 1352.2581 | M53: =E53/_xlfn.XLOOKUP($A53,Folketal!$A:$A,Folketal!E:E) -> 1396.3111 | N53: =F53/_xlfn.XLOOKUP($A53,Folketal!$A:$A,Folketal!F:F) -> 1482.0947 | O53: =G53/_xlfn.XLOOKUP($A53,Folketal!$A:$A,Folketal!G:G) -> 1573.4581 | P53: =H53/_xlfn.XLOOKUP($A53,Folketal!$A:$A,Folketal!H:H) -> 1655.4722 | Q53: =B53/_xlfn.XLOOKUP($A53,'16-66 år'!$A:$A,'16-66 år'!B:B) -> 1687.9475 | R53: =C53/_xlfn.XLOOKUP($A53,'16-66 år'!$A:$A,'16-66 år'!C:C) -> 1789.1434 | S53: =D53/_xlfn.XLOOKUP($A53,'16-66 år'!$A:$A,'16-66 år'!D:D) -> 1795.512 | T53: =E53/_xlfn.XLOOKUP($A53,'16-66 år'!$A:$A,'16-66 år'!E:E) -> 1850.524 | U53: =F53/_xlfn.XLOOKUP($A53,'16-66 år'!$A:$A,'16-66 år'!F:F) -> 1960.1245 | V53: =G53/_xlfn.XLOOKUP($A53,'16-66 år'!$A:$A,'16-66 år'!G:G) -> 2078.5027 | W53: =H53/_xlfn.XLOOKUP($A53,'16-66 år'!$A:$A,'16-66 år'!H:H) -> 2186.6604 | Y53: København | Z53: 9827176.5 | AA53: 40597850 | AB53: 61381538 | AC53: 73432513 | AD53: 80546313 | AE53: 75895085 | AF53: 74972598 | AG53: 4.1665307e+08 | AH53: =Z53/_xlfn.XLOOKUP($Y53,Folketal!$A:$A,Folketal!B:B) -> 15.513761 | AI53: =AA53/_xlfn.XLOOKUP($Y53,Folketal!$A:$A,Folketal!C:C) -> 63.565442 | AJ53: =AB53/_xlfn.XLOOKUP($Y53,Folketal!$A:$A,Folketal!D:D) -> 94.898577 | AK53: =AC53/_xlfn.XLOOKUP($Y53,Folketal!$A:$A,Folketal!E:E) -> 111.80567 | AL53: =AD53/_xlfn.XLOOKUP($Y53,Folketal!$A:$A,Folketal!F:F) -> 121.60394 | AM53: =AE53/_xlfn.XLOOKUP($Y53,Folketal!$A:$A,Folketal!G:G) -> 113.41336 | AN53: =AF53/_xlfn.XLOOKUP($Y53,Folketal!$A:$A,Folketal!H:H) -> 111.32814 | AO53: =Z53/_xlfn.XLOOKUP($Y53,'16-66 år'!$A:$A,'16-66 år'!B:B) -> 20.693062 | AP53: =AA53/_xlfn.XLOOKUP($Y53,'16-66 år'!$A:$A,'16-66 år'!C:C) -> 84.720053 | AQ53: =AB53/_xlfn.XLOOKUP($Y53,'16-66 år'!$A:$A,'16-66 år'!D:D) -> 126.00519 | AR53: =AC53/_xlfn.XLOOKUP($Y53,'16-66 år'!$A:$A,'16-66 år'!E:E) -> 148.17549 | AS53: =AD53/_xlfn.XLOOKUP($Y53,'16-66 år'!$A:$A,'16-66 år'!F:F) -> 160.82566 | AT53: =AE53/_xlfn.XLOOKUP($Y53,'16-66 år'!$A:$A,'16-66 år'!G:G) -> 149.81649 | AU53: =AF53/_xlfn.XLOOKUP($Y53,'16-66 år'!$A:$A,'16-66 år'!H:H) -> 147.04979 | BC53: København | BD53: 3.4254609e+09 | BE53: 3.321276e+09 | BF53: 2.7529094e+09 | BG53: 2.7684231e+09 | BH53: 2.852856e+09 | BI53: 2.8736103e+09 | BJ53: 2946200155 | BK53: 2.0940736e+10 | BL53: =BD53/_xlfn.XLOOKUP($BC53,Folketal!$A:$A,Folketal!B:B) -> 5407.6349 | BM53: =BE53/_xlfn.XLOOKUP($BC53,Folketal!$A:$A,Folketal!C:C) -> 5200.2354 | BN53: =BF53/_xlfn.XLOOKUP($BC53,Folketal!$A:$A,Folketal!D:D) -> 4256.1199 | BO53: =BG53/_xlfn.XLOOKUP($BC53,Folketal!$A:$A,Folketal!E:E) -> 4215.1003 | BP53: =BH53/_xlfn.XLOOKUP($BC53,Folketal!$A:$A,Folketal!F:F) -> 4307.069 | BQ53: =BI53/_xlfn.XLOOKUP($BC53,Folketal!$A:$A,Folketal!G:G) -> 4294.1621 | BR53: =BJ53/_xlfn.XLOOKUP($BC53,Folketal!$A:$A,Folketal!H:H) -> 4374.8647 | BS53: =BD53/_xlfn.XLOOKUP($BC53,'16-66 år'!$A:$A,'16-66 år'!B:B) -> 7212.9848 | BT53: =BE53/_xlfn.XLOOKUP($BC53,'16-66 år'!$A:$A,'16-66 år'!C:C) -> 6930.8764 | BU53: =BF53/_xlfn.XLOOKUP($BC53,'16-66 år'!$A:$A,'16-66 år'!D:D) -> 5651.2249 | BV53: =BG53/_xlfn.XLOOKUP($BC53,'16-66 år'!$A:$A,'16-66 år'!E:E) -> 5586.2509 | BW53: =BH53/_xlfn.XLOOKUP($BC53,'16-66 år'!$A:$A,'16-66 år'!F:F) -> 5696.2563 | BX53: =BI53/_xlfn.XLOOKUP($BC53,'16-66 år'!$A:$A,'16-66 år'!G:G) -> 5672.4913 | BY53: =BJ53/_xlfn.XLOOKUP($BC53,'16-66 år'!$A:$A,'16-66 år'!H:H) -> 5778.6193 | CB53: København | CC53: =_xlfn.XLOOKUP($CB53,$A:$A,B:B)/_xlfn.XLOOKUP($CB53,$BC:$BC,BD:BD)*100 -> 23.401512 | CD53: =_xlfn.XLOOKUP($CB53,$A:$A,C:C)/_xlfn.XLOOKUP($CB53,$BC:$BC,BE:BE)*100 -> 25.814101 | CE53: =_xlfn.XLOOKUP($CB53,$A:$A,D:D)/_xlfn.XLOOKUP($CB53,$BC:$BC,BF:BF)*100 -> 31.772086 | CF53: =_xlfn.XLOOKUP($CB53,$A:$A,E:E)/_xlfn.XLOOKUP($CB53,$BC:$BC,BG:BG)*100 -> 33.126403 | CG53: =_xlfn.XLOOKUP($CB53,$A:$A,F:F)/_xlfn.XLOOKUP($CB53,$BC:$BC,BH:BH)*100 -> 34.410749 | CH53: =_xlfn.XLOOKUP($CB53,$A:$A,G:G)/_xlfn.XLOOKUP($CB53,$BC:$BC,BI:BI)*100 -> 36.641795 | CI53: =_xlfn.XLOOKUP($CB53,$A:$A,H:H)/_xlfn.XLOOKUP($CB53,$BC:$BC,BJ:BJ)*100 -> 37.840534
A54: Køge | B54: 1.338241e+08 | C54: 1.3699578e+08 | D54: 1.3773959e+08 | E54: 1.4803332e+08 | F54: 1.5000676e+08 | G54: 1.5643087e+08 | H54: 167710908 | I54: 1.0307413e+09 | J54: =B54/_xlfn.XLOOKUP($A54,Folketal!$A:$A,Folketal!B:B) -> 2188.9933 | K54: =C54/_xlfn.XLOOKUP($A54,Folketal!$A:$A,Folketal!C:C) -> 2226.6686 | L54: =D54/_xlfn.XLOOKUP($A54,Folketal!$A:$A,Folketal!D:D) -> 2229.5536 | M54: =E54/_xlfn.XLOOKUP($A54,Folketal!$A:$A,Folketal!E:E) -> 2369.3292 | N54: =F54/_xlfn.XLOOKUP($A54,Folketal!$A:$A,Folketal!F:F) -> 2385.4519 | O54: =G54/_xlfn.XLOOKUP($A54,Folketal!$A:$A,Folketal!G:G) -> 2464.6426 | P54: =H54/_xlfn.XLOOKUP($A54,Folketal!$A:$A,Folketal!H:H) -> 2619.6643 | Q54: =B54/_xlfn.XLOOKUP($A54,'16-66 år'!$A:$A,'16-66 år'!B:B) -> 3431.7392 | R54: =C54/_xlfn.XLOOKUP($A54,'16-66 år'!$A:$A,'16-66 år'!C:C) -> 3491.6729 | S54: =D54/_xlfn.XLOOKUP($A54,'16-66 år'!$A:$A,'16-66 år'!D:D) -> 3487.0783 | T54: =E54/_xlfn.XLOOKUP($A54,'16-66 år'!$A:$A,'16-66 år'!E:E) -> 3691.1437 | U54: =F54/_xlfn.XLOOKUP($A54,'16-66 år'!$A:$A,'16-66 år'!F:F) -> 3723.0835 | V54: =G54/_xlfn.XLOOKUP($A54,'16-66 år'!$A:$A,'16-66 år'!G:G) -> 3842.0943 | W54: =H54/_xlfn.XLOOKUP($A54,'16-66 år'!$A:$A,'16-66 år'!H:H) -> 4077.9776 | Y54: Køge | Z54: 887994.98 | AA54: 5952515.3 | AB54: 10852560 | AC54: 14123102 | AD54: 16000514 | AE54: 15781056 | AF54: 16516791 | AG54: 80114533 | AH54: =Z54/_xlfn.XLOOKUP($Y54,Folketal!$A:$A,Folketal!B:B) -> 14.525149 | AI54: =AA54/_xlfn.XLOOKUP($Y54,Folketal!$A:$A,Folketal!C:C) -> 96.749537 | AJ54: =AB54/_xlfn.XLOOKUP($Y54,Folketal!$A:$A,Folketal!D:D) -> 175.66746 | AK54: =AC54/_xlfn.XLOOKUP($Y54,Folketal!$A:$A,Folketal!E:E) -> 226.04558 | AL54: =AD54/_xlfn.XLOOKUP($Y54,Folketal!$A:$A,Folketal!F:F) -> 254.44491 | AM54: =AE54/_xlfn.XLOOKUP($Y54,Folketal!$A:$A,Folketal!G:G) -> 248.63804 | AN54: =AF54/_xlfn.XLOOKUP($Y54,Folketal!$A:$A,Folketal!H:H) -> 257.99424 | AO54: =Z54/_xlfn.XLOOKUP($Y54,'16-66 år'!$A:$A,'16-66 år'!B:B) -> 22.771438 | AP54: =AA54/_xlfn.XLOOKUP($Y54,'16-66 år'!$A:$A,'16-66 år'!C:C) -> 151.71442 | AQ54: =AB54/_xlfn.XLOOKUP($Y54,'16-66 år'!$A:$A,'16-66 år'!D:D) -> 274.74835 | AR54: =AC54/_xlfn.XLOOKUP($Y54,'16-66 år'!$A:$A,'16-66 år'!E:E) -> 352.15314 | AS54: =AD54/_xlfn.XLOOKUP($Y54,'16-66 år'!$A:$A,'16-66 år'!F:F) -> 397.12377 | AT54: =AE54/_xlfn.XLOOKUP($Y54,'16-66 år'!$A:$A,'16-66 år'!G:G) -> 387.59809 | AU54: =AF54/_xlfn.XLOOKUP($Y54,'16-66 år'!$A:$A,'16-66 år'!H:H) -> 401.61433 | BC54: Køge | BD54: 3.3882158e+08 | BE54: 3.4482919e+08 | BF54: 3.0979738e+08 | BG54: 3.1902025e+08 | BH54: 3.1998835e+08 | BI54: 3.2096877e+08 | BJ54: 331422846 | BK54: 2.2848484e+09 | BL54: =BD54/_xlfn.XLOOKUP($BC54,Folketal!$A:$A,Folketal!B:B) -> 5542.1866 | BM54: =BE54/_xlfn.XLOOKUP($BC54,Folketal!$A:$A,Folketal!C:C) -> 5604.7004 | BN54: =BF54/_xlfn.XLOOKUP($BC54,Folketal!$A:$A,Folketal!D:D) -> 5014.6066 | BO54: =BG54/_xlfn.XLOOKUP($BC54,Folketal!$A:$A,Folketal!E:E) -> 5106.0396 | BP54: =BH54/_xlfn.XLOOKUP($BC54,Folketal!$A:$A,Folketal!F:F) -> 5088.5496 | BQ54: =BI54/_xlfn.XLOOKUP($BC54,Folketal!$A:$A,Folketal!G:G) -> 5057.0155 | BR54: =BJ54/_xlfn.XLOOKUP($BC54,Folketal!$A:$A,Folketal!H:H) -> 5176.8642 | BS54: =BD54/_xlfn.XLOOKUP($BC54,'16-66 år'!$A:$A,'16-66 år'!B:B) -> 8688.624 | BT54: =BE54/_xlfn.XLOOKUP($BC54,'16-66 år'!$A:$A,'16-66 år'!C:C) -> 8788.8159 | BU54: =BF54/_xlfn.XLOOKUP($BC54,'16-66 år'!$A:$A,'16-66 år'!D:D) -> 7842.9717 | BV54: =BG54/_xlfn.XLOOKUP($BC54,'16-66 år'!$A:$A,'16-66 år'!E:E) -> 7954.6253 | BW54: =BH54/_xlfn.XLOOKUP($BC54,'16-66 år'!$A:$A,'16-66 år'!F:F) -> 7941.9313 | BX54: =BI54/_xlfn.XLOOKUP($BC54,'16-66 år'!$A:$A,'16-66 år'!G:G) -> 7883.3052 | BY54: =BJ54/_xlfn.XLOOKUP($BC54,'16-66 år'!$A:$A,'16-66 år'!H:H) -> 8058.7182 | CB54: Køge | CC54: =_xlfn.XLOOKUP($CB54,$A:$A,B:B)/_xlfn.XLOOKUP($CB54,$BC:$BC,BD:BD)*100 -> 39.496924 | CD54: =_xlfn.XLOOKUP($CB54,$A:$A,C:C)/_xlfn.XLOOKUP($CB54,$BC:$BC,BE:BE)*100 -> 39.728593 | CE54: =_xlfn.XLOOKUP($CB54,$A:$A,D:D)/_xlfn.XLOOKUP($CB54,$BC:$BC,BF:BF)*100 -> 44.461187 | CF54: =_xlfn.XLOOKUP($CB54,$A:$A,E:E)/_xlfn.XLOOKUP($CB54,$BC:$BC,BG:BG)*100 -> 46.402483 | CG54: =_xlfn.XLOOKUP($CB54,$A:$A,F:F)/_xlfn.XLOOKUP($CB54,$BC:$BC,BH:BH)*100 -> 46.878818 | CH54: =_xlfn.XLOOKUP($CB54,$A:$A,G:G)/_xlfn.XLOOKUP($CB54,$BC:$BC,BI:BI)*100 -> 48.737099 | CI54: =_xlfn.XLOOKUP($CB54,$A:$A,H:H)/_xlfn.XLOOKUP($CB54,$BC:$BC,BJ:BJ)*100 -> 50.603303
A55: Langeland | B55: 46891851 | C55: 46440937 | D55: 45822130 | E55: 46224833 | F55: 44640564 | G55: 45088504 | H55: 47739524 | I55: 3.2284834e+08 | J55: =B55/_xlfn.XLOOKUP($A55,Folketal!$A:$A,Folketal!B:B) -> 3773.992 | K55: =C55/_xlfn.XLOOKUP($A55,Folketal!$A:$A,Folketal!C:C) -> 3757.0534 | L55: =D55/_xlfn.XLOOKUP($A55,Folketal!$A:$A,Folketal!D:D) -> 3722.955 | M55: =E55/_xlfn.XLOOKUP($A55,Folketal!$A:$A,Folketal!E:E) -> 3740.1758 | N55: =F55/_xlfn.XLOOKUP($A55,Folketal!$A:$A,Folketal!F:F) -> 3666.2749 | O55: =G55/_xlfn.XLOOKUP($A55,Folketal!$A:$A,Folketal!G:G) -> 3779.422 | P55: =H55/_xlfn.XLOOKUP($A55,Folketal!$A:$A,Folketal!H:H) -> 4043.6663 | Q55: =B55/_xlfn.XLOOKUP($A55,'16-66 år'!$A:$A,'16-66 år'!B:B) -> 6587.7846 | R55: =C55/_xlfn.XLOOKUP($A55,'16-66 år'!$A:$A,'16-66 år'!C:C) -> 6658.1989 | S55: =D55/_xlfn.XLOOKUP($A55,'16-66 år'!$A:$A,'16-66 år'!D:D) -> 6612.14 | T55: =E55/_xlfn.XLOOKUP($A55,'16-66 år'!$A:$A,'16-66 år'!E:E) -> 6708.9743 | U55: =F55/_xlfn.XLOOKUP($A55,'16-66 år'!$A:$A,'16-66 år'!F:F) -> 6645.9079 | V55: =G55/_xlfn.XLOOKUP($A55,'16-66 år'!$A:$A,'16-66 år'!G:G) -> 6928.1659 | W55: =H55/_xlfn.XLOOKUP($A55,'16-66 år'!$A:$A,'16-66 år'!H:H) -> 7506.2145 | Y55: Langeland | Z55: 548545.3 | AA55: 3600212.5 | AB55: 5988272 | AC55: 7752341.2 | AD55: 8496753.7 | AE55: 8489109.2 | AF55: 9096838 | AG55: 43972072 | AH55: =Z55/_xlfn.XLOOKUP($Y55,Folketal!$A:$A,Folketal!B:B) -> 44.148515 | AI55: =AA55/_xlfn.XLOOKUP($Y55,Folketal!$A:$A,Folketal!C:C) -> 291.25576 | AJ55: =AB55/_xlfn.XLOOKUP($Y55,Folketal!$A:$A,Folketal!D:D) -> 486.53494 | AK55: =AC55/_xlfn.XLOOKUP($Y55,Folketal!$A:$A,Folketal!E:E) -> 627.26282 | AL55: =AD55/_xlfn.XLOOKUP($Y55,Folketal!$A:$A,Folketal!F:F) -> 697.828 | AM55: =AE55/_xlfn.XLOOKUP($Y55,Folketal!$A:$A,Folketal!G:G) -> 711.57663 | AN55: =AF55/_xlfn.XLOOKUP($Y55,Folketal!$A:$A,Folketal!H:H) -> 770.52668 | AO55: =Z55/_xlfn.XLOOKUP($Y55,'16-66 år'!$A:$A,'16-66 år'!B:B) -> 77.064527 | AP55: =AA55/_xlfn.XLOOKUP($Y55,'16-66 år'!$A:$A,'16-66 år'!C:C) -> 516.15949 | AQ55: =AB55/_xlfn.XLOOKUP($Y55,'16-66 år'!$A:$A,'16-66 år'!D:D) -> 864.10852 | AR55: =AC55/_xlfn.XLOOKUP($Y55,'16-66 år'!$A:$A,'16-66 år'!E:E) -> 1125.1584 | AS55: =AD55/_xlfn.XLOOKUP($Y55,'16-66 år'!$A:$A,'16-66 år'!F:F) -> 1264.9626 | AT55: =AE55/_xlfn.XLOOKUP($Y55,'16-66 år'!$A:$A,'16-66 år'!G:G) -> 1304.4114 | AU55: =AF55/_xlfn.XLOOKUP($Y55,'16-66 år'!$A:$A,'16-66 år'!H:H) -> 1430.3204 | BC55: Langeland | BD55: 1.0254607e+08 | BE55: 1.0019672e+08 | BF55: 94031251 | BG55: 93838920 | BH55: 91515373 | BI55: 92623925 | BJ55: 94422503 | BK55: 6.6917476e+08 | BL55: =BD55/_xlfn.XLOOKUP($BC55,Folketal!$A:$A,Folketal!B:B) -> 8253.2052 | BM55: =BE55/_xlfn.XLOOKUP($BC55,Folketal!$A:$A,Folketal!C:C) -> 8105.8746 | BN55: =BF55/_xlfn.XLOOKUP($BC55,Folketal!$A:$A,Folketal!D:D) -> 7639.8481 | BO55: =BG55/_xlfn.XLOOKUP($BC55,Folketal!$A:$A,Folketal!E:E) -> 7592.7599 | BP55: =BH55/_xlfn.XLOOKUP($BC55,Folketal!$A:$A,Folketal!F:F) -> 7516.0457 | BQ55: =BI55/_xlfn.XLOOKUP($BC55,Folketal!$A:$A,Folketal!G:G) -> 7763.9501 | BR55: =BJ55/_xlfn.XLOOKUP($BC55,Folketal!$A:$A,Folketal!H:H) -> 7997.8403 | BS55: =BD55/_xlfn.XLOOKUP($BC55,'16-66 år'!$A:$A,'16-66 år'!B:B) -> 14406.585 | BT55: =BE55/_xlfn.XLOOKUP($BC55,'16-66 år'!$A:$A,'16-66 år'!C:C) -> 14365.121 | BU55: =BF55/_xlfn.XLOOKUP($BC55,'16-66 år'!$A:$A,'16-66 år'!D:D) -> 13568.723 | BV55: =BG55/_xlfn.XLOOKUP($BC55,'16-66 år'!$A:$A,'16-66 år'!E:E) -> 13619.582 | BW55: =BH55/_xlfn.XLOOKUP($BC55,'16-66 år'!$A:$A,'16-66 år'!F:F) -> 13624.441 | BX55: =BI55/_xlfn.XLOOKUP($BC55,'16-66 år'!$A:$A,'16-66 år'!G:G) -> 14232.318 | BY55: =BJ55/_xlfn.XLOOKUP($BC55,'16-66 år'!$A:$A,'16-66 år'!H:H) -> 14846.306 | CB55: Langeland | CC55: =_xlfn.XLOOKUP($CB55,$A:$A,B:B)/_xlfn.XLOOKUP($CB55,$BC:$BC,BD:BD)*100 -> 45.727592 | CD55: =_xlfn.XLOOKUP($CB55,$A:$A,C:C)/_xlfn.XLOOKUP($CB55,$BC:$BC,BE:BE)*100 -> 46.34976 | CE55: =_xlfn.XLOOKUP($CB55,$A:$A,D:D)/_xlfn.XLOOKUP($CB55,$BC:$BC,BF:BF)*100 -> 48.730746 | CF55: =_xlfn.XLOOKUP($CB55,$A:$A,E:E)/_xlfn.XLOOKUP($CB55,$BC:$BC,BG:BG)*100 -> 49.259767 | CG55: =_xlfn.XLOOKUP($CB55,$A:$A,F:F)/_xlfn.XLOOKUP($CB55,$BC:$BC,BH:BH)*100 -> 48.779306 | CH55: =_xlfn.XLOOKUP($CB55,$A:$A,G:G)/_xlfn.XLOOKUP($CB55,$BC:$BC,BI:BI)*100 -> 48.679112 | CI55: =_xlfn.XLOOKUP($CB55,$A:$A,H:H)/_xlfn.XLOOKUP($CB55,$BC:$BC,BJ:BJ)*100 -> 50.559477
A56: Lejre | B56: 44793049 | C56: 44183593 | D56: 44261615 | E56: 49967363 | F56: 52547458 | G56: 57290553 | H56: 62850924 | I56: 3.5589456e+08 | J56: =B56/_xlfn.XLOOKUP($A56,Folketal!$A:$A,Folketal!B:B) -> 1600.552 | K56: =C56/_xlfn.XLOOKUP($A56,Folketal!$A:$A,Folketal!C:C) -> 1556.6922 | L56: =D56/_xlfn.XLOOKUP($A56,Folketal!$A:$A,Folketal!D:D) -> 1545.9873 | M56: =E56/_xlfn.XLOOKUP($A56,Folketal!$A:$A,Folketal!E:E) -> 1722.0624 | N56: =F56/_xlfn.XLOOKUP($A56,Folketal!$A:$A,Folketal!F:F) -> 1787.0246 | O56: =G56/_xlfn.XLOOKUP($A56,Folketal!$A:$A,Folketal!G:G) -> 1937.9796 | P56: =H56/_xlfn.XLOOKUP($A56,Folketal!$A:$A,Folketal!H:H) -> 2099.3695 | Q56: =B56/_xlfn.XLOOKUP($A56,'16-66 år'!$A:$A,'16-66 år'!B:B) -> 2633.3362 | R56: =C56/_xlfn.XLOOKUP($A56,'16-66 år'!$A:$A,'16-66 år'!C:C) -> 2571.804 | S56: =D56/_xlfn.XLOOKUP($A56,'16-66 år'!$A:$A,'16-66 år'!D:D) -> 2557.8834 | T56: =E56/_xlfn.XLOOKUP($A56,'16-66 år'!$A:$A,'16-66 år'!E:E) -> 2836.1541 | U56: =F56/_xlfn.XLOOKUP($A56,'16-66 år'!$A:$A,'16-66 år'!F:F) -> 2931.3544 | V56: =G56/_xlfn.XLOOKUP($A56,'16-66 år'!$A:$A,'16-66 år'!G:G) -> 3191.6743 | W56: =H56/_xlfn.XLOOKUP($A56,'16-66 år'!$A:$A,'16-66 år'!H:H) -> 3463.815 | Y56: Lejre | Z56: 353416.73 | AA56: 2389989.8 | AB56: 4563241.2 | AC56: 6393593.9 | AD56: 7485737.5 | AE56: 7910877.3 | AF56: 8001768 | AG56: 37098624 | AH56: =Z56/_xlfn.XLOOKUP($Y56,Folketal!$A:$A,Folketal!B:B) -> 12.62834 | AI56: =AA56/_xlfn.XLOOKUP($Y56,Folketal!$A:$A,Folketal!C:C) -> 84.204974 | AJ56: =AB56/_xlfn.XLOOKUP($Y56,Folketal!$A:$A,Folketal!D:D) -> 159.3867 | AK56: =AC56/_xlfn.XLOOKUP($Y56,Folketal!$A:$A,Folketal!E:E) -> 220.34718 | AL56: =AD56/_xlfn.XLOOKUP($Y56,Folketal!$A:$A,Folketal!F:F) -> 254.57363 | AM56: =AE56/_xlfn.XLOOKUP($Y56,Folketal!$A:$A,Folketal!G:G) -> 267.60291 | AN56: =AF56/_xlfn.XLOOKUP($Y56,Folketal!$A:$A,Folketal!H:H) -> 267.27797 | AO56: =Z56/_xlfn.XLOOKUP($Y56,'16-66 år'!$A:$A,'16-66 år'!B:B) -> 20.776998 | AP56: =AA56/_xlfn.XLOOKUP($Y56,'16-66 år'!$A:$A,'16-66 år'!C:C) -> 139.11465 | AQ56: =AB56/_xlfn.XLOOKUP($Y56,'16-66 år'!$A:$A,'16-66 år'!D:D) -> 263.71019 | AR56: =AC56/_xlfn.XLOOKUP($Y56,'16-66 år'!$A:$A,'16-66 år'!E:E) -> 362.90123 | AS56: =AD56/_xlfn.XLOOKUP($Y56,'16-66 år'!$A:$A,'16-66 år'!F:F) -> 417.59107 | AT56: =AE56/_xlfn.XLOOKUP($Y56,'16-66 år'!$A:$A,'16-66 år'!G:G) -> 440.7174 | AU56: =AF56/_xlfn.XLOOKUP($Y56,'16-66 år'!$A:$A,'16-66 år'!H:H) -> 440.99025 | BC56: Lejre | BD56: 1.2575025e+08 | BE56: 1.2365285e+08 | BF56: 1.1229531e+08 | BG56: 1.1587308e+08 | BH56: 1.1935813e+08 | BI56: 1.2750731e+08 | BJ56: 132418254 | BK56: 8.5685518e+08 | BL56: =BD56/_xlfn.XLOOKUP($BC56,Folketal!$A:$A,Folketal!B:B) -> 4493.327 | BM56: =BE56/_xlfn.XLOOKUP($BC56,Folketal!$A:$A,Folketal!C:C) -> 4356.5814 | BN56: =BF56/_xlfn.XLOOKUP($BC56,Folketal!$A:$A,Folketal!D:D) -> 3922.2951 | BO56: =BG56/_xlfn.XLOOKUP($BC56,Folketal!$A:$A,Folketal!E:E) -> 3993.4201 | BP56: =BH56/_xlfn.XLOOKUP($BC56,Folketal!$A:$A,Folketal!F:F) -> 4059.1099 | BQ56: =BI56/_xlfn.XLOOKUP($BC56,Folketal!$A:$A,Folketal!G:G) -> 4313.2168 | BR56: =BJ56/_xlfn.XLOOKUP($BC56,Folketal!$A:$A,Folketal!H:H) -> 4423.0828 | BS56: =BD56/_xlfn.XLOOKUP($BC56,'16-66 år'!$A:$A,'16-66 år'!B:B) -> 7392.7249 | BT56: =BE56/_xlfn.XLOOKUP($BC56,'16-66 år'!$A:$A,'16-66 år'!C:C) -> 7197.4883 | BU56: =BF56/_xlfn.XLOOKUP($BC56,'16-66 år'!$A:$A,'16-66 år'!D:D) -> 6489.5578 | BV56: =BG56/_xlfn.XLOOKUP($BC56,'16-66 år'!$A:$A,'16-66 år'!E:E) -> 6576.9711 | BW56: =BH56/_xlfn.XLOOKUP($BC56,'16-66 år'!$A:$A,'16-66 år'!F:F) -> 6658.3803 | BX56: =BI56/_xlfn.XLOOKUP($BC56,'16-66 år'!$A:$A,'16-66 år'!G:G) -> 7103.4716 | BY56: =BJ56/_xlfn.XLOOKUP($BC56,'16-66 år'!$A:$A,'16-66 år'!H:H) -> 7297.782 | CB56: Lejre | CC56: =_xlfn.XLOOKUP($CB56,$A:$A,B:B)/_xlfn.XLOOKUP($CB56,$BC:$BC,BD:BD)*100 -> 35.620644 | CD56: =_xlfn.XLOOKUP($CB56,$A:$A,C:C)/_xlfn.XLOOKUP($CB56,$BC:$BC,BE:BE)*100 -> 35.731966 | CE56: =_xlfn.XLOOKUP($CB56,$A:$A,D:D)/_xlfn.XLOOKUP($CB56,$BC:$BC,BF:BF)*100 -> 39.415373 | CF56: =_xlfn.XLOOKUP($CB56,$A:$A,E:E)/_xlfn.XLOOKUP($CB56,$BC:$BC,BG:BG)*100 -> 43.122496 | CG56: =_xlfn.XLOOKUP($CB56,$A:$A,F:F)/_xlfn.XLOOKUP($CB56,$BC:$BC,BH:BH)*100 -> 44.025036 | CH56: =_xlfn.XLOOKUP($CB56,$A:$A,G:G)/_xlfn.XLOOKUP($CB56,$BC:$BC,BI:BI)*100 -> 44.93119 | CI56: =_xlfn.XLOOKUP($CB56,$A:$A,H:H)/_xlfn.XLOOKUP($CB56,$BC:$BC,BJ:BJ)*100 -> 47.463943
A57: Lemvig | B57: 51518317 | C57: 50530117 | D57: 49723658 | E57: 55227154 | F57: 58469872 | G57: 60934858 | H57: 62039322 | I57: 3.884433e+08 | J57: =B57/_xlfn.XLOOKUP($A57,Folketal!$A:$A,Folketal!B:B) -> 2616.4711 | K57: =C57/_xlfn.XLOOKUP($A57,Folketal!$A:$A,Folketal!C:C) -> 2583.3393 | L57: =D57/_xlfn.XLOOKUP($A57,Folketal!$A:$A,Folketal!D:D) -> 2570.4951 | M57: =E57/_xlfn.XLOOKUP($A57,Folketal!$A:$A,Folketal!E:E) -> 2853.969 | N57: =F57/_xlfn.XLOOKUP($A57,Folketal!$A:$A,Folketal!F:F) -> 3067.5134 | O57: =G57/_xlfn.XLOOKUP($A57,Folketal!$A:$A,Folketal!G:G) -> 3258.0259 | P57: =H57/_xlfn.XLOOKUP($A57,Folketal!$A:$A,Folketal!H:H) -> 3348.7705 | Q57: =B57/_xlfn.XLOOKUP($A57,'16-66 år'!$A:$A,'16-66 år'!B:B) -> 4280.352 | R57: =C57/_xlfn.XLOOKUP($A57,'16-66 år'!$A:$A,'16-66 år'!C:C) -> 4251.5874 | S57: =D57/_xlfn.XLOOKUP($A57,'16-66 år'!$A:$A,'16-66 år'!D:D) -> 4245.1684 | T57: =E57/_xlfn.XLOOKUP($A57,'16-66 år'!$A:$A,'16-66 år'!E:E) -> 4745.824 | U57: =F57/_xlfn.XLOOKUP($A57,'16-66 år'!$A:$A,'16-66 år'!F:F) -> 5126.2382 | V57: =G57/_xlfn.XLOOKUP($A57,'16-66 år'!$A:$A,'16-66 år'!G:G) -> 5480.2462 | W57: =H57/_xlfn.XLOOKUP($A57,'16-66 år'!$A:$A,'16-66 år'!H:H) -> 5667.7619 | Y57: Lemvig | Z57: 287687.7 | AA57: 2570962.6 | AB57: 4139809 | AC57: 6118591.1 | AD57: 6838301.1 | AE57: 6832041.3 | AF57: 7474739 | AG57: 34262132 | AH57: =Z57/_xlfn.XLOOKUP($Y57,Folketal!$A:$A,Folketal!B:B) -> 14.610853 | AI57: =AA57/_xlfn.XLOOKUP($Y57,Folketal!$A:$A,Folketal!C:C) -> 131.43981 | AJ57: =AB57/_xlfn.XLOOKUP($Y57,Folketal!$A:$A,Folketal!D:D) -> 214.00998 | AK57: =AC57/_xlfn.XLOOKUP($Y57,Folketal!$A:$A,Folketal!E:E) -> 316.18992 | AL57: =AD57/_xlfn.XLOOKUP($Y57,Folketal!$A:$A,Folketal!F:F) -> 358.75878 | AM57: =AE57/_xlfn.XLOOKUP($Y57,Folketal!$A:$A,Folketal!G:G) -> 365.2912 | AN57: =AF57/_xlfn.XLOOKUP($Y57,Folketal!$A:$A,Folketal!H:H) -> 403.4729 | AO57: =Z57/_xlfn.XLOOKUP($Y57,'16-66 år'!$A:$A,'16-66 år'!B:B) -> 23.902269 | AP57: =AA57/_xlfn.XLOOKUP($Y57,'16-66 år'!$A:$A,'16-66 år'!C:C) -> 216.31995 | AQ57: =AB57/_xlfn.XLOOKUP($Y57,'16-66 år'!$A:$A,'16-66 år'!D:D) -> 353.43712 | AR57: =AC57/_xlfn.XLOOKUP($Y57,'16-66 år'!$A:$A,'16-66 år'!E:E) -> 525.78767 | AS57: =AD57/_xlfn.XLOOKUP($Y57,'16-66 år'!$A:$A,'16-66 år'!F:F) -> 599.53542 | AT57: =AE57/_xlfn.XLOOKUP($Y57,'16-66 år'!$A:$A,'16-66 år'!G:G) -> 614.44746 | AU57: =AF57/_xlfn.XLOOKUP($Y57,'16-66 år'!$A:$A,'16-66 år'!H:H) -> 682.87402 | BC57: Lemvig | BD57: 1.188116e+08 | BE57: 1.1545107e+08 | BF57: 1.0771277e+08 | BG57: 1.1134775e+08 | BH57: 1.1309418e+08 | BI57: 1.1087292e+08 | BJ57: 110992083 | BK57: 7.8828237e+08 | BL57: =BD57/_xlfn.XLOOKUP($BC57,Folketal!$A:$A,Folketal!B:B) -> 6034.1085 | BM57: =BE57/_xlfn.XLOOKUP($BC57,Folketal!$A:$A,Folketal!C:C) -> 5902.4067 | BN57: =BF57/_xlfn.XLOOKUP($BC57,Folketal!$A:$A,Folketal!D:D) -> 5568.2778 | BO57: =BG57/_xlfn.XLOOKUP($BC57,Folketal!$A:$A,Folketal!E:E) -> 5754.1085 | BP57: =BH57/_xlfn.XLOOKUP($BC57,Folketal!$A:$A,Folketal!F:F) -> 5933.2762 | BQ57: =BI57/_xlfn.XLOOKUP($BC57,Folketal!$A:$A,Folketal!G:G) -> 5928.0821 | BR57: =BJ57/_xlfn.XLOOKUP($BC57,Folketal!$A:$A,Folketal!H:H) -> 5991.1521 | BS57: =BD57/_xlfn.XLOOKUP($BC57,'16-66 år'!$A:$A,'16-66 år'!B:B) -> 9871.3524 | BT57: =BE57/_xlfn.XLOOKUP($BC57,'16-66 år'!$A:$A,'16-66 år'!C:C) -> 9714.0156 | BU57: =BF57/_xlfn.XLOOKUP($BC57,'16-66 år'!$A:$A,'16-66 år'!D:D) -> 9196.0015 | BV57: =BG57/_xlfn.XLOOKUP($BC57,'16-66 år'!$A:$A,'16-66 år'!E:E) -> 9568.4244 | BW57: =BH57/_xlfn.XLOOKUP($BC57,'16-66 år'!$A:$A,'16-66 år'!F:F) -> 9915.3233 | BX57: =BI57/_xlfn.XLOOKUP($BC57,'16-66 år'!$A:$A,'16-66 år'!G:G) -> 9971.483 | BY57: =BJ57/_xlfn.XLOOKUP($BC57,'16-66 år'!$A:$A,'16-66 år'!H:H) -> 10139.967 | CB57: Lemvig | CC57: =_xlfn.XLOOKUP($CB57,$A:$A,B:B)/_xlfn.XLOOKUP($CB57,$BC:$BC,BD:BD)*100 -> 43.361354 | CD57: =_xlfn.XLOOKUP($CB57,$A:$A,C:C)/_xlfn.XLOOKUP($CB57,$BC:$BC,BE:BE)*100 -> 43.767558 | CE57: =_xlfn.XLOOKUP($CB57,$A:$A,D:D)/_xlfn.XLOOKUP($CB57,$BC:$BC,BF:BF)*100 -> 46.163198 | CF57: =_xlfn.XLOOKUP($CB57,$A:$A,E:E)/_xlfn.XLOOKUP($CB57,$BC:$BC,BG:BG)*100 -> 49.598803 | CG57: =_xlfn.XLOOKUP($CB57,$A:$A,F:F)/_xlfn.XLOOKUP($CB57,$BC:$BC,BH:BH)*100 -> 51.700162 | CH57: =_xlfn.XLOOKUP($CB57,$A:$A,G:G)/_xlfn.XLOOKUP($CB57,$BC:$BC,BI:BI)*100 -> 54.959189 | CI57: =_xlfn.XLOOKUP($CB57,$A:$A,H:H)/_xlfn.XLOOKUP($CB57,$BC:$BC,BJ:BJ)*100 -> 55.895268
A58: Lolland | B58: 1.9644343e+08 | C58: 2.0017542e+08 | D58: 1.9931382e+08 | E58: 2.0161183e+08 | F58: 2.0373084e+08 | G58: 2.0239522e+08 | H58: 207692155 | I58: 1.4113627e+09 | J58: =B58/_xlfn.XLOOKUP($A58,Folketal!$A:$A,Folketal!B:B) -> 4795.2797 | K58: =C58/_xlfn.XLOOKUP($A58,Folketal!$A:$A,Folketal!C:C) -> 4955.4504 | L58: =D58/_xlfn.XLOOKUP($A58,Folketal!$A:$A,Folketal!D:D) -> 4979.6089 | M58: =E58/_xlfn.XLOOKUP($A58,Folketal!$A:$A,Folketal!E:E) -> 5055.3354 | N58: =F58/_xlfn.XLOOKUP($A58,Folketal!$A:$A,Folketal!F:F) -> 5144.9781 | O58: =G58/_xlfn.XLOOKUP($A58,Folketal!$A:$A,Folketal!G:G) -> 5191.7509 | P58: =H58/_xlfn.XLOOKUP($A58,Folketal!$A:$A,Folketal!H:H) -> 5406.3972 | Q58: =B58/_xlfn.XLOOKUP($A58,'16-66 år'!$A:$A,'16-66 år'!B:B) -> 8044.6959 | R58: =C58/_xlfn.XLOOKUP($A58,'16-66 år'!$A:$A,'16-66 år'!C:C) -> 8348.295 | S58: =D58/_xlfn.XLOOKUP($A58,'16-66 år'!$A:$A,'16-66 år'!D:D) -> 8429.428 | T58: =E58/_xlfn.XLOOKUP($A58,'16-66 år'!$A:$A,'16-66 år'!E:E) -> 8560.285 | U58: =F58/_xlfn.XLOOKUP($A58,'16-66 år'!$A:$A,'16-66 år'!F:F) -> 8749.8215 | V58: =G58/_xlfn.XLOOKUP($A58,'16-66 år'!$A:$A,'16-66 år'!G:G) -> 8872.7025 | W58: =H58/_xlfn.XLOOKUP($A58,'16-66 år'!$A:$A,'16-66 år'!H:H) -> 9260.8086 | Y58: Lolland | Z58: 3528484.6 | AA58: 13991056 | AB58: 18603552 | AC58: 22505791 | AD58: 23812162 | AE58: 22720530 | AF58: 20040026 | AG58: 1.252016e+08 | AH58: =Z58/_xlfn.XLOOKUP($Y58,Folketal!$A:$A,Folketal!B:B) -> 86.132026 | AI58: =AA58/_xlfn.XLOOKUP($Y58,Folketal!$A:$A,Folketal!C:C) -> 346.35613 | AJ58: =AB58/_xlfn.XLOOKUP($Y58,Folketal!$A:$A,Folketal!D:D) -> 464.7867 | AK58: =AC58/_xlfn.XLOOKUP($Y58,Folketal!$A:$A,Folketal!E:E) -> 564.32363 | AL58: =AD58/_xlfn.XLOOKUP($Y58,Folketal!$A:$A,Folketal!F:F) -> 601.34759 | AM58: =AE58/_xlfn.XLOOKUP($Y58,Folketal!$A:$A,Folketal!G:G) -> 582.81679 | AN58: =AF58/_xlfn.XLOOKUP($Y58,Folketal!$A:$A,Folketal!H:H) -> 521.65832 | AO58: =Z58/_xlfn.XLOOKUP($Y58,'16-66 år'!$A:$A,'16-66 år'!B:B) -> 144.49751 | AP58: =AA58/_xlfn.XLOOKUP($Y58,'16-66 år'!$A:$A,'16-66 år'!C:C) -> 583.49553 | AQ58: =AB58/_xlfn.XLOOKUP($Y58,'16-66 år'!$A:$A,'16-66 år'!D:D) -> 786.78589 | AR58: =AC58/_xlfn.XLOOKUP($Y58,'16-66 år'!$A:$A,'16-66 år'!E:E) -> 955.57875 | AS58: =AD58/_xlfn.XLOOKUP($Y58,'16-66 år'!$A:$A,'16-66 år'!F:F) -> 1022.6835 | AT58: =AE58/_xlfn.XLOOKUP($Y58,'16-66 år'!$A:$A,'16-66 år'!G:G) -> 996.03392 | AU58: =AF58/_xlfn.XLOOKUP($Y58,'16-66 år'!$A:$A,'16-66 år'!H:H) -> 893.56695 | BC58: Lolland | BD58: 4.0600654e+08 | BE58: 3.9815645e+08 | BF58: 3.7074504e+08 | BG58: 3.7372524e+08 | BH58: 3.6677216e+08 | BI58: 3.5276978e+08 | BJ58: 344260307 | BK58: 2.6124355e+09 | BL58: =BD58/_xlfn.XLOOKUP($BC58,Folketal!$A:$A,Folketal!B:B) -> 9910.8173 | BM58: =BE58/_xlfn.XLOOKUP($BC58,Folketal!$A:$A,Folketal!C:C) -> 9856.5775 | BN58: =BF58/_xlfn.XLOOKUP($BC58,Folketal!$A:$A,Folketal!D:D) -> 9262.6053 | BO58: =BG58/_xlfn.XLOOKUP($BC58,Folketal!$A:$A,Folketal!E:E) -> 9371.0098 | BP58: =BH58/_xlfn.XLOOKUP($BC58,Folketal!$A:$A,Folketal!F:F) -> 9262.3911 | BQ58: =BI58/_xlfn.XLOOKUP($BC58,Folketal!$A:$A,Folketal!G:G) -> 9049.0913 | BR58: =BJ58/_xlfn.XLOOKUP($BC58,Folketal!$A:$A,Folketal!H:H) -> 8961.3783 | BS58: =BD58/_xlfn.XLOOKUP($BC58,'16-66 år'!$A:$A,'16-66 år'!B:B) -> 16626.665 | BT58: =BE58/_xlfn.XLOOKUP($BC58,'16-66 år'!$A:$A,'16-66 år'!C:C) -> 16605.073 | BU58: =BF58/_xlfn.XLOOKUP($BC58,'16-66 år'!$A:$A,'16-66 år'!D:D) -> 15679.638 | BV58: =BG58/_xlfn.XLOOKUP($BC58,'16-66 år'!$A:$A,'16-66 år'!E:E) -> 15868.089 | BW58: =BH58/_xlfn.XLOOKUP($BC58,'16-66 år'!$A:$A,'16-66 år'!F:F) -> 15752.111 | BX58: =BI58/_xlfn.XLOOKUP($BC58,'16-66 år'!$A:$A,'16-66 år'!G:G) -> 15464.897 | BY58: =BJ58/_xlfn.XLOOKUP($BC58,'16-66 år'!$A:$A,'16-66 år'!H:H) -> 15350.261 | CB58: Lolland | CC58: =_xlfn.XLOOKUP($CB58,$A:$A,B:B)/_xlfn.XLOOKUP($CB58,$BC:$BC,BD:BD)*100 -> 48.384302 | CD58: =_xlfn.XLOOKUP($CB58,$A:$A,C:C)/_xlfn.XLOOKUP($CB58,$BC:$BC,BE:BE)*100 -> 50.275568 | CE58: =_xlfn.XLOOKUP($CB58,$A:$A,D:D)/_xlfn.XLOOKUP($CB58,$BC:$BC,BF:BF)*100 -> 53.760348 | CF58: =_xlfn.XLOOKUP($CB58,$A:$A,E:E)/_xlfn.XLOOKUP($CB58,$BC:$BC,BG:BG)*100 -> 53.946539 | CG58: =_xlfn.XLOOKUP($CB58,$A:$A,F:F)/_xlfn.XLOOKUP($CB58,$BC:$BC,BH:BH)*100 -> 55.546976 | CH58: =_xlfn.XLOOKUP($CB58,$A:$A,G:G)/_xlfn.XLOOKUP($CB58,$BC:$BC,BI:BI)*100 -> 57.373174 | CI58: =_xlfn.XLOOKUP($CB58,$A:$A,H:H)/_xlfn.XLOOKUP($CB58,$BC:$BC,BJ:BJ)*100 -> 60.329974
A59: Lyngby-Taarbæk | B59: 62685249 | C59: 64274198 | D59: 63171510 | E59: 67061570 | F59: 72411743 | G59: 74913326 | H59: 79811166 | I59: 4.8432876e+08 | J59: =B59/_xlfn.XLOOKUP($A59,Folketal!$A:$A,Folketal!B:B) -> 1115.2173 | K59: =C59/_xlfn.XLOOKUP($A59,Folketal!$A:$A,Folketal!C:C) -> 1128.9445 | L59: =D59/_xlfn.XLOOKUP($A59,Folketal!$A:$A,Folketal!D:D) -> 1088.8448 | M59: =E59/_xlfn.XLOOKUP($A59,Folketal!$A:$A,Folketal!E:E) -> 1146.7437 | N59: =F59/_xlfn.XLOOKUP($A59,Folketal!$A:$A,Folketal!F:F) -> 1235.8429 | O59: =G59/_xlfn.XLOOKUP($A59,Folketal!$A:$A,Folketal!G:G) -> 1276.968 | P59: =H59/_xlfn.XLOOKUP($A59,Folketal!$A:$A,Folketal!H:H) -> 1354.5224 | Q59: =B59/_xlfn.XLOOKUP($A59,'16-66 år'!$A:$A,'16-66 år'!B:B) -> 1754.2186 | R59: =C59/_xlfn.XLOOKUP($A59,'16-66 år'!$A:$A,'16-66 år'!C:C) -> 1773.0813 | S59: =D59/_xlfn.XLOOKUP($A59,'16-66 år'!$A:$A,'16-66 år'!D:D) -> 1694.0149 | T59: =E59/_xlfn.XLOOKUP($A59,'16-66 år'!$A:$A,'16-66 år'!E:E) -> 1780.8527 | U59: =F59/_xlfn.XLOOKUP($A59,'16-66 år'!$A:$A,'16-66 år'!F:F) -> 1915.4012 | V59: =G59/_xlfn.XLOOKUP($A59,'16-66 år'!$A:$A,'16-66 år'!G:G) -> 1976.4485 | W59: =H59/_xlfn.XLOOKUP($A59,'16-66 år'!$A:$A,'16-66 år'!H:H) -> 2094.2316 | Y59: Lyngby-Taarbæk | Z59: 135526.05 | AA59: 2488699.7 | AB59: 5378625.5 | AC59: 6869761.7 | AD59: 8225144.2 | AE59: 8177848.6 | AF59: 8552016 | AG59: 39827622 | AH59: =Z59/_xlfn.XLOOKUP($Y59,Folketal!$A:$A,Folketal!B:B) -> 2.4111095 | AI59: =AA59/_xlfn.XLOOKUP($Y59,Folketal!$A:$A,Folketal!C:C) -> 43.71278 | AJ59: =AB59/_xlfn.XLOOKUP($Y59,Folketal!$A:$A,Folketal!D:D) -> 92.70775 | AK59: =AC59/_xlfn.XLOOKUP($Y59,Folketal!$A:$A,Folketal!E:E) -> 117.47198 | AL59: =AD59/_xlfn.XLOOKUP($Y59,Folketal!$A:$A,Folketal!F:F) -> 140.37759 | AM59: =AE59/_xlfn.XLOOKUP($Y59,Folketal!$A:$A,Folketal!G:G) -> 139.39911 | AN59: =AF59/_xlfn.XLOOKUP($Y59,Folketal!$A:$A,Folketal!H:H) -> 145.14131 | AO59: =Z59/_xlfn.XLOOKUP($Y59,'16-66 år'!$A:$A,'16-66 år'!B:B) -> 3.792636 | AP59: =AA59/_xlfn.XLOOKUP($Y59,'16-66 år'!$A:$A,'16-66 år'!C:C) -> 68.653784 | AQ59: =AB59/_xlfn.XLOOKUP($Y59,'16-66 år'!$A:$A,'16-66 år'!D:D) -> 144.23388 | AR59: =AC59/_xlfn.XLOOKUP($Y59,'16-66 år'!$A:$A,'16-66 år'!E:E) -> 182.42987 | AS59: =AD59/_xlfn.XLOOKUP($Y59,'16-66 år'!$A:$A,'16-66 år'!F:F) -> 217.56763 | AT59: =AE59/_xlfn.XLOOKUP($Y59,'16-66 år'!$A:$A,'16-66 år'!G:G) -> 215.75729 | AU59: =AF59/_xlfn.XLOOKUP($Y59,'16-66 år'!$A:$A,'16-66 år'!H:H) -> 224.40346 | BC59: Lyngby-Taarbæk | BD59: 2.0208548e+08 | BE59: 2.0124367e+08 | BF59: 1.729077e+08 | BG59: 1.7362776e+08 | BH59: 1.7534216e+08 | BI59: 1.772269e+08 | BJ59: 192557453 | BK59: 1.2949911e+09 | BL59: =BD59/_xlfn.XLOOKUP($BC59,Folketal!$A:$A,Folketal!B:B) -> 3595.2514 | BM59: =BE59/_xlfn.XLOOKUP($BC59,Folketal!$A:$A,Folketal!C:C) -> 3534.7456 | BN59: =BF59/_xlfn.XLOOKUP($BC59,Folketal!$A:$A,Folketal!D:D) -> 2980.2937 | BO59: =BG59/_xlfn.XLOOKUP($BC59,Folketal!$A:$A,Folketal!E:E) -> 2969.0109 | BP59: =BH59/_xlfn.XLOOKUP($BC59,Folketal!$A:$A,Folketal!F:F) -> 2992.5444 | BQ59: =BI59/_xlfn.XLOOKUP($BC59,Folketal!$A:$A,Folketal!G:G) -> 3020.9989 | BR59: =BJ59/_xlfn.XLOOKUP($BC59,Folketal!$A:$A,Folketal!H:H) -> 3268.0061 | BS59: =BD59/_xlfn.XLOOKUP($BC59,'16-66 år'!$A:$A,'16-66 år'!B:B) -> 5655.2718 | BT59: =BE59/_xlfn.XLOOKUP($BC59,'16-66 år'!$A:$A,'16-66 år'!C:C) -> 5551.5496 | BU59: =BF59/_xlfn.XLOOKUP($BC59,'16-66 år'!$A:$A,'16-66 år'!D:D) -> 4636.714 | BV59: =BG59/_xlfn.XLOOKUP($BC59,'16-66 år'!$A:$A,'16-66 år'!E:E) -> 4610.7698 | BW59: =BH59/_xlfn.XLOOKUP($BC59,'16-66 år'!$A:$A,'16-66 år'!F:F) -> 4638.0679 | BX59: =BI59/_xlfn.XLOOKUP($BC59,'16-66 år'!$A:$A,'16-66 år'!G:G) -> 4675.8013 | BY59: =BJ59/_xlfn.XLOOKUP($BC59,'16-66 år'!$A:$A,'16-66 år'!H:H) -> 5052.6752 | CB59: Lyngby-Taarbæk | CC59: =_xlfn.XLOOKUP($CB59,$A:$A,B:B)/_xlfn.XLOOKUP($CB59,$BC:$BC,BD:BD)*100 -> 31.019174 | CD59: =_xlfn.XLOOKUP($CB59,$A:$A,C:C)/_xlfn.XLOOKUP($CB59,$BC:$BC,BE:BE)*100 -> 31.938494 | CE59: =_xlfn.XLOOKUP($CB59,$A:$A,D:D)/_xlfn.XLOOKUP($CB59,$BC:$BC,BF:BF)*100 -> 36.534816 | CF59: =_xlfn.XLOOKUP($CB59,$A:$A,E:E)/_xlfn.XLOOKUP($CB59,$BC:$BC,BG:BG)*100 -> 38.623761 | CG59: =_xlfn.XLOOKUP($CB59,$A:$A,F:F)/_xlfn.XLOOKUP($CB59,$BC:$BC,BH:BH)*100 -> 41.297395 | CH59: =_xlfn.XLOOKUP($CB59,$A:$A,G:G)/_xlfn.XLOOKUP($CB59,$BC:$BC,BI:BI)*100 -> 42.269727 | CI59: =_xlfn.XLOOKUP($CB59,$A:$A,H:H)/_xlfn.XLOOKUP($CB59,$BC:$BC,BJ:BJ)*100 -> 41.447976
A60: Læsø | B60: 4593614.9 | C60: 4381060.8 | D60: 4575180.6 | E60: 5001330.5 | F60: 4697601.4 | G60: 4834572.3 | H60: 4711864 | I60: 32795225 | J60: =B60/_xlfn.XLOOKUP($A60,Folketal!$A:$A,Folketal!B:B) -> 2570.5736 | K60: =C60/_xlfn.XLOOKUP($A60,Folketal!$A:$A,Folketal!C:C) -> 2466.8135 | L60: =D60/_xlfn.XLOOKUP($A60,Folketal!$A:$A,Folketal!D:D) -> 2564.5631 | M60: =E60/_xlfn.XLOOKUP($A60,Folketal!$A:$A,Folketal!E:E) -> 2795.6012 | N60: =F60/_xlfn.XLOOKUP($A60,Folketal!$A:$A,Folketal!F:F) -> 2682.8106 | O60: =G60/_xlfn.XLOOKUP($A60,Folketal!$A:$A,Folketal!G:G) -> 2835.5263 | P60: =H60/_xlfn.XLOOKUP($A60,Folketal!$A:$A,Folketal!H:H) -> 2818.1005 | Q60: =B60/_xlfn.XLOOKUP($A60,'16-66 år'!$A:$A,'16-66 år'!B:B) -> 4835.3841 | R60: =C60/_xlfn.XLOOKUP($A60,'16-66 år'!$A:$A,'16-66 år'!C:C) -> 4726.0634 | S60: =D60/_xlfn.XLOOKUP($A60,'16-66 år'!$A:$A,'16-66 år'!D:D) -> 4919.549 | T60: =E60/_xlfn.XLOOKUP($A60,'16-66 år'!$A:$A,'16-66 år'!E:E) -> 5303.6379 | U60: =F60/_xlfn.XLOOKUP($A60,'16-66 år'!$A:$A,'16-66 år'!F:F) -> 5242.8587 | V60: =G60/_xlfn.XLOOKUP($A60,'16-66 år'!$A:$A,'16-66 år'!G:G) -> 5576.2079 | W60: =H60/_xlfn.XLOOKUP($A60,'16-66 år'!$A:$A,'16-66 år'!H:H) -> 5622.7494 | Y60: Læsø | AA60: 332161.77 | AB60: 561709.75 | AC60: 946045.44 | AD60: 911719.34 | AE60: 779331.75 | AF60: 733864 | AG60: 4264832 | AH60: =Z60/_xlfn.XLOOKUP($Y60,Folketal!$A:$A,Folketal!B:B) -> 0 | AI60: =AA60/_xlfn.XLOOKUP($Y60,Folketal!$A:$A,Folketal!C:C) -> 187.02802 | AJ60: =AB60/_xlfn.XLOOKUP($Y60,Folketal!$A:$A,Folketal!D:D) -> 314.85972 | AK60: =AC60/_xlfn.XLOOKUP($Y60,Folketal!$A:$A,Folketal!E:E) -> 528.81243 | AL60: =AD60/_xlfn.XLOOKUP($Y60,Folketal!$A:$A,Folketal!F:F) -> 520.68494 | AM60: =AE60/_xlfn.XLOOKUP($Y60,Folketal!$A:$A,Folketal!G:G) -> 457.08607 | AN60: =AF60/_xlfn.XLOOKUP($Y60,Folketal!$A:$A,Folketal!H:H) -> 438.91388 | AO60: =Z60/_xlfn.XLOOKUP($Y60,'16-66 år'!$A:$A,'16-66 år'!B:B) -> 0 | AP60: =AA60/_xlfn.XLOOKUP($Y60,'16-66 år'!$A:$A,'16-66 år'!C:C) -> 358.31906 | AQ60: =AB60/_xlfn.XLOOKUP($Y60,'16-66 år'!$A:$A,'16-66 år'!D:D) -> 603.98898 | AR60: =AC60/_xlfn.XLOOKUP($Y60,'16-66 år'!$A:$A,'16-66 år'!E:E) -> 1003.2295 | AS60: =AD60/_xlfn.XLOOKUP($Y60,'16-66 år'!$A:$A,'16-66 år'!F:F) -> 1017.5439 | AT60: =AE60/_xlfn.XLOOKUP($Y60,'16-66 år'!$A:$A,'16-66 år'!G:G) -> 898.88321 | AU60: =AF60/_xlfn.XLOOKUP($Y60,'16-66 år'!$A:$A,'16-66 år'!H:H) -> 875.7327 | BC60: Læsø | BD60: 12927737 | BE60: 11238156 | BF60: 9612523.5 | BG60: 10821175 | BH60: 10194739 | BI60: 9779987.7 | BJ60: 9260856 | BK60: 73835173 | BL60: =BD60/_xlfn.XLOOKUP($BC60,Folketal!$A:$A,Folketal!B:B) -> 7234.324 | BM60: =BE60/_xlfn.XLOOKUP($BC60,Folketal!$A:$A,Folketal!C:C) -> 6327.7904 | BN60: =BF60/_xlfn.XLOOKUP($BC60,Folketal!$A:$A,Folketal!D:D) -> 5388.1858 | BO60: =BG60/_xlfn.XLOOKUP($BC60,Folketal!$A:$A,Folketal!E:E) -> 6048.7282 | BP60: =BH60/_xlfn.XLOOKUP($BC60,Folketal!$A:$A,Folketal!F:F) -> 5822.2379 | BQ60: =BI60/_xlfn.XLOOKUP($BC60,Folketal!$A:$A,Folketal!G:G) -> 5736.0631 | BR60: =BJ60/_xlfn.XLOOKUP($BC60,Folketal!$A:$A,Folketal!H:H) -> 5538.7895 | BS60: =BD60/_xlfn.XLOOKUP($BC60,'16-66 år'!$A:$A,'16-66 år'!B:B) -> 13608.144 | BT60: =BE60/_xlfn.XLOOKUP($BC60,'16-66 år'!$A:$A,'16-66 år'!C:C) -> 12123.145 | BU60: =BF60/_xlfn.XLOOKUP($BC60,'16-66 år'!$A:$A,'16-66 år'!D:D) -> 10336.047 | BV60: =BG60/_xlfn.XLOOKUP($BC60,'16-66 år'!$A:$A,'16-66 år'!E:E) -> 11475.265 | BW60: =BH60/_xlfn.XLOOKUP($BC60,'16-66 år'!$A:$A,'16-66 år'!F:F) -> 11378.056 | BX60: =BI60/_xlfn.XLOOKUP($BC60,'16-66 år'!$A:$A,'16-66 år'!G:G) -> 11280.263 | BY60: =BJ60/_xlfn.XLOOKUP($BC60,'16-66 år'!$A:$A,'16-66 år'!H:H) -> 11051.141 | CB60: Læsø | CC60: =_xlfn.XLOOKUP($CB60,$A:$A,B:B)/_xlfn.XLOOKUP($CB60,$BC:$BC,BD:BD)*100 -> 35.533017 | CD60: =_xlfn.XLOOKUP($CB60,$A:$A,C:C)/_xlfn.XLOOKUP($CB60,$BC:$BC,BE:BE)*100 -> 38.983805 | CE60: =_xlfn.XLOOKUP($CB60,$A:$A,D:D)/_xlfn.XLOOKUP($CB60,$BC:$BC,BF:BF)*100 -> 47.596041 | CF60: =_xlfn.XLOOKUP($CB60,$A:$A,E:E)/_xlfn.XLOOKUP($CB60,$BC:$BC,BG:BG)*100 -> 46.218 | CG60: =_xlfn.XLOOKUP($CB60,$A:$A,F:F)/_xlfn.XLOOKUP($CB60,$BC:$BC,BH:BH)*100 -> 46.078685 | CH60: =_xlfn.XLOOKUP($CB60,$A:$A,G:G)/_xlfn.XLOOKUP($CB60,$BC:$BC,BI:BI)*100 -> 49.433317 | CI60: =_xlfn.XLOOKUP($CB60,$A:$A,H:H)/_xlfn.XLOOKUP($CB60,$BC:$BC,BJ:BJ)*100 -> 50.879357
A61: Mariagerfjord | B61: 1.1108535e+08 | C61: 1.1353943e+08 | D61: 1.1360409e+08 | E61: 1.1800609e+08 | F61: 1.1672825e+08 | G61: 1.2028336e+08 | H61: 131875500 | I61: 8.2512208e+08 | J61: =B61/_xlfn.XLOOKUP($A61,Folketal!$A:$A,Folketal!B:B) -> 2661.1731 | K61: =C61/_xlfn.XLOOKUP($A61,Folketal!$A:$A,Folketal!C:C) -> 2730.3634 | L61: =D61/_xlfn.XLOOKUP($A61,Folketal!$A:$A,Folketal!D:D) -> 2727.3928 | M61: =E61/_xlfn.XLOOKUP($A61,Folketal!$A:$A,Folketal!E:E) -> 2816.3745 | N61: =F61/_xlfn.XLOOKUP($A61,Folketal!$A:$A,Folketal!F:F) -> 2795.016 | O61: =G61/_xlfn.XLOOKUP($A61,Folketal!$A:$A,Folketal!G:G) -> 2883.8705 | P61: =H61/_xlfn.XLOOKUP($A61,Folketal!$A:$A,Folketal!H:H) -> 3175.5039 | Q61: =B61/_xlfn.XLOOKUP($A61,'16-66 år'!$A:$A,'16-66 år'!B:B) -> 4244.1105 | R61: =C61/_xlfn.XLOOKUP($A61,'16-66 år'!$A:$A,'16-66 år'!C:C) -> 4380.0414 | S61: =D61/_xlfn.XLOOKUP($A61,'16-66 år'!$A:$A,'16-66 år'!D:D) -> 4397.8048 | T61: =E61/_xlfn.XLOOKUP($A61,'16-66 år'!$A:$A,'16-66 år'!E:E) -> 4558.86 | U61: =F61/_xlfn.XLOOKUP($A61,'16-66 år'!$A:$A,'16-66 år'!F:F) -> 4538.7764 | V61: =G61/_xlfn.XLOOKUP($A61,'16-66 år'!$A:$A,'16-66 år'!G:G) -> 4698.018 | W61: =H61/_xlfn.XLOOKUP($A61,'16-66 år'!$A:$A,'16-66 år'!H:H) -> 5211.6464 | Y61: Mariagerfjord | Z61: 161545.19 | AA61: 4360130.1 | AB61: 8761792.1 | AC61: 12584682 | AD61: 15346613 | AE61: 16632786 | AF61: 17938896 | AG61: 75786444 | AH61: =Z61/_xlfn.XLOOKUP($Y61,Folketal!$A:$A,Folketal!B:B) -> 3.8699947 | AI61: =AA61/_xlfn.XLOOKUP($Y61,Folketal!$A:$A,Folketal!C:C) -> 104.85115 | AJ61: =AB61/_xlfn.XLOOKUP($Y61,Folketal!$A:$A,Folketal!D:D) -> 210.35201 | AK61: =AC61/_xlfn.XLOOKUP($Y61,Folketal!$A:$A,Folketal!E:E) -> 300.3504 | AL61: =AD61/_xlfn.XLOOKUP($Y61,Folketal!$A:$A,Folketal!F:F) -> 367.46913 | AM61: =AE61/_xlfn.XLOOKUP($Y61,Folketal!$A:$A,Folketal!G:G) -> 398.7817 | AN61: =AF61/_xlfn.XLOOKUP($Y61,Folketal!$A:$A,Folketal!H:H) -> 431.9607 | AO61: =Z61/_xlfn.XLOOKUP($Y61,'16-66 år'!$A:$A,'16-66 år'!B:B) -> 6.1719718 | AP61: =AA61/_xlfn.XLOOKUP($Y61,'16-66 år'!$A:$A,'16-66 år'!C:C) -> 168.20192 | AQ61: =AB61/_xlfn.XLOOKUP($Y61,'16-66 år'!$A:$A,'16-66 år'!D:D) -> 339.18365 | AR61: =AC61/_xlfn.XLOOKUP($Y61,'16-66 år'!$A:$A,'16-66 år'!E:E) -> 486.17662 | AS61: =AD61/_xlfn.XLOOKUP($Y61,'16-66 år'!$A:$A,'16-66 år'!F:F) -> 596.72654 | AT61: =AE61/_xlfn.XLOOKUP($Y61,'16-66 år'!$A:$A,'16-66 år'!G:G) -> 649.64207 | AU61: =AF61/_xlfn.XLOOKUP($Y61,'16-66 år'!$A:$A,'16-66 år'!H:H) -> 708.93519 | BC61: Mariagerfjord | BD61: 2.7475052e+08 | BE61: 2.6829475e+08 | BF61: 2.5285148e+08 | BG61: 2.6226143e+08 | BH61: 2.6418499e+08 | BI61: 2.6366225e+08 | BJ61: 266211099 | BK61: 1.8522165e+09 | BL61: =BD61/_xlfn.XLOOKUP($BC61,Folketal!$A:$A,Folketal!B:B) -> 6581.9543 | BM61: =BE61/_xlfn.XLOOKUP($BC61,Folketal!$A:$A,Folketal!C:C) -> 6451.8745 | BN61: =BF61/_xlfn.XLOOKUP($BC61,Folketal!$A:$A,Folketal!D:D) -> 6070.4266 | BO61: =BG61/_xlfn.XLOOKUP($BC61,Folketal!$A:$A,Folketal!E:E) -> 6259.2226 | BP61: =BH61/_xlfn.XLOOKUP($BC61,Folketal!$A:$A,Folketal!F:F) -> 6325.8144 | BQ61: =BI61/_xlfn.XLOOKUP($BC61,Folketal!$A:$A,Folketal!G:G) -> 6321.4714 | BR61: =BJ61/_xlfn.XLOOKUP($BC61,Folketal!$A:$A,Folketal!H:H) -> 6410.2458 | BS61: =BD61/_xlfn.XLOOKUP($BC61,'16-66 år'!$A:$A,'16-66 år'!B:B) -> 10497.078 | BT61: =BE61/_xlfn.XLOOKUP($BC61,'16-66 år'!$A:$A,'16-66 år'!C:C) -> 10350.079 | BU61: =BF61/_xlfn.XLOOKUP($BC61,'16-66 år'!$A:$A,'16-66 år'!D:D) -> 9788.3045 | BV61: =BG61/_xlfn.XLOOKUP($BC61,'16-66 år'!$A:$A,'16-66 år'!E:E) -> 10131.792 | BW61: =BH61/_xlfn.XLOOKUP($BC61,'16-66 år'!$A:$A,'16-66 år'!F:F) -> 10272.377 | BX61: =BI61/_xlfn.XLOOKUP($BC61,'16-66 år'!$A:$A,'16-66 år'!G:G) -> 10298.1 | BY61: =BJ61/_xlfn.XLOOKUP($BC61,'16-66 år'!$A:$A,'16-66 år'!H:H) -> 10520.515 | CB61: Mariagerfjord | CC61: =_xlfn.XLOOKUP($CB61,$A:$A,B:B)/_xlfn.XLOOKUP($CB61,$BC:$BC,BD:BD)*100 -> 40.431352 | CD61: =_xlfn.XLOOKUP($CB61,$A:$A,C:C)/_xlfn.XLOOKUP($CB61,$BC:$BC,BE:BE)*100 -> 42.318918 | CE61: =_xlfn.XLOOKUP($CB61,$A:$A,D:D)/_xlfn.XLOOKUP($CB61,$BC:$BC,BF:BF)*100 -> 44.929179 | CF61: =_xlfn.XLOOKUP($CB61,$A:$A,E:E)/_xlfn.XLOOKUP($CB61,$BC:$BC,BG:BG)*100 -> 44.995596 | CG61: =_xlfn.XLOOKUP($CB61,$A:$A,F:F)/_xlfn.XLOOKUP($CB61,$BC:$BC,BH:BH)*100 -> 44.184287 | CH61: =_xlfn.XLOOKUP($CB61,$A:$A,G:G)/_xlfn.XLOOKUP($CB61,$BC:$BC,BI:BI)*100 -> 45.620241 | CI61: =_xlfn.XLOOKUP($CB61,$A:$A,H:H)/_xlfn.XLOOKUP($CB61,$BC:$BC,BJ:BJ)*100 -> 49.537942
A62: Middelfart | B62: 92976497 | C62: 94288187 | D62: 91018499 | E62: 93824709 | F62: 92894406 | G62: 93002436 | H62: 93031974 | I62: 6.5103671e+08 | J62: =B62/_xlfn.XLOOKUP($A62,Folketal!$A:$A,Folketal!B:B) -> 2386.7667 | K62: =C62/_xlfn.XLOOKUP($A62,Folketal!$A:$A,Folketal!C:C) -> 2399.8011 | L62: =D62/_xlfn.XLOOKUP($A62,Folketal!$A:$A,Folketal!D:D) -> 2293.9864 | M62: =E62/_xlfn.XLOOKUP($A62,Folketal!$A:$A,Folketal!E:E) -> 2341.4616 | N62: =F62/_xlfn.XLOOKUP($A62,Folketal!$A:$A,Folketal!F:F) -> 2309.0255 | O62: =G62/_xlfn.XLOOKUP($A62,Folketal!$A:$A,Folketal!G:G) -> 2305.0645 | P62: =H62/_xlfn.XLOOKUP($A62,Folketal!$A:$A,Folketal!H:H) -> 2288.4406 | Q62: =B62/_xlfn.XLOOKUP($A62,'16-66 år'!$A:$A,'16-66 år'!B:B) -> 3866.7705 | R62: =C62/_xlfn.XLOOKUP($A62,'16-66 år'!$A:$A,'16-66 år'!C:C) -> 3898.139 | S62: =D62/_xlfn.XLOOKUP($A62,'16-66 år'!$A:$A,'16-66 år'!D:D) -> 3740.0764 | T62: =E62/_xlfn.XLOOKUP($A62,'16-66 år'!$A:$A,'16-66 år'!E:E) -> 3820.0688 | U62: =F62/_xlfn.XLOOKUP($A62,'16-66 år'!$A:$A,'16-66 år'!F:F) -> 3769.1474 | V62: =G62/_xlfn.XLOOKUP($A62,'16-66 år'!$A:$A,'16-66 år'!G:G) -> 3774.1432 | W62: =H62/_xlfn.XLOOKUP($A62,'16-66 år'!$A:$A,'16-66 år'!H:H) -> 3754.3169 | Y62: Middelfart | Z62: 854294.38 | AA62: 5240272.9 | AB62: 8290808.8 | AC62: 11966220 | AD62: 14281561 | AE62: 15274714 | AF62: 16969476 | AG62: 72877347 | AH62: =Z62/_xlfn.XLOOKUP($Y62,Folketal!$A:$A,Folketal!B:B) -> 21.930288 | AI62: =AA62/_xlfn.XLOOKUP($Y62,Folketal!$A:$A,Folketal!C:C) -> 133.37422 | AJ62: =AB62/_xlfn.XLOOKUP($Y62,Folketal!$A:$A,Folketal!D:D) -> 208.95755 | AK62: =AC62/_xlfn.XLOOKUP($Y62,Folketal!$A:$A,Folketal!E:E) -> 298.62544 | AL62: =AD62/_xlfn.XLOOKUP($Y62,Folketal!$A:$A,Folketal!F:F) -> 354.98897 | AM62: =AE62/_xlfn.XLOOKUP($Y62,Folketal!$A:$A,Folketal!G:G) -> 378.58363 | AN62: =AF62/_xlfn.XLOOKUP($Y62,Folketal!$A:$A,Folketal!H:H) -> 417.42248 | AO62: =Z62/_xlfn.XLOOKUP($Y62,'16-66 år'!$A:$A,'16-66 år'!B:B) -> 35.528982 | AP62: =AA62/_xlfn.XLOOKUP($Y62,'16-66 år'!$A:$A,'16-66 år'!C:C) -> 216.64763 | AQ62: =AB62/_xlfn.XLOOKUP($Y62,'16-66 år'!$A:$A,'16-66 år'!D:D) -> 340.68084 | AR62: =AC62/_xlfn.XLOOKUP($Y62,'16-66 år'!$A:$A,'16-66 år'!E:E) -> 487.2041 | AS62: =AD62/_xlfn.XLOOKUP($Y62,'16-66 år'!$A:$A,'16-66 år'!F:F) -> 579.46772 | AT62: =AE62/_xlfn.XLOOKUP($Y62,'16-66 år'!$A:$A,'16-66 år'!G:G) -> 619.86501 | AU62: =AF62/_xlfn.XLOOKUP($Y62,'16-66 år'!$A:$A,'16-66 år'!H:H) -> 684.80533 | BC62: Middelfart | BD62: 2.2204105e+08 | BE62: 2.1482959e+08 | BF62: 1.9503608e+08 | BG62: 2.0525399e+08 | BH62: 2.117941e+08 | BI62: 2.1011066e+08 | BJ62: 212164057 | BK62: 1.4712295e+09 | BL62: =BD62/_xlfn.XLOOKUP($BC62,Folketal!$A:$A,Folketal!B:B) -> 5699.937 | BM62: =BE62/_xlfn.XLOOKUP($BC62,Folketal!$A:$A,Folketal!C:C) -> 5467.7931 | BN62: =BF62/_xlfn.XLOOKUP($BC62,Folketal!$A:$A,Folketal!D:D) -> 4915.5954 | BO62: =BG62/_xlfn.XLOOKUP($BC62,Folketal!$A:$A,Folketal!E:E) -> 5122.2578 | BP62: =BH62/_xlfn.XLOOKUP($BC62,Folketal!$A:$A,Folketal!F:F) -> 5264.4503 | BQ62: =BI62/_xlfn.XLOOKUP($BC62,Folketal!$A:$A,Folketal!G:G) -> 5207.5907 | BR62: =BJ62/_xlfn.XLOOKUP($BC62,Folketal!$A:$A,Folketal!H:H) -> 5218.9028 | BS62: =BD62/_xlfn.XLOOKUP($BC62,'16-66 år'!$A:$A,'16-66 år'!B:B) -> 9234.3958 | BT62: =BE62/_xlfn.XLOOKUP($BC62,'16-66 år'!$A:$A,'16-66 år'!C:C) -> 8881.66 | BU62: =BF62/_xlfn.XLOOKUP($BC62,'16-66 år'!$A:$A,'16-66 år'!D:D) -> 8014.303 | BV62: =BG62/_xlfn.XLOOKUP($BC62,'16-66 år'!$A:$A,'16-66 år'!E:E) -> 8356.9071 | BW62: =BH62/_xlfn.XLOOKUP($BC62,'16-66 år'!$A:$A,'16-66 år'!F:F) -> 8593.4472 | BX62: =BI62/_xlfn.XLOOKUP($BC62,'16-66 år'!$A:$A,'16-66 år'!G:G) -> 8526.5264 | BY62: =BJ62/_xlfn.XLOOKUP($BC62,'16-66 år'!$A:$A,'16-66 år'!H:H) -> 8561.9071 | CB62: Middelfart | CC62: =_xlfn.XLOOKUP($CB62,$A:$A,B:B)/_xlfn.XLOOKUP($CB62,$BC:$BC,BD:BD)*100 -> 41.873563 | CD62: =_xlfn.XLOOKUP($CB62,$A:$A,C:C)/_xlfn.XLOOKUP($CB62,$BC:$BC,BE:BE)*100 -> 43.889758 | CE62: =_xlfn.XLOOKUP($CB62,$A:$A,D:D)/_xlfn.XLOOKUP($CB62,$BC:$BC,BF:BF)*100 -> 46.667519 | CF62: =_xlfn.XLOOKUP($CB62,$A:$A,E:E)/_xlfn.XLOOKUP($CB62,$BC:$BC,BG:BG)*100 -> 45.711514 | CG62: =_xlfn.XLOOKUP($CB62,$A:$A,F:F)/_xlfn.XLOOKUP($CB62,$BC:$BC,BH:BH)*100 -> 43.860715 | CH62: =_xlfn.XLOOKUP($CB62,$A:$A,G:G)/_xlfn.XLOOKUP($CB62,$BC:$BC,BI:BI)*100 -> 44.263549 | CI62: =_xlfn.XLOOKUP($CB62,$A:$A,H:H)/_xlfn.XLOOKUP($CB62,$BC:$BC,BJ:BJ)*100 -> 43.849074
A63: Morsø | B63: 67596094 | C63: 67603144 | D63: 66114306 | E63: 68363367 | F63: 67425173 | G63: 67078741 | H63: 67909111 | I63: 4.7208994e+08 | J63: =B63/_xlfn.XLOOKUP($A63,Folketal!$A:$A,Folketal!B:B) -> 3347.0041 | K63: =C63/_xlfn.XLOOKUP($A63,Folketal!$A:$A,Folketal!C:C) -> 3367.0258 | L63: =D63/_xlfn.XLOOKUP($A63,Folketal!$A:$A,Folketal!D:D) -> 3297.6361 | M63: =E63/_xlfn.XLOOKUP($A63,Folketal!$A:$A,Folketal!E:E) -> 3433.2748 | N63: =F63/_xlfn.XLOOKUP($A63,Folketal!$A:$A,Folketal!F:F) -> 3431.4811 | O63: =G63/_xlfn.XLOOKUP($A63,Folketal!$A:$A,Folketal!G:G) -> 3444.8819 | P63: =H63/_xlfn.XLOOKUP($A63,Folketal!$A:$A,Folketal!H:H) -> 3513.3277 | Q63: =B63/_xlfn.XLOOKUP($A63,'16-66 år'!$A:$A,'16-66 år'!B:B) -> 5525.2652 | R63: =C63/_xlfn.XLOOKUP($A63,'16-66 år'!$A:$A,'16-66 år'!C:C) -> 5575.9769 | S63: =D63/_xlfn.XLOOKUP($A63,'16-66 år'!$A:$A,'16-66 år'!D:D) -> 5495.786 | T63: =E63/_xlfn.XLOOKUP($A63,'16-66 år'!$A:$A,'16-66 år'!E:E) -> 5735.663 | U63: =F63/_xlfn.XLOOKUP($A63,'16-66 år'!$A:$A,'16-66 år'!F:F) -> 5753.492 | V63: =G63/_xlfn.XLOOKUP($A63,'16-66 år'!$A:$A,'16-66 år'!G:G) -> 5830.3991 | W63: =H63/_xlfn.XLOOKUP($A63,'16-66 år'!$A:$A,'16-66 år'!H:H) -> 5957.4621 | Y63: Morsø | Z63: 408451.28 | AA63: 3041306.8 | AB63: 4331460.1 | AC63: 6573732.1 | AD63: 7641232.8 | AE63: 8313332.4 | AF63: 8472709 | AG63: 38782224 | AH63: =Z63/_xlfn.XLOOKUP($Y63,Folketal!$A:$A,Folketal!B:B) -> 20.224365 | AI63: =AA63/_xlfn.XLOOKUP($Y63,Folketal!$A:$A,Folketal!C:C) -> 151.47459 | AJ63: =AB63/_xlfn.XLOOKUP($Y63,Folketal!$A:$A,Folketal!D:D) -> 216.0437 | AK63: =AC63/_xlfn.XLOOKUP($Y63,Folketal!$A:$A,Folketal!E:E) -> 330.13922 | AL63: =AD63/_xlfn.XLOOKUP($Y63,Folketal!$A:$A,Folketal!F:F) -> 388.8866 | AM63: =AE63/_xlfn.XLOOKUP($Y63,Folketal!$A:$A,Folketal!G:G) -> 426.93778 | AN63: =AF63/_xlfn.XLOOKUP($Y63,Folketal!$A:$A,Folketal!H:H) -> 438.34182 | AO63: =Z63/_xlfn.XLOOKUP($Y63,'16-66 år'!$A:$A,'16-66 år'!B:B) -> 33.386569 | AP63: =AA63/_xlfn.XLOOKUP($Y63,'16-66 år'!$A:$A,'16-66 år'!C:C) -> 250.85011 | AQ63: =AB63/_xlfn.XLOOKUP($Y63,'16-66 år'!$A:$A,'16-66 år'!D:D) -> 360.05487 | AR63: =AC63/_xlfn.XLOOKUP($Y63,'16-66 år'!$A:$A,'16-66 år'!E:E) -> 551.53386 | AS63: =AD63/_xlfn.XLOOKUP($Y63,'16-66 år'!$A:$A,'16-66 år'!F:F) -> 652.03796 | AT63: =AE63/_xlfn.XLOOKUP($Y63,'16-66 år'!$A:$A,'16-66 år'!G:G) -> 722.58431 | AU63: =AF63/_xlfn.XLOOKUP($Y63,'16-66 år'!$A:$A,'16-66 år'!H:H) -> 743.28529 | BC63: Morsø | BD63: 1.4747708e+08 | BE63: 1.4171215e+08 | BF63: 1.3208158e+08 | BG63: 1.3854337e+08 | BH63: 1.375827e+08 | BI63: 1.2978698e+08 | BJ63: 127217054 | BK63: 9.5440092e+08 | BL63: =BD63/_xlfn.XLOOKUP($BC63,Folketal!$A:$A,Folketal!B:B) -> 7302.2914 | BM63: =BE63/_xlfn.XLOOKUP($BC63,Folketal!$A:$A,Folketal!C:C) -> 7058.0812 | BN63: =BF63/_xlfn.XLOOKUP($BC63,Folketal!$A:$A,Folketal!D:D) -> 6587.9385 | BO63: =BG63/_xlfn.XLOOKUP($BC63,Folketal!$A:$A,Folketal!E:E) -> 6957.7827 | BP63: =BH63/_xlfn.XLOOKUP($BC63,Folketal!$A:$A,Folketal!F:F) -> 7002.0205 | BQ63: =BI63/_xlfn.XLOOKUP($BC63,Folketal!$A:$A,Folketal!G:G) -> 6665.3134 | BR63: =BJ63/_xlfn.XLOOKUP($BC63,Folketal!$A:$A,Folketal!H:H) -> 6581.6676 | BS63: =BD63/_xlfn.XLOOKUP($BC63,'16-66 år'!$A:$A,'16-66 år'!B:B) -> 12054.69 | BT63: =BE63/_xlfn.XLOOKUP($BC63,'16-66 år'!$A:$A,'16-66 år'!C:C) -> 11688.564 | BU63: =BF63/_xlfn.XLOOKUP($BC63,'16-66 år'!$A:$A,'16-66 år'!D:D) -> 10979.35 | BV63: =BG63/_xlfn.XLOOKUP($BC63,'16-66 år'!$A:$A,'16-66 år'!E:E) -> 11623.741 | BW63: =BH63/_xlfn.XLOOKUP($BC63,'16-66 år'!$A:$A,'16-66 år'!F:F) -> 11740.14 | BX63: =BI63/_xlfn.XLOOKUP($BC63,'16-66 år'!$A:$A,'16-66 år'!G:G) -> 11280.92 | BY63: =BJ63/_xlfn.XLOOKUP($BC63,'16-66 år'!$A:$A,'16-66 år'!H:H) -> 11160.37 | CB63: Morsø | CC63: =_xlfn.XLOOKUP($CB63,$A:$A,B:B)/_xlfn.XLOOKUP($CB63,$BC:$BC,BD:BD)*100 -> 45.834983 | CD63: =_xlfn.XLOOKUP($CB63,$A:$A,C:C)/_xlfn.XLOOKUP($CB63,$BC:$BC,BE:BE)*100 -> 47.704549 | CE63: =_xlfn.XLOOKUP($CB63,$A:$A,D:D)/_xlfn.XLOOKUP($CB63,$BC:$BC,BF:BF)*100 -> 50.05566 | CF63: =_xlfn.XLOOKUP($CB63,$A:$A,E:E)/_xlfn.XLOOKUP($CB63,$BC:$BC,BG:BG)*100 -> 49.344381 | CG63: =_xlfn.XLOOKUP($CB63,$A:$A,F:F)/_xlfn.XLOOKUP($CB63,$BC:$BC,BH:BH)*100 -> 49.007013 | CH63: =_xlfn.XLOOKUP($CB63,$A:$A,G:G)/_xlfn.XLOOKUP($CB63,$BC:$BC,BI:BI)*100 -> 51.68372 | CI63: =_xlfn.XLOOKUP($CB63,$A:$A,H:H)/_xlfn.XLOOKUP($CB63,$BC:$BC,BJ:BJ)*100 -> 53.380509
A64: Norddjurs | B64: 1.1201287e+08 | C64: 1.1451692e+08 | D64: 1.1275593e+08 | E64: 1.2041843e+08 | F64: 1.2334248e+08 | G64: 1.3049377e+08 | H64: 135963194 | I64: 8.4950361e+08 | J64: =B64/_xlfn.XLOOKUP($A64,Folketal!$A:$A,Folketal!B:B) -> 3027.7022 | K64: =C64/_xlfn.XLOOKUP($A64,Folketal!$A:$A,Folketal!C:C) -> 3097.2284 | L64: =D64/_xlfn.XLOOKUP($A64,Folketal!$A:$A,Folketal!D:D) -> 3049.4356 | M64: =E64/_xlfn.XLOOKUP($A64,Folketal!$A:$A,Folketal!E:E) -> 3253.0576 | N64: =F64/_xlfn.XLOOKUP($A64,Folketal!$A:$A,Folketal!F:F) -> 3356.9888 | O64: =G64/_xlfn.XLOOKUP($A64,Folketal!$A:$A,Folketal!G:G) -> 3554.5263 | P64: =H64/_xlfn.XLOOKUP($A64,Folketal!$A:$A,Folketal!H:H) -> 3725.4273 | Q64: =B64/_xlfn.XLOOKUP($A64,'16-66 år'!$A:$A,'16-66 år'!B:B) -> 4816.722 | R64: =C64/_xlfn.XLOOKUP($A64,'16-66 år'!$A:$A,'16-66 år'!C:C) -> 4958.7306 | S64: =D64/_xlfn.XLOOKUP($A64,'16-66 år'!$A:$A,'16-66 år'!D:D) -> 4915.2542 | T64: =E64/_xlfn.XLOOKUP($A64,'16-66 år'!$A:$A,'16-66 år'!E:E) -> 5276.8813 | U64: =F64/_xlfn.XLOOKUP($A64,'16-66 år'!$A:$A,'16-66 år'!F:F) -> 5486.2772 | V64: =G64/_xlfn.XLOOKUP($A64,'16-66 år'!$A:$A,'16-66 år'!G:G) -> 5838.125 | W64: =H64/_xlfn.XLOOKUP($A64,'16-66 år'!$A:$A,'16-66 år'!H:H) -> 6153.5729 | Y64: Norddjurs | Z64: 2942796.3 | AA64: 8729362.9 | AB64: 13282826 | AC64: 16173171 | AD64: 18310644 | AE64: 17988083 | AF64: 18992561 | AG64: 96419444 | AH64: =Z64/_xlfn.XLOOKUP($Y64,Folketal!$A:$A,Folketal!B:B) -> 79.543633 | AI64: =AA64/_xlfn.XLOOKUP($Y64,Folketal!$A:$A,Folketal!C:C) -> 236.09463 | AJ64: =AB64/_xlfn.XLOOKUP($Y64,Folketal!$A:$A,Folketal!D:D) -> 359.2283 | AK64: =AC64/_xlfn.XLOOKUP($Y64,Folketal!$A:$A,Folketal!E:E) -> 436.91199 | AL64: =AD64/_xlfn.XLOOKUP($Y64,Folketal!$A:$A,Folketal!F:F) -> 498.35731 | AM64: =AE64/_xlfn.XLOOKUP($Y64,Folketal!$A:$A,Folketal!G:G) -> 489.97829 | AN64: =AF64/_xlfn.XLOOKUP($Y64,Folketal!$A:$A,Folketal!H:H) -> 520.40117 | AO64: =Z64/_xlfn.XLOOKUP($Y64,'16-66 år'!$A:$A,'16-66 år'!B:B) -> 126.54467 | AP64: =AA64/_xlfn.XLOOKUP($Y64,'16-66 år'!$A:$A,'16-66 år'!C:C) -> 377.99268 | AQ64: =AB64/_xlfn.XLOOKUP($Y64,'16-66 år'!$A:$A,'16-66 år'!D:D) -> 579.02465 | AR64: =AC64/_xlfn.XLOOKUP($Y64,'16-66 år'!$A:$A,'16-66 år'!E:E) -> 708.72791 | AS64: =AD64/_xlfn.XLOOKUP($Y64,'16-66 år'!$A:$A,'16-66 år'!F:F) -> 814.45798 | AT64: =AE64/_xlfn.XLOOKUP($Y64,'16-66 år'!$A:$A,'16-66 år'!G:G) -> 804.76392 | AU64: =AF64/_xlfn.XLOOKUP($Y64,'16-66 år'!$A:$A,'16-66 år'!H:H) -> 859.58638 | BC64: Norddjurs | BD64: 2.6196174e+08 | BE64: 2.6307305e+08 | BF64: 2.4231398e+08 | BG64: 2.5131217e+08 | BH64: 2.5241769e+08 | BI64: 2.5402496e+08 | BJ64: 253999007 | BK64: 1.7791026e+09 | BL64: =BD64/_xlfn.XLOOKUP($BC64,Folketal!$A:$A,Folketal!B:B) -> 7080.8124 | BM64: =BE64/_xlfn.XLOOKUP($BC64,Folketal!$A:$A,Folketal!C:C) -> 7115.0823 | BN64: =BF64/_xlfn.XLOOKUP($BC64,Folketal!$A:$A,Folketal!D:D) -> 6553.2772 | BO64: =BG64/_xlfn.XLOOKUP($BC64,Folketal!$A:$A,Folketal!E:E) -> 6789.1016 | BP64: =BH64/_xlfn.XLOOKUP($BC64,Folketal!$A:$A,Folketal!F:F) -> 6870.0039 | BQ64: =BI64/_xlfn.XLOOKUP($BC64,Folketal!$A:$A,Folketal!G:G) -> 6919.3986 | BR64: =BJ64/_xlfn.XLOOKUP($BC64,Folketal!$A:$A,Folketal!H:H) -> 6959.6396 | BS64: =BD64/_xlfn.XLOOKUP($BC64,'16-66 år'!$A:$A,'16-66 år'!B:B) -> 11264.749 | BT64: =BE64/_xlfn.XLOOKUP($BC64,'16-66 år'!$A:$A,'16-66 år'!C:C) -> 11391.403 | BU64: =BF64/_xlfn.XLOOKUP($BC64,'16-66 år'!$A:$A,'16-66 år'!D:D) -> 10562.946 | BV64: =BG64/_xlfn.XLOOKUP($BC64,'16-66 år'!$A:$A,'16-66 år'!E:E) -> 11012.803 | BW64: =BH64/_xlfn.XLOOKUP($BC64,'16-66 år'!$A:$A,'16-66 år'!F:F) -> 11227.546 | BX64: =BI64/_xlfn.XLOOKUP($BC64,'16-66 år'!$A:$A,'16-66 år'!G:G) -> 11364.753 | BY64: =BJ64/_xlfn.XLOOKUP($BC64,'16-66 år'!$A:$A,'16-66 år'!H:H) -> 11495.769 | CB64: Norddjurs | CC64: =_xlfn.XLOOKUP($CB64,$A:$A,B:B)/_xlfn.XLOOKUP($CB64,$BC:$BC,BD:BD)*100 -> 42.759249 | CD64: =_xlfn.XLOOKUP($CB64,$A:$A,C:C)/_xlfn.XLOOKUP($CB64,$BC:$BC,BE:BE)*100 -> 43.530465 | CE64: =_xlfn.XLOOKUP($CB64,$A:$A,D:D)/_xlfn.XLOOKUP($CB64,$BC:$BC,BF:BF)*100 -> 46.532987 | CF64: =_xlfn.XLOOKUP($CB64,$A:$A,E:E)/_xlfn.XLOOKUP($CB64,$BC:$BC,BG:BG)*100 -> 47.915877 | CG64: =_xlfn.XLOOKUP($CB64,$A:$A,F:F)/_xlfn.XLOOKUP($CB64,$BC:$BC,BH:BH)*100 -> 48.864438 | CH64: =_xlfn.XLOOKUP($CB64,$A:$A,G:G)/_xlfn.XLOOKUP($CB64,$BC:$BC,BI:BI)*100 -> 51.370452 | CI64: =_xlfn.XLOOKUP($CB64,$A:$A,H:H)/_xlfn.XLOOKUP($CB64,$BC:$BC,BJ:BJ)*100 -> 53.529026
A65: Nordfyns | B65: 76691119 | C65: 79293365 | D65: 78413633 | E65: 80889505 | F65: 84159196 | G65: 85201668 | H65: 87293832 | I65: 5.7194232e+08 | J65: =B65/_xlfn.XLOOKUP($A65,Folketal!$A:$A,Folketal!B:B) -> 2585.5006 | K65: =C65/_xlfn.XLOOKUP($A65,Folketal!$A:$A,Folketal!C:C) -> 2685.4528 | L65: =D65/_xlfn.XLOOKUP($A65,Folketal!$A:$A,Folketal!D:D) -> 2631.6832 | M65: =E65/_xlfn.XLOOKUP($A65,Folketal!$A:$A,Folketal!E:E) -> 2725.1122 | N65: =F65/_xlfn.XLOOKUP($A65,Folketal!$A:$A,Folketal!F:F) -> 2847.8342 | O65: =G65/_xlfn.XLOOKUP($A65,Folketal!$A:$A,Folketal!G:G) -> 2908.8003 | P65: =H65/_xlfn.XLOOKUP($A65,Folketal!$A:$A,Folketal!H:H) -> 2994.5399 | Q65: =B65/_xlfn.XLOOKUP($A65,'16-66 år'!$A:$A,'16-66 år'!B:B) -> 4155.3489 | R65: =C65/_xlfn.XLOOKUP($A65,'16-66 år'!$A:$A,'16-66 år'!C:C) -> 4343.6519 | S65: =D65/_xlfn.XLOOKUP($A65,'16-66 år'!$A:$A,'16-66 år'!D:D) -> 4253.9811 | T65: =E65/_xlfn.XLOOKUP($A65,'16-66 år'!$A:$A,'16-66 år'!E:E) -> 4415.125 | U65: =F65/_xlfn.XLOOKUP($A65,'16-66 år'!$A:$A,'16-66 år'!F:F) -> 4621.5923 | V65: =G65/_xlfn.XLOOKUP($A65,'16-66 år'!$A:$A,'16-66 år'!G:G) -> 4709.8766 | W65: =H65/_xlfn.XLOOKUP($A65,'16-66 år'!$A:$A,'16-66 år'!H:H) -> 4877.2953 | Y65: Nordfyns | Z65: 394545.22 | AA65: 4903946.2 | AB65: 8812374.9 | AC65: 10830829 | AD65: 12539490 | AE65: 12669912 | AF65: 12757818 | AG65: 62908915 | AH65: =Z65/_xlfn.XLOOKUP($Y65,Folketal!$A:$A,Folketal!B:B) -> 13.301369 | AI65: =AA65/_xlfn.XLOOKUP($Y65,Folketal!$A:$A,Folketal!C:C) -> 166.08346 | AJ65: =AB65/_xlfn.XLOOKUP($Y65,Folketal!$A:$A,Folketal!D:D) -> 295.75698 | AK65: =AC65/_xlfn.XLOOKUP($Y65,Folketal!$A:$A,Folketal!E:E) -> 364.88323 | AL65: =AD65/_xlfn.XLOOKUP($Y65,Folketal!$A:$A,Folketal!F:F) -> 424.31952 | AM65: =AE65/_xlfn.XLOOKUP($Y65,Folketal!$A:$A,Folketal!G:G) -> 432.55305 | AN65: =AF65/_xlfn.XLOOKUP($Y65,Folketal!$A:$A,Folketal!H:H) -> 437.64598 | AO65: =Z65/_xlfn.XLOOKUP($Y65,'16-66 år'!$A:$A,'16-66 år'!B:B) -> 21.377613 | AP65: =AA65/_xlfn.XLOOKUP($Y65,'16-66 år'!$A:$A,'16-66 år'!C:C) -> 268.63578 | AQ65: =AB65/_xlfn.XLOOKUP($Y65,'16-66 år'!$A:$A,'16-66 år'!D:D) -> 478.076 | AR65: =AC65/_xlfn.XLOOKUP($Y65,'16-66 år'!$A:$A,'16-66 år'!E:E) -> 591.17018 | AS65: =AD65/_xlfn.XLOOKUP($Y65,'16-66 år'!$A:$A,'16-66 år'!F:F) -> 688.60463 | AT65: =AE65/_xlfn.XLOOKUP($Y65,'16-66 år'!$A:$A,'16-66 år'!G:G) -> 700.38206 | AU65: =AF65/_xlfn.XLOOKUP($Y65,'16-66 år'!$A:$A,'16-66 år'!H:H) -> 712.80691 | BC65: Nordfyns | BD65: 2.0072377e+08 | BE65: 1.9635052e+08 | BF65: 1.7942586e+08 | BG65: 1.8010548e+08 | BH65: 1.8702863e+08 | BI65: 1.8424047e+08 | BJ65: 186209979 | BK65: 1.3140847e+09 | BL65: =BD65/_xlfn.XLOOKUP($BC65,Folketal!$A:$A,Folketal!B:B) -> 6767.0342 | BM65: =BE65/_xlfn.XLOOKUP($BC65,Folketal!$A:$A,Folketal!C:C) -> 6649.8635 | BN65: =BF65/_xlfn.XLOOKUP($BC65,Folketal!$A:$A,Folketal!D:D) -> 6021.8104 | BO65: =BG65/_xlfn.XLOOKUP($BC65,Folketal!$A:$A,Folketal!E:E) -> 6067.6308 | BP65: =BH65/_xlfn.XLOOKUP($BC65,Folketal!$A:$A,Folketal!F:F) -> 6328.7978 | BQ65: =BI65/_xlfn.XLOOKUP($BC65,Folketal!$A:$A,Folketal!G:G) -> 6290.0028 | BR65: =BJ65/_xlfn.XLOOKUP($BC65,Folketal!$A:$A,Folketal!H:H) -> 6387.7733 | BS65: =BD65/_xlfn.XLOOKUP($BC65,'16-66 år'!$A:$A,'16-66 år'!B:B) -> 10875.8 | BT65: =BE65/_xlfn.XLOOKUP($BC65,'16-66 år'!$A:$A,'16-66 år'!C:C) -> 10755.986 | BU65: =BF65/_xlfn.XLOOKUP($BC65,'16-66 år'!$A:$A,'16-66 år'!D:D) -> 9733.948 | BV65: =BG65/_xlfn.XLOOKUP($BC65,'16-66 år'!$A:$A,'16-66 år'!E:E) -> 9830.5488 | BW65: =BH65/_xlfn.XLOOKUP($BC65,'16-66 år'!$A:$A,'16-66 år'!F:F) -> 10270.655 | BX65: =BI65/_xlfn.XLOOKUP($BC65,'16-66 år'!$A:$A,'16-66 år'!G:G) -> 10184.658 | BY65: =BJ65/_xlfn.XLOOKUP($BC65,'16-66 år'!$A:$A,'16-66 år'!H:H) -> 10403.955 | CB65: Nordfyns | CC65: =_xlfn.XLOOKUP($CB65,$A:$A,B:B)/_xlfn.XLOOKUP($CB65,$BC:$BC,BD:BD)*100 -> 38.207293 | CD65: =_xlfn.XLOOKUP($CB65,$A:$A,C:C)/_xlfn.XLOOKUP($CB65,$BC:$BC,BE:BE)*100 -> 40.383578 | CE65: =_xlfn.XLOOKUP($CB65,$A:$A,D:D)/_xlfn.XLOOKUP($CB65,$BC:$BC,BF:BF)*100 -> 43.702525 | CF65: =_xlfn.XLOOKUP($CB65,$A:$A,E:E)/_xlfn.XLOOKUP($CB65,$BC:$BC,BG:BG)*100 -> 44.912294 | CG65: =_xlfn.XLOOKUP($CB65,$A:$A,F:F)/_xlfn.XLOOKUP($CB65,$BC:$BC,BH:BH)*100 -> 44.998028 | CH65: =_xlfn.XLOOKUP($CB65,$A:$A,G:G)/_xlfn.XLOOKUP($CB65,$BC:$BC,BI:BI)*100 -> 46.244816 | CI65: =_xlfn.XLOOKUP($CB65,$A:$A,H:H)/_xlfn.XLOOKUP($CB65,$BC:$BC,BJ:BJ)*100 -> 46.879245
A66: Nyborg | B66: 1.1794826e+08 | C66: 1.1750337e+08 | D66: 1.1321548e+08 | E66: 1.1471767e+08 | F66: 1.1254218e+08 | G66: 1.1355409e+08 | H66: 116852256 | I66: 8.063333e+08 | J66: =B66/_xlfn.XLOOKUP($A66,Folketal!$A:$A,Folketal!B:B) -> 3688.9956 | K66: =C66/_xlfn.XLOOKUP($A66,Folketal!$A:$A,Folketal!C:C) -> 3676.001 | L66: =D66/_xlfn.XLOOKUP($A66,Folketal!$A:$A,Folketal!D:D) -> 3532.0234 | M66: =E66/_xlfn.XLOOKUP($A66,Folketal!$A:$A,Folketal!E:E) -> 3552.2905 | N66: =F66/_xlfn.XLOOKUP($A66,Folketal!$A:$A,Folketal!F:F) -> 3497.4885 | O66: =G66/_xlfn.XLOOKUP($A66,Folketal!$A:$A,Folketal!G:G) -> 3514.3008 | P66: =H66/_xlfn.XLOOKUP($A66,Folketal!$A:$A,Folketal!H:H) -> 3600.2174 | Q66: =B66/_xlfn.XLOOKUP($A66,'16-66 år'!$A:$A,'16-66 år'!B:B) -> 6011.6338 | R66: =C66/_xlfn.XLOOKUP($A66,'16-66 år'!$A:$A,'16-66 år'!C:C) -> 6007.0228 | S66: =D66/_xlfn.XLOOKUP($A66,'16-66 år'!$A:$A,'16-66 år'!D:D) -> 5766.5909 | T66: =E66/_xlfn.XLOOKUP($A66,'16-66 år'!$A:$A,'16-66 år'!E:E) -> 5807.6074 | U66: =F66/_xlfn.XLOOKUP($A66,'16-66 år'!$A:$A,'16-66 år'!F:F) -> 5747.8133 | V66: =G66/_xlfn.XLOOKUP($A66,'16-66 år'!$A:$A,'16-66 år'!G:G) -> 5764.4595 | W66: =H66/_xlfn.XLOOKUP($A66,'16-66 år'!$A:$A,'16-66 år'!H:H) -> 5901.033 | Y66: Nyborg | Z66: 816093.98 | AA66: 5109845.3 | AB66: 7818101.5 | AC66: 10479505 | AD66: 12990360 | AE66: 13649060 | AF66: 14360090 | AG66: 65223056 | AH66: =Z66/_xlfn.XLOOKUP($Y66,Folketal!$A:$A,Folketal!B:B) -> 25.524473 | AI66: =AA66/_xlfn.XLOOKUP($Y66,Folketal!$A:$A,Folketal!C:C) -> 159.85751 | AJ66: =AB66/_xlfn.XLOOKUP($Y66,Folketal!$A:$A,Folketal!D:D) -> 243.90408 | AK66: =AC66/_xlfn.XLOOKUP($Y66,Folketal!$A:$A,Folketal!E:E) -> 324.50317 | AL66: =AD66/_xlfn.XLOOKUP($Y66,Folketal!$A:$A,Folketal!F:F) -> 403.70315 | AM66: =AE66/_xlfn.XLOOKUP($Y66,Folketal!$A:$A,Folketal!G:G) -> 422.41458 | AN66: =AF66/_xlfn.XLOOKUP($Y66,Folketal!$A:$A,Folketal!H:H) -> 442.4343 | AO66: =Z66/_xlfn.XLOOKUP($Y66,'16-66 år'!$A:$A,'16-66 år'!B:B) -> 41.595004 | AP66: =AA66/_xlfn.XLOOKUP($Y66,'16-66 år'!$A:$A,'16-66 år'!C:C) -> 261.22618 | AQ66: =AB66/_xlfn.XLOOKUP($Y66,'16-66 år'!$A:$A,'16-66 år'!D:D) -> 398.21227 | AR66: =AC66/_xlfn.XLOOKUP($Y66,'16-66 år'!$A:$A,'16-66 år'!E:E) -> 530.52728 | AS66: =AD66/_xlfn.XLOOKUP($Y66,'16-66 år'!$A:$A,'16-66 år'!F:F) -> 663.45045 | AT66: =AE66/_xlfn.XLOOKUP($Y66,'16-66 år'!$A:$A,'16-66 år'!G:G) -> 692.88085 | AU66: =AF66/_xlfn.XLOOKUP($Y66,'16-66 år'!$A:$A,'16-66 år'!H:H) -> 725.18382 | BC66: Nyborg | BD66: 2.416798e+08 | BE66: 2.3389978e+08 | BF66: 2.1501553e+08 | BG66: 2.2374727e+08 | BH66: 2.2573684e+08 | BI66: 2.1995218e+08 | BJ66: 221506061 | BK66: 1.5815375e+09 | BL66: =BD66/_xlfn.XLOOKUP($BC66,Folketal!$A:$A,Folketal!B:B) -> 7558.8715 | BM66: =BE66/_xlfn.XLOOKUP($BC66,Folketal!$A:$A,Folketal!C:C) -> 7317.3714 | BN66: =BF66/_xlfn.XLOOKUP($BC66,Folketal!$A:$A,Folketal!D:D) -> 6707.9157 | BO66: =BG66/_xlfn.XLOOKUP($BC66,Folketal!$A:$A,Folketal!E:E) -> 6928.447 | BP66: =BH66/_xlfn.XLOOKUP($BC66,Folketal!$A:$A,Folketal!F:F) -> 7015.2538 | BQ66: =BI66/_xlfn.XLOOKUP($BC66,Folketal!$A:$A,Folketal!G:G) -> 6807.1362 | BR66: =BJ66/_xlfn.XLOOKUP($BC66,Folketal!$A:$A,Folketal!H:H) -> 6824.6006 | BS66: =BD66/_xlfn.XLOOKUP($BC66,'16-66 år'!$A:$A,'16-66 år'!B:B) -> 12318.033 | BT66: =BE66/_xlfn.XLOOKUP($BC66,'16-66 år'!$A:$A,'16-66 år'!C:C) -> 11957.455 | BU66: =BF66/_xlfn.XLOOKUP($BC66,'16-66 år'!$A:$A,'16-66 år'!D:D) -> 10951.741 | BV66: =BG66/_xlfn.XLOOKUP($BC66,'16-66 år'!$A:$A,'16-66 år'!E:E) -> 11327.255 | BW66: =BH66/_xlfn.XLOOKUP($BC66,'16-66 år'!$A:$A,'16-66 år'!F:F) -> 11528.95 | BX66: =BI66/_xlfn.XLOOKUP($BC66,'16-66 år'!$A:$A,'16-66 år'!G:G) -> 11165.652 | BY66: =BJ66/_xlfn.XLOOKUP($BC66,'16-66 år'!$A:$A,'16-66 år'!H:H) -> 11186.045 | CB66: Nyborg | CC66: =_xlfn.XLOOKUP($CB66,$A:$A,B:B)/_xlfn.XLOOKUP($CB66,$BC:$BC,BD:BD)*100 -> 48.803523 | CD66: =_xlfn.XLOOKUP($CB66,$A:$A,C:C)/_xlfn.XLOOKUP($CB66,$BC:$BC,BE:BE)*100 -> 50.236633 | CE66: =_xlfn.XLOOKUP($CB66,$A:$A,D:D)/_xlfn.XLOOKUP($CB66,$BC:$BC,BF:BF)*100 -> 52.654559 | CF66: =_xlfn.XLOOKUP($CB66,$A:$A,E:E)/_xlfn.XLOOKUP($CB66,$BC:$BC,BG:BG)*100 -> 51.271093 | CG66: =_xlfn.XLOOKUP($CB66,$A:$A,F:F)/_xlfn.XLOOKUP($CB66,$BC:$BC,BH:BH)*100 -> 49.855481 | CH66: =_xlfn.XLOOKUP($CB66,$A:$A,G:G)/_xlfn.XLOOKUP($CB66,$BC:$BC,BI:BI)*100 -> 51.626715 | CI66: =_xlfn.XLOOKUP($CB66,$A:$A,H:H)/_xlfn.XLOOKUP($CB66,$BC:$BC,BJ:BJ)*100 -> 52.753525
A67: Næstved | B67: 2.1539052e+08 | C67: 2.2182904e+08 | D67: 2.1791812e+08 | E67: 2.2102928e+08 | F67: 2.2357558e+08 | G67: 2.3771289e+08 | H67: 251951511 | I67: 1.5894069e+09 | J67: =B67/_xlfn.XLOOKUP($A67,Folketal!$A:$A,Folketal!B:B) -> 2592.0373 | K67: =C67/_xlfn.XLOOKUP($A67,Folketal!$A:$A,Folketal!C:C) -> 2662.1508 | L67: =D67/_xlfn.XLOOKUP($A67,Folketal!$A:$A,Folketal!D:D) -> 2592.8435 | M67: =E67/_xlfn.XLOOKUP($A67,Folketal!$A:$A,Folketal!E:E) -> 2613.4733 | N67: =F67/_xlfn.XLOOKUP($A67,Folketal!$A:$A,Folketal!F:F) -> 2637.0331 | O67: =G67/_xlfn.XLOOKUP($A67,Folketal!$A:$A,Folketal!G:G) -> 2799.2568 | P67: =H67/_xlfn.XLOOKUP($A67,Folketal!$A:$A,Folketal!H:H) -> 2957.9411 | Q67: =B67/_xlfn.XLOOKUP($A67,'16-66 år'!$A:$A,'16-66 år'!B:B) -> 4067.8865 | R67: =C67/_xlfn.XLOOKUP($A67,'16-66 år'!$A:$A,'16-66 år'!C:C) -> 4193.762 | S67: =D67/_xlfn.XLOOKUP($A67,'16-66 år'!$A:$A,'16-66 år'!D:D) -> 4089.4409 | T67: =E67/_xlfn.XLOOKUP($A67,'16-66 år'!$A:$A,'16-66 år'!E:E) -> 4131.6972 | U67: =F67/_xlfn.XLOOKUP($A67,'16-66 år'!$A:$A,'16-66 år'!F:F) -> 4172.2759 | V67: =G67/_xlfn.XLOOKUP($A67,'16-66 år'!$A:$A,'16-66 år'!G:G) -> 4427.013 | W67: =H67/_xlfn.XLOOKUP($A67,'16-66 år'!$A:$A,'16-66 år'!H:H) -> 4686.6852 | Y67: Næstved | Z67: 4605090.5 | AA67: 13314317 | AB67: 19329238 | AC67: 26314789 | AD67: 30311529 | AE67: 32000953 | AF67: 32303880 | AG67: 1.581798e+08 | AH67: =Z67/_xlfn.XLOOKUP($Y67,Folketal!$A:$A,Folketal!B:B) -> 55.418252 | AI67: =AA67/_xlfn.XLOOKUP($Y67,Folketal!$A:$A,Folketal!C:C) -> 159.78395 | AJ67: =AB67/_xlfn.XLOOKUP($Y67,Folketal!$A:$A,Folketal!D:D) -> 229.98404 | AK67: =AC67/_xlfn.XLOOKUP($Y67,Folketal!$A:$A,Folketal!E:E) -> 311.14882 | AL67: =AD67/_xlfn.XLOOKUP($Y67,Folketal!$A:$A,Folketal!F:F) -> 357.51894 | AM67: =AE67/_xlfn.XLOOKUP($Y67,Folketal!$A:$A,Folketal!G:G) -> 376.83647 | AN67: =AF67/_xlfn.XLOOKUP($Y67,Folketal!$A:$A,Folketal!H:H) -> 379.25145 | AO67: =Z67/_xlfn.XLOOKUP($Y67,'16-66 år'!$A:$A,'16-66 år'!B:B) -> 86.97219 | AP67: =AA67/_xlfn.XLOOKUP($Y67,'16-66 år'!$A:$A,'16-66 år'!C:C) -> 251.71221 | AQ67: =AB67/_xlfn.XLOOKUP($Y67,'16-66 år'!$A:$A,'16-66 år'!D:D) -> 362.73154 | AR67: =AC67/_xlfn.XLOOKUP($Y67,'16-66 år'!$A:$A,'16-66 år'!E:E) -> 491.90199 | AS67: =AD67/_xlfn.XLOOKUP($Y67,'16-66 år'!$A:$A,'16-66 år'!F:F) -> 565.66134 | AT67: =AE67/_xlfn.XLOOKUP($Y67,'16-66 år'!$A:$A,'16-66 år'!G:G) -> 595.96531 | AU67: =AF67/_xlfn.XLOOKUP($Y67,'16-66 år'!$A:$A,'16-66 år'!H:H) -> 600.9018 | BC67: Næstved | BD67: 5.3852859e+08 | BE67: 5.2083248e+08 | BF67: 4.850758e+08 | BG67: 4.8719231e+08 | BH67: 4.9431584e+08 | BI67: 5.0395602e+08 | BJ67: 510310352 | BK67: 3.5402114e+09 | BL67: =BD67/_xlfn.XLOOKUP($BC67,Folketal!$A:$A,Folketal!B:B) -> 6480.7224 | BM67: =BE67/_xlfn.XLOOKUP($BC67,Folketal!$A:$A,Folketal!C:C) -> 6250.4648 | BN67: =BF67/_xlfn.XLOOKUP($BC67,Folketal!$A:$A,Folketal!D:D) -> 5771.5512 | BO67: =BG67/_xlfn.XLOOKUP($BC67,Folketal!$A:$A,Folketal!E:E) -> 5760.6128 | BP67: =BH67/_xlfn.XLOOKUP($BC67,Folketal!$A:$A,Folketal!F:F) -> 5830.365 | BQ67: =BI67/_xlfn.XLOOKUP($BC67,Folketal!$A:$A,Folketal!G:G) -> 5934.4798 | BR67: =BJ67/_xlfn.XLOOKUP($BC67,Folketal!$A:$A,Folketal!H:H) -> 5991.1051 | BS67: =BD67/_xlfn.XLOOKUP($BC67,'16-66 år'!$A:$A,'16-66 år'!B:B) -> 10170.704 | BT67: =BE67/_xlfn.XLOOKUP($BC67,'16-66 år'!$A:$A,'16-66 år'!C:C) -> 9846.5352 | BU67: =BF67/_xlfn.XLOOKUP($BC67,'16-66 år'!$A:$A,'16-66 år'!D:D) -> 9102.9086 | BV67: =BG67/_xlfn.XLOOKUP($BC67,'16-66 år'!$A:$A,'16-66 år'!E:E) -> 9107.0792 | BW67: =BH67/_xlfn.XLOOKUP($BC67,'16-66 år'!$A:$A,'16-66 år'!F:F) -> 9224.7199 | BX67: =BI67/_xlfn.XLOOKUP($BC67,'16-66 år'!$A:$A,'16-66 år'!G:G) -> 9385.355 | BY67: =BJ67/_xlfn.XLOOKUP($BC67,'16-66 år'!$A:$A,'16-66 år'!H:H) -> 9492.5566 | CB67: Næstved | CC67: =_xlfn.XLOOKUP($CB67,$A:$A,B:B)/_xlfn.XLOOKUP($CB67,$BC:$BC,BD:BD)*100 -> 39.996116 | CD67: =_xlfn.XLOOKUP($CB67,$A:$A,C:C)/_xlfn.XLOOKUP($CB67,$BC:$BC,BE:BE)*100 -> 42.591245 | CE67: =_xlfn.XLOOKUP($CB67,$A:$A,D:D)/_xlfn.XLOOKUP($CB67,$BC:$BC,BF:BF)*100 -> 44.924551 | CF67: =_xlfn.XLOOKUP($CB67,$A:$A,E:E)/_xlfn.XLOOKUP($CB67,$BC:$BC,BG:BG)*100 -> 45.367973 | CG67: =_xlfn.XLOOKUP($CB67,$A:$A,F:F)/_xlfn.XLOOKUP($CB67,$BC:$BC,BH:BH)*100 -> 45.229297 | CH67: =_xlfn.XLOOKUP($CB67,$A:$A,G:G)/_xlfn.XLOOKUP($CB67,$BC:$BC,BI:BI)*100 -> 47.169371 | CI67: =_xlfn.XLOOKUP($CB67,$A:$A,H:H)/_xlfn.XLOOKUP($CB67,$BC:$BC,BJ:BJ)*100 -> 49.372212
A68: Odder | B68: 47356492 | C68: 48146613 | D68: 47028978 | E68: 49440260 | F68: 51825021 | G68: 56391441 | H68: 59230670 | I68: 3.5941947e+08 | J68: =B68/_xlfn.XLOOKUP($A68,Folketal!$A:$A,Folketal!B:B) -> 2066.3449 | K68: =C68/_xlfn.XLOOKUP($A68,Folketal!$A:$A,Folketal!C:C) -> 2090.7857 | L68: =D68/_xlfn.XLOOKUP($A68,Folketal!$A:$A,Folketal!D:D) -> 2009.4419 | M68: =E68/_xlfn.XLOOKUP($A68,Folketal!$A:$A,Folketal!E:E) -> 2085.9109 | N68: =F68/_xlfn.XLOOKUP($A68,Folketal!$A:$A,Folketal!F:F) -> 2166.8696 | O68: =G68/_xlfn.XLOOKUP($A68,Folketal!$A:$A,Folketal!G:G) -> 2339.7967 | P68: =H68/_xlfn.XLOOKUP($A68,Folketal!$A:$A,Folketal!H:H) -> 2428.2826 | Q68: =B68/_xlfn.XLOOKUP($A68,'16-66 år'!$A:$A,'16-66 år'!B:B) -> 3406.2067 | R68: =C68/_xlfn.XLOOKUP($A68,'16-66 år'!$A:$A,'16-66 år'!C:C) -> 3462.5396 | S68: =D68/_xlfn.XLOOKUP($A68,'16-66 år'!$A:$A,'16-66 år'!D:D) -> 3340.8381 | T68: =E68/_xlfn.XLOOKUP($A68,'16-66 år'!$A:$A,'16-66 år'!E:E) -> 3472.1722 | U68: =F68/_xlfn.XLOOKUP($A68,'16-66 år'!$A:$A,'16-66 år'!F:F) -> 3624.3808 | V68: =G68/_xlfn.XLOOKUP($A68,'16-66 år'!$A:$A,'16-66 år'!G:G) -> 3915.8003 | W68: =H68/_xlfn.XLOOKUP($A68,'16-66 år'!$A:$A,'16-66 år'!H:H) -> 4092.4943 | Y68: Odder | Z68: 184369.5 | AA68: 2515624.3 | AB68: 4312181.8 | AC68: 6014993.5 | AD68: 6825825.7 | AE68: 7794866.4 | AF68: 6873003 | AG68: 34520864 | AH68: =Z68/_xlfn.XLOOKUP($Y68,Folketal!$A:$A,Folketal!B:B) -> 8.0447464 | AI68: =AA68/_xlfn.XLOOKUP($Y68,Folketal!$A:$A,Folketal!C:C) -> 109.24198 | AJ68: =AB68/_xlfn.XLOOKUP($Y68,Folketal!$A:$A,Folketal!D:D) -> 184.24978 | AK68: =AC68/_xlfn.XLOOKUP($Y68,Folketal!$A:$A,Folketal!E:E) -> 253.77578 | AL68: =AD68/_xlfn.XLOOKUP($Y68,Folketal!$A:$A,Folketal!F:F) -> 285.3964 | AM68: =AE68/_xlfn.XLOOKUP($Y68,Folketal!$A:$A,Folketal!G:G) -> 323.42502 | AN68: =AF68/_xlfn.XLOOKUP($Y68,Folketal!$A:$A,Folketal!H:H) -> 281.77284 | AO68: =Z68/_xlfn.XLOOKUP($Y68,'16-66 år'!$A:$A,'16-66 år'!B:B) -> 13.26113 | AP68: =AA68/_xlfn.XLOOKUP($Y68,'16-66 år'!$A:$A,'16-66 år'!C:C) -> 180.91509 | AQ68: =AB68/_xlfn.XLOOKUP($Y68,'16-66 år'!$A:$A,'16-66 år'!D:D) -> 306.32818 | AR68: =AC68/_xlfn.XLOOKUP($Y68,'16-66 år'!$A:$A,'16-66 år'!E:E) -> 422.43089 | AS68: =AD68/_xlfn.XLOOKUP($Y68,'16-66 år'!$A:$A,'16-66 år'!F:F) -> 477.36385 | AT68: =AE68/_xlfn.XLOOKUP($Y68,'16-66 år'!$A:$A,'16-66 år'!G:G) -> 541.27258 | AU68: =AF68/_xlfn.XLOOKUP($Y68,'16-66 år'!$A:$A,'16-66 år'!H:H) -> 474.88447 | BC68: Odder | BD68: 1.2040359e+08 | BE68: 1.1934197e+08 | BF68: 1.0929847e+08 | BG68: 1.1384251e+08 | BH68: 1.1882271e+08 | BI68: 1.2202606e+08 | BJ68: 120853847 | BK68: 8.2458916e+08 | BL68: =BD68/_xlfn.XLOOKUP($BC68,Folketal!$A:$A,Folketal!B:B) -> 5253.669 | BM68: =BE68/_xlfn.XLOOKUP($BC68,Folketal!$A:$A,Folketal!C:C) -> 5182.4724 | BN68: =BF68/_xlfn.XLOOKUP($BC68,Folketal!$A:$A,Folketal!D:D) -> 4670.0764 | BO68: =BG68/_xlfn.XLOOKUP($BC68,Folketal!$A:$A,Folketal!E:E) -> 4803.0762 | BP68: =BH68/_xlfn.XLOOKUP($BC68,Folketal!$A:$A,Folketal!F:F) -> 4968.1276 | BQ68: =BI68/_xlfn.XLOOKUP($BC68,Folketal!$A:$A,Folketal!G:G) -> 5063.1121 | BR68: =BJ68/_xlfn.XLOOKUP($BC68,Folketal!$A:$A,Folketal!H:H) -> 4954.651 | BS68: =BD68/_xlfn.XLOOKUP($BC68,'16-66 år'!$A:$A,'16-66 år'!B:B) -> 8660.2594 | BT68: =BE68/_xlfn.XLOOKUP($BC68,'16-66 år'!$A:$A,'16-66 år'!C:C) -> 8582.6663 | BU68: =BF68/_xlfn.XLOOKUP($BC68,'16-66 år'!$A:$A,'16-66 år'!D:D) -> 7764.3296 | BV68: =BG68/_xlfn.XLOOKUP($BC68,'16-66 år'!$A:$A,'16-66 år'!E:E) -> 7995.1199 | BW68: =BH68/_xlfn.XLOOKUP($BC68,'16-66 år'!$A:$A,'16-66 år'!F:F) -> 8309.8613 | BX68: =BI68/_xlfn.XLOOKUP($BC68,'16-66 år'!$A:$A,'16-66 år'!G:G) -> 8473.4438 | BY68: =BJ68/_xlfn.XLOOKUP($BC68,'16-66 år'!$A:$A,'16-66 år'!H:H) -> 8350.2969 | CB68: Odder | CC68: =_xlfn.XLOOKUP($CB68,$A:$A,B:B)/_xlfn.XLOOKUP($CB68,$BC:$BC,BD:BD)*100 -> 39.331463 | CD68: =_xlfn.XLOOKUP($CB68,$A:$A,C:C)/_xlfn.XLOOKUP($CB68,$BC:$BC,BE:BE)*100 -> 40.343402 | CE68: =_xlfn.XLOOKUP($CB68,$A:$A,D:D)/_xlfn.XLOOKUP($CB68,$BC:$BC,BF:BF)*100 -> 43.02803 | CF68: =_xlfn.XLOOKUP($CB68,$A:$A,E:E)/_xlfn.XLOOKUP($CB68,$BC:$BC,BG:BG)*100 -> 43.428644 | CG68: =_xlfn.XLOOKUP($CB68,$A:$A,F:F)/_xlfn.XLOOKUP($CB68,$BC:$BC,BH:BH)*100 -> 43.615418 | CH68: =_xlfn.XLOOKUP($CB68,$A:$A,G:G)/_xlfn.XLOOKUP($CB68,$BC:$BC,BI:BI)*100 -> 46.212619 | CI68: =_xlfn.XLOOKUP($CB68,$A:$A,H:H)/_xlfn.XLOOKUP($CB68,$BC:$BC,BJ:BJ)*100 -> 49.010165
A69: Odense | B69: 5.2957281e+08 | C69: 5.4837759e+08 | D69: 5.570163e+08 | E69: 5.8709451e+08 | F69: 6.0033087e+08 | G69: 6.0752894e+08 | H69: 619873192 | I69: 4.0497942e+09 | J69: =B69/_xlfn.XLOOKUP($A69,Folketal!$A:$A,Folketal!B:B) -> 2581.9469 | K69: =C69/_xlfn.XLOOKUP($A69,Folketal!$A:$A,Folketal!C:C) -> 2674.7778 | L69: =D69/_xlfn.XLOOKUP($A69,Folketal!$A:$A,Folketal!D:D) -> 2702.0738 | M69: =E69/_xlfn.XLOOKUP($A69,Folketal!$A:$A,Folketal!E:E) -> 2824.4165 | N69: =F69/_xlfn.XLOOKUP($A69,Folketal!$A:$A,Folketal!F:F) -> 2867.1424 | O69: =G69/_xlfn.XLOOKUP($A69,Folketal!$A:$A,Folketal!G:G) -> 2877.1432 | P69: =H69/_xlfn.XLOOKUP($A69,Folketal!$A:$A,Folketal!H:H) -> 2904.326 | Q69: =B69/_xlfn.XLOOKUP($A69,'16-66 år'!$A:$A,'16-66 år'!B:B) -> 3787.343 | R69: =C69/_xlfn.XLOOKUP($A69,'16-66 år'!$A:$A,'16-66 år'!C:C) -> 3931.2758 | S69: =D69/_xlfn.XLOOKUP($A69,'16-66 år'!$A:$A,'16-66 år'!D:D) -> 3967.3243 | T69: =E69/_xlfn.XLOOKUP($A69,'16-66 år'!$A:$A,'16-66 år'!E:E) -> 4149.723 | U69: =F69/_xlfn.XLOOKUP($A69,'16-66 år'!$A:$A,'16-66 år'!F:F) -> 4212.5526 | V69: =G69/_xlfn.XLOOKUP($A69,'16-66 år'!$A:$A,'16-66 år'!G:G) -> 4223.1448 | W69: =H69/_xlfn.XLOOKUP($A69,'16-66 år'!$A:$A,'16-66 år'!H:H) -> 4264.9575 | Y69: Odense | Z69: 4249399.9 | AA69: 22209657 | AB69: 36221142 | AC69: 48792344 | AD69: 54781831 | AE69: 54873160 | AF69: 53992586 | AG69: 2.7512012e+08 | AH69: =Z69/_xlfn.XLOOKUP($Y69,Folketal!$A:$A,Folketal!B:B) -> 20.718067 | AI69: =AA69/_xlfn.XLOOKUP($Y69,Folketal!$A:$A,Folketal!C:C) -> 108.33028 | AJ69: =AB69/_xlfn.XLOOKUP($Y69,Folketal!$A:$A,Folketal!D:D) -> 175.70796 | AK69: =AC69/_xlfn.XLOOKUP($Y69,Folketal!$A:$A,Folketal!E:E) -> 234.73205 | AL69: =AD69/_xlfn.XLOOKUP($Y69,Folketal!$A:$A,Folketal!F:F) -> 261.63457 | AM69: =AE69/_xlfn.XLOOKUP($Y69,Folketal!$A:$A,Folketal!G:G) -> 259.86901 | AN69: =AF69/_xlfn.XLOOKUP($Y69,Folketal!$A:$A,Folketal!H:H) -> 252.97443 | AO69: =Z69/_xlfn.XLOOKUP($Y69,'16-66 år'!$A:$A,'16-66 år'!B:B) -> 30.390411 | AP69: =AA69/_xlfn.XLOOKUP($Y69,'16-66 år'!$A:$A,'16-66 år'!C:C) -> 159.21928 | AQ69: =AB69/_xlfn.XLOOKUP($Y69,'16-66 år'!$A:$A,'16-66 år'!D:D) -> 257.98351 | AR69: =AC69/_xlfn.XLOOKUP($Y69,'16-66 år'!$A:$A,'16-66 år'!E:E) -> 344.87584 | AS69: =AD69/_xlfn.XLOOKUP($Y69,'16-66 år'!$A:$A,'16-66 år'!F:F) -> 384.40693 | AT69: =AE69/_xlfn.XLOOKUP($Y69,'16-66 år'!$A:$A,'16-66 år'!G:G) -> 381.4424 | AU69: =AF69/_xlfn.XLOOKUP($Y69,'16-66 år'!$A:$A,'16-66 år'!H:H) -> 371.48902 | BC69: Odense | BD69: 1.4192823e+09 | BE69: 1.3567803e+09 | BF69: 1.2284317e+09 | BG69: 1.2707759e+09 | BH69: 1.2920574e+09 | BI69: 1.2835769e+09 | BJ69: 1306913449 | BK69: 9.1578181e+09 | BL69: =BD69/_xlfn.XLOOKUP($BC69,Folketal!$A:$A,Folketal!B:B) -> 6919.7501 | BM69: =BE69/_xlfn.XLOOKUP($BC69,Folketal!$A:$A,Folketal!C:C) -> 6617.8596 | BN69: =BF69/_xlfn.XLOOKUP($BC69,Folketal!$A:$A,Folketal!D:D) -> 5959.0952 | BO69: =BG69/_xlfn.XLOOKUP($BC69,Folketal!$A:$A,Folketal!E:E) -> 6113.497 | BP69: =BH69/_xlfn.XLOOKUP($BC69,Folketal!$A:$A,Folketal!F:F) -> 6170.7848 | BQ69: =BI69/_xlfn.XLOOKUP($BC69,Folketal!$A:$A,Folketal!G:G) -> 6078.7798 | BR69: =BJ69/_xlfn.XLOOKUP($BC69,Folketal!$A:$A,Folketal!H:H) -> 6123.3534 | BS69: =BD69/_xlfn.XLOOKUP($BC69,'16-66 år'!$A:$A,'16-66 år'!B:B) -> 10150.273 | BT69: =BE69/_xlfn.XLOOKUP($BC69,'16-66 år'!$A:$A,'16-66 år'!C:C) -> 9726.6515 | BU69: =BF69/_xlfn.XLOOKUP($BC69,'16-66 år'!$A:$A,'16-66 år'!D:D) -> 8749.4514 | BV69: =BG69/_xlfn.XLOOKUP($BC69,'16-66 år'!$A:$A,'16-66 år'!E:E) -> 8982.1452 | BW69: =BH69/_xlfn.XLOOKUP($BC69,'16-66 år'!$A:$A,'16-66 år'!F:F) -> 9066.4335 | BX69: =BI69/_xlfn.XLOOKUP($BC69,'16-66 år'!$A:$A,'16-66 år'!G:G) -> 8922.5891 | BY69: =BJ69/_xlfn.XLOOKUP($BC69,'16-66 år'!$A:$A,'16-66 år'!H:H) -> 8992.0494 | CB69: Odense | CC69: =_xlfn.XLOOKUP($CB69,$A:$A,B:B)/_xlfn.XLOOKUP($CB69,$BC:$BC,BD:BD)*100 -> 37.312719 | CD69: =_xlfn.XLOOKUP($CB69,$A:$A,C:C)/_xlfn.XLOOKUP($CB69,$BC:$BC,BE:BE)*100 -> 40.417566 | CE69: =_xlfn.XLOOKUP($CB69,$A:$A,D:D)/_xlfn.XLOOKUP($CB69,$BC:$BC,BF:BF)*100 -> 45.343692 | CF69: =_xlfn.XLOOKUP($CB69,$A:$A,E:E)/_xlfn.XLOOKUP($CB69,$BC:$BC,BG:BG)*100 -> 46.199688 | CG69: =_xlfn.XLOOKUP($CB69,$A:$A,F:F)/_xlfn.XLOOKUP($CB69,$BC:$BC,BH:BH)*100 -> 46.463172 | CH69: =_xlfn.XLOOKUP($CB69,$A:$A,G:G)/_xlfn.XLOOKUP($CB69,$BC:$BC,BI:BI)*100 -> 47.330934 | CI69: =_xlfn.XLOOKUP($CB69,$A:$A,H:H)/_xlfn.XLOOKUP($CB69,$BC:$BC,BJ:BJ)*100 -> 47.430317
A70: Odsherred | B70: 1.1405859e+08 | C70: 1.1663054e+08 | D70: 1.1590565e+08 | E70: 1.1896417e+08 | F70: 1.256382e+08 | G70: 1.262034e+08 | H70: 128417874 | I70: 8.4581841e+08 | J70: =B70/_xlfn.XLOOKUP($A70,Folketal!$A:$A,Folketal!B:B) -> 3466.2995 | K70: =C70/_xlfn.XLOOKUP($A70,Folketal!$A:$A,Folketal!C:C) -> 3542.5245 | L70: =D70/_xlfn.XLOOKUP($A70,Folketal!$A:$A,Folketal!D:D) -> 3527.686 | M70: =E70/_xlfn.XLOOKUP($A70,Folketal!$A:$A,Folketal!E:E) -> 3625.6299 | N70: =F70/_xlfn.XLOOKUP($A70,Folketal!$A:$A,Folketal!F:F) -> 3865.6718 | O70: =G70/_xlfn.XLOOKUP($A70,Folketal!$A:$A,Folketal!G:G) -> 3915.3476 | P70: =H70/_xlfn.XLOOKUP($A70,Folketal!$A:$A,Folketal!H:H) -> 4021.3526 | Q70: =B70/_xlfn.XLOOKUP($A70,'16-66 år'!$A:$A,'16-66 år'!B:B) -> 5931.9006 | R70: =C70/_xlfn.XLOOKUP($A70,'16-66 år'!$A:$A,'16-66 år'!C:C) -> 6091.958 | S70: =D70/_xlfn.XLOOKUP($A70,'16-66 år'!$A:$A,'16-66 år'!D:D) -> 6102.8671 | T70: =E70/_xlfn.XLOOKUP($A70,'16-66 år'!$A:$A,'16-66 år'!E:E) -> 6321.1566 | U70: =F70/_xlfn.XLOOKUP($A70,'16-66 år'!$A:$A,'16-66 år'!F:F) -> 6756.5582 | V70: =G70/_xlfn.XLOOKUP($A70,'16-66 år'!$A:$A,'16-66 år'!G:G) -> 6898.6225 | W70: =H70/_xlfn.XLOOKUP($A70,'16-66 år'!$A:$A,'16-66 år'!H:H) -> 7103.9373 | Y70: Odsherred | Z70: 865960.11 | AA70: 5818874.3 | AB70: 9128588.7 | AC70: 12805569 | AD70: 14311219 | AE70: 15734899 | AF70: 15434255 | AG70: 74099365 | AH70: =Z70/_xlfn.XLOOKUP($Y70,Folketal!$A:$A,Folketal!B:B) -> 26.316976 | AI70: =AA70/_xlfn.XLOOKUP($Y70,Folketal!$A:$A,Folketal!C:C) -> 176.74192 | AJ70: =AB70/_xlfn.XLOOKUP($Y70,Folketal!$A:$A,Folketal!D:D) -> 277.83628 | AK70: =AC70/_xlfn.XLOOKUP($Y70,Folketal!$A:$A,Folketal!E:E) -> 390.27092 | AL70: =AD70/_xlfn.XLOOKUP($Y70,Folketal!$A:$A,Folketal!F:F) -> 440.33166 | AM70: =AE70/_xlfn.XLOOKUP($Y70,Folketal!$A:$A,Folketal!G:G) -> 488.16116 | AN70: =AF70/_xlfn.XLOOKUP($Y70,Folketal!$A:$A,Folketal!H:H) -> 483.31731 | AO70: =Z70/_xlfn.XLOOKUP($Y70,'16-66 år'!$A:$A,'16-66 år'!B:B) -> 45.036411 | AP70: =AA70/_xlfn.XLOOKUP($Y70,'16-66 år'!$A:$A,'16-66 år'!C:C) -> 303.93702 | AQ70: =AB70/_xlfn.XLOOKUP($Y70,'16-66 år'!$A:$A,'16-66 år'!D:D) -> 480.65442 | AR70: =AC70/_xlfn.XLOOKUP($Y70,'16-66 år'!$A:$A,'16-66 år'!E:E) -> 680.42345 | AS70: =AD70/_xlfn.XLOOKUP($Y70,'16-66 år'!$A:$A,'16-66 år'!F:F) -> 769.62728 | AT70: =AE70/_xlfn.XLOOKUP($Y70,'16-66 år'!$A:$A,'16-66 år'!G:G) -> 860.11253 | AU70: =AF70/_xlfn.XLOOKUP($Y70,'16-66 år'!$A:$A,'16-66 år'!H:H) -> 853.80622 | BC70: Odsherred | BD70: 2.3602434e+08 | BE70: 2.4161218e+08 | BF70: 2.2365309e+08 | BG70: 2.2779171e+08 | BH70: 2.3274543e+08 | BI70: 2.2965856e+08 | BJ70: 232375526 | BK70: 1.6238608e+09 | BL70: =BD70/_xlfn.XLOOKUP($BC70,Folketal!$A:$A,Folketal!B:B) -> 7172.9018 | BM70: =BE70/_xlfn.XLOOKUP($BC70,Folketal!$A:$A,Folketal!C:C) -> 7338.7049 | BN70: =BF70/_xlfn.XLOOKUP($BC70,Folketal!$A:$A,Folketal!D:D) -> 6807.07 | BO70: =BG70/_xlfn.XLOOKUP($BC70,Folketal!$A:$A,Folketal!E:E) -> 6942.3293 | BP70: =BH70/_xlfn.XLOOKUP($BC70,Folketal!$A:$A,Folketal!F:F) -> 7161.1775 | BQ70: =BI70/_xlfn.XLOOKUP($BC70,Folketal!$A:$A,Folketal!G:G) -> 7124.9514 | BR70: =BJ70/_xlfn.XLOOKUP($BC70,Folketal!$A:$A,Folketal!H:H) -> 7276.7435 | BS70: =BD70/_xlfn.XLOOKUP($BC70,'16-66 år'!$A:$A,'16-66 år'!B:B) -> 12275.033 | BT70: =BE70/_xlfn.XLOOKUP($BC70,'16-66 år'!$A:$A,'16-66 år'!C:C) -> 12620.119 | BU70: =BF70/_xlfn.XLOOKUP($BC70,'16-66 år'!$A:$A,'16-66 år'!D:D) -> 11776.174 | BV70: =BG70/_xlfn.XLOOKUP($BC70,'16-66 år'!$A:$A,'16-66 år'!E:E) -> 12103.704 | BW70: =BH70/_xlfn.XLOOKUP($BC70,'16-66 år'!$A:$A,'16-66 år'!F:F) -> 12516.56 | BX70: =BI70/_xlfn.XLOOKUP($BC70,'16-66 år'!$A:$A,'16-66 år'!G:G) -> 12553.764 | BY70: =BJ70/_xlfn.XLOOKUP($BC70,'16-66 år'!$A:$A,'16-66 år'!H:H) -> 12854.762 | CB70: Odsherred | CC70: =_xlfn.XLOOKUP($CB70,$A:$A,B:B)/_xlfn.XLOOKUP($CB70,$BC:$BC,BD:BD)*100 -> 48.324926 | CD70: =_xlfn.XLOOKUP($CB70,$A:$A,C:C)/_xlfn.XLOOKUP($CB70,$BC:$BC,BE:BE)*100 -> 48.271794 | CE70: =_xlfn.XLOOKUP($CB70,$A:$A,D:D)/_xlfn.XLOOKUP($CB70,$BC:$BC,BF:BF)*100 -> 51.823854 | CF70: =_xlfn.XLOOKUP($CB70,$A:$A,E:E)/_xlfn.XLOOKUP($CB70,$BC:$BC,BG:BG)*100 -> 52.224977 | CG70: =_xlfn.XLOOKUP($CB70,$A:$A,F:F)/_xlfn.XLOOKUP($CB70,$BC:$BC,BH:BH)*100 -> 53.980952 | CH70: =_xlfn.XLOOKUP($CB70,$A:$A,G:G)/_xlfn.XLOOKUP($CB70,$BC:$BC,BI:BI)*100 -> 54.952622 | CI70: =_xlfn.XLOOKUP($CB70,$A:$A,H:H)/_xlfn.XLOOKUP($CB70,$BC:$BC,BJ:BJ)*100 -> 55.263081
A71: Randers | B71: 2.6423534e+08 | C71: 2.707286e+08 | D71: 2.6739102e+08 | E71: 2.8234588e+08 | F71: 3.0149985e+08 | G71: 3.1480503e+08 | H71: 329504240 | I71: 2.03051e+09 | J71: =B71/_xlfn.XLOOKUP($A71,Folketal!$A:$A,Folketal!B:B) -> 2697.793 | K71: =C71/_xlfn.XLOOKUP($A71,Folketal!$A:$A,Folketal!C:C) -> 2752.7896 | L71: =D71/_xlfn.XLOOKUP($A71,Folketal!$A:$A,Folketal!D:D) -> 2697.4862 | M71: =E71/_xlfn.XLOOKUP($A71,Folketal!$A:$A,Folketal!E:E) -> 2826.0871 | N71: =F71/_xlfn.XLOOKUP($A71,Folketal!$A:$A,Folketal!F:F) -> 3009.9719 | O71: =G71/_xlfn.XLOOKUP($A71,Folketal!$A:$A,Folketal!G:G) -> 3134.915 | P71: =H71/_xlfn.XLOOKUP($A71,Folketal!$A:$A,Folketal!H:H) -> 3273.2751 | Q71: =B71/_xlfn.XLOOKUP($A71,'16-66 år'!$A:$A,'16-66 år'!B:B) -> 4212.4657 | R71: =C71/_xlfn.XLOOKUP($A71,'16-66 år'!$A:$A,'16-66 år'!C:C) -> 4307.9467 | S71: =D71/_xlfn.XLOOKUP($A71,'16-66 år'!$A:$A,'16-66 år'!D:D) -> 4220.9859 | T71: =E71/_xlfn.XLOOKUP($A71,'16-66 år'!$A:$A,'16-66 år'!E:E) -> 4418.9042 | U71: =F71/_xlfn.XLOOKUP($A71,'16-66 år'!$A:$A,'16-66 år'!F:F) -> 4714.2499 | V71: =G71/_xlfn.XLOOKUP($A71,'16-66 år'!$A:$A,'16-66 år'!G:G) -> 4913.6079 | W71: =H71/_xlfn.XLOOKUP($A71,'16-66 år'!$A:$A,'16-66 år'!H:H) -> 5128.6303 | Y71: Randers | Z71: 2297049.7 | AA71: 10822078 | AB71: 18004240 | AC71: 24853421 | AD71: 30678895 | AE71: 31966553 | AF71: 32524446 | AG71: 1.5114668e+08 | AH71: =Z71/_xlfn.XLOOKUP($Y71,Folketal!$A:$A,Folketal!B:B) -> 23.452445 | AI71: =AA71/_xlfn.XLOOKUP($Y71,Folketal!$A:$A,Folketal!C:C) -> 110.03974 | AJ71: =AB71/_xlfn.XLOOKUP($Y71,Folketal!$A:$A,Folketal!D:D) -> 181.62984 | AK71: =AC71/_xlfn.XLOOKUP($Y71,Folketal!$A:$A,Folketal!E:E) -> 248.76557 | AL71: =AD71/_xlfn.XLOOKUP($Y71,Folketal!$A:$A,Folketal!F:F) -> 306.27747 | AM71: =AE71/_xlfn.XLOOKUP($Y71,Folketal!$A:$A,Folketal!G:G) -> 318.33172 | AN71: =AF71/_xlfn.XLOOKUP($Y71,Folketal!$A:$A,Folketal!H:H) -> 323.09587 | AO71: =Z71/_xlfn.XLOOKUP($Y71,'16-66 år'!$A:$A,'16-66 år'!B:B) -> 36.619792 | AP71: =AA71/_xlfn.XLOOKUP($Y71,'16-66 år'!$A:$A,'16-66 år'!C:C) -> 172.20544 | AQ71: =AB71/_xlfn.XLOOKUP($Y71,'16-66 år'!$A:$A,'16-66 år'!D:D) -> 284.21165 | AR71: =AC71/_xlfn.XLOOKUP($Y71,'16-66 år'!$A:$A,'16-66 år'!E:E) -> 388.97287 | AS71: =AD71/_xlfn.XLOOKUP($Y71,'16-66 år'!$A:$A,'16-66 år'!F:F) -> 479.69503 | AT71: =AE71/_xlfn.XLOOKUP($Y71,'16-66 år'!$A:$A,'16-66 år'!G:G) -> 498.94726 | AU71: =AF71/_xlfn.XLOOKUP($Y71,'16-66 år'!$A:$A,'16-66 år'!H:H) -> 506.23282 | BC71: Randers | BD71: 6.8023154e+08 | BE71: 6.704254e+08 | BF71: 6.2008915e+08 | BG71: 6.4962412e+08 | BH71: 6.6916386e+08 | BI71: 6.697252e+08 | BJ71: 689991716 | BK71: 4.649251e+09 | BL71: =BD71/_xlfn.XLOOKUP($BC71,Folketal!$A:$A,Folketal!B:B) -> 6945.0359 | BM71: =BE71/_xlfn.XLOOKUP($BC71,Folketal!$A:$A,Folketal!C:C) -> 6816.938 | BN71: =BF71/_xlfn.XLOOKUP($BC71,Folketal!$A:$A,Folketal!D:D) -> 6255.5651 | BO71: =BG71/_xlfn.XLOOKUP($BC71,Folketal!$A:$A,Folketal!E:E) -> 6502.2883 | BP71: =BH71/_xlfn.XLOOKUP($BC71,Folketal!$A:$A,Folketal!F:F) -> 6680.4821 | BQ71: =BI71/_xlfn.XLOOKUP($BC71,Folketal!$A:$A,Folketal!G:G) -> 6669.3076 | BR71: =BJ71/_xlfn.XLOOKUP($BC71,Folketal!$A:$A,Folketal!H:H) -> 6854.3358 | BS71: =BD71/_xlfn.XLOOKUP($BC71,'16-66 år'!$A:$A,'16-66 år'!B:B) -> 10844.318 | BT71: =BE71/_xlfn.XLOOKUP($BC71,'16-66 år'!$A:$A,'16-66 år'!C:C) -> 10668.089 | BU71: =BF71/_xlfn.XLOOKUP($BC71,'16-66 år'!$A:$A,'16-66 år'!D:D) -> 9788.6144 | BV71: =BG71/_xlfn.XLOOKUP($BC71,'16-66 år'!$A:$A,'16-66 år'!E:E) -> 10167.057 | BW71: =BH71/_xlfn.XLOOKUP($BC71,'16-66 år'!$A:$A,'16-66 år'!F:F) -> 10463.042 | BX71: =BI71/_xlfn.XLOOKUP($BC71,'16-66 år'!$A:$A,'16-66 år'!G:G) -> 10453.35 | BY71: =BJ71/_xlfn.XLOOKUP($BC71,'16-66 år'!$A:$A,'16-66 år'!H:H) -> 10739.505 | CB71: Randers | CC71: =_xlfn.XLOOKUP($CB71,$A:$A,B:B)/_xlfn.XLOOKUP($CB71,$BC:$BC,BD:BD)*100 -> 38.844911 | CD71: =_xlfn.XLOOKUP($CB71,$A:$A,C:C)/_xlfn.XLOOKUP($CB71,$BC:$BC,BE:BE)*100 -> 40.381615 | CE71: =_xlfn.XLOOKUP($CB71,$A:$A,D:D)/_xlfn.XLOOKUP($CB71,$BC:$BC,BF:BF)*100 -> 43.121383 | CF71: =_xlfn.XLOOKUP($CB71,$A:$A,E:E)/_xlfn.XLOOKUP($CB71,$BC:$BC,BG:BG)*100 -> 43.462961 | CG71: =_xlfn.XLOOKUP($CB71,$A:$A,F:F)/_xlfn.XLOOKUP($CB71,$BC:$BC,BH:BH)*100 -> 45.056207 | CH71: =_xlfn.XLOOKUP($CB71,$A:$A,G:G)/_xlfn.XLOOKUP($CB71,$BC:$BC,BI:BI)*100 -> 47.005105 | CI71: =_xlfn.XLOOKUP($CB71,$A:$A,H:H)/_xlfn.XLOOKUP($CB71,$BC:$BC,BJ:BJ)*100 -> 47.754811
A72: Rebild | B72: 46134260 | C72: 47508349 | D72: 48571589 | E72: 52963685 | F72: 53984428 | G72: 55111180 | H72: 55211991 | I72: 3.5948548e+08 | J72: =B72/_xlfn.XLOOKUP($A72,Folketal!$A:$A,Folketal!B:B) -> 1527.2199 | K72: =C72/_xlfn.XLOOKUP($A72,Folketal!$A:$A,Folketal!C:C) -> 1557.4465 | L72: =D72/_xlfn.XLOOKUP($A72,Folketal!$A:$A,Folketal!D:D) -> 1580.8491 | M72: =E72/_xlfn.XLOOKUP($A72,Folketal!$A:$A,Folketal!E:E) -> 1716.0344 | N72: =F72/_xlfn.XLOOKUP($A72,Folketal!$A:$A,Folketal!F:F) -> 1744.8666 | O72: =G72/_xlfn.XLOOKUP($A72,Folketal!$A:$A,Folketal!G:G) -> 1775.7751 | P72: =H72/_xlfn.XLOOKUP($A72,Folketal!$A:$A,Folketal!H:H) -> 1765.315 | Q72: =B72/_xlfn.XLOOKUP($A72,'16-66 år'!$A:$A,'16-66 år'!B:B) -> 2477.2733 | R72: =C72/_xlfn.XLOOKUP($A72,'16-66 år'!$A:$A,'16-66 år'!C:C) -> 2542.729 | S72: =D72/_xlfn.XLOOKUP($A72,'16-66 år'!$A:$A,'16-66 år'!D:D) -> 2591.0375 | T72: =E72/_xlfn.XLOOKUP($A72,'16-66 år'!$A:$A,'16-66 år'!E:E) -> 2819.4668 | U72: =F72/_xlfn.XLOOKUP($A72,'16-66 år'!$A:$A,'16-66 år'!F:F) -> 2876.7147 | V72: =G72/_xlfn.XLOOKUP($A72,'16-66 år'!$A:$A,'16-66 år'!G:G) -> 2932.3816 | W72: =H72/_xlfn.XLOOKUP($A72,'16-66 år'!$A:$A,'16-66 år'!H:H) -> 2907.2714 | Y72: Rebild | Z72: 852280.12 | AA72: 3882949.9 | AB72: 5728476 | AC72: 7473025.8 | AD72: 8640388.7 | AE72: 9102980.1 | AF72: 10405063 | AG72: 46085164 | AH72: =Z72/_xlfn.XLOOKUP($Y72,Folketal!$A:$A,Folketal!B:B) -> 28.213722 | AI72: =AA72/_xlfn.XLOOKUP($Y72,Folketal!$A:$A,Folketal!C:C) -> 127.29314 | AJ72: =AB72/_xlfn.XLOOKUP($Y72,Folketal!$A:$A,Folketal!D:D) -> 186.44348 | AK72: =AC72/_xlfn.XLOOKUP($Y72,Folketal!$A:$A,Folketal!E:E) -> 242.12758 | AL72: =AD72/_xlfn.XLOOKUP($Y72,Folketal!$A:$A,Folketal!F:F) -> 279.27175 | AM72: =AE72/_xlfn.XLOOKUP($Y72,Folketal!$A:$A,Folketal!G:G) -> 293.31336 | AN72: =AF72/_xlfn.XLOOKUP($Y72,Folketal!$A:$A,Folketal!H:H) -> 332.68522 | AO72: =Z72/_xlfn.XLOOKUP($Y72,'16-66 år'!$A:$A,'16-66 år'!B:B) -> 45.764921 | AP72: =AA72/_xlfn.XLOOKUP($Y72,'16-66 år'!$A:$A,'16-66 år'!C:C) -> 207.82219 | AQ72: =AB72/_xlfn.XLOOKUP($Y72,'16-66 år'!$A:$A,'16-66 år'!D:D) -> 305.58391 | AR72: =AC72/_xlfn.XLOOKUP($Y72,'16-66 år'!$A:$A,'16-66 år'!E:E) -> 397.81878 | AS72: =AD72/_xlfn.XLOOKUP($Y72,'16-66 år'!$A:$A,'16-66 år'!F:F) -> 460.42783 | AT72: =AE72/_xlfn.XLOOKUP($Y72,'16-66 år'!$A:$A,'16-66 år'!G:G) -> 484.35565 | AU72: =AF72/_xlfn.XLOOKUP($Y72,'16-66 år'!$A:$A,'16-66 år'!H:H) -> 547.89442 | BC72: Rebild | BD72: 1.5033378e+08 | BE72: 1.4540931e+08 | BF72: 1.3287976e+08 | BG72: 1.3476085e+08 | BH72: 1.3386324e+08 | BI72: 1.3527324e+08 | BJ72: 135454774 | BK72: 9.6797495e+08 | BL72: =BD72/_xlfn.XLOOKUP($BC72,Folketal!$A:$A,Folketal!B:B) -> 4976.6214 | BM72: =BE72/_xlfn.XLOOKUP($BC72,Folketal!$A:$A,Folketal!C:C) -> 4766.8931 | BN72: =BF72/_xlfn.XLOOKUP($BC72,Folketal!$A:$A,Folketal!D:D) -> 4324.809 | BO72: =BG72/_xlfn.XLOOKUP($BC72,Folketal!$A:$A,Folketal!E:E) -> 4366.2796 | BP72: =BH72/_xlfn.XLOOKUP($BC72,Folketal!$A:$A,Folketal!F:F) -> 4326.6827 | BQ72: =BI72/_xlfn.XLOOKUP($BC72,Folketal!$A:$A,Folketal!G:G) -> 4358.7317 | BR72: =BJ72/_xlfn.XLOOKUP($BC72,Folketal!$A:$A,Folketal!H:H) -> 4330.9494 | BS72: =BD72/_xlfn.XLOOKUP($BC72,'16-66 år'!$A:$A,'16-66 år'!B:B) -> 8072.4791 | BT72: =BE72/_xlfn.XLOOKUP($BC72,'16-66 år'!$A:$A,'16-66 år'!C:C) -> 7782.5577 | BU72: =BF72/_xlfn.XLOOKUP($BC72,'16-66 år'!$A:$A,'16-66 år'!D:D) -> 7088.4326 | BV72: =BG72/_xlfn.XLOOKUP($BC72,'16-66 år'!$A:$A,'16-66 år'!E:E) -> 7173.8543 | BW72: =BH72/_xlfn.XLOOKUP($BC72,'16-66 år'!$A:$A,'16-66 år'!F:F) -> 7133.2855 | BX72: =BI72/_xlfn.XLOOKUP($BC72,'16-66 år'!$A:$A,'16-66 år'!G:G) -> 7197.6822 | BY72: =BJ72/_xlfn.XLOOKUP($BC72,'16-66 år'!$A:$A,'16-66 år'!H:H) -> 7132.5772 | CB72: Rebild | CC72: =_xlfn.XLOOKUP($CB72,$A:$A,B:B)/_xlfn.XLOOKUP($CB72,$BC:$BC,BD:BD)*100 -> 30.687887 | CD72: =_xlfn.XLOOKUP($CB72,$A:$A,C:C)/_xlfn.XLOOKUP($CB72,$BC:$BC,BE:BE)*100 -> 32.672151 | CE72: =_xlfn.XLOOKUP($CB72,$A:$A,D:D)/_xlfn.XLOOKUP($CB72,$BC:$BC,BF:BF)*100 -> 36.553038 | CF72: =_xlfn.XLOOKUP($CB72,$A:$A,E:E)/_xlfn.XLOOKUP($CB72,$BC:$BC,BG:BG)*100 -> 39.301981 | CG72: =_xlfn.XLOOKUP($CB72,$A:$A,F:F)/_xlfn.XLOOKUP($CB72,$BC:$BC,BH:BH)*100 -> 40.328046 | CH72: =_xlfn.XLOOKUP($CB72,$A:$A,G:G)/_xlfn.XLOOKUP($CB72,$BC:$BC,BI:BI)*100 -> 40.740637 | CI72: =_xlfn.XLOOKUP($CB72,$A:$A,H:H)/_xlfn.XLOOKUP($CB72,$BC:$BC,BJ:BJ)*100 -> 40.760461
