Workbook

Sheet Samle
A1: Kommune | B1: Antal fuldtidspersoner førtidspension 2. kvartal 2021 | C1: Antal fuldtidspersoner førtidspension 2. kvartal 2026 | E1: Andel af befolkning førtidspension 2. kvartal 2021 | F1: Andel af befolkning førtidspension 2. kvartal 2026 | G1: Udvikling andel af befolkningen på førtidspension | H1: Udgifter til førtidspension i alt 2. kvartal 2021 | I1: Udgifter til førtidspension i alt 2. kvartal 2026 | J1: Udvikling udgifter til førtidspension | K1: Udgifter til førtidspension pr. indbygger 2. kvartal 2021 | L1: Udgifter til førtidspension pr. indbygger 2. kvartal 2026 | M1: Udvikling udgifter til førtidspension pr. indbygger | N1: Indeks udgifter pr. indbygger 2021 | O1: Indeks udgifter pr. indbygger 2026 | P1: Udvikling indeks | R1: Største stigning | S1: Udvikling indeks | T1: Indeks udgifter pr. indbygger 2021 | U1: Indeks udgifter pr. indbygger 2026 | V1: Udgifter pr. indbygger 2021 | W1: Udgifter pr. indbygger 2026 | X1: Udvikling udgifter til førtidspension pr. indbygger | Y1: Samlede udgifter 2021 | Z1: Samlede udgifter 2026 | AA1: Andel 2021 | AB1: Andel 2026
A2: Hele landet | B2: =_xlfn.XLOOKUP(A2,Antal!A:A,Antal!B:B) -> 216457 | C2: =_xlfn.XLOOKUP(A2,Antal!A:A,Antal!H:H) -> 260755 | D2: =C2-B2 -> 44298 | E2: =_xlfn.XLOOKUP(A2,Antal!K:K,Antal!M:M) -> 5.9 | F2: =_xlfn.XLOOKUP(A2,Antal!K:K,Antal!R:R) -> 6.7 | G2: =F2-E2 -> 0.8 | H2: =_xlfn.XLOOKUP(A2,Udgifter!A:A,Udgifter!C:C) -> 1.3347726e+10 | I2: =_xlfn.XLOOKUP(A2,Udgifter!A:A,Udgifter!H:H) -> 15315794350 | J2: =I2-H2 -> 1.9680682e+09 | K2: =_xlfn.XLOOKUP(A2,Udgifter!A:A,Udgifter!K:K) -> 2284.2604 | L2: =_xlfn.XLOOKUP(A2,Udgifter!A:A,Udgifter!P:P) -> 2539.4076 | M2: =L2-K2 -> 255.14718 | N2: =K2/K$2*100 -> 100 | O2: =L2/L$2*100 -> 100 | P2: =O2-N2 -> 0 | R2: =_xlfn.XLOOKUP(S2,P:P,A:A) -> Lemvig | S2: {=LARGE(_xlfn._xlws.FILTER(P2:P100,O2:O100>100),1)} -> 18.779085 | T2: =_xlfn.XLOOKUP(S2,P:P,N:N) -> 113.09303 | U2: =_xlfn.XLOOKUP(S2,P:P,O:O) -> 131.87212 | V2: =_xlfn.XLOOKUP(S2,P:P,K:K) -> 2583.3393 | W2: =_xlfn.XLOOKUP(S2,P:P,L:L) -> 3348.7705 | X2: =_xlfn.XLOOKUP(S2,P:P,M:M) -> 765.43118 | Y2: =_xlfn.XLOOKUP(S2,P:P,H:H) -> 50530117 | Z2: =_xlfn.XLOOKUP(S2,P:P,I:I) -> 62039322 | AA2: =_xlfn.XLOOKUP(S2,P:P,E:E) -> 7.1 | AB2: =_xlfn.XLOOKUP(S2,P:P,F:F) -> 9.5
A3: Albertslund | B3: =_xlfn.XLOOKUP(A3,Antal!A:A,Antal!B:B) -> 1056 | C3: =_xlfn.XLOOKUP(A3,Antal!A:A,Antal!H:H) -> 1458 | E3: =_xlfn.XLOOKUP(A3,Antal!K:K,Antal!M:M) -> 6.2 | F3: =_xlfn.XLOOKUP(A3,Antal!K:K,Antal!R:R) -> 7.6 | G3: =F3-E3 -> 1.4 | H3: =_xlfn.XLOOKUP(A3,Udgifter!A:A,Udgifter!C:C) -> 65320173 | I3: =_xlfn.XLOOKUP(A3,Udgifter!A:A,Udgifter!H:H) -> 85479838 | J3: =I3-H3 -> 20159665 | K3: =_xlfn.XLOOKUP(A3,Udgifter!A:A,Udgifter!K:K) -> 2402.1835 | L3: =_xlfn.XLOOKUP(A3,Udgifter!A:A,Udgifter!P:P) -> 2912.6291 | M3: =L3-K3 -> 510.44559 | N3: =K3/K$2*100 -> 105.16242 | O3: =L3/L$2*100 -> 114.69719 | P3: =O3-N3 -> 9.5347685 | R3: =_xlfn.XLOOKUP(S3,P:P,A:A) -> Faxe | S3: {=LARGE(_xlfn._xlws.FILTER(P2:P100,O2:O100>100),2)} -> 15.704676 | T3: =_xlfn.XLOOKUP(S3,P:P,N:N) -> 97.382323 | U3: =_xlfn.XLOOKUP(S3,P:P,O:O) -> 113.087 | V3: =_xlfn.XLOOKUP(S3,P:P,K:K) -> 2224.4658 | W3: =_xlfn.XLOOKUP(S3,P:P,L:L) -> 2871.7398 | X3: =_xlfn.XLOOKUP(S3,P:P,M:M) -> 647.27399 | Y3: =_xlfn.XLOOKUP(S3,P:P,H:H) -> 81867016 | Z3: =_xlfn.XLOOKUP(S3,P:P,I:I) -> 109528157 | AA3: =_xlfn.XLOOKUP(S3,P:P,E:E) -> 5.9 | AB3: =_xlfn.XLOOKUP(S3,P:P,F:F) -> 7.6
A4: Allerød | B4: =_xlfn.XLOOKUP(A4,Antal!A:A,Antal!B:B) -> 396 | C4: =_xlfn.XLOOKUP(A4,Antal!A:A,Antal!H:H) -> 461 | E4: =_xlfn.XLOOKUP(A4,Antal!K:K,Antal!M:M) -> 2.5 | F4: =_xlfn.XLOOKUP(A4,Antal!K:K,Antal!R:R) -> 2.9 | G4: =F4-E4 -> 0.4 | H4: =_xlfn.XLOOKUP(A4,Udgifter!A:A,Udgifter!C:C) -> 23031108 | I4: =_xlfn.XLOOKUP(A4,Udgifter!A:A,Udgifter!H:H) -> 26512953 | J4: =I4-H4 -> 3481845.4 | K4: =_xlfn.XLOOKUP(A4,Udgifter!A:A,Udgifter!K:K) -> 889.98793 | L4: =_xlfn.XLOOKUP(A4,Udgifter!A:A,Udgifter!P:P) -> 1002.4938 | M4: =L4-K4 -> 112.50585 | N4: =K4/K$2*100 -> 38.961755 | O4: =L4/L$2*100 -> 39.477467 | P4: =O4-N4 -> 0.5157121 | R4: =_xlfn.XLOOKUP(S4,P:P,A:A) -> Faaborg-Midtfyn | S4: {=LARGE(_xlfn._xlws.FILTER(P2:P100,O2:O100>100),3)} -> 15.691317 | T4: =_xlfn.XLOOKUP(S4,P:P,N:N) -> 121.30404 | U4: =_xlfn.XLOOKUP(S4,P:P,O:O) -> 136.99535 | V4: =_xlfn.XLOOKUP(S4,P:P,K:K) -> 2770.9 | W4: =_xlfn.XLOOKUP(S4,P:P,L:L) -> 3478.8704 | X4: =_xlfn.XLOOKUP(S4,P:P,M:M) -> 707.97032 | Y4: =_xlfn.XLOOKUP(S4,P:P,H:H) -> 1.4308651e+08 | Z4: =_xlfn.XLOOKUP(S4,P:P,I:I) -> 181850990 | AA4: =_xlfn.XLOOKUP(S4,P:P,E:E) -> 7.6 | AB4: =_xlfn.XLOOKUP(S4,P:P,F:F) -> 9.7
A5: Assens | B5: =_xlfn.XLOOKUP(A5,Antal!A:A,Antal!B:B) -> 1764 | C5: =_xlfn.XLOOKUP(A5,Antal!A:A,Antal!H:H) -> 2265 | E5: =_xlfn.XLOOKUP(A5,Antal!K:K,Antal!M:M) -> 7.4 | F5: =_xlfn.XLOOKUP(A5,Antal!K:K,Antal!R:R) -> 9.2 | G5: =F5-E5 -> 1.8 | H5: =_xlfn.XLOOKUP(A5,Udgifter!A:A,Udgifter!C:C) -> 1.118643e+08 | I5: =_xlfn.XLOOKUP(A5,Udgifter!A:A,Udgifter!H:H) -> 134163823 | J5: =I5-H5 -> 22299525 | K5: =_xlfn.XLOOKUP(A5,Udgifter!A:A,Udgifter!K:K) -> 2736.4065 | L5: =_xlfn.XLOOKUP(A5,Udgifter!A:A,Udgifter!P:P) -> 3333.5111 | M5: =L5-K5 -> 597.10463 | N5: =K5/K$2*100 -> 119.79398 | O5: =L5/L$2*100 -> 131.27121 | P5: =O5-N5 -> 11.47723 | R5: =_xlfn.XLOOKUP(S5,P:P,A:A) -> Sorø | S5: {=LARGE(_xlfn._xlws.FILTER(P2:P100,O2:O100>100),4)} -> 14.551307 | T5: =_xlfn.XLOOKUP(S5,P:P,N:N) -> 112.0188 | U5: =_xlfn.XLOOKUP(S5,P:P,O:O) -> 126.5701 | V5: =_xlfn.XLOOKUP(S5,P:P,K:K) -> 2558.801 | W5: =_xlfn.XLOOKUP(S5,P:P,L:L) -> 3214.1308 | X5: =_xlfn.XLOOKUP(S5,P:P,M:M) -> 655.32979 | Y5: =_xlfn.XLOOKUP(S5,P:P,H:H) -> 76592591 | Z5: =_xlfn.XLOOKUP(S5,P:P,I:I) -> 99409852 | AA5: =_xlfn.XLOOKUP(S5,P:P,E:E) -> 6.7 | AB5: =_xlfn.XLOOKUP(S5,P:P,F:F) -> 8.7
A6: Ballerup | B6: =_xlfn.XLOOKUP(A6,Antal!A:A,Antal!B:B) -> 2048 | C6: =_xlfn.XLOOKUP(A6,Antal!A:A,Antal!H:H) -> 2342 | E6: =_xlfn.XLOOKUP(A6,Antal!K:K,Antal!M:M) -> 6.9 | F6: =_xlfn.XLOOKUP(A6,Antal!K:K,Antal!R:R) -> 6.7 | G6: =F6-E6 -> -0.2 | H6: =_xlfn.XLOOKUP(A6,Udgifter!A:A,Udgifter!C:C) -> 1.2454956e+08 | I6: =_xlfn.XLOOKUP(A6,Udgifter!A:A,Udgifter!H:H) -> 136680327 | J6: =I6-H6 -> 12130772 | K6: =_xlfn.XLOOKUP(A6,Udgifter!A:A,Udgifter!K:K) -> 2536.1343 | L6: =_xlfn.XLOOKUP(A6,Udgifter!A:A,Udgifter!P:P) -> 2531.6798 | M6: =L6-K6 -> -4.4545288 | N6: =K6/K$2*100 -> 111.0265 | O6: =L6/L$2*100 -> 99.695684 | P6: =O6-N6 -> -11.330812 | R6: =_xlfn.XLOOKUP(S6,P:P,A:A) -> Assens | S6: {=LARGE(_xlfn._xlws.FILTER(P2:P100,O2:O100>100),5)} -> 11.47723 | T6: =_xlfn.XLOOKUP(S6,P:P,N:N) -> 119.79398 | U6: =_xlfn.XLOOKUP(S6,P:P,O:O) -> 131.27121 | V6: =_xlfn.XLOOKUP(S6,P:P,K:K) -> 2736.4065 | W6: =_xlfn.XLOOKUP(S6,P:P,L:L) -> 3333.5111 | X6: =_xlfn.XLOOKUP(S6,P:P,M:M) -> 597.10463 | Y6: =_xlfn.XLOOKUP(S6,P:P,H:H) -> 1.118643e+08 | Z6: =_xlfn.XLOOKUP(S6,P:P,I:I) -> 134163823 | AA6: =_xlfn.XLOOKUP(S6,P:P,E:E) -> 7.4 | AB6: =_xlfn.XLOOKUP(S6,P:P,F:F) -> 9.2
A7: Billund | B7: =_xlfn.XLOOKUP(A7,Antal!A:A,Antal!B:B) -> 1152 | C7: =_xlfn.XLOOKUP(A7,Antal!A:A,Antal!H:H) -> 1459 | E7: =_xlfn.XLOOKUP(A7,Antal!K:K,Antal!M:M) -> 7.1 | F7: =_xlfn.XLOOKUP(A7,Antal!K:K,Antal!R:R) -> 8.6 | G7: =F7-E7 -> 1.5 | H7: =_xlfn.XLOOKUP(A7,Udgifter!A:A,Udgifter!C:C) -> 69555129 | I7: =_xlfn.XLOOKUP(A7,Udgifter!A:A,Udgifter!H:H) -> 85256782 | J7: =I7-H7 -> 15701653 | K7: =_xlfn.XLOOKUP(A7,Udgifter!A:A,Udgifter!K:K) -> 2625.9109 | L7: =_xlfn.XLOOKUP(A7,Udgifter!A:A,Udgifter!P:P) -> 3132.4827 | M7: =L7-K7 -> 506.57178 | N7: =K7/K$2*100 -> 114.95672 | O7: =L7/L$2*100 -> 123.35486 | P7: =O7-N7 -> 8.3981372 | R7: Hele landet | V7: =K2 -> 2284.2604 | W7: =L2 -> 2539.4076 | AA7: =E2 -> 5.9 | AB7: =F2 -> 6.7
A8: Bornholm | B8: =_xlfn.XLOOKUP(A8,Antal!A:A,Antal!B:B) -> 2435 | C8: =_xlfn.XLOOKUP(A8,Antal!A:A,Antal!H:H) -> 2685 | E8: =_xlfn.XLOOKUP(A8,Antal!K:K,Antal!M:M) -> 10.9 | F8: =_xlfn.XLOOKUP(A8,Antal!K:K,Antal!R:R) -> 12.2 | G8: =F8-E8 -> 1.3 | H8: =_xlfn.XLOOKUP(A8,Udgifter!A:A,Udgifter!C:C) -> 1.5520292e+08 | I8: =_xlfn.XLOOKUP(A8,Udgifter!A:A,Udgifter!H:H) -> 162340271 | J8: =I8-H8 -> 7137355.7 | K8: =_xlfn.XLOOKUP(A8,Udgifter!A:A,Udgifter!K:K) -> 3913.9284 | L8: =_xlfn.XLOOKUP(A8,Udgifter!A:A,Udgifter!P:P) -> 4204.3994 | M8: =L8-K8 -> 290.47107 | N8: =K8/K$2*100 -> 171.34335 | O8: =L8/L$2*100 -> 165.56615 | P8: =O8-N8 -> -5.7772006
A9: Brøndby | B9: =_xlfn.XLOOKUP(A9,Antal!A:A,Antal!B:B) -> 1495 | C9: =_xlfn.XLOOKUP(A9,Antal!A:A,Antal!H:H) -> 1822 | E9: =_xlfn.XLOOKUP(A9,Antal!K:K,Antal!M:M) -> 6.6 | F9: =_xlfn.XLOOKUP(A9,Antal!K:K,Antal!R:R) -> 6.7 | G9: =F9-E9 -> 0.1 | H9: =_xlfn.XLOOKUP(A9,Udgifter!A:A,Udgifter!C:C) -> 88480109 | I9: =_xlfn.XLOOKUP(A9,Udgifter!A:A,Udgifter!H:H) -> 105863578 | J9: =I9-H9 -> 17383469 | K9: =_xlfn.XLOOKUP(A9,Udgifter!A:A,Udgifter!K:K) -> 2500.3563 | L9: =_xlfn.XLOOKUP(A9,Udgifter!A:A,Udgifter!P:P) -> 2578.3282 | M9: =L9-K9 -> 77.971895 | N9: =K9/K$2*100 -> 109.46021 | O9: =L9/L$2*100 -> 101.53267 | P9: =O9-N9 -> -7.9275481 | R9: Største fald | S9: Udvikling indeks | T9: Indeks udgifter pr. indbygger 2021 | U9: Indeks udgifter pr. indbygger 2026 | V9: Udgifter pr. indbygger 2021 | W9: Udgifter pr. indbygger 2026 | X9: Udvikling udgifter til førtidspension pr. indbygger | Y9: Samlede udgifter 2021 | Z9: Samlede udgifter 2026 | AA9: Andel 2021 | AB9: Andel 2026
A10: Brønderslev | B10: =_xlfn.XLOOKUP(A10,Antal!A:A,Antal!B:B) -> 1523 | C10: =_xlfn.XLOOKUP(A10,Antal!A:A,Antal!H:H) -> 1785 | E10: =_xlfn.XLOOKUP(A10,Antal!K:K,Antal!M:M) -> 7 | F10: =_xlfn.XLOOKUP(A10,Antal!K:K,Antal!R:R) -> 8 | G10: =F10-E10 -> 1 | H10: =_xlfn.XLOOKUP(A10,Udgifter!A:A,Udgifter!C:C) -> 94217133 | I10: =_xlfn.XLOOKUP(A10,Udgifter!A:A,Udgifter!H:H) -> 106780823 | J10: =I10-H10 -> 12563690 | K10: =_xlfn.XLOOKUP(A10,Udgifter!A:A,Udgifter!K:K) -> 2607.0042 | L10: =_xlfn.XLOOKUP(A10,Udgifter!A:A,Udgifter!P:P) -> 2914.9602 | M10: =L10-K10 -> 307.95599 | N10: =K10/K$2*100 -> 114.12903 | O10: =L10/L$2*100 -> 114.78899 | P10: =O10-N10 -> 0.65995645 | R10: =_xlfn.XLOOKUP(S10,P:P,A:A) -> Ærø | S10: =SMALL(P2:P100,1) -> -24.319816 | T10: =_xlfn.XLOOKUP(S10,P:P,N:N) -> 123.72622 | U10: =_xlfn.XLOOKUP(S10,P:P,O:O) -> 99.406403 | V10: =_xlfn.XLOOKUP(S10,P:P,K:K) -> 2826.229 | W10: =_xlfn.XLOOKUP(S10,P:P,L:L) -> 2524.3337 | X10: =_xlfn.XLOOKUP(S10,P:P,M:M) -> -301.89528 | Y10: =_xlfn.XLOOKUP(S10,P:P,H:H) -> 16968679 | Z10: =_xlfn.XLOOKUP(S10,P:P,I:I) -> 14514919 | AA10: =_xlfn.XLOOKUP(S10,P:P,E:E) -> 8.5 | AB10: =_xlfn.XLOOKUP(S10,P:P,F:F) -> 7.9
A11: Dragør | B11: =_xlfn.XLOOKUP(A11,Antal!A:A,Antal!B:B) -> 193 | C11: =_xlfn.XLOOKUP(A11,Antal!A:A,Antal!H:H) -> 245 | E11: =_xlfn.XLOOKUP(A11,Antal!K:K,Antal!M:M) -> 2.5 | F11: =_xlfn.XLOOKUP(A11,Antal!K:K,Antal!R:R) -> 3 | G11: =F11-E11 -> 0.5 | H11: =_xlfn.XLOOKUP(A11,Udgifter!A:A,Udgifter!C:C) -> 11601433 | I11: =_xlfn.XLOOKUP(A11,Udgifter!A:A,Udgifter!H:H) -> 13446174 | J11: =I11-H11 -> 1844741 | K11: =_xlfn.XLOOKUP(A11,Udgifter!A:A,Udgifter!K:K) -> 795.98168 | L11: =_xlfn.XLOOKUP(A11,Udgifter!A:A,Udgifter!P:P) -> 929.37338 | M11: =L11-K11 -> 133.39169 | N11: =K11/K$2*100 -> 34.846364 | O11: =L11/L$2*100 -> 36.598039 | P11: =O11-N11 -> 1.7516754 | R11: =_xlfn.XLOOKUP(S11,P:P,A:A) -> Nyborg | S11: =SMALL(P3:P101,2) -> -19.153497 | T11: =_xlfn.XLOOKUP(S11,P:P,N:N) -> 160.92741 | U11: =_xlfn.XLOOKUP(S11,P:P,O:O) -> 141.77391 | V11: =_xlfn.XLOOKUP(S11,P:P,K:K) -> 3676.001 | W11: =_xlfn.XLOOKUP(S11,P:P,L:L) -> 3600.2174 | X11: =_xlfn.XLOOKUP(S11,P:P,M:M) -> -75.78362 | Y11: =_xlfn.XLOOKUP(S11,P:P,H:H) -> 1.1750337e+08 | Z11: =_xlfn.XLOOKUP(S11,P:P,I:I) -> 116852256 | AA11: =_xlfn.XLOOKUP(S11,P:P,E:E) -> 9.9 | AB11: =_xlfn.XLOOKUP(S11,P:P,F:F) -> 9.9
A12: Egedal | B12: =_xlfn.XLOOKUP(A12,Antal!A:A,Antal!B:B) -> 803 | C12: =_xlfn.XLOOKUP(A12,Antal!A:A,Antal!H:H) -> 998 | E12: =_xlfn.XLOOKUP(A12,Antal!K:K,Antal!M:M) -> 3.1 | F12: =_xlfn.XLOOKUP(A12,Antal!K:K,Antal!R:R) -> 3.4 | G12: =F12-E12 -> 0.3 | H12: =_xlfn.XLOOKUP(A12,Udgifter!A:A,Udgifter!C:C) -> 48180148 | I12: =_xlfn.XLOOKUP(A12,Udgifter!A:A,Udgifter!H:H) -> 58171397 | J12: =I12-H12 -> 9991249.4 | K12: =_xlfn.XLOOKUP(A12,Udgifter!A:A,Udgifter!K:K) -> 1103.1264 | L12: =_xlfn.XLOOKUP(A12,Udgifter!A:A,Udgifter!P:P) -> 1254.5862 | M12: =L12-K12 -> 151.4598 | N12: =K12/K$2*100 -> 48.292497 | O12: =L12/L$2*100 -> 49.404679 | P12: =O12-N12 -> 1.1121827 | R12: =_xlfn.XLOOKUP(S12,P:P,A:A) -> Tønder | S12: =SMALL(P4:P102,3) -> -17.967266 | T12: =_xlfn.XLOOKUP(S12,P:P,N:N) -> 131.5029 | U12: =_xlfn.XLOOKUP(S12,P:P,O:O) -> 113.53563 | V12: =_xlfn.XLOOKUP(S12,P:P,K:K) -> 3003.8686 | W12: =_xlfn.XLOOKUP(S12,P:P,L:L) -> 2883.1324 | X12: =_xlfn.XLOOKUP(S12,P:P,M:M) -> -120.73618 | Y12: =_xlfn.XLOOKUP(S12,P:P,H:H) -> 1.1120922e+08 | Z12: =_xlfn.XLOOKUP(S12,P:P,I:I) -> 104421289 | AA12: =_xlfn.XLOOKUP(S12,P:P,E:E) -> 8.2 | AB12: =_xlfn.XLOOKUP(S12,P:P,F:F) -> 8.3
A13: Esbjerg | B13: =_xlfn.XLOOKUP(A13,Antal!A:A,Antal!B:B) -> 5117 | C13: =_xlfn.XLOOKUP(A13,Antal!A:A,Antal!H:H) -> 5835 | E13: =_xlfn.XLOOKUP(A13,Antal!K:K,Antal!M:M) -> 7.1 | F13: =_xlfn.XLOOKUP(A13,Antal!K:K,Antal!R:R) -> 8.1 | G13: =F13-E13 -> 1 | H13: =_xlfn.XLOOKUP(A13,Udgifter!A:A,Udgifter!C:C) -> 3.1653522e+08 | I13: =_xlfn.XLOOKUP(A13,Udgifter!A:A,Udgifter!H:H) -> 348313747 | J13: =I13-H13 -> 31778532 | K13: =_xlfn.XLOOKUP(A13,Udgifter!A:A,Udgifter!K:K) -> 2738.7388 | L13: =_xlfn.XLOOKUP(A13,Udgifter!A:A,Udgifter!P:P) -> 3032.3221 | M13: =L13-K13 -> 293.58333 | N13: =K13/K$2*100 -> 119.89609 | O13: =L13/L$2*100 -> 119.41061 | P13: =O13-N13 -> -0.48547367 | R13: =_xlfn.XLOOKUP(S13,P:P,A:A) -> Sønderborg | S13: =SMALL(P5:P103,4) -> -16.290195 | T13: =_xlfn.XLOOKUP(S13,P:P,N:N) -> 131.5133 | U13: =_xlfn.XLOOKUP(S13,P:P,O:O) -> 115.2231 | V13: =_xlfn.XLOOKUP(S13,P:P,K:K) -> 3004.1061 | W13: =_xlfn.XLOOKUP(S13,P:P,L:L) -> 2925.9841 | X13: =_xlfn.XLOOKUP(S13,P:P,M:M) -> -78.12198 | Y13: =_xlfn.XLOOKUP(S13,P:P,H:H) -> 2.2169101e+08 | Z13: =_xlfn.XLOOKUP(S13,P:P,I:I) -> 216525752 | AA13: =_xlfn.XLOOKUP(S13,P:P,E:E) -> 8.3 | AB13: =_xlfn.XLOOKUP(S13,P:P,F:F) -> 8.1
A14: Fanø | B14: =_xlfn.XLOOKUP(A14,Antal!A:A,Antal!B:B) -> 86 | C14: =_xlfn.XLOOKUP(A14,Antal!A:A,Antal!H:H) -> 100 | E14: =_xlfn.XLOOKUP(A14,Antal!K:K,Antal!M:M) -> 5.1 | F14: =_xlfn.XLOOKUP(A14,Antal!K:K,Antal!R:R) -> 5.9 | G14: =F14-E14 -> 0.8 | H14: =_xlfn.XLOOKUP(A14,Udgifter!A:A,Udgifter!C:C) -> 5587665.4 | I14: =_xlfn.XLOOKUP(A14,Udgifter!A:A,Udgifter!H:H) -> 5815581 | J14: =I14-H14 -> 227915.56 | K14: =_xlfn.XLOOKUP(A14,Udgifter!A:A,Udgifter!K:K) -> 1620.0828 | L14: =_xlfn.XLOOKUP(A14,Udgifter!A:A,Udgifter!P:P) -> 1744.3254 | M14: =L14-K14 -> 124.24267 | N14: =K14/K$2*100 -> 70.923734 | O14: =L14/L$2*100 -> 68.690251 | P14: =O14-N14 -> -2.2334829 | R14: =_xlfn.XLOOKUP(S14,P:P,A:A) -> Samsø | S14: =SMALL(P6:P104,5) -> -16.233175 | T14: =_xlfn.XLOOKUP(S14,P:P,N:N) -> 119.05455 | U14: =_xlfn.XLOOKUP(S14,P:P,O:O) -> 102.82137 | V14: =_xlfn.XLOOKUP(S14,P:P,K:K) -> 2719.5158 | W14: =_xlfn.XLOOKUP(S14,P:P,L:L) -> 2611.0537 | X14: =_xlfn.XLOOKUP(S14,P:P,M:M) -> -108.46215 | Y14: =_xlfn.XLOOKUP(S14,P:P,H:H) -> 10045891 | Z14: =_xlfn.XLOOKUP(S14,P:P,I:I) -> 9436348 | AA14: =_xlfn.XLOOKUP(S14,P:P,E:E) -> 8.3 | AB14: =_xlfn.XLOOKUP(S14,P:P,F:F) -> 8.1
A15: Favrskov | B15: =_xlfn.XLOOKUP(A15,Antal!A:A,Antal!B:B) -> 1387 | C15: =_xlfn.XLOOKUP(A15,Antal!A:A,Antal!H:H) -> 1497 | E15: =_xlfn.XLOOKUP(A15,Antal!K:K,Antal!M:M) -> 4.6 | F15: =_xlfn.XLOOKUP(A15,Antal!K:K,Antal!R:R) -> 4.9 | G15: =F15-E15 -> 0.3 | H15: =_xlfn.XLOOKUP(A15,Udgifter!A:A,Udgifter!C:C) -> 82956995 | I15: =_xlfn.XLOOKUP(A15,Udgifter!A:A,Udgifter!H:H) -> 88357831 | J15: =I15-H15 -> 5400835.9 | K15: =_xlfn.XLOOKUP(A15,Udgifter!A:A,Udgifter!K:K) -> 1710.7004 | L15: =_xlfn.XLOOKUP(A15,Udgifter!A:A,Udgifter!P:P) -> 1771.9409 | M15: =L15-K15 -> 61.240448 | N15: =K15/K$2*100 -> 74.890779 | O15: =L15/L$2*100 -> 69.777726 | P15: =O15-N15 -> -5.1130534 | R15: Hele landet | V15: 2284.2604 | W15: 2539.4076 | AA15: 5.9 | AB15: 6.7
A16: Faxe | B16: =_xlfn.XLOOKUP(A16,Antal!A:A,Antal!B:B) -> 1239 | C16: =_xlfn.XLOOKUP(A16,Antal!A:A,Antal!H:H) -> 1829 | E16: =_xlfn.XLOOKUP(A16,Antal!K:K,Antal!M:M) -> 5.9 | F16: =_xlfn.XLOOKUP(A16,Antal!K:K,Antal!R:R) -> 7.6 | G16: =F16-E16 -> 1.7 | H16: =_xlfn.XLOOKUP(A16,Udgifter!A:A,Udgifter!C:C) -> 81867016 | I16: =_xlfn.XLOOKUP(A16,Udgifter!A:A,Udgifter!H:H) -> 109528157 | J16: =I16-H16 -> 27661141 | K16: =_xlfn.XLOOKUP(A16,Udgifter!A:A,Udgifter!K:K) -> 2224.4658 | L16: =_xlfn.XLOOKUP(A16,Udgifter!A:A,Udgifter!P:P) -> 2871.7398 | M16: =L16-K16 -> 647.27399 | N16: =K16/K$2*100 -> 97.382323 | O16: =L16/L$2*100 -> 113.087 | P16: =O16-N16 -> 15.704676
A17: Fredensborg | B17: =_xlfn.XLOOKUP(A17,Antal!A:A,Antal!B:B) -> 1279 | C17: =_xlfn.XLOOKUP(A17,Antal!A:A,Antal!H:H) -> 1443 | E17: =_xlfn.XLOOKUP(A17,Antal!K:K,Antal!M:M) -> 5.2 | F17: =_xlfn.XLOOKUP(A17,Antal!K:K,Antal!R:R) -> 5.7 | G17: =F17-E17 -> 0.5 | H17: =_xlfn.XLOOKUP(A17,Udgifter!A:A,Udgifter!C:C) -> 76561136 | I17: =_xlfn.XLOOKUP(A17,Udgifter!A:A,Udgifter!H:H) -> 84933100 | J17: =I17-H17 -> 8371964.4 | K17: =_xlfn.XLOOKUP(A17,Udgifter!A:A,Udgifter!K:K) -> 1865.2066 | L17: =_xlfn.XLOOKUP(A17,Udgifter!A:A,Udgifter!P:P) -> 1999.3197 | M17: =L17-K17 -> 134.11309 | N17: =K17/K$2*100 -> 81.654728 | O17: =L17/L$2*100 -> 78.731737 | P17: =O17-N17 -> -2.9229908
A18: Fredericia | B18: =_xlfn.XLOOKUP(A18,Antal!A:A,Antal!B:B) -> 2070 | C18: =_xlfn.XLOOKUP(A18,Antal!A:A,Antal!H:H) -> 2806 | E18: =_xlfn.XLOOKUP(A18,Antal!K:K,Antal!M:M) -> 6.8 | F18: =_xlfn.XLOOKUP(A18,Antal!K:K,Antal!R:R) -> 8.3 | G18: =F18-E18 -> 1.5 | H18: =_xlfn.XLOOKUP(A18,Udgifter!A:A,Udgifter!C:C) -> 1.3239721e+08 | I18: =_xlfn.XLOOKUP(A18,Udgifter!A:A,Udgifter!H:H) -> 165033703 | J18: =I18-H18 -> 32636490 | K18: =_xlfn.XLOOKUP(A18,Udgifter!A:A,Udgifter!K:K) -> 2577.3255 | L18: =_xlfn.XLOOKUP(A18,Udgifter!A:A,Udgifter!P:P) -> 3118.5507 | M18: =L18-K18 -> 541.22516 | N18: =K18/K$2*100 -> 112.82976 | O18: =L18/L$2*100 -> 122.80623 | P18: =O18-N18 -> 9.9764686
A19: Frederiksberg | B19: =_xlfn.XLOOKUP(A19,Antal!A:A,Antal!B:B) -> 2225 | C19: =_xlfn.XLOOKUP(A19,Antal!A:A,Antal!H:H) -> 2797 | E19: =_xlfn.XLOOKUP(A19,Antal!K:K,Antal!M:M) -> 3.3 | F19: =_xlfn.XLOOKUP(A19,Antal!K:K,Antal!R:R) -> 3.8 | G19: =F19-E19 -> 0.5 | H19: =_xlfn.XLOOKUP(A19,Udgifter!A:A,Udgifter!C:C) -> 1.4008619e+08 | I19: =_xlfn.XLOOKUP(A19,Udgifter!A:A,Udgifter!H:H) -> 164252204 | J19: =I19-H19 -> 24166015 | K19: =_xlfn.XLOOKUP(A19,Udgifter!A:A,Udgifter!K:K) -> 1356.3203 | L19: =_xlfn.XLOOKUP(A19,Udgifter!A:A,Udgifter!P:P) -> 1543.2451 | M19: =L19-K19 -> 186.92476 | N19: =K19/K$2*100 -> 59.376783 | O19: =L19/L$2*100 -> 60.771855 | P19: =O19-N19 -> 1.3950721 | S19: Kommune | T19: Antal fuldtidspersoner førtidspension 2. kvartal 2021 | U19: Antal fuldtidspersoner førtidspension 2. kvartal 2026 | V19: Andel af befolkning førtidspension 2. kvartal 2021 | W19: Andel af befolkning førtidspension 2. kvartal 2026 | X19: Udgifter til førtidspension i alt 2. kvartal 2021 | Y19: Udgifter til førtidspension i alt 2. kvartal 2026 | Z19: Udgifter til førtidspension pr. indbygger 2. kvartal 2021 | AA19: Udgifter til førtidspension pr. indbygger 2. kvartal 2026
A20: Frederikshavn | B20: =_xlfn.XLOOKUP(A20,Antal!A:A,Antal!B:B) -> 2953 | C20: =_xlfn.XLOOKUP(A20,Antal!A:A,Antal!H:H) -> 3294 | E20: =_xlfn.XLOOKUP(A20,Antal!K:K,Antal!M:M) -> 8.5 | F20: =_xlfn.XLOOKUP(A20,Antal!K:K,Antal!R:R) -> 9.6 | G20: =F20-E20 -> 1.1 | H20: =_xlfn.XLOOKUP(A20,Udgifter!A:A,Udgifter!C:C) -> 1.838354e+08 | I20: =_xlfn.XLOOKUP(A20,Udgifter!A:A,Udgifter!H:H) -> 196486786 | J20: =I20-H20 -> 12651383 | K20: =_xlfn.XLOOKUP(A20,Udgifter!A:A,Udgifter!K:K) -> 3119.3967 | L20: =_xlfn.XLOOKUP(A20,Udgifter!A:A,Udgifter!P:P) -> 3420.4928 | M20: =L20-K20 -> 301.0961 | N20: =K20/K$2*100 -> 136.56047 | O20: =L20/L$2*100 -> 134.69649 | P20: =O20-N20 -> -1.8639812 | S20: Hele landet | T20: 216457 | U20: 260755 | V20: 5.9 | W20: 6.7 | X20: 1.3347726e+10 | Y20: 15315794350 | Z20: 2284.2604 | AA20: 2539.4076
A21: Frederikssund | B21: =_xlfn.XLOOKUP(A21,Antal!A:A,Antal!B:B) -> 1349 | C21: =_xlfn.XLOOKUP(A21,Antal!A:A,Antal!H:H) -> 1943 | E21: =_xlfn.XLOOKUP(A21,Antal!K:K,Antal!M:M) -> 5.2 | F21: =_xlfn.XLOOKUP(A21,Antal!K:K,Antal!R:R) -> 6.7 | G21: =F21-E21 -> 1.5 | H21: =_xlfn.XLOOKUP(A21,Udgifter!A:A,Udgifter!C:C) -> 86594035 | I21: =_xlfn.XLOOKUP(A21,Udgifter!A:A,Udgifter!H:H) -> 114271846 | J21: =I21-H21 -> 27677811 | K21: =_xlfn.XLOOKUP(A21,Udgifter!A:A,Udgifter!K:K) -> 1898.2011 | L21: =_xlfn.XLOOKUP(A21,Udgifter!A:A,Udgifter!P:P) -> 2392.276 | M21: =L21-K21 -> 494.07489 | N21: =K21/K$2*100 -> 83.099154 | O21: =L21/L$2*100 -> 94.206065 | P21: =O21-N21 -> 11.106911
A22: Furesø | B22: =_xlfn.XLOOKUP(A22,Antal!A:A,Antal!B:B) -> 834 | C22: =_xlfn.XLOOKUP(A22,Antal!A:A,Antal!H:H) -> 1023 | E22: =_xlfn.XLOOKUP(A22,Antal!K:K,Antal!M:M) -> 3.5 | F22: =_xlfn.XLOOKUP(A22,Antal!K:K,Antal!R:R) -> 4 | G22: =F22-E22 -> 0.5 | H22: =_xlfn.XLOOKUP(A22,Udgifter!A:A,Udgifter!C:C) -> 51636614 | I22: =_xlfn.XLOOKUP(A22,Udgifter!A:A,Udgifter!H:H) -> 60282564 | J22: =I22-H22 -> 8645949.8 | K22: =_xlfn.XLOOKUP(A22,Udgifter!A:A,Udgifter!K:K) -> 1260.9674 | L22: =_xlfn.XLOOKUP(A22,Udgifter!A:A,Udgifter!P:P) -> 1405.2535 | M22: =L22-K22 -> 144.28611 | N22: =K22/K$2*100 -> 55.202436 | O22: =L22/L$2*100 -> 55.337847 | P22: =O22-N22 -> 0.13541131
A23: Faaborg-Midtfyn | B23: =_xlfn.XLOOKUP(A23,Antal!A:A,Antal!B:B) -> 2308 | C23: =_xlfn.XLOOKUP(A23,Antal!A:A,Antal!H:H) -> 3053 | E23: =_xlfn.XLOOKUP(A23,Antal!K:K,Antal!M:M) -> 7.6 | F23: =_xlfn.XLOOKUP(A23,Antal!K:K,Antal!R:R) -> 9.7 | G23: =F23-E23 -> 2.1 | H23: =_xlfn.XLOOKUP(A23,Udgifter!A:A,Udgifter!C:C) -> 1.4308651e+08 | I23: =_xlfn.XLOOKUP(A23,Udgifter!A:A,Udgifter!H:H) -> 181850990 | J23: =I23-H23 -> 38764483 | K23: =_xlfn.XLOOKUP(A23,Udgifter!A:A,Udgifter!K:K) -> 2770.9 | L23: =_xlfn.XLOOKUP(A23,Udgifter!A:A,Udgifter!P:P) -> 3478.8704 | M23: =L23-K23 -> 707.97032 | N23: =K23/K$2*100 -> 121.30404 | O23: =L23/L$2*100 -> 136.99535 | P23: =O23-N23 -> 15.691317
A24: Gentofte | B24: =_xlfn.XLOOKUP(A24,Antal!A:A,Antal!B:B) -> 1120 | C24: =_xlfn.XLOOKUP(A24,Antal!A:A,Antal!H:H) -> 1350 | E24: =_xlfn.XLOOKUP(A24,Antal!K:K,Antal!M:M) -> 2.6 | F24: =_xlfn.XLOOKUP(A24,Antal!K:K,Antal!R:R) -> 2.9 | G24: =F24-E24 -> 0.3 | H24: =_xlfn.XLOOKUP(A24,Udgifter!A:A,Udgifter!C:C) -> 72630299 | I24: =_xlfn.XLOOKUP(A24,Udgifter!A:A,Udgifter!H:H) -> 79767954 | J24: =I24-H24 -> 7137655.3 | K24: =_xlfn.XLOOKUP(A24,Udgifter!A:A,Udgifter!K:K) -> 977.27766 | L24: =_xlfn.XLOOKUP(A24,Udgifter!A:A,Udgifter!P:P) -> 1062.3546 | M24: =L24-K24 -> 85.07689 | N24: =K24/K$2*100 -> 42.783111 | O24: =L24/L$2*100 -> 41.83474 | P24: =O24-N24 -> -0.94837133 | S24: Kommune
A25: Gladsaxe | B25: =_xlfn.XLOOKUP(A25,Antal!A:A,Antal!B:B) -> 2016 | C25: =_xlfn.XLOOKUP(A25,Antal!A:A,Antal!H:H) -> 2443 | E25: =_xlfn.XLOOKUP(A25,Antal!K:K,Antal!M:M) -> 4.6 | F25: =_xlfn.XLOOKUP(A25,Antal!K:K,Antal!R:R) -> 5.2 | G25: =F25-E25 -> 0.6 | H25: =_xlfn.XLOOKUP(A25,Udgifter!A:A,Udgifter!C:C) -> 1.2599861e+08 | I25: =_xlfn.XLOOKUP(A25,Udgifter!A:A,Udgifter!H:H) -> 145645659 | J25: =I25-H25 -> 19647048 | K25: =_xlfn.XLOOKUP(A25,Udgifter!A:A,Udgifter!K:K) -> 1821.5525 | L25: =_xlfn.XLOOKUP(A25,Udgifter!A:A,Udgifter!P:P) -> 2052.8219 | M25: =L25-K25 -> 231.26933 | N25: =K25/K$2*100 -> 79.743647 | O25: =L25/L$2*100 -> 80.838613 | P25: =O25-N25 -> 1.0949665 | S25: Hele landet
A26: Glostrup | B26: =_xlfn.XLOOKUP(A26,Antal!A:A,Antal!B:B) -> 736 | C26: =_xlfn.XLOOKUP(A26,Antal!A:A,Antal!H:H) -> 891 | E26: =_xlfn.XLOOKUP(A26,Antal!K:K,Antal!M:M) -> 5 | F26: =_xlfn.XLOOKUP(A26,Antal!K:K,Antal!R:R) -> 5.1 | G26: =F26-E26 -> 0.1 | H26: =_xlfn.XLOOKUP(A26,Udgifter!A:A,Udgifter!C:C) -> 46818890 | I26: =_xlfn.XLOOKUP(A26,Udgifter!A:A,Udgifter!H:H) -> 52920021 | J26: =I26-H26 -> 6101130.9 | K26: =_xlfn.XLOOKUP(A26,Udgifter!A:A,Udgifter!K:K) -> 1994.5848 | L26: =_xlfn.XLOOKUP(A26,Udgifter!A:A,Udgifter!P:P) -> 2046.1671 | M26: =L26-K26 -> 51.582305 | N26: =K26/K$2*100 -> 87.318628 | O26: =L26/L$2*100 -> 80.576555 | P26: =O26-N26 -> -6.7420731
A27: Greve | B27: =_xlfn.XLOOKUP(A27,Antal!A:A,Antal!B:B) -> 1449 | C27: =_xlfn.XLOOKUP(A27,Antal!A:A,Antal!H:H) -> 1870 | E27: =_xlfn.XLOOKUP(A27,Antal!K:K,Antal!M:M) -> 4.9 | F27: =_xlfn.XLOOKUP(A27,Antal!K:K,Antal!R:R) -> 5.6 | G27: =F27-E27 -> 0.7 | H27: =_xlfn.XLOOKUP(A27,Udgifter!A:A,Udgifter!C:C) -> 87258869 | I27: =_xlfn.XLOOKUP(A27,Udgifter!A:A,Udgifter!H:H) -> 107009860 | J27: =I27-H27 -> 19750991 | K27: =_xlfn.XLOOKUP(A27,Udgifter!A:A,Udgifter!K:K) -> 1726.4967 | L27: =_xlfn.XLOOKUP(A27,Udgifter!A:A,Udgifter!P:P) -> 1975.2628 | M27: =L27-K27 -> 248.76608 | N27: =K27/K$2*100 -> 75.582306 | O27: =L27/L$2*100 -> 77.784393 | P27: =O27-N27 -> 2.2020866
A28: Gribskov | B28: =_xlfn.XLOOKUP(A28,Antal!A:A,Antal!B:B) -> 1293 | C28: =_xlfn.XLOOKUP(A28,Antal!A:A,Antal!H:H) -> 1765 | E28: =_xlfn.XLOOKUP(A28,Antal!K:K,Antal!M:M) -> 5.5 | F28: =_xlfn.XLOOKUP(A28,Antal!K:K,Antal!R:R) -> 7.2 | G28: =F28-E28 -> 1.7 | H28: =_xlfn.XLOOKUP(A28,Udgifter!A:A,Udgifter!C:C) -> 80897151 | I28: =_xlfn.XLOOKUP(A28,Udgifter!A:A,Udgifter!H:H) -> 104712726 | J28: =I28-H28 -> 23815575 | K28: =_xlfn.XLOOKUP(A28,Udgifter!A:A,Udgifter!K:K) -> 1971.5625 | L28: =_xlfn.XLOOKUP(A28,Udgifter!A:A,Udgifter!P:P) -> 2496.965 | M28: =L28-K28 -> 525.40258 | N28: =K28/K$2*100 -> 86.310758 | O28: =L28/L$2*100 -> 98.328644 | P28: =O28-N28 -> 12.017886
A29: Guldborgsund | B29: =_xlfn.XLOOKUP(A29,Antal!A:A,Antal!B:B) -> 3523 | C29: =_xlfn.XLOOKUP(A29,Antal!A:A,Antal!H:H) -> 3638 | E29: =_xlfn.XLOOKUP(A29,Antal!K:K,Antal!M:M) -> 9.8 | F29: =_xlfn.XLOOKUP(A29,Antal!K:K,Antal!R:R) -> 10.3 | G29: =F29-E29 -> 0.5 | H29: =_xlfn.XLOOKUP(A29,Udgifter!A:A,Udgifter!C:C) -> 2.1662113e+08 | I29: =_xlfn.XLOOKUP(A29,Udgifter!A:A,Udgifter!H:H) -> 218004943 | J29: =I29-H29 -> 1383810.5 | K29: =_xlfn.XLOOKUP(A29,Udgifter!A:A,Udgifter!K:K) -> 3589.7114 | L29: =_xlfn.XLOOKUP(A29,Udgifter!A:A,Udgifter!P:P) -> 3694.7485 | M29: =L29-K29 -> 105.03718 | N29: =K29/K$2*100 -> 157.14983 | O29: =L29/L$2*100 -> 145.49648 | P29: =O29-N29 -> -11.653356
A30: Haderslev | B30: =_xlfn.XLOOKUP(A30,Antal!A:A,Antal!B:B) -> 2603 | C30: =_xlfn.XLOOKUP(A30,Antal!A:A,Antal!H:H) -> 2790 | E30: =_xlfn.XLOOKUP(A30,Antal!K:K,Antal!M:M) -> 7.6 | F30: =_xlfn.XLOOKUP(A30,Antal!K:K,Antal!R:R) -> 8.2 | G30: =F30-E30 -> 0.6 | H30: =_xlfn.XLOOKUP(A30,Udgifter!A:A,Udgifter!C:C) -> 1.5605334e+08 | I30: =_xlfn.XLOOKUP(A30,Udgifter!A:A,Udgifter!H:H) -> 163916186 | J30: =I30-H30 -> 7862849.5 | K30: =_xlfn.XLOOKUP(A30,Udgifter!A:A,Udgifter!K:K) -> 2819.9522 | L30: =_xlfn.XLOOKUP(A30,Udgifter!A:A,Udgifter!P:P) -> 2969.4961 | M30: =L30-K30 -> 149.54389 | N30: =K30/K$2*100 -> 123.45143 | O30: =L30/L$2*100 -> 116.93657 | P30: =O30-N30 -> -6.5148646
A31: Halsnæs | B31: =_xlfn.XLOOKUP(A31,Antal!A:A,Antal!B:B) -> 1275 | C31: =_xlfn.XLOOKUP(A31,Antal!A:A,Antal!H:H) -> 1496 | E31: =_xlfn.XLOOKUP(A31,Antal!K:K,Antal!M:M) -> 7 | F31: =_xlfn.XLOOKUP(A31,Antal!K:K,Antal!R:R) -> 7.9 | G31: =F31-E31 -> 0.9 | H31: =_xlfn.XLOOKUP(A31,Udgifter!A:A,Udgifter!C:C) -> 80528484 | I31: =_xlfn.XLOOKUP(A31,Udgifter!A:A,Udgifter!H:H) -> 89474286 | J31: =I31-H31 -> 8945801.6 | K31: =_xlfn.XLOOKUP(A31,Udgifter!A:A,Udgifter!K:K) -> 2560.5241 | L31: =_xlfn.XLOOKUP(A31,Udgifter!A:A,Udgifter!P:P) -> 2815.9591 | M31: =L31-K31 -> 255.435 | N31: =K31/K$2*100 -> 112.09423 | O31: =L31/L$2*100 -> 110.8904 | P31: =O31-N31 -> -1.2038349
A32: Hedensted | B32: =_xlfn.XLOOKUP(A32,Antal!A:A,Antal!B:B) -> 1387 | C32: =_xlfn.XLOOKUP(A32,Antal!A:A,Antal!H:H) -> 1748 | E32: =_xlfn.XLOOKUP(A32,Antal!K:K,Antal!M:M) -> 4.9 | F32: =_xlfn.XLOOKUP(A32,Antal!K:K,Antal!R:R) -> 5.7 | G32: =F32-E32 -> 0.8 | H32: =_xlfn.XLOOKUP(A32,Udgifter!A:A,Udgifter!C:C) -> 86816082 | I32: =_xlfn.XLOOKUP(A32,Udgifter!A:A,Udgifter!H:H) -> 103794067 | J32: =I32-H32 -> 16977985 | K32: =_xlfn.XLOOKUP(A32,Udgifter!A:A,Udgifter!K:K) -> 1852.0369 | L32: =_xlfn.XLOOKUP(A32,Udgifter!A:A,Udgifter!P:P) -> 2129.1964 | M32: =L32-K32 -> 277.15951 | N32: =K32/K$2*100 -> 81.078187 | O32: =L32/L$2*100 -> 83.846187 | P32: =O32-N32 -> 2.768
A33: Helsingør | B33: =_xlfn.XLOOKUP(A33,Antal!A:A,Antal!B:B) -> 2360 | C33: =_xlfn.XLOOKUP(A33,Antal!A:A,Antal!H:H) -> 2817 | E33: =_xlfn.XLOOKUP(A33,Antal!K:K,Antal!M:M) -> 6.4 | F33: =_xlfn.XLOOKUP(A33,Antal!K:K,Antal!R:R) -> 7.3 | G33: =F33-E33 -> 0.9 | H33: =_xlfn.XLOOKUP(A33,Udgifter!A:A,Udgifter!C:C) -> 1.4736057e+08 | I33: =_xlfn.XLOOKUP(A33,Udgifter!A:A,Udgifter!H:H) -> 167014990 | J33: =I33-H33 -> 19654422 | K33: =_xlfn.XLOOKUP(A33,Udgifter!A:A,Udgifter!K:K) -> 2336.7199 | L33: =_xlfn.XLOOKUP(A33,Udgifter!A:A,Udgifter!P:P) -> 2593.7227 | M33: =L33-K33 -> 257.00276 | N33: =K33/K$2*100 -> 102.29656 | O33: =L33/L$2*100 -> 102.13889 | P33: =O33-N33 -> -0.15767648
A34: Herlev | B34: =_xlfn.XLOOKUP(A34,Antal!A:A,Antal!B:B) -> 979 | C34: =_xlfn.XLOOKUP(A34,Antal!A:A,Antal!H:H) -> 1181 | E34: =_xlfn.XLOOKUP(A34,Antal!K:K,Antal!M:M) -> 5.5 | F34: =_xlfn.XLOOKUP(A34,Antal!K:K,Antal!R:R) -> 5.7 | G34: =F34-E34 -> 0.2 | H34: =_xlfn.XLOOKUP(A34,Udgifter!A:A,Udgifter!C:C) -> 60129908 | I34: =_xlfn.XLOOKUP(A34,Udgifter!A:A,Udgifter!H:H) -> 69737436 | J34: =I34-H34 -> 9607527.8 | K34: =_xlfn.XLOOKUP(A34,Udgifter!A:A,Udgifter!K:K) -> 2084.3701 | L34: =_xlfn.XLOOKUP(A34,Udgifter!A:A,Udgifter!P:P) -> 2169.3295 | M34: =L34-K34 -> 84.959433 | N34: =K34/K$2*100 -> 91.249233 | O34: =L34/L$2*100 -> 85.426598 | P34: =O34-N34 -> -5.8226342
A35: Herning | B35: =_xlfn.XLOOKUP(A35,Antal!A:A,Antal!B:B) -> 3776 | C35: =_xlfn.XLOOKUP(A35,Antal!A:A,Antal!H:H) -> 4223 | E35: =_xlfn.XLOOKUP(A35,Antal!K:K,Antal!M:M) -> 6.7 | F35: =_xlfn.XLOOKUP(A35,Antal!K:K,Antal!R:R) -> 7.4 | G35: =F35-E35 -> 0.7 | H35: =_xlfn.XLOOKUP(A35,Udgifter!A:A,Udgifter!C:C) -> 2.246799e+08 | I35: =_xlfn.XLOOKUP(A35,Udgifter!A:A,Udgifter!H:H) -> 247102696 | J35: =I35-H35 -> 22422799 | K35: =_xlfn.XLOOKUP(A35,Udgifter!A:A,Udgifter!K:K) -> 2515.4489 | L35: =_xlfn.XLOOKUP(A35,Udgifter!A:A,Udgifter!P:P) -> 2725.5377 | M35: =L35-K35 -> 210.08876 | N35: =K35/K$2*100 -> 110.12094 | O35: =L35/L$2*100 -> 107.32967 | P35: =O35-N35 -> -2.7912695
A36: Hillerød | B36: =_xlfn.XLOOKUP(A36,Antal!A:A,Antal!B:B) -> 1493 | C36: =_xlfn.XLOOKUP(A36,Antal!A:A,Antal!H:H) -> 1674 | E36: =_xlfn.XLOOKUP(A36,Antal!K:K,Antal!M:M) -> 4.9 | F36: =_xlfn.XLOOKUP(A36,Antal!K:K,Antal!R:R) -> 4.7 | G36: =F36-E36 -> -0.2 | H36: =_xlfn.XLOOKUP(A36,Udgifter!A:A,Udgifter!C:C) -> 96233918 | I36: =_xlfn.XLOOKUP(A36,Udgifter!A:A,Udgifter!H:H) -> 99139230 | J36: =I36-H36 -> 2905311.6 | K36: =_xlfn.XLOOKUP(A36,Udgifter!A:A,Udgifter!K:K) -> 1859.7364 | L36: =_xlfn.XLOOKUP(A36,Udgifter!A:A,Udgifter!P:P) -> 1790.7774 | M36: =L36-K36 -> -68.958931 | N36: =K36/K$2*100 -> 81.415253 | O36: =L36/L$2*100 -> 70.519497 | P36: =O36-N36 -> -10.895756
A37: Hjørring | B37: =_xlfn.XLOOKUP(A37,Antal!A:A,Antal!B:B) -> 3001 | C37: =_xlfn.XLOOKUP(A37,Antal!A:A,Antal!H:H) -> 3075 | E37: =_xlfn.XLOOKUP(A37,Antal!K:K,Antal!M:M) -> 7.9 | F37: =_xlfn.XLOOKUP(A37,Antal!K:K,Antal!R:R) -> 8.1 | G37: =F37-E37 -> 0.2 | H37: =_xlfn.XLOOKUP(A37,Udgifter!A:A,Udgifter!C:C) -> 1.8988414e+08 | I37: =_xlfn.XLOOKUP(A37,Udgifter!A:A,Udgifter!H:H) -> 184613281 | J37: =I37-H37 -> -5270859.5 | K37: =_xlfn.XLOOKUP(A37,Udgifter!A:A,Udgifter!K:K) -> 2962.3573 | L37: =_xlfn.XLOOKUP(A37,Udgifter!A:A,Udgifter!P:P) -> 2933.3495 | M37: =L37-K37 -> -29.007849 | N37: =K37/K$2*100 -> 129.68562 | O37: =L37/L$2*100 -> 115.51314 | P37: =O37-N37 -> -14.172481
... A100: Aarhus | B100: =_xlfn.XLOOKUP(A100,Antal!A:A,Antal!B:B) -> 13425 | C100: =_xlfn.XLOOKUP(A100,Antal!A:A,Antal!H:H) -> 15580 | E100: =_xlfn.XLOOKUP(A100,Antal!K:K,Antal!M:M) -> 5.6 | F100: =_xlfn.XLOOKUP(A100,Antal!K:K,Antal!R:R) -> 5.8 | G100: =F100-E100 -> 0.2 | H100: =_xlfn.XLOOKUP(A100,Udgifter!A:A,Udgifter!C:C) -> 8.3799894e+08 | I100: =_xlfn.XLOOKUP(A100,Udgifter!A:A,Udgifter!H:H) -> 919920771 | J100: =I100-H100 -> 81921833 | K100: =_xlfn.XLOOKUP(A100,Udgifter!A:A,Udgifter!K:K) -> 2378.3275 | L100: =_xlfn.XLOOKUP(A100,Udgifter!A:A,Udgifter!P:P) -> 2431.755 | M100: =L100-K100 -> 53.427535 | N100: =K100/K$2*100 -> 104.11806 | O100: =L100/L$2*100 -> 95.760722 | P100: =O100-N100 -> -8.3573331

Sheet Udgifter
A1: ydelsesgruppe | B1: Førtidspension | Y1: ydelsesgruppe | Z1: Seniorpension | BC1: ydelsesgruppe | BD1: Ydelsesgrupper i alt
A3: Summen af Offentlige udgifter, 2026 pl (kr.) | B3: Kolonnemærkater | Y3: Summen af Offentlige udgifter, 2026 pl (kr.) | Z3: Kolonnemærkater | BC3: Summen af Offentlige udgifter, 2026 pl (kr.) | BD3: Kolonnemærkater
A4: Rækkemærkater | B4: 2. kvt 2020 | C4: 2. kvt 2021 | D4: 2. kvt 2022 | E4: 2. kvt 2023 | F4: 2. kvt 2024 | G4: 2. kvt 2025 | H4: 2. kvt 2026 | I4: Hovedtotal | J4: pr. indbygger 2. kvt. 2020 | K4: pr. indbygger 2. kvt. 2021 | L4: pr. indbygger 2. kvt. 2022 | M4: pr. indbygger 2. kvt. 2023 | N4: pr. indbygger 2. kvt. 2024 | O4: pr. indbygger 2. kvt. 2025 | P4: pr. indbygger 2. kvt. 2026 | Q4: pr. 16-66 år 2. kvt 2020 | R4: pr. 16-66 år 2. kvt 2021 | S4: pr. 16-66 år 2. kvt 2022 | T4: pr. 16-66 år 2. kvt 2023 | U4: pr. 16-66 år 2. kvt 2024 | V4: pr. 16-66 år 2. kvt 2025 | W4: pr. 16-66 år 2. kvt 2026 | Y4: Rækkemærkater | Z4: 2. kvt 2020 | AA4: 2. kvt 2021 | AB4: 2. kvt 2022 | AC4: 2. kvt 2023 | AD4: 2. kvt 2024 | AE4: 2. kvt 2025 | AF4: 2. kvt 2026 | AG4: Hovedtotal | AH4: pr. indbygger 2. kvt. 2020 | AI4: pr. indbygger 2. kvt. 2021 | AJ4: pr. indbygger 2. kvt. 2022 | AK4: pr. indbygger 2. kvt. 2023 | AL4: pr. indbygger 2. kvt. 2024 | AM4: pr. indbygger 2. kvt. 2025 | AN4: pr. indbygger 2. kvt. 2026 | AO4: pr. 16-66 år 2. kvt 2020 | AP4: pr. 16-66 år 2. kvt 2021 | AQ4: pr. 16-66 år 2. kvt 2022 | AR4: pr. 16-66 år 2. kvt 2023 | AS4: pr. 16-66 år 2. kvt 2024 | AT4: pr. 16-66 år 2. kvt 2025 | AU4: pr. 16-66 år 2. kvt 2026 | BC4: Rækkemærkater | BD4: 2. kvt 2020 | BE4: 2. kvt 2021 | BF4: 2. kvt 2022 | BG4: 2. kvt 2023 | BH4: 2. kvt 2024 | BI4: 2. kvt 2025 | BJ4: 2. kvt 2026 | BK4: Hovedtotal | BL4: pr. indbygger 2. kvt. 2020 | BM4: pr. indbygger 2. kvt. 2021 | BN4: pr. indbygger 2. kvt. 2022 | BO4: pr. indbygger 2. kvt. 2023 | BP4: pr. indbygger 2. kvt. 2024 | BQ4: pr. indbygger 2. kvt. 2025 | BR4: pr. indbygger 2. kvt. 2026 | BS4: pr. 16-66 år 2. kvt 2020 | BT4: pr. 16-66 år 2. kvt 2021 | BU4: pr. 16-66 år 2. kvt 2022 | BV4: pr. 16-66 år 2. kvt 2023 | BW4: pr. 16-66 år 2. kvt 2024 | BX4: pr. 16-66 år 2. kvt 2025 | BY4: pr. 16-66 år 2. kvt 2026 | CB4: Kommune | CC4: 2. kvt 2020 | CD4: 2. kvt 2021 | CE4: 2. kvt 2022 | CF4: 2. kvt 2023 | CG4: 2. kvt 2024 | CH4: 2. kvt 2025 | CI4: 2. kvt 2026
A5: Albertslund | B5: 63318103 | C5: 65320173 | D5: 67247201 | E5: 72658933 | F5: 78002634 | G5: 82732406 | H5: 85479838 | I5: 5.1475929e+08 | J5: =B5/_xlfn.XLOOKUP($A5,Folketal!$A:$A,Folketal!B:B) -> 2290.2341 | K5: =C5/_xlfn.XLOOKUP($A5,Folketal!$A:$A,Folketal!C:C) -> 2402.1835 | L5: =D5/_xlfn.XLOOKUP($A5,Folketal!$A:$A,Folketal!D:D) -> 2441.0919 | M5: =E5/_xlfn.XLOOKUP($A5,Folketal!$A:$A,Folketal!E:E) -> 2639.5514 | N5: =F5/_xlfn.XLOOKUP($A5,Folketal!$A:$A,Folketal!F:F) -> 2822.8073 | O5: =G5/_xlfn.XLOOKUP($A5,Folketal!$A:$A,Folketal!G:G) -> 2913.4206 | P5: =H5/_xlfn.XLOOKUP($A5,Folketal!$A:$A,Folketal!H:H) -> 2912.6291 | Q5: =B5/_xlfn.XLOOKUP($A5,'16-66 år'!$A:$A,'16-66 år'!B:B) -> 3553.6033 | R5: =C5/_xlfn.XLOOKUP($A5,'16-66 år'!$A:$A,'16-66 år'!C:C) -> 3749.5077 | S5: =D5/_xlfn.XLOOKUP($A5,'16-66 år'!$A:$A,'16-66 år'!D:D) -> 3802.4994 | T5: =E5/_xlfn.XLOOKUP($A5,'16-66 år'!$A:$A,'16-66 år'!E:E) -> 4103.6334 | U5: =F5/_xlfn.XLOOKUP($A5,'16-66 år'!$A:$A,'16-66 år'!F:F) -> 4389.0746 | V5: =G5/_xlfn.XLOOKUP($A5,'16-66 år'!$A:$A,'16-66 år'!G:G) -> 4485.1136 | W5: =H5/_xlfn.XLOOKUP($A5,'16-66 år'!$A:$A,'16-66 år'!H:H) -> 4444.8982 | Y5: Albertslund | Z5: 294119.23 | AA5: 3075663.9 | AB5: 3913417.9 | AC5: 5291279.9 | AD5: 6168370.5 | AE5: 6110297.8 | AF5: 6845270 | AG5: 31698419 | AH5: =Z5/_xlfn.XLOOKUP($Y5,Folketal!$A:$A,Folketal!B:B) -> 10.638378 | AI5: =AA5/_xlfn.XLOOKUP($Y5,Folketal!$A:$A,Folketal!C:C) -> 113.10914 | AJ5: =AB5/_xlfn.XLOOKUP($Y5,Folketal!$A:$A,Folketal!D:D) -> 142.05815 | AK5: =AC5/_xlfn.XLOOKUP($Y5,Folketal!$A:$A,Folketal!E:E) -> 192.22145 | AL5: =AD5/_xlfn.XLOOKUP($Y5,Folketal!$A:$A,Folketal!F:F) -> 223.22478 | AM5: =AE5/_xlfn.XLOOKUP($Y5,Folketal!$A:$A,Folketal!G:G) -> 215.17406 | AN5: =AF5/_xlfn.XLOOKUP($Y5,Folketal!$A:$A,Folketal!H:H) -> 233.24485 | AO5: =Z5/_xlfn.XLOOKUP($Y5,'16-66 år'!$A:$A,'16-66 år'!B:B) -> 16.50686 | AP5: =AA5/_xlfn.XLOOKUP($Y5,'16-66 år'!$A:$A,'16-66 år'!C:C) -> 176.54921 | AQ5: =AB5/_xlfn.XLOOKUP($Y5,'16-66 år'!$A:$A,'16-66 år'!D:D) -> 221.28459 | AR5: =AC5/_xlfn.XLOOKUP($Y5,'16-66 år'!$A:$A,'16-66 år'!E:E) -> 298.84107 | AS5: =AD5/_xlfn.XLOOKUP($Y5,'16-66 år'!$A:$A,'16-66 år'!F:F) -> 347.08364 | AT5: =AE5/_xlfn.XLOOKUP($Y5,'16-66 år'!$A:$A,'16-66 år'!G:G) -> 331.25327 | AU5: =AF5/_xlfn.XLOOKUP($Y5,'16-66 år'!$A:$A,'16-66 år'!H:H) -> 355.94977 | BC5: Albertslund | BD5: 1.8049069e+08 | BE5: 1.7926499e+08 | BF5: 1.5691184e+08 | BG5: 1.5370843e+08 | BH5: 1.597384e+08 | BI5: 1.6510013e+08 | BJ5: 174833923 | BK5: 1.1700484e+09 | BL5: =BD5/_xlfn.XLOOKUP($BC5,Folketal!$A:$A,Folketal!B:B) -> 6528.4006 | BM5: =BE5/_xlfn.XLOOKUP($BC5,Folketal!$A:$A,Folketal!C:C) -> 6592.5635 | BN5: =BF5/_xlfn.XLOOKUP($BC5,Folketal!$A:$A,Folketal!D:D) -> 5695.9431 | BO5: =BG5/_xlfn.XLOOKUP($BC5,Folketal!$A:$A,Folketal!E:E) -> 5583.9151 | BP5: =BH5/_xlfn.XLOOKUP($BC5,Folketal!$A:$A,Folketal!F:F) -> 5780.7114 | BQ5: =BI5/_xlfn.XLOOKUP($BC5,Folketal!$A:$A,Folketal!G:G) -> 5813.999 | BR5: =BJ5/_xlfn.XLOOKUP($BC5,Folketal!$A:$A,Folketal!H:H) -> 5957.2687 | BS5: =BD5/_xlfn.XLOOKUP($BC5,'16-66 år'!$A:$A,'16-66 år'!B:B) -> 10129.683 | BT5: =BE5/_xlfn.XLOOKUP($BC5,'16-66 år'!$A:$A,'16-66 år'!C:C) -> 10290.166 | BU5: =BF5/_xlfn.XLOOKUP($BC5,'16-66 år'!$A:$A,'16-66 år'!D:D) -> 8872.5948 | BV5: =BG5/_xlfn.XLOOKUP($BC5,'16-66 år'!$A:$A,'16-66 år'!E:E) -> 8681.1494 | BW5: =BH5/_xlfn.XLOOKUP($BC5,'16-66 år'!$A:$A,'16-66 år'!F:F) -> 8988.2061 | BX5: =BI5/_xlfn.XLOOKUP($BC5,'16-66 år'!$A:$A,'16-66 år'!G:G) -> 8950.457 | BY5: =BJ5/_xlfn.XLOOKUP($BC5,'16-66 år'!$A:$A,'16-66 år'!H:H) -> 9091.2549 | CB5: Albertslund | CC5: =_xlfn.XLOOKUP($CB5,$A:$A,B:B)/_xlfn.XLOOKUP($CB5,$BC:$BC,BD:BD)*100 -> 35.081091 | CD5: =_xlfn.XLOOKUP($CB5,$A:$A,C:C)/_xlfn.XLOOKUP($CB5,$BC:$BC,BE:BE)*100 -> 36.437775 | CE5: =_xlfn.XLOOKUP($CB5,$A:$A,D:D)/_xlfn.XLOOKUP($CB5,$BC:$BC,BF:BF)*100 -> 42.856677 | CF5: =_xlfn.XLOOKUP($CB5,$A:$A,E:E)/_xlfn.XLOOKUP($CB5,$BC:$BC,BG:BG)*100 -> 47.270623 | CG5: =_xlfn.XLOOKUP($CB5,$A:$A,F:F)/_xlfn.XLOOKUP($CB5,$BC:$BC,BH:BH)*100 -> 48.831486 | CH5: =_xlfn.XLOOKUP($CB5,$A:$A,G:G)/_xlfn.XLOOKUP($CB5,$BC:$BC,BI:BI)*100 -> 50.110443 | CI5: =_xlfn.XLOOKUP($CB5,$A:$A,H:H)/_xlfn.XLOOKUP($CB5,$BC:$BC,BJ:BJ)*100 -> 48.892021
A6: Allerød | B6: 22935847 | C6: 23031108 | D6: 21358400 | E6: 22361051 | F6: 23766442 | G6: 25371696 | H6: 26512953 | I6: 1.653375e+08 | J6: =B6/_xlfn.XLOOKUP($A6,Folketal!$A:$A,Folketal!B:B) -> 894.77808 | K6: =C6/_xlfn.XLOOKUP($A6,Folketal!$A:$A,Folketal!C:C) -> 889.98793 | L6: =D6/_xlfn.XLOOKUP($A6,Folketal!$A:$A,Folketal!D:D) -> 825.41351 | M6: =E6/_xlfn.XLOOKUP($A6,Folketal!$A:$A,Folketal!E:E) -> 859.51147 | N6: =F6/_xlfn.XLOOKUP($A6,Folketal!$A:$A,Folketal!F:F) -> 914.90326 | O6: =G6/_xlfn.XLOOKUP($A6,Folketal!$A:$A,Folketal!G:G) -> 967.64669 | P6: =H6/_xlfn.XLOOKUP($A6,Folketal!$A:$A,Folketal!H:H) -> 1002.4938 | Q6: =B6/_xlfn.XLOOKUP($A6,'16-66 år'!$A:$A,'16-66 år'!B:B) -> 1486.3487 | R6: =C6/_xlfn.XLOOKUP($A6,'16-66 år'!$A:$A,'16-66 år'!C:C) -> 1485.4946 | S6: =D6/_xlfn.XLOOKUP($A6,'16-66 år'!$A:$A,'16-66 år'!D:D) -> 1384.3023 | T6: =E6/_xlfn.XLOOKUP($A6,'16-66 år'!$A:$A,'16-66 år'!E:E) -> 1442.2762 | U6: =F6/_xlfn.XLOOKUP($A6,'16-66 år'!$A:$A,'16-66 år'!F:F) -> 1536.3916 | V6: =G6/_xlfn.XLOOKUP($A6,'16-66 år'!$A:$A,'16-66 år'!G:G) -> 1621.7128 | W6: =H6/_xlfn.XLOOKUP($A6,'16-66 år'!$A:$A,'16-66 år'!H:H) -> 1682.7211 | Y6: Allerød | Z6: 149188.1 | AA6: 1555583.9 | AB6: 2386490.3 | AC6: 3164065.8 | AD6: 3766323.3 | AE6: 4390239.1 | AF6: 4455335 | AG6: 19867225 | AH6: =Z6/_xlfn.XLOOKUP($Y6,Folketal!$A:$A,Folketal!B:B) -> 5.8201577 | AI6: =AA6/_xlfn.XLOOKUP($Y6,Folketal!$A:$A,Folketal!C:C) -> 60.112214 | AJ6: =AB6/_xlfn.XLOOKUP($Y6,Folketal!$A:$A,Folketal!D:D) -> 92.227944 | AK6: =AC6/_xlfn.XLOOKUP($Y6,Folketal!$A:$A,Folketal!E:E) -> 121.61999 | AL6: =AD6/_xlfn.XLOOKUP($Y6,Folketal!$A:$A,Folketal!F:F) -> 144.98685 | AM6: =AE6/_xlfn.XLOOKUP($Y6,Folketal!$A:$A,Folketal!G:G) -> 167.43856 | AN6: =AF6/_xlfn.XLOOKUP($Y6,Folketal!$A:$A,Folketal!H:H) -> 168.46277 | AO6: =Z6/_xlfn.XLOOKUP($Y6,'16-66 år'!$A:$A,'16-66 år'!B:B) -> 9.6680775 | AP6: =AA6/_xlfn.XLOOKUP($Y6,'16-66 år'!$A:$A,'16-66 år'!C:C) -> 100.33436 | AQ6: =AB6/_xlfn.XLOOKUP($Y6,'16-66 år'!$A:$A,'16-66 år'!D:D) -> 154.67563 | AR6: =AC6/_xlfn.XLOOKUP($Y6,'16-66 år'!$A:$A,'16-66 år'!E:E) -> 204.08061 | AS6: =AD6/_xlfn.XLOOKUP($Y6,'16-66 år'!$A:$A,'16-66 år'!F:F) -> 243.47555 | AT6: =AE6/_xlfn.XLOOKUP($Y6,'16-66 år'!$A:$A,'16-66 år'!G:G) -> 280.61611 | AU6: =AF6/_xlfn.XLOOKUP($Y6,'16-66 år'!$A:$A,'16-66 år'!H:H) -> 282.77069 | BC6: Allerød | BD6: 78828559 | BE6: 77754742 | BF6: 64578589 | BG6: 61340859 | BH6: 65265120 | BI6: 69113941 | BJ6: 71946977 | BK6: 4.8882879e+08 | BL6: =BD6/_xlfn.XLOOKUP($BC6,Folketal!$A:$A,Folketal!B:B) -> 3075.2764 | BM6: =BE6/_xlfn.XLOOKUP($BC6,Folketal!$A:$A,Folketal!C:C) -> 3004.6658 | BN6: =BF6/_xlfn.XLOOKUP($BC6,Folketal!$A:$A,Folketal!D:D) -> 2495.6944 | BO6: =BG6/_xlfn.XLOOKUP($BC6,Folketal!$A:$A,Folketal!E:E) -> 2357.8128 | BP6: =BH6/_xlfn.XLOOKUP($BC6,Folketal!$A:$A,Folketal!F:F) -> 2512.4194 | BQ6: =BI6/_xlfn.XLOOKUP($BC6,Folketal!$A:$A,Folketal!G:G) -> 2635.9245 | BR6: =BJ6/_xlfn.XLOOKUP($BC6,Folketal!$A:$A,Folketal!H:H) -> 2720.4211 | BS6: =BD6/_xlfn.XLOOKUP($BC6,'16-66 år'!$A:$A,'16-66 år'!B:B) -> 5108.4543 | BT6: =BE6/_xlfn.XLOOKUP($BC6,'16-66 år'!$A:$A,'16-66 år'!C:C) -> 5015.1407 | BU6: =BF6/_xlfn.XLOOKUP($BC6,'16-66 år'!$A:$A,'16-66 år'!D:D) -> 4185.533 | BV6: =BG6/_xlfn.XLOOKUP($BC6,'16-66 år'!$A:$A,'16-66 år'!E:E) -> 3956.4537 | BW6: =BH6/_xlfn.XLOOKUP($BC6,'16-66 år'!$A:$A,'16-66 år'!F:F) -> 4219.0911 | BX6: =BI6/_xlfn.XLOOKUP($BC6,'16-66 år'!$A:$A,'16-66 år'!G:G) -> 4417.6377 | BY6: =BJ6/_xlfn.XLOOKUP($BC6,'16-66 år'!$A:$A,'16-66 år'!H:H) -> 4566.3225 | CB6: Allerød | CC6: =_xlfn.XLOOKUP($CB6,$A:$A,B:B)/_xlfn.XLOOKUP($CB6,$BC:$BC,BD:BD)*100 -> 29.095859 | CD6: =_xlfn.XLOOKUP($CB6,$A:$A,C:C)/_xlfn.XLOOKUP($CB6,$BC:$BC,BE:BE)*100 -> 29.620197 | CE6: =_xlfn.XLOOKUP($CB6,$A:$A,D:D)/_xlfn.XLOOKUP($CB6,$BC:$BC,BF:BF)*100 -> 33.073501 | CF6: =_xlfn.XLOOKUP($CB6,$A:$A,E:E)/_xlfn.XLOOKUP($CB6,$BC:$BC,BG:BG)*100 -> 36.453762 | CG6: =_xlfn.XLOOKUP($CB6,$A:$A,F:F)/_xlfn.XLOOKUP($CB6,$BC:$BC,BH:BH)*100 -> 36.415228 | CH6: =_xlfn.XLOOKUP($CB6,$A:$A,G:G)/_xlfn.XLOOKUP($CB6,$BC:$BC,BI:BI)*100 -> 36.709955 | CI6: =_xlfn.XLOOKUP($CB6,$A:$A,H:H)/_xlfn.XLOOKUP($CB6,$BC:$BC,BJ:BJ)*100 -> 36.850684
A7: Assens | B7: 1.0619665e+08 | C7: 1.118643e+08 | D7: 1.1589149e+08 | E7: 1.2172355e+08 | F7: 1.2538475e+08 | G7: 1.2767647e+08 | H7: 134163823 | I7: 8.4290103e+08 | J7: =B7/_xlfn.XLOOKUP($A7,Folketal!$A:$A,Folketal!B:B) -> 2595.226 | K7: =C7/_xlfn.XLOOKUP($A7,Folketal!$A:$A,Folketal!C:C) -> 2736.4065 | L7: =D7/_xlfn.XLOOKUP($A7,Folketal!$A:$A,Folketal!D:D) -> 2832.7016 | M7: =E7/_xlfn.XLOOKUP($A7,Folketal!$A:$A,Folketal!E:E) -> 2977.9463 | N7: =F7/_xlfn.XLOOKUP($A7,Folketal!$A:$A,Folketal!F:F) -> 3083.8128 | O7: =G7/_xlfn.XLOOKUP($A7,Folketal!$A:$A,Folketal!G:G) -> 3154.6085 | P7: =H7/_xlfn.XLOOKUP($A7,Folketal!$A:$A,Folketal!H:H) -> 3333.5111 | Q7: =B7/_xlfn.XLOOKUP($A7,'16-66 år'!$A:$A,'16-66 år'!B:B) -> 4199.3218 | R7: =C7/_xlfn.XLOOKUP($A7,'16-66 år'!$A:$A,'16-66 år'!C:C) -> 4450.8932 | S7: =D7/_xlfn.XLOOKUP($A7,'16-66 år'!$A:$A,'16-66 år'!D:D) -> 4610.3945 | T7: =E7/_xlfn.XLOOKUP($A7,'16-66 år'!$A:$A,'16-66 år'!E:E) -> 4855.5409 | U7: =F7/_xlfn.XLOOKUP($A7,'16-66 år'!$A:$A,'16-66 år'!F:F) -> 5031.4906 | V7: =G7/_xlfn.XLOOKUP($A7,'16-66 år'!$A:$A,'16-66 år'!G:G) -> 5159.8962 | W7: =H7/_xlfn.XLOOKUP($A7,'16-66 år'!$A:$A,'16-66 år'!H:H) -> 5465.8121 | Y7: Assens | Z7: 359741.8 | AA7: 5582227.8 | AB7: 10309173 | AC7: 14379574 | AD7: 16038232 | AE7: 16911052 | AF7: 16494445 | AG7: 80074447 | AH7: =Z7/_xlfn.XLOOKUP($Y7,Folketal!$A:$A,Folketal!B:B) -> 8.7913441 | AI7: =AA7/_xlfn.XLOOKUP($Y7,Folketal!$A:$A,Folketal!C:C) -> 136.55156 | AJ7: =AB7/_xlfn.XLOOKUP($Y7,Folketal!$A:$A,Folketal!D:D) -> 251.9841 | AK7: =AC7/_xlfn.XLOOKUP($Y7,Folketal!$A:$A,Folketal!E:E) -> 351.79386 | AL7: =AD7/_xlfn.XLOOKUP($Y7,Folketal!$A:$A,Folketal!F:F) -> 394.45712 | AM7: =AE7/_xlfn.XLOOKUP($Y7,Folketal!$A:$A,Folketal!G:G) -> 417.83541 | AN7: =AF7/_xlfn.XLOOKUP($Y7,Folketal!$A:$A,Folketal!H:H) -> 409.83042 | AO7: =Z7/_xlfn.XLOOKUP($Y7,'16-66 år'!$A:$A,'16-66 år'!B:B) -> 14.225228 | AP7: =AA7/_xlfn.XLOOKUP($Y7,'16-66 år'!$A:$A,'16-66 år'!C:C) -> 222.1075 | AQ7: =AB7/_xlfn.XLOOKUP($Y7,'16-66 år'!$A:$A,'16-66 år'!D:D) -> 410.11948 | AR7: =AC7/_xlfn.XLOOKUP($Y7,'16-66 år'!$A:$A,'16-66 år'!E:E) -> 573.59983 | AS7: =AD7/_xlfn.XLOOKUP($Y7,'16-66 år'!$A:$A,'16-66 år'!F:F) -> 643.58877 | AT7: =AE7/_xlfn.XLOOKUP($Y7,'16-66 år'!$A:$A,'16-66 år'!G:G) -> 683.44053 | AU7: =AF7/_xlfn.XLOOKUP($Y7,'16-66 år'!$A:$A,'16-66 år'!H:H) -> 671.98097 | BC7: Assens | BD7: 2.7654964e+08 | BE7: 2.6516717e+08 | BF7: 2.5141754e+08 | BG7: 2.6049431e+08 | BH7: 2.6548365e+08 | BI7: 2.618949e+08 | BJ7: 261719484 | BK7: 1.8427267e+09 | BL7: =BD7/_xlfn.XLOOKUP($BC7,Folketal!$A:$A,Folketal!B:B) -> 6758.3 | BM7: =BE7/_xlfn.XLOOKUP($BC7,Folketal!$A:$A,Folketal!C:C) -> 6486.4767 | BN7: =BF7/_xlfn.XLOOKUP($BC7,Folketal!$A:$A,Folketal!D:D) -> 6145.325 | BO7: =BG7/_xlfn.XLOOKUP($BC7,Folketal!$A:$A,Folketal!E:E) -> 6372.9494 | BP7: =BH7/_xlfn.XLOOKUP($BC7,Folketal!$A:$A,Folketal!F:F) -> 6529.5176 | BQ7: =BI7/_xlfn.XLOOKUP($BC7,Folketal!$A:$A,Folketal!G:G) -> 6470.8547 | BR7: =BJ7/_xlfn.XLOOKUP($BC7,Folketal!$A:$A,Folketal!H:H) -> 6502.8321 | BS7: =BD7/_xlfn.XLOOKUP($BC7,'16-66 år'!$A:$A,'16-66 år'!B:B) -> 10935.57 | BT7: =BE7/_xlfn.XLOOKUP($BC7,'16-66 år'!$A:$A,'16-66 år'!C:C) -> 10550.558 | BU7: =BF7/_xlfn.XLOOKUP($BC7,'16-66 år'!$A:$A,'16-66 år'!D:D) -> 10001.891 | BV7: =BG7/_xlfn.XLOOKUP($BC7,'16-66 år'!$A:$A,'16-66 år'!E:E) -> 10391.093 | BW7: =BH7/_xlfn.XLOOKUP($BC7,'16-66 år'!$A:$A,'16-66 år'!F:F) -> 10653.437 | BX7: =BI7/_xlfn.XLOOKUP($BC7,'16-66 år'!$A:$A,'16-66 år'!G:G) -> 10584.178 | BY7: =BJ7/_xlfn.XLOOKUP($BC7,'16-66 år'!$A:$A,'16-66 år'!H:H) -> 10662.409 | CB7: Assens | CC7: =_xlfn.XLOOKUP($CB7,$A:$A,B:B)/_xlfn.XLOOKUP($CB7,$BC:$BC,BD:BD)*100 -> 38.400574 | CD7: =_xlfn.XLOOKUP($CB7,$A:$A,C:C)/_xlfn.XLOOKUP($CB7,$BC:$BC,BE:BE)*100 -> 42.186331 | CE7: =_xlfn.XLOOKUP($CB7,$A:$A,D:D)/_xlfn.XLOOKUP($CB7,$BC:$BC,BF:BF)*100 -> 46.095229 | CF7: =_xlfn.XLOOKUP($CB7,$A:$A,E:E)/_xlfn.XLOOKUP($CB7,$BC:$BC,BG:BG)*100 -> 46.727913 | CG7: =_xlfn.XLOOKUP($CB7,$A:$A,F:F)/_xlfn.XLOOKUP($CB7,$BC:$BC,BH:BH)*100 -> 47.228801 | CH7: =_xlfn.XLOOKUP($CB7,$A:$A,G:G)/_xlfn.XLOOKUP($CB7,$BC:$BC,BI:BI)*100 -> 48.751033 | CI7: =_xlfn.XLOOKUP($CB7,$A:$A,H:H)/_xlfn.XLOOKUP($CB7,$BC:$BC,BJ:BJ)*100 -> 51.262451
A8: Ballerup | B8: 1.2053628e+08 | C8: 1.2454956e+08 | D8: 1.2496974e+08 | E8: 1.3038836e+08 | F8: 1.3373028e+08 | G8: 1.3542003e+08 | H8: 136680327 | I8: 9.0627457e+08 | J8: =B8/_xlfn.XLOOKUP($A8,Folketal!$A:$A,Folketal!B:B) -> 2470.512 | K8: =C8/_xlfn.XLOOKUP($A8,Folketal!$A:$A,Folketal!C:C) -> 2536.1343 | L8: =D8/_xlfn.XLOOKUP($A8,Folketal!$A:$A,Folketal!D:D) -> 2528.6256 | M8: =E8/_xlfn.XLOOKUP($A8,Folketal!$A:$A,Folketal!E:E) -> 2600.4341 | N8: =F8/_xlfn.XLOOKUP($A8,Folketal!$A:$A,Folketal!F:F) -> 2590.7182 | O8: =G8/_xlfn.XLOOKUP($A8,Folketal!$A:$A,Folketal!G:G) -> 2536.0505 | P8: =H8/_xlfn.XLOOKUP($A8,Folketal!$A:$A,Folketal!H:H) -> 2531.6798 | Q8: =B8/_xlfn.XLOOKUP($A8,'16-66 år'!$A:$A,'16-66 år'!B:B) -> 3958.7585 | R8: =C8/_xlfn.XLOOKUP($A8,'16-66 år'!$A:$A,'16-66 år'!C:C) -> 4044.6046 | S8: =D8/_xlfn.XLOOKUP($A8,'16-66 år'!$A:$A,'16-66 år'!D:D) -> 4024.6606 | T8: =E8/_xlfn.XLOOKUP($A8,'16-66 år'!$A:$A,'16-66 år'!E:E) -> 4122.6915 | U8: =F8/_xlfn.XLOOKUP($A8,'16-66 år'!$A:$A,'16-66 år'!F:F) -> 4065.2445 | V8: =G8/_xlfn.XLOOKUP($A8,'16-66 år'!$A:$A,'16-66 år'!G:G) -> 3942.4736 | W8: =H8/_xlfn.XLOOKUP($A8,'16-66 år'!$A:$A,'16-66 år'!H:H) -> 3936.1919 | Y8: Ballerup | Z8: 808410.13 | AA8: 4461667.6 | AB8: 7398636.5 | AC8: 10113758 | AD8: 12082325 | AE8: 12413533 | AF8: 12926853 | AG8: 60205183 | AH8: =Z8/_xlfn.XLOOKUP($Y8,Folketal!$A:$A,Folketal!B:B) -> 16.569177 | AI8: =AA8/_xlfn.XLOOKUP($Y8,Folketal!$A:$A,Folketal!C:C) -> 90.850492 | AJ8: =AB8/_xlfn.XLOOKUP($Y8,Folketal!$A:$A,Folketal!D:D) -> 149.7033 | AK8: =AC8/_xlfn.XLOOKUP($Y8,Folketal!$A:$A,Folketal!E:E) -> 201.70634 | AL8: =AD8/_xlfn.XLOOKUP($Y8,Folketal!$A:$A,Folketal!F:F) -> 234.06739 | AM8: =AE8/_xlfn.XLOOKUP($Y8,Folketal!$A:$A,Folketal!G:G) -> 232.47188 | AN8: =AF8/_xlfn.XLOOKUP($Y8,Folketal!$A:$A,Folketal!H:H) -> 239.43938 | AO8: =Z8/_xlfn.XLOOKUP($Y8,'16-66 år'!$A:$A,'16-66 år'!B:B) -> 26.550517 | AP8: =AA8/_xlfn.XLOOKUP($Y8,'16-66 år'!$A:$A,'16-66 år'!C:C) -> 144.88756 | AQ8: =AB8/_xlfn.XLOOKUP($Y8,'16-66 år'!$A:$A,'16-66 år'!D:D) -> 238.27369 | AR8: =AC8/_xlfn.XLOOKUP($Y8,'16-66 år'!$A:$A,'16-66 år'!E:E) -> 319.78239 | AS8: =AD8/_xlfn.XLOOKUP($Y8,'16-66 år'!$A:$A,'16-66 år'!F:F) -> 367.28857 | AT8: =AE8/_xlfn.XLOOKUP($Y8,'16-66 år'!$A:$A,'16-66 år'!G:G) -> 361.39431 | AU8: =AF8/_xlfn.XLOOKUP($Y8,'16-66 år'!$A:$A,'16-66 år'!H:H) -> 372.27431 | BC8: Ballerup | BD8: 2.9053365e+08 | BE8: 2.8625751e+08 | BF8: 2.5258465e+08 | BG8: 2.5788369e+08 | BH8: 2.6918918e+08 | BI8: 2.7870167e+08 | BJ8: 286011474 | BK8: 1.9211618e+09 | BL8: =BD8/_xlfn.XLOOKUP($BC8,Folketal!$A:$A,Folketal!B:B) -> 5954.7786 | BM8: =BE8/_xlfn.XLOOKUP($BC8,Folketal!$A:$A,Folketal!C:C) -> 5828.9046 | BN8: =BF8/_xlfn.XLOOKUP($BC8,Folketal!$A:$A,Folketal!D:D) -> 5110.7735 | BO8: =BG8/_xlfn.XLOOKUP($BC8,Folketal!$A:$A,Folketal!E:E) -> 5143.17 | BP8: =BH8/_xlfn.XLOOKUP($BC8,Folketal!$A:$A,Folketal!F:F) -> 5214.9243 | BQ8: =BI8/_xlfn.XLOOKUP($BC8,Folketal!$A:$A,Folketal!G:G) -> 5219.3279 | BR8: =BJ8/_xlfn.XLOOKUP($BC8,Folketal!$A:$A,Folketal!H:H) -> 5297.686 | BS8: =BD8/_xlfn.XLOOKUP($BC8,'16-66 år'!$A:$A,'16-66 år'!B:B) -> 9541.9616 | BT8: =BE8/_xlfn.XLOOKUP($BC8,'16-66 år'!$A:$A,'16-66 år'!C:C) -> 9295.8857 | BU8: =BF8/_xlfn.XLOOKUP($BC8,'16-66 år'!$A:$A,'16-66 år'!D:D) -> 8134.5093 | BV8: =BG8/_xlfn.XLOOKUP($BC8,'16-66 år'!$A:$A,'16-66 år'!E:E) -> 8153.9093 | BW8: =BH8/_xlfn.XLOOKUP($BC8,'16-66 år'!$A:$A,'16-66 år'!F:F) -> 8183.0368 | BX8: =BI8/_xlfn.XLOOKUP($BC8,'16-66 år'!$A:$A,'16-66 år'!G:G) -> 8113.822 | BY8: =BJ8/_xlfn.XLOOKUP($BC8,'16-66 år'!$A:$A,'16-66 år'!H:H) -> 8236.7087 | CB8: Ballerup | CC8: =_xlfn.XLOOKUP($CB8,$A:$A,B:B)/_xlfn.XLOOKUP($CB8,$BC:$BC,BD:BD)*100 -> 41.48789 | CD8: =_xlfn.XLOOKUP($CB8,$A:$A,C:C)/_xlfn.XLOOKUP($CB8,$BC:$BC,BE:BE)*100 -> 43.509621 | CE8: =_xlfn.XLOOKUP($CB8,$A:$A,D:D)/_xlfn.XLOOKUP($CB8,$BC:$BC,BF:BF)*100 -> 49.476379 | CF8: =_xlfn.XLOOKUP($CB8,$A:$A,E:E)/_xlfn.XLOOKUP($CB8,$BC:$BC,BG:BG)*100 -> 50.560919 | CG8: =_xlfn.XLOOKUP($CB8,$A:$A,F:F)/_xlfn.XLOOKUP($CB8,$BC:$BC,BH:BH)*100 -> 49.678922 | CH8: =_xlfn.XLOOKUP($CB8,$A:$A,G:G)/_xlfn.XLOOKUP($CB8,$BC:$BC,BI:BI)*100 -> 48.5896 | CI8: =_xlfn.XLOOKUP($CB8,$A:$A,H:H)/_xlfn.XLOOKUP($CB8,$BC:$BC,BJ:BJ)*100 -> 47.788407
A9: Billund | B9: 67962668 | C9: 69555129 | D9: 70318399 | E9: 74687370 | F9: 76963546 | G9: 80947034 | H9: 85256782 | I9: 5.2569093e+08 | J9: =B9/_xlfn.XLOOKUP($A9,Folketal!$A:$A,Folketal!B:B) -> 2556.333 | K9: =C9/_xlfn.XLOOKUP($A9,Folketal!$A:$A,Folketal!C:C) -> 2625.9109 | L9: =D9/_xlfn.XLOOKUP($A9,Folketal!$A:$A,Folketal!D:D) -> 2628.4304 | M9: =E9/_xlfn.XLOOKUP($A9,Folketal!$A:$A,Folketal!E:E) -> 2762.3112 | N9: =F9/_xlfn.XLOOKUP($A9,Folketal!$A:$A,Folketal!F:F) -> 2833.2921 | O9: =G9/_xlfn.XLOOKUP($A9,Folketal!$A:$A,Folketal!G:G) -> 2976.8694 | P9: =H9/_xlfn.XLOOKUP($A9,Folketal!$A:$A,Folketal!H:H) -> 3132.4827 | Q9: =B9/_xlfn.XLOOKUP($A9,'16-66 år'!$A:$A,'16-66 år'!B:B) -> 4082.8228 | R9: =C9/_xlfn.XLOOKUP($A9,'16-66 år'!$A:$A,'16-66 år'!C:C) -> 4210.8687 | S9: =D9/_xlfn.XLOOKUP($A9,'16-66 år'!$A:$A,'16-66 år'!D:D) -> 4201.8763 | T9: =E9/_xlfn.XLOOKUP($A9,'16-66 år'!$A:$A,'16-66 år'!E:E) -> 4408.9356 | U9: =F9/_xlfn.XLOOKUP($A9,'16-66 år'!$A:$A,'16-66 år'!F:F) -> 4526.7348 | V9: =G9/_xlfn.XLOOKUP($A9,'16-66 år'!$A:$A,'16-66 år'!G:G) -> 4771.695 | W9: =H9/_xlfn.XLOOKUP($A9,'16-66 år'!$A:$A,'16-66 år'!H:H) -> 5035.5432 | Y9: Billund | Z9: 153988.12 | AA9: 3078437.4 | AB9: 5497268.8 | AC9: 8254398.4 | AD9: 9355848.6 | AE9: 9640108.4 | AF9: 8458362 | AG9: 44438412 | AH9: =Z9/_xlfn.XLOOKUP($Y9,Folketal!$A:$A,Folketal!B:B) -> 5.7920756 | AI9: =AA9/_xlfn.XLOOKUP($Y9,Folketal!$A:$A,Folketal!C:C) -> 116.22008 | AJ9: =AB9/_xlfn.XLOOKUP($Y9,Folketal!$A:$A,Folketal!D:D) -> 205.48233 | AK9: =AC9/_xlfn.XLOOKUP($Y9,Folketal!$A:$A,Folketal!E:E) -> 305.28879 | AL9: =AD9/_xlfn.XLOOKUP($Y9,Folketal!$A:$A,Folketal!F:F) -> 344.42087 | AM9: =AE9/_xlfn.XLOOKUP($Y9,Folketal!$A:$A,Folketal!G:G) -> 354.52002 | AN9: =AF9/_xlfn.XLOOKUP($Y9,Folketal!$A:$A,Folketal!H:H) -> 310.77496 | AO9: =Z9/_xlfn.XLOOKUP($Y9,'16-66 år'!$A:$A,'16-66 år'!B:B) -> 9.2507582 | AP9: =AA9/_xlfn.XLOOKUP($Y9,'16-66 år'!$A:$A,'16-66 år'!C:C) -> 186.36865 | AQ9: =AB9/_xlfn.XLOOKUP($Y9,'16-66 år'!$A:$A,'16-66 år'!D:D) -> 328.48932 | AR9: =AC9/_xlfn.XLOOKUP($Y9,'16-66 år'!$A:$A,'16-66 år'!E:E) -> 487.27263 | AS9: =AD9/_xlfn.XLOOKUP($Y9,'16-66 år'!$A:$A,'16-66 år'!F:F) -> 550.27929 | AT9: =AE9/_xlfn.XLOOKUP($Y9,'16-66 år'!$A:$A,'16-66 år'!G:G) -> 568.26859 | AU9: =AF9/_xlfn.XLOOKUP($Y9,'16-66 år'!$A:$A,'16-66 år'!H:H) -> 499.57841 | BC9: Billund | BD9: 1.5861957e+08 | BE9: 1.5996599e+08 | BF9: 1.437761e+08 | BG9: 1.472371e+08 | BH9: 1.467284e+08 | BI9: 1.5144583e+08 | BJ9: 150146085 | BK9: 1.0579191e+09 | BL9: =BD9/_xlfn.XLOOKUP($BC9,Folketal!$A:$A,Folketal!B:B) -> 5966.2818 | BM9: =BE9/_xlfn.XLOOKUP($BC9,Folketal!$A:$A,Folketal!C:C) -> 6039.1872 | BN9: =BF9/_xlfn.XLOOKUP($BC9,Folketal!$A:$A,Folketal!D:D) -> 5374.2047 | BO9: =BG9/_xlfn.XLOOKUP($BC9,Folketal!$A:$A,Folketal!E:E) -> 5445.5619 | BP9: =BH9/_xlfn.XLOOKUP($BC9,Folketal!$A:$A,Folketal!F:F) -> 5401.5757 | BQ9: =BI9/_xlfn.XLOOKUP($BC9,Folketal!$A:$A,Folketal!G:G) -> 5569.4995 | BR9: =BJ9/_xlfn.XLOOKUP($BC9,Folketal!$A:$A,Folketal!H:H) -> 5516.6288 | BS9: =BD9/_xlfn.XLOOKUP($BC9,'16-66 år'!$A:$A,'16-66 år'!B:B) -> 9528.99 | BT9: =BE9/_xlfn.XLOOKUP($BC9,'16-66 år'!$A:$A,'16-66 år'!C:C) -> 9684.3438 | BU9: =BF9/_xlfn.XLOOKUP($BC9,'16-66 år'!$A:$A,'16-66 år'!D:D) -> 8591.3414 | BV9: =BG9/_xlfn.XLOOKUP($BC9,'16-66 år'!$A:$A,'16-66 år'!E:E) -> 8691.6826 | BW9: =BH9/_xlfn.XLOOKUP($BC9,'16-66 år'!$A:$A,'16-66 år'!F:F) -> 8630.0672 | BX9: =BI9/_xlfn.XLOOKUP($BC9,'16-66 år'!$A:$A,'16-66 år'!G:G) -> 8927.4835 | BY9: =BJ9/_xlfn.XLOOKUP($BC9,'16-66 år'!$A:$A,'16-66 år'!H:H) -> 8868.1168 | CB9: Billund | CC9: =_xlfn.XLOOKUP($CB9,$A:$A,B:B)/_xlfn.XLOOKUP($CB9,$BC:$BC,BD:BD)*100 -> 42.846333 | CD9: =_xlfn.XLOOKUP($CB9,$A:$A,C:C)/_xlfn.XLOOKUP($CB9,$BC:$BC,BE:BE)*100 -> 43.481198 | CE9: =_xlfn.XLOOKUP($CB9,$A:$A,D:D)/_xlfn.XLOOKUP($CB9,$BC:$BC,BF:BF)*100 -> 48.908268 | CF9: =_xlfn.XLOOKUP($CB9,$A:$A,E:E)/_xlfn.XLOOKUP($CB9,$BC:$BC,BG:BG)*100 -> 50.725916 | CG9: =_xlfn.XLOOKUP($CB9,$A:$A,F:F)/_xlfn.XLOOKUP($CB9,$BC:$BC,BH:BH)*100 -> 52.453066 | CH9: =_xlfn.XLOOKUP($CB9,$A:$A,G:G)/_xlfn.XLOOKUP($CB9,$BC:$BC,BI:BI)*100 -> 53.449497 | CI9: =_xlfn.XLOOKUP($CB9,$A:$A,H:H)/_xlfn.XLOOKUP($CB9,$BC:$BC,BJ:BJ)*100 -> 56.782554
A10: Bornholm | B10: 1.4959847e+08 | C10: 1.5520292e+08 | D10: 1.5181646e+08 | E10: 1.5794027e+08 | F10: 1.6062349e+08 | G10: 1.6031101e+08 | H10: 162340271 | I10: 1.0978329e+09 | J10: =B10/_xlfn.XLOOKUP($A10,Folketal!$A:$A,Folketal!B:B) -> 3793.1608 | K10: =C10/_xlfn.XLOOKUP($A10,Folketal!$A:$A,Folketal!C:C) -> 3913.9284 | L10: =D10/_xlfn.XLOOKUP($A10,Folketal!$A:$A,Folketal!D:D) -> 3840.052 | M10: =E10/_xlfn.XLOOKUP($A10,Folketal!$A:$A,Folketal!E:E) -> 3993.9379 | N10: =F10/_xlfn.XLOOKUP($A10,Folketal!$A:$A,Folketal!F:F) -> 4094.509 | O10: =G10/_xlfn.XLOOKUP($A10,Folketal!$A:$A,Folketal!G:G) -> 4120.4701 | P10: =H10/_xlfn.XLOOKUP($A10,Folketal!$A:$A,Folketal!H:H) -> 4204.3994 | Q10: =B10/_xlfn.XLOOKUP($A10,'16-66 år'!$A:$A,'16-66 år'!B:B) -> 6404.044 | R10: =C10/_xlfn.XLOOKUP($A10,'16-66 år'!$A:$A,'16-66 år'!C:C) -> 6666.2192 | S10: =D10/_xlfn.XLOOKUP($A10,'16-66 år'!$A:$A,'16-66 år'!D:D) -> 6586.3972 | T10: =E10/_xlfn.XLOOKUP($A10,'16-66 år'!$A:$A,'16-66 år'!E:E) -> 6882.8288 | U10: =F10/_xlfn.XLOOKUP($A10,'16-66 år'!$A:$A,'16-66 år'!F:F) -> 7104.7192 | V10: =G10/_xlfn.XLOOKUP($A10,'16-66 år'!$A:$A,'16-66 år'!G:G) -> 7176.2841 | W10: =H10/_xlfn.XLOOKUP($A10,'16-66 år'!$A:$A,'16-66 år'!H:H) -> 7372.401 | Y10: Bornholm | Z10: 2677455.6 | AA10: 9518327.1 | AB10: 14543604 | AC10: 18457299 | AD10: 20430723 | AE10: 19569016 | AF10: 18876547 | AG10: 1.0407297e+08 | AH10: =Z10/_xlfn.XLOOKUP($Y10,Folketal!$A:$A,Folketal!B:B) -> 67.888527 | AI10: =AA10/_xlfn.XLOOKUP($Y10,Folketal!$A:$A,Folketal!C:C) -> 240.03448 | AJ10: =AB10/_xlfn.XLOOKUP($Y10,Folketal!$A:$A,Folketal!D:D) -> 367.86655 | AK10: =AC10/_xlfn.XLOOKUP($Y10,Folketal!$A:$A,Folketal!E:E) -> 466.74166 | AL10: =AD10/_xlfn.XLOOKUP($Y10,Folketal!$A:$A,Folketal!F:F) -> 520.80663 | AM10: =AE10/_xlfn.XLOOKUP($Y10,Folketal!$A:$A,Folketal!G:G) -> 502.98197 | AN10: =AF10/_xlfn.XLOOKUP($Y10,Folketal!$A:$A,Folketal!H:H) -> 488.87773 | AO10: =Z10/_xlfn.XLOOKUP($Y10,'16-66 år'!$A:$A,'16-66 år'!B:B) -> 114.61711 | AP10: =AA10/_xlfn.XLOOKUP($Y10,'16-66 år'!$A:$A,'16-66 år'!C:C) -> 408.82773 | AQ10: =AB10/_xlfn.XLOOKUP($Y10,'16-66 år'!$A:$A,'16-66 år'!D:D) -> 630.95896 | AR10: =AC10/_xlfn.XLOOKUP($Y10,'16-66 år'!$A:$A,'16-66 år'!E:E) -> 804.34476 | AS10: =AD10/_xlfn.XLOOKUP($Y10,'16-66 år'!$A:$A,'16-66 år'!F:F) -> 903.69442 | AT10: =AE10/_xlfn.XLOOKUP($Y10,'16-66 år'!$A:$A,'16-66 år'!G:G) -> 876.00235 | AU10: =AF10/_xlfn.XLOOKUP($Y10,'16-66 år'!$A:$A,'16-66 år'!H:H) -> 857.24555 | BC10: Bornholm | BD10: 3.1187736e+08 | BE10: 2.9753992e+08 | BF10: 2.7420356e+08 | BG10: 2.7224346e+08 | BH10: 2.7007517e+08 | BI10: 2.6030929e+08 | BJ10: 259644550 | BK10: 1.9458933e+09 | BL10: =BD10/_xlfn.XLOOKUP($BC10,Folketal!$A:$A,Folketal!B:B) -> 7907.8414 | BM10: =BE10/_xlfn.XLOOKUP($BC10,Folketal!$A:$A,Folketal!C:C) -> 7503.4025 | BN10: =BF10/_xlfn.XLOOKUP($BC10,Folketal!$A:$A,Folketal!D:D) -> 6935.7167 | BO10: =BG10/_xlfn.XLOOKUP($BC10,Folketal!$A:$A,Folketal!E:E) -> 6884.3966 | BP10: =BH10/_xlfn.XLOOKUP($BC10,Folketal!$A:$A,Folketal!F:F) -> 6884.5794 | BQ10: =BI10/_xlfn.XLOOKUP($BC10,Folketal!$A:$A,Folketal!G:G) -> 6690.7236 | BR10: =BJ10/_xlfn.XLOOKUP($BC10,Folketal!$A:$A,Folketal!H:H) -> 6724.4522 | BS10: =BD10/_xlfn.XLOOKUP($BC10,'16-66 år'!$A:$A,'16-66 år'!B:B) -> 13350.914 | BT10: =BE10/_xlfn.XLOOKUP($BC10,'16-66 år'!$A:$A,'16-66 år'!C:C) -> 12779.827 | BU10: =BF10/_xlfn.XLOOKUP($BC10,'16-66 år'!$A:$A,'16-66 år'!D:D) -> 11896.033 | BV10: =BG10/_xlfn.XLOOKUP($BC10,'16-66 år'!$A:$A,'16-66 år'!E:E) -> 11864.011 | BW10: =BH10/_xlfn.XLOOKUP($BC10,'16-66 år'!$A:$A,'16-66 år'!F:F) -> 11946 | BX10: =BI10/_xlfn.XLOOKUP($BC10,'16-66 år'!$A:$A,'16-66 år'!G:G) -> 11652.683 | BY10: =BJ10/_xlfn.XLOOKUP($BC10,'16-66 år'!$A:$A,'16-66 år'!H:H) -> 11791.306 | CB10: Bornholm | CC10: =_xlfn.XLOOKUP($CB10,$A:$A,B:B)/_xlfn.XLOOKUP($CB10,$BC:$BC,BD:BD)*100 -> 47.967082 | CD10: =_xlfn.XLOOKUP($CB10,$A:$A,C:C)/_xlfn.XLOOKUP($CB10,$BC:$BC,BE:BE)*100 -> 52.162047 | CE10: =_xlfn.XLOOKUP($CB10,$A:$A,D:D)/_xlfn.XLOOKUP($CB10,$BC:$BC,BF:BF)*100 -> 55.366333 | CF10: =_xlfn.XLOOKUP($CB10,$A:$A,E:E)/_xlfn.XLOOKUP($CB10,$BC:$BC,BG:BG)*100 -> 58.014349 | CG10: =_xlfn.XLOOKUP($CB10,$A:$A,F:F)/_xlfn.XLOOKUP($CB10,$BC:$BC,BH:BH)*100 -> 59.473626 | CH10: =_xlfn.XLOOKUP($CB10,$A:$A,G:G)/_xlfn.XLOOKUP($CB10,$BC:$BC,BI:BI)*100 -> 61.58482 | CI10: =_xlfn.XLOOKUP($CB10,$A:$A,H:H)/_xlfn.XLOOKUP($CB10,$BC:$BC,BJ:BJ)*100 -> 62.524043
