Workbook

Sheet Overunder_2024-2026
A1: Hele landet | B1: Serviceramme 2024 (2026 p/l) | C1: Budget 2024 (2026 p/l) | D1: Forskel pct 2024 | E1: Over/under 2024 | F1: Serviceramme 2025 (2026 p/l) | G1: Budget 2025 (2026 p/l) | H1: Forskel pct 2025 | I1: Over/under 2025 | J1: Serviceramme 2026 | K1: Budget 2026 | L1: Forskel pct 2026 | M1: Over/under 2026 | N1: Over/under begge år | O1: Gennemsnit | P1: Antal år over | Q1: Antal år under | R1: Antal år lige på | S1: Antal år i alt
A2: Albertslund | B2: =_xlfn.XLOOKUP(A2,'2024'!B:B,'2024'!D:D)*1.06915938074864 -> 2025928.7 | C2: =_xlfn.XLOOKUP(A2,'2023-2025'!D:D,'2023-2025'!T:T)*1.06915938074864 -> 2004673.8 | D2: =(C2-B2)/B2*100 -> -1.049143 | E2: {=_xlfn.IFS(D2<0,"under",D2>0.01,"over",AND(D2<0.01,D2>-0.01),"lige på")} -> under | F2: =_xlfn.XLOOKUP(A2,'2025'!B:B,'2025'!D:D)*1.031 -> 2045755.6 | G2: =_xlfn.XLOOKUP(A2,'2023-2025'!W:W,'2023-2025'!AE:AE)*1.031 -> 2045515.3 | H2: =(G2-F2)/F2*100 -> -0.011742507 | I2: {=_xlfn.IFS(H2<0,"under",H2>0.01,"over",AND(H2<0.01,H2>-0.01),"lige på")} -> under | J2: =_xlfn.XLOOKUP(A2,'2026'!A:A,'2026'!P:P) -> 2058406 | K2: =_xlfn.XLOOKUP(A2,'2026'!A:A,'2026'!G:G) -> 2077000 | L2: =(K2-J2)/J2*100 -> 0.90332034 | M2: {=_xlfn.IFS(L2<-0.01,"under",L2>0.01,"over",AND(L2<0.01,L2>-0.01),"lige på")} -> over | N2: {=IFERROR(_xlfn.IFS(AND(E2="under",I2="under",M2="under"),"Under alle tre år",AND(E2="over",I2="over",M2="over"),"Over alle år"),"")} | O2: =AVERAGE(L2,H2,D2) -> -0.052521708 | P2: =SUM(IF(D2>0.01,1),IF(H2>0.01,1),IF(L2>0.01,1)) -> 1 | Q2: =SUM(IF(D2<-0.01,1),IF(H2<-0.01,1),IF(L2<-0.01,1)) -> 2 | R2: =SUM(IF(E2="lige på",1,0),IF(I2="lige på",1,0),IF(M2="lige på",1,0)) -> 0 | S2: =SUM(P2:R2) -> 3 | U2: Antal over hvert år | V2: =COUNTIF(P2:P99,"=3") -> 14 | W2: Antal over i 2 år | X2: =COUNTIF(P2:P99,"=2") -> 29 | Y2: Antal over et år | Z2: =COUNTIF(P2:P99,"=1") -> 46 | AA2: Antal over mindst to år | AB2: =COUNTIF(P2:P99,">1,9") -> 43
A3: Allerød | B3: =_xlfn.XLOOKUP(A3,'2024'!B:B,'2024'!D:D)*1.06915938074864 -> 1494940.3 | C3: =_xlfn.XLOOKUP(A3,'2023-2025'!D:D,'2023-2025'!T:T)*1.06915938074864 -> 1531364.5 | D3: =(C3-B3)/B3*100 -> 2.4364933 | E3: {=_xlfn.IFS(D3<0,"under",D3>0.01,"over",AND(D3<0.01,D3>-0.01),"lige på")} -> over | F3: =_xlfn.XLOOKUP(A3,'2025'!B:B,'2025'!D:D)*1.031 -> 1561140.2 | G3: =_xlfn.XLOOKUP(A3,'2023-2025'!W:W,'2023-2025'!AE:AE)*1.031 -> 1568072.6 | H3: =(G3-F3)/F3*100 -> 0.44406287 | I3: {=_xlfn.IFS(H3<0,"under",H3>0.01,"over",AND(H3<0.01,H3>-0.01),"lige på")} -> over | J3: =_xlfn.XLOOKUP(A3,'2026'!A:A,'2026'!P:P) -> 1576803 | K3: =_xlfn.XLOOKUP(A3,'2026'!A:A,'2026'!G:G) -> 1586251 | L3: =(K3-J3)/J3*100 -> 0.59918709 | M3: {=_xlfn.IFS(L3<-0.01,"under",L3>0.01,"over",AND(L3<0.01,L3>-0.01),"lige på")} -> over | N3: {=IFERROR(_xlfn.IFS(AND(E3="under",I3="under",M3="under"),"Under alle tre år",AND(E3="over",I3="over",M3="over"),"Over alle år"),"")} -> Over alle år | O3: =AVERAGE(L3,H3,D3) -> 1.1599144 | P3: =SUM(IF(D3>0.01,1),IF(H3>0.01,1),IF(L3>0.01,1)) -> 3 | Q3: =SUM(IF(D3<-0.01,1),IF(H3<-0.01,1),IF(L3<-0.01,1)) -> 0 | R3: =SUM(IF(E3="lige på",1,0),IF(I3="lige på",1,0),IF(M3="lige på",1,0)) -> 0 | S3: =SUM(P3:R3) -> 3 | U3: Antal under hvert år | V3: =COUNTIF(Q2:Q99,"=3") -> 7 | W3: Antal under i 2 år | X3: =COUNTIF(Q2:Q99,"=2") -> 35 | Y3: Antal under et år | Z3: =COUNTIF(Q2:Q99,"=1") -> 29 | AA3: Antal under mindst to år | AB3: =COUNTIF(Q2:Q99,">1,9") -> 42
A4: Assens | B4: =_xlfn.XLOOKUP(A4,'2024'!B:B,'2024'!D:D)*1.06915938074864 -> 2282205.2 | C4: =_xlfn.XLOOKUP(A4,'2023-2025'!D:D,'2023-2025'!T:T)*1.06915938074864 -> 2299567.2 | D4: =(C4-B4)/B4*100 -> 0.76075891 | E4: {=_xlfn.IFS(D4<0,"under",D4>0.01,"over",AND(D4<0.01,D4>-0.01),"lige på")} -> over | F4: =_xlfn.XLOOKUP(A4,'2025'!B:B,'2025'!D:D)*1.031 -> 2350690.3 | G4: =_xlfn.XLOOKUP(A4,'2023-2025'!W:W,'2023-2025'!AE:AE)*1.031 -> 2311979.4 | H4: =(G4-F4)/F4*100 -> -1.646791 | I4: {=_xlfn.IFS(H4<0,"under",H4>0.01,"over",AND(H4<0.01,H4>-0.01),"lige på")} -> under | J4: =_xlfn.XLOOKUP(A4,'2026'!A:A,'2026'!P:P) -> 2329249 | K4: =_xlfn.XLOOKUP(A4,'2026'!A:A,'2026'!G:G) -> 2328665 | L4: =(K4-J4)/J4*100 -> -0.025072459 | M4: {=_xlfn.IFS(L4<-0.01,"under",L4>0.01,"over",AND(L4<0.01,L4>-0.01),"lige på")} -> under | N4: {=IFERROR(_xlfn.IFS(AND(E4="under",I4="under",M4="under"),"Under alle tre år",AND(E4="over",I4="over",M4="over"),"Over alle år"),"")} | O4: =AVERAGE(L4,H4,D4) -> -0.30370152 | P4: =SUM(IF(D4>0.01,1),IF(H4>0.01,1),IF(L4>0.01,1)) -> 1 | Q4: =SUM(IF(D4<-0.01,1),IF(H4<-0.01,1),IF(L4<-0.01,1)) -> 2 | R4: =SUM(IF(E4="lige på",1,0),IF(I4="lige på",1,0),IF(M4="lige på",1,0)) -> 0 | S4: =SUM(P4:R4) -> 3 | U4: Antal lige på hvert år | V4: =COUNTIF(R2:R99,"=3") -> 0 | W4: Antal lige på i 2 år | X4: =COUNTIF(R2:R99,"=2") -> 4 | Y4: Antal lige på et år | Z4: =COUNTIF(R2:R99,"=1") -> 19 | AA4: Antal lige på mindst to år | AB4: =COUNTIF(R2:R99,">1,9") -> 4
A5: Ballerup | B5: =_xlfn.XLOOKUP(A5,'2024'!B:B,'2024'!D:D)*1.06915938074864 -> 3431148.4 | C5: =_xlfn.XLOOKUP(A5,'2023-2025'!D:D,'2023-2025'!T:T)*1.06915938074864 -> 3519729.3 | D5: =(C5-B5)/B5*100 -> 2.5816698 | E5: {=_xlfn.IFS(D5<0,"under",D5>0.01,"over",AND(D5<0.01,D5>-0.01),"lige på")} -> over | F5: =_xlfn.XLOOKUP(A5,'2025'!B:B,'2025'!D:D)*1.031 -> 3589958.5 | G5: =_xlfn.XLOOKUP(A5,'2023-2025'!W:W,'2023-2025'!AE:AE)*1.031 -> 3687915.9 | H5: =(G5-F5)/F5*100 -> 2.7286492 | I5: {=_xlfn.IFS(H5<0,"under",H5>0.01,"over",AND(H5<0.01,H5>-0.01),"lige på")} -> over | J5: =_xlfn.XLOOKUP(A5,'2026'!A:A,'2026'!P:P) -> 3709717 | K5: =_xlfn.XLOOKUP(A5,'2026'!A:A,'2026'!G:G) -> 3748180 | L5: =(K5-J5)/J5*100 -> 1.0368176 | M5: {=_xlfn.IFS(L5<-0.01,"under",L5>0.01,"over",AND(L5<0.01,L5>-0.01),"lige på")} -> over | N5: {=IFERROR(_xlfn.IFS(AND(E5="under",I5="under",M5="under"),"Under alle tre år",AND(E5="over",I5="over",M5="over"),"Over alle år"),"")} -> Over alle år | O5: =AVERAGE(L5,H5,D5) -> 2.1157122 | P5: =SUM(IF(D5>0.01,1),IF(H5>0.01,1),IF(L5>0.01,1)) -> 3 | Q5: =SUM(IF(D5<-0.01,1),IF(H5<-0.01,1),IF(L5<-0.01,1)) -> 0 | R5: =SUM(IF(E5="lige på",1,0),IF(I5="lige på",1,0),IF(M5="lige på",1,0)) -> 0 | S5: =SUM(P5:R5) -> 3 | V5: =SUM(V2:V4) -> 21 | X5: =SUM(X2:X4) -> 68
A6: Billund | B6: =_xlfn.XLOOKUP(A6,'2024'!B:B,'2024'!D:D)*1.06915938074864 -> 1560935.3 | C6: =_xlfn.XLOOKUP(A6,'2023-2025'!D:D,'2023-2025'!T:T)*1.06915938074864 -> 1572680 | D6: =(C6-B6)/B6*100 -> 0.7524153 | E6: {=_xlfn.IFS(D6<0,"under",D6>0.01,"over",AND(D6<0.01,D6>-0.01),"lige på")} -> over | F6: =_xlfn.XLOOKUP(A6,'2025'!B:B,'2025'!D:D)*1.031 -> 1606548.5 | G6: =_xlfn.XLOOKUP(A6,'2023-2025'!W:W,'2023-2025'!AE:AE)*1.031 -> 1606620.7 | H6: =(G6-F6)/F6*100 -> 0.004492239 | I6: {=_xlfn.IFS(H6<0,"under",H6>0.01,"over",AND(H6<0.01,H6>-0.01),"lige på")} -> lige på | J6: =_xlfn.XLOOKUP(A6,'2026'!A:A,'2026'!P:P) -> 1617714 | K6: =_xlfn.XLOOKUP(A6,'2026'!A:A,'2026'!G:G) -> 1617797 | L6: =(K6-J6)/J6*100 -> 0.0051306968 | M6: {=_xlfn.IFS(L6<-0.01,"under",L6>0.01,"over",AND(L6<0.01,L6>-0.01),"lige på")} -> lige på | N6: {=IFERROR(_xlfn.IFS(AND(E6="under",I6="under",M6="under"),"Under alle tre år",AND(E6="over",I6="over",M6="over"),"Over alle år"),"")} | O6: =AVERAGE(L6,H6,D6) -> 0.25401274 | P6: =SUM(IF(D6>0.01,1),IF(H6>0.01,1),IF(L6>0.01,1)) -> 1 | Q6: =SUM(IF(D6<-0.01,1),IF(H6<-0.01,1),IF(L6<-0.01,1)) -> 0 | R6: =SUM(IF(E6="lige på",1,0),IF(I6="lige på",1,0),IF(M6="lige på",1,0)) -> 2 | S6: =SUM(P6:R6) -> 3
A7: Bornholm | B7: =_xlfn.XLOOKUP(A7,'2024'!B:B,'2024'!D:D)*1.06915938074864 -> 2404499.9 | C7: =_xlfn.XLOOKUP(A7,'2023-2025'!D:D,'2023-2025'!T:T)*1.06915938074864 -> 2384338.7 | D7: =(C7-B7)/B7*100 -> -0.83847533 | E7: {=_xlfn.IFS(D7<0,"under",D7>0.01,"over",AND(D7<0.01,D7>-0.01),"lige på")} -> under | F7: =_xlfn.XLOOKUP(A7,'2025'!B:B,'2025'!D:D)*1.031 -> 2434993.1 | G7: =_xlfn.XLOOKUP(A7,'2023-2025'!W:W,'2023-2025'!AE:AE)*1.031 -> 2402566.1 | H7: =(G7-F7)/F7*100 -> -1.3317086 | I7: {=_xlfn.IFS(H7<0,"under",H7>0.01,"over",AND(H7<0.01,H7>-0.01),"lige på")} -> under | J7: =_xlfn.XLOOKUP(A7,'2026'!A:A,'2026'!P:P) -> 2418842 | K7: =_xlfn.XLOOKUP(A7,'2026'!A:A,'2026'!G:G) -> 2420515 | L7: =(K7-J7)/J7*100 -> 0.069165328 | M7: {=_xlfn.IFS(L7<-0.01,"under",L7>0.01,"over",AND(L7<0.01,L7>-0.01),"lige på")} -> over | N7: {=IFERROR(_xlfn.IFS(AND(E7="under",I7="under",M7="under"),"Under alle tre år",AND(E7="over",I7="over",M7="over"),"Over alle år"),"")} | O7: =AVERAGE(L7,H7,D7) -> -0.70033952 | P7: =SUM(IF(D7>0.01,1),IF(H7>0.01,1),IF(L7>0.01,1)) -> 1 | Q7: =SUM(IF(D7<-0.01,1),IF(H7<-0.01,1),IF(L7<-0.01,1)) -> 2 | R7: =SUM(IF(E7="lige på",1,0),IF(I7="lige på",1,0),IF(M7="lige på",1,0)) -> 0 | S7: =SUM(P7:R7) -> 3
A8: Brøndby | B8: =_xlfn.XLOOKUP(A8,'2024'!B:B,'2024'!D:D)*1.06915938074864 -> 2499773.7 | C8: =_xlfn.XLOOKUP(A8,'2023-2025'!D:D,'2023-2025'!T:T)*1.06915938074864 -> 2529635.4 | D8: =(C8-B8)/B8*100 -> 1.194573 | E8: {=_xlfn.IFS(D8<0,"under",D8>0.01,"over",AND(D8<0.01,D8>-0.01),"lige på")} -> over | F8: =_xlfn.XLOOKUP(A8,'2025'!B:B,'2025'!D:D)*1.031 -> 2584788.1 | G8: =_xlfn.XLOOKUP(A8,'2023-2025'!W:W,'2023-2025'!AE:AE)*1.031 -> 2610488.9 | H8: =(G8-F8)/F8*100 -> 0.99430849 | I8: {=_xlfn.IFS(H8<0,"under",H8>0.01,"over",AND(H8<0.01,H8>-0.01),"lige på")} -> over | J8: =_xlfn.XLOOKUP(A8,'2026'!A:A,'2026'!P:P) -> 2629725 | K8: =_xlfn.XLOOKUP(A8,'2026'!A:A,'2026'!G:G) -> 2661706 | L8: =(K8-J8)/J8*100 -> 1.2161348 | M8: {=_xlfn.IFS(L8<-0.01,"under",L8>0.01,"over",AND(L8<0.01,L8>-0.01),"lige på")} -> over | N8: {=IFERROR(_xlfn.IFS(AND(E8="under",I8="under",M8="under"),"Under alle tre år",AND(E8="over",I8="over",M8="over"),"Over alle år"),"")} -> Over alle år | O8: =AVERAGE(L8,H8,D8) -> 1.1350054 | P8: =SUM(IF(D8>0.01,1),IF(H8>0.01,1),IF(L8>0.01,1)) -> 3 | Q8: =SUM(IF(D8<-0.01,1),IF(H8<-0.01,1),IF(L8<-0.01,1)) -> 0 | R8: =SUM(IF(E8="lige på",1,0),IF(I8="lige på",1,0),IF(M8="lige på",1,0)) -> 0 | S8: =SUM(P8:R8) -> 3
A9: Brønderslev | B9: =_xlfn.XLOOKUP(A9,'2024'!B:B,'2024'!D:D)*1.06915938074864 -> 2132545.3 | C9: =_xlfn.XLOOKUP(A9,'2023-2025'!D:D,'2023-2025'!T:T)*1.06915938074864 -> 2129642.5 | D9: =(C9-B9)/B9*100 -> -0.13611752 | E9: {=_xlfn.IFS(D9<0,"under",D9>0.01,"over",AND(D9<0.01,D9>-0.01),"lige på")} -> under | F9: =_xlfn.XLOOKUP(A9,'2025'!B:B,'2025'!D:D)*1.031 -> 2175139.9 | G9: =_xlfn.XLOOKUP(A9,'2023-2025'!W:W,'2023-2025'!AE:AE)*1.031 -> 2130931.6 | H9: =(G9-F9)/F9*100 -> -2.0324325 | I9: {=_xlfn.IFS(H9<0,"under",H9>0.01,"over",AND(H9<0.01,H9>-0.01),"lige på")} -> under | J9: =_xlfn.XLOOKUP(A9,'2026'!A:A,'2026'!P:P) -> 2146067 | K9: =_xlfn.XLOOKUP(A9,'2026'!A:A,'2026'!G:G) -> 2136700 | L9: =(K9-J9)/J9*100 -> -0.43647286 | M9: {=_xlfn.IFS(L9<-0.01,"under",L9>0.01,"over",AND(L9<0.01,L9>-0.01),"lige på")} -> under | N9: {=IFERROR(_xlfn.IFS(AND(E9="under",I9="under",M9="under"),"Under alle tre år",AND(E9="over",I9="over",M9="over"),"Over alle år"),"")} -> Under alle tre år | O9: =AVERAGE(L9,H9,D9) -> -0.86834095 | P9: =SUM(IF(D9>0.01,1),IF(H9>0.01,1),IF(L9>0.01,1)) -> 0 | Q9: =SUM(IF(D9<-0.01,1),IF(H9<-0.01,1),IF(L9<-0.01,1)) -> 3 | R9: =SUM(IF(E9="lige på",1,0),IF(I9="lige på",1,0),IF(M9="lige på",1,0)) -> 0 | S9: =SUM(P9:R9) -> 3
A10: Dragør | B10: =_xlfn.XLOOKUP(A10,'2024'!B:B,'2024'!D:D)*1.06915938074864 -> 831905.43 | C10: =_xlfn.XLOOKUP(A10,'2023-2025'!D:D,'2023-2025'!T:T)*1.06915938074864 -> 837929.07 | D10: =(C10-B10)/B10*100 -> 0.72407797 | E10: {=_xlfn.IFS(D10<0,"under",D10>0.01,"over",AND(D10<0.01,D10>-0.01),"lige på")} -> over | F10: =_xlfn.XLOOKUP(A10,'2025'!B:B,'2025'!D:D)*1.031 -> 855006.24 | G10: =_xlfn.XLOOKUP(A10,'2023-2025'!W:W,'2023-2025'!AE:AE)*1.031 -> 823668.99 | H10: =(G10-F10)/F10*100 -> -3.6651481 | I10: {=_xlfn.IFS(H10<0,"under",H10>0.01,"over",AND(H10<0.01,H10>-0.01),"lige på")} -> under | J10: =_xlfn.XLOOKUP(A10,'2026'!A:A,'2026'!P:P) -> 828964 | K10: =_xlfn.XLOOKUP(A10,'2026'!A:A,'2026'!G:G) -> 845814 | L10: =(K10-J10)/J10*100 -> 2.0326576 | M10: {=_xlfn.IFS(L10<-0.01,"under",L10>0.01,"over",AND(L10<0.01,L10>-0.01),"lige på")} -> over | N10: {=IFERROR(_xlfn.IFS(AND(E10="under",I10="under",M10="under"),"Under alle tre år",AND(E10="over",I10="over",M10="over"),"Over alle år"),"")} | O10: =AVERAGE(L10,H10,D10) -> -0.30280417 | P10: =SUM(IF(D10>0.01,1),IF(H10>0.01,1),IF(L10>0.01,1)) -> 2 | Q10: =SUM(IF(D10<-0.01,1),IF(H10<-0.01,1),IF(L10<-0.01,1)) -> 1 | R10: =SUM(IF(E10="lige på",1,0),IF(I10="lige på",1,0),IF(M10="lige på",1,0)) -> 0 | S10: =SUM(P10:R10) -> 3
A11: Egedal | B11: =_xlfn.XLOOKUP(A11,'2024'!B:B,'2024'!D:D)*1.06915938074864 -> 2431573.1 | C11: =_xlfn.XLOOKUP(A11,'2023-2025'!D:D,'2023-2025'!T:T)*1.06915938074864 -> 2478457.9 | D11: =(C11-B11)/B11*100 -> 1.9281664 | E11: {=_xlfn.IFS(D11<0,"under",D11>0.01,"over",AND(D11<0.01,D11>-0.01),"lige på")} -> over | F11: =_xlfn.XLOOKUP(A11,'2025'!B:B,'2025'!D:D)*1.031 -> 2529454.4 | G11: =_xlfn.XLOOKUP(A11,'2023-2025'!W:W,'2023-2025'!AE:AE)*1.031 -> 2544464.7 | H11: =(G11-F11)/F11*100 -> 0.59342162 | I11: {=_xlfn.IFS(H11<0,"under",H11>0.01,"over",AND(H11<0.01,H11>-0.01),"lige på")} -> over | J11: =_xlfn.XLOOKUP(A11,'2026'!A:A,'2026'!P:P) -> 2560528 | K11: =_xlfn.XLOOKUP(A11,'2026'!A:A,'2026'!G:G) -> 2560342 | L11: =(K11-J11)/J11*100 -> -0.0072641268 | M11: {=_xlfn.IFS(L11<-0.01,"under",L11>0.01,"over",AND(L11<0.01,L11>-0.01),"lige på")} -> lige på | N11: {=IFERROR(_xlfn.IFS(AND(E11="under",I11="under",M11="under"),"Under alle tre år",AND(E11="over",I11="over",M11="over"),"Over alle år"),"")} | O11: =AVERAGE(L11,H11,D11) -> 0.83810797 | P11: =SUM(IF(D11>0.01,1),IF(H11>0.01,1),IF(L11>0.01,1)) -> 2 | Q11: =SUM(IF(D11<-0.01,1),IF(H11<-0.01,1),IF(L11<-0.01,1)) -> 0 | R11: =SUM(IF(E11="lige på",1,0),IF(I11="lige på",1,0),IF(M11="lige på",1,0)) -> 1 | S11: =SUM(P11:R11) -> 3
A12: Esbjerg | B12: =_xlfn.XLOOKUP(A12,'2024'!B:B,'2024'!D:D)*1.06915938074864 -> 6432934.2 | C12: =_xlfn.XLOOKUP(A12,'2023-2025'!D:D,'2023-2025'!T:T)*1.06915938074864 -> 6387283.2 | D12: =(C12-B12)/B12*100 -> -0.70964455 | E12: {=_xlfn.IFS(D12<0,"under",D12>0.01,"over",AND(D12<0.01,D12>-0.01),"lige på")} -> under | F12: =_xlfn.XLOOKUP(A12,'2025'!B:B,'2025'!D:D)*1.031 -> 6530753 | G12: =_xlfn.XLOOKUP(A12,'2023-2025'!W:W,'2023-2025'!AE:AE)*1.031 -> 6481551.6 | H12: =(G12-F12)/F12*100 -> -0.75337992 | I12: {=_xlfn.IFS(H12<0,"under",H12>0.01,"over",AND(H12<0.01,H12>-0.01),"lige på")} -> under | J12: =_xlfn.XLOOKUP(A12,'2026'!A:A,'2026'!P:P) -> 6530593 | K12: =_xlfn.XLOOKUP(A12,'2026'!A:A,'2026'!G:G) -> 6555846 | L12: =(K12-J12)/J12*100 -> 0.3866877 | M12: {=_xlfn.IFS(L12<-0.01,"under",L12>0.01,"over",AND(L12<0.01,L12>-0.01),"lige på")} -> over | N12: {=IFERROR(_xlfn.IFS(AND(E12="under",I12="under",M12="under"),"Under alle tre år",AND(E12="over",I12="over",M12="over"),"Over alle år"),"")} | O12: =AVERAGE(L12,H12,D12) -> -0.35877893 | P12: =SUM(IF(D12>0.01,1),IF(H12>0.01,1),IF(L12>0.01,1)) -> 1 | Q12: =SUM(IF(D12<-0.01,1),IF(H12<-0.01,1),IF(L12<-0.01,1)) -> 2 | R12: =SUM(IF(E12="lige på",1,0),IF(I12="lige på",1,0),IF(M12="lige på",1,0)) -> 0 | S12: =SUM(P12:R12) -> 3
A13: Fanø | B13: =_xlfn.XLOOKUP(A13,'2024'!B:B,'2024'!D:D)*1.06915938074864 -> 215930.64 | C13: =_xlfn.XLOOKUP(A13,'2023-2025'!D:D,'2023-2025'!T:T)*1.06915938074864 -> 218033.67 | D13: =(C13-B13)/B13*100 -> 0.97394077 | E13: {=_xlfn.IFS(D13<0,"under",D13>0.01,"over",AND(D13<0.01,D13>-0.01),"lige på")} -> over | F13: =_xlfn.XLOOKUP(A13,'2025'!B:B,'2025'!D:D)*1.031 -> 222181.53 | G13: =_xlfn.XLOOKUP(A13,'2023-2025'!W:W,'2023-2025'!AE:AE)*1.031 -> 219001.93 | H13: =(G13-F13)/F13*100 -> -1.4310838 | I13: {=_xlfn.IFS(H13<0,"under",H13>0.01,"over",AND(H13<0.01,H13>-0.01),"lige på")} -> under | J13: =_xlfn.XLOOKUP(A13,'2026'!A:A,'2026'!P:P) -> 220174 | K13: =_xlfn.XLOOKUP(A13,'2026'!A:A,'2026'!G:G) -> 220526 | L13: =(K13-J13)/J13*100 -> 0.15987355 | M13: {=_xlfn.IFS(L13<-0.01,"under",L13>0.01,"over",AND(L13<0.01,L13>-0.01),"lige på")} -> over | N13: {=IFERROR(_xlfn.IFS(AND(E13="under",I13="under",M13="under"),"Under alle tre år",AND(E13="over",I13="over",M13="over"),"Over alle år"),"")} | O13: =AVERAGE(L13,H13,D13) -> -0.09908984 | P13: =SUM(IF(D13>0.01,1),IF(H13>0.01,1),IF(L13>0.01,1)) -> 2 | Q13: =SUM(IF(D13<-0.01,1),IF(H13<-0.01,1),IF(L13<-0.01,1)) -> 1 | R13: =SUM(IF(E13="lige på",1,0),IF(I13="lige på",1,0),IF(M13="lige på",1,0)) -> 0 | S13: =SUM(P13:R13) -> 3
A14: Favrskov | B14: =_xlfn.XLOOKUP(A14,'2024'!B:B,'2024'!D:D)*1.06915938074864 -> 2539659.8 | C14: =_xlfn.XLOOKUP(A14,'2023-2025'!D:D,'2023-2025'!T:T)*1.06915938074864 -> 2560296.7 | D14: =(C14-B14)/B14*100 -> 0.81258578 | E14: {=_xlfn.IFS(D14<0,"under",D14>0.01,"over",AND(D14<0.01,D14>-0.01),"lige på")} -> over | F14: =_xlfn.XLOOKUP(A14,'2025'!B:B,'2025'!D:D)*1.031 -> 2616049.1 | G14: =_xlfn.XLOOKUP(A14,'2023-2025'!W:W,'2023-2025'!AE:AE)*1.031 -> 2603879.2 | H14: =(G14-F14)/F14*100 -> -0.46520243 | I14: {=_xlfn.IFS(H14<0,"under",H14>0.01,"over",AND(H14<0.01,H14>-0.01),"lige på")} -> under | J14: =_xlfn.XLOOKUP(A14,'2026'!A:A,'2026'!P:P) -> 2622368 | K14: =_xlfn.XLOOKUP(A14,'2026'!A:A,'2026'!G:G) -> 2617404 | L14: =(K14-J14)/J14*100 -> -0.18929456 | M14: {=_xlfn.IFS(L14<-0.01,"under",L14>0.01,"over",AND(L14<0.01,L14>-0.01),"lige på")} -> under | N14: {=IFERROR(_xlfn.IFS(AND(E14="under",I14="under",M14="under"),"Under alle tre år",AND(E14="over",I14="over",M14="over"),"Over alle år"),"")} | O14: =AVERAGE(L14,H14,D14) -> 0.052696261 | P14: =SUM(IF(D14>0.01,1),IF(H14>0.01,1),IF(L14>0.01,1)) -> 1 | Q14: =SUM(IF(D14<-0.01,1),IF(H14<-0.01,1),IF(L14<-0.01,1)) -> 2 | R14: =SUM(IF(E14="lige på",1,0),IF(I14="lige på",1,0),IF(M14="lige på",1,0)) -> 0 | S14: =SUM(P14:R14) -> 3
A15: Faxe | B15: =_xlfn.XLOOKUP(A15,'2024'!B:B,'2024'!D:D)*1.06915938074864 -> 2071793.5 | C15: =_xlfn.XLOOKUP(A15,'2023-2025'!D:D,'2023-2025'!T:T)*1.06915938074864 -> 2064685.8 | D15: =(C15-B15)/B15*100 -> -0.34307336 | E15: {=_xlfn.IFS(D15<0,"under",D15>0.01,"over",AND(D15<0.01,D15>-0.01),"lige på")} -> under | F15: =_xlfn.XLOOKUP(A15,'2025'!B:B,'2025'!D:D)*1.031 -> 2110342.6 | G15: =_xlfn.XLOOKUP(A15,'2023-2025'!W:W,'2023-2025'!AE:AE)*1.031 -> 2123849.7 | H15: =(G15-F15)/F15*100 -> 0.64004448 | I15: {=_xlfn.IFS(H15<0,"under",H15>0.01,"over",AND(H15<0.01,H15>-0.01),"lige på")} -> over | J15: =_xlfn.XLOOKUP(A15,'2026'!A:A,'2026'!P:P) -> 2139392 | K15: =_xlfn.XLOOKUP(A15,'2026'!A:A,'2026'!G:G) -> 2146243 | L15: =(K15-J15)/J15*100 -> 0.32023117 | M15: {=_xlfn.IFS(L15<-0.01,"under",L15>0.01,"over",AND(L15<0.01,L15>-0.01),"lige på")} -> over | N15: {=IFERROR(_xlfn.IFS(AND(E15="under",I15="under",M15="under"),"Under alle tre år",AND(E15="over",I15="over",M15="over"),"Over alle år"),"")} | O15: =AVERAGE(L15,H15,D15) -> 0.2057341 | P15: =SUM(IF(D15>0.01,1),IF(H15>0.01,1),IF(L15>0.01,1)) -> 2 | Q15: =SUM(IF(D15<-0.01,1),IF(H15<-0.01,1),IF(L15<-0.01,1)) -> 1 | R15: =SUM(IF(E15="lige på",1,0),IF(I15="lige på",1,0),IF(M15="lige på",1,0)) -> 0 | S15: =SUM(P15:R15) -> 3
A16: Fredensborg | B16: =_xlfn.XLOOKUP(A16,'2024'!B:B,'2024'!D:D)*1.06915938074864 -> 2498890.6 | C16: =_xlfn.XLOOKUP(A16,'2023-2025'!D:D,'2023-2025'!T:T)*1.06915938074864 -> 2527841.3 | D16: =(C16-B16)/B16*100 -> 1.158542 | E16: {=_xlfn.IFS(D16<0,"under",D16>0.01,"over",AND(D16<0.01,D16>-0.01),"lige på")} -> over | F16: =_xlfn.XLOOKUP(A16,'2025'!B:B,'2025'!D:D)*1.031 -> 2579768.2 | G16: =_xlfn.XLOOKUP(A16,'2023-2025'!W:W,'2023-2025'!AE:AE)*1.031 -> 2579909.4 | H16: =(G16-F16)/F16*100 -> 0.0054751818 | I16: {=_xlfn.IFS(H16<0,"under",H16>0.01,"over",AND(H16<0.01,H16>-0.01),"lige på")} -> lige på | J16: =_xlfn.XLOOKUP(A16,'2026'!A:A,'2026'!P:P) -> 2596289 | K16: =_xlfn.XLOOKUP(A16,'2026'!A:A,'2026'!G:G) -> 2596239 | L16: =(K16-J16)/J16*100 -> -0.0019258257 | M16: {=_xlfn.IFS(L16<-0.01,"under",L16>0.01,"over",AND(L16<0.01,L16>-0.01),"lige på")} -> lige på | N16: {=IFERROR(_xlfn.IFS(AND(E16="under",I16="under",M16="under"),"Under alle tre år",AND(E16="over",I16="over",M16="over"),"Over alle år"),"")} | O16: =AVERAGE(L16,H16,D16) -> 0.38736379 | P16: =SUM(IF(D16>0.01,1),IF(H16>0.01,1),IF(L16>0.01,1)) -> 1 | Q16: =SUM(IF(D16<-0.01,1),IF(H16<-0.01,1),IF(L16<-0.01,1)) -> 0 | R16: =SUM(IF(E16="lige på",1,0),IF(I16="lige på",1,0),IF(M16="lige på",1,0)) -> 2 | S16: =SUM(P16:R16) -> 3
A17: Fredericia | B17: =_xlfn.XLOOKUP(A17,'2024'!B:B,'2024'!D:D)*1.06915938074864 -> 2963359.1 | C17: =_xlfn.XLOOKUP(A17,'2023-2025'!D:D,'2023-2025'!T:T)*1.06915938074864 -> 3016231.2 | D17: =(C17-B17)/B17*100 -> 1.7841938 | E17: {=_xlfn.IFS(D17<0,"under",D17>0.01,"over",AND(D17<0.01,D17>-0.01),"lige på")} -> over | F17: =_xlfn.XLOOKUP(A17,'2025'!B:B,'2025'!D:D)*1.031 -> 3083682.9 | G17: =_xlfn.XLOOKUP(A17,'2023-2025'!W:W,'2023-2025'!AE:AE)*1.031 -> 3132921.4 | H17: =(G17-F17)/F17*100 -> 1.5967433 | I17: {=_xlfn.IFS(H17<0,"under",H17>0.01,"over",AND(H17<0.01,H17>-0.01),"lige på")} -> over | J17: =_xlfn.XLOOKUP(A17,'2026'!A:A,'2026'!P:P) -> 3156068 | K17: =_xlfn.XLOOKUP(A17,'2026'!A:A,'2026'!G:G) -> 3142522 | L17: =(K17-J17)/J17*100 -> -0.42920495 | M17: {=_xlfn.IFS(L17<-0.01,"under",L17>0.01,"over",AND(L17<0.01,L17>-0.01),"lige på")} -> under | N17: {=IFERROR(_xlfn.IFS(AND(E17="under",I17="under",M17="under"),"Under alle tre år",AND(E17="over",I17="over",M17="over"),"Over alle år"),"")} | O17: =AVERAGE(L17,H17,D17) -> 0.9839107 | P17: =SUM(IF(D17>0.01,1),IF(H17>0.01,1),IF(L17>0.01,1)) -> 2 | Q17: =SUM(IF(D17<-0.01,1),IF(H17<-0.01,1),IF(L17<-0.01,1)) -> 1 | R17: =SUM(IF(E17="lige på",1,0),IF(I17="lige på",1,0),IF(M17="lige på",1,0)) -> 0 | S17: =SUM(P17:R17) -> 3
... A99: Aarhus | B99: =_xlfn.XLOOKUP(A99,'2024'!B:B,'2024'!D:D)*1.06915938074864 -> 17823853 | C99: =_xlfn.XLOOKUP(A99,'2023-2025'!D:D,'2023-2025'!T:T)*1.06915938074864 -> 18034579 | D99: =(C99-B99)/B99*100 -> 1.1822694 | E99: {=_xlfn.IFS(D99<0,"under",D99>0.01,"over",AND(D99<0.01,D99>-0.01),"lige på")} -> over | F99: =_xlfn.XLOOKUP(A99,'2025'!B:B,'2025'!D:D)*1.031 -> 18445411 | G99: =_xlfn.XLOOKUP(A99,'2023-2025'!W:W,'2023-2025'!AE:AE)*1.031 -> 18584860 | H99: =(G99-F99)/F99*100 -> 0.75600884 | I99: {=_xlfn.IFS(H99<0,"under",H99>0.01,"over",AND(H99<0.01,H99>-0.01),"lige på")} -> over | J99: =_xlfn.XLOOKUP(A99,'2026'!A:A,'2026'!P:P) -> 18729172 | K99: =_xlfn.XLOOKUP(A99,'2026'!A:A,'2026'!G:G) -> 18729170 | L99: =(K99-J99)/J99*100 -> -1.0678529e-05 | M99: {=_xlfn.IFS(L99<-0.01,"under",L99>0.01,"over",AND(L99<0.01,L99>-0.01),"lige på")} -> lige på | N99: {=IFERROR(_xlfn.IFS(AND(E99="under",I99="under",M99="under"),"Under alle tre år",AND(E99="over",I99="over",M99="over"),"Over alle år"),"")} | O99: =AVERAGE(L99,H99,D99) -> 0.6460892 | P99: =SUM(IF(D99>0.01,1),IF(H99>0.01,1),IF(L99>0.01,1)) -> 2 | Q99: =SUM(IF(D99<-0.01,1),IF(H99<-0.01,1),IF(L99<-0.01,1)) -> 0 | R99: =SUM(IF(E99="lige på",1,0),IF(I99="lige på",1,0),IF(M99="lige på",1,0)) -> 1 | S99: =SUM(P99:R99) -> 3

Sheet 2024
A1: Nr. | B1: Kommune | C1: Serviceudgifter budget 2023 (1.000 kr.) | D1: Teknisk fordeling serviceramme 2024 (1.000 kr.) | E1: DUT-nøgle (pct.)
A2: Hele landet | B2: I alt | C2: 287758036 | D2: 303737409 | E2: 100
A3: 101 | B3: København | C3: 29837017 | D3: 31498456 | E3: 10.584
A4: 147 | B4: Frederiksberg | C4: 4467297 | D4: 4715919 | E4: 1.578
A5: 151 | B5: Ballerup | C5: 3043034 | D5: 3209202 | E5: 0.925
A6: 153 | B6: Brøndby | C6: 2215504 | D6: 2338074 | E6: 0.748
A7: 155 | B7: Dragør | C7: 737689 | D7: 778093 | E7: 0.231
A8: 157 | B8: Gentofte | C8: 3862580 | D8: 4072903 | E8: 1.146
A9: 159 | B9: Gladsaxe | C9: 3810749 | D9: 4020103 | E9: 1.218
A10: 161 | B10: Glostrup | C10: 1277101 | D10: 1347649 | E10: 0.426
A11: 163 | B11: Herlev | C11: 1633520 | D11: 1723590 | E11: 0.538
A12: 165 | B12: Albertslund | C12: 1796577 | D12: 1894880 | E12: 0.555
A13: 167 | B13: Hvidovre | C13: 3060031 | D13: 3227901 | E13: 0.967
A14: 169 | B14: Høje-Taastrup | C14: 3064283 | D14: 3232574 | E14: 0.977
... A100: 860 | B100: Hjørring | C100: 3330195 | D100: 3514291 | E100: 1.118

Sheet 2025
A1: Nr. | B1: Kommune | C1: Serviceudgifter budget 2024 (1.000 kr.) | D1: Foreløbig teknisk fordeling 2025 (1.000 kr.) | E1: DUT-nøgle (pct.)
A2: Hele landet | B2: I alt | C2: 306097900 | D2: 324421038 | E2: 100
A3: 101 | B3: København | C3: 31976822 | D3: 33894680 | E3: 10.523
A4: 147 | B4: Frederiksberg | C4: 4738495 | D4: 5023065 | E4: 1.567
A5: 151 | B5: Ballerup | C5: 3292053 | D5: 3482016 | E5: 0.93
A6: 153 | B6: Brøndby | C6: 2366004 | D6: 2507069 | E6: 0.761
A7: 155 | B7: Dragør | C7: 783727 | D7: 829298 | E7: 0.228
A8: 157 | B8: Gentofte | C8: 4104435 | D8: 4340653 | E8: 1.146
A9: 159 | B9: Gladsaxe | C9: 4091922 | D9: 4330810 | E9: 1.212
A10: 161 | B10: Glostrup | C10: 1362873 | D10: 1443306 | E10: 0.422
A11: 163 | B11: Herlev | C11: 1735834 | D11: 1838333 | E11: 0.538
A12: 165 | B12: Albertslund | C12: 1875000 | D12: 1984244 | E12: 0.551
A13: 167 | B13: Hvidovre | C13: 3222892 | D13: 3411134 | E13: 0.957
A14: 169 | B14: Høje-Taastrup | C14: 3295196 | D14: 3488724 | E14: 1
... A100: 860 | B100: Hjørring | C100: 3521248 | D100: 3730068 | E100: 1.11

Sheet 2026
A1: Kommune | B1: Hovedkonti 0,2-6 2026 | C1: Funktioner der fratrækkes (driftskonti) 2026 | D1: Funktioner der fratrækkes (statsrefusion) 2026 | E1: Drift - 6.52.72 Tjenestemandspension - Grp. 1 Udbetaling af tjenestemandspensioner, kommunale forsyningsvirksomheder | F1: Drift - 6.52.72 Tjenestemandspension - Grp. 2 Udbetaling af tjenestemandspensioner, tidligere kommunale forsyningsvirksomheder | G1: Serviceudgifter i alt 1.000 kr. | H1: Folketal MTU | I1: udg/indb | J1: Serviceudgifter i alt 2025 1.000 kr. | K1: Ændring i alt (1000 kr.) | L1: Ændr pct i alt 2025-2026 | M1: udg/indb 2025 | N1: Ændring pr indb. (1.000 kr.) | O1: Ændring pr indb. Pct. | P1: Serviceramme 2026 | Q1: Over/under rammen
A2: Albertslund | B2: 2826726 | C2: 900736 | D2: -151323 | E2: 313 | F2: 0 | G2: 2077000 | H2: 28201 | I2: 73649.871 | J2: 2045515.3 | K2: 31484.7 | L2: 1.6 | M2: 71832.4 | N2: 1817.5 | O2: 2.5 | P2: 2058406 | Q2: =G2-P2 -> 18594 | R2: Over rammen | S2: =COUNTIF(Q2:Q100,">0") -> 40
A3: Allerød | B3: 1912668 | C3: 433396 | D3: -106979 | E3: 0 | F3: 0 | G3: 1586251 | H3: 26102 | I3: 60771.244 | J3: 1568072.6 | K3: 18178.4 | L3: 1.2 | M3: 58589.5 | N3: 2181.8 | O3: 3.7 | P3: 1576803 | Q3: =G3-P3 -> 9448 | R3: Under rammen | S3: =COUNTIF(Q2:Q100,"<0") -> 58
A4: Assens | B4: 3422683 | C4: 1308511 | D4: -214493 | E4: 0 | F4: 0 | G4: 2328665 | H4: 40406 | I4: 57631.664 | J4: 2311979.4 | K4: 16685.6 | L4: 0.7 | M4: 55260.3 | N4: 2371.4 | O4: 4.3 | P4: 2329249 | Q4: =G4-P4 -> -584
A5: Ballerup | B5: 5056824 | C5: 1551181 | D5: -244317 | E5: 1780 | F5: 0 | G5: 3748180 | H5: 53602 | I5: 69926.122 | J5: 3687915.9 | K5: 60264.1 | L5: 1.7 | M5: 69189.5 | N5: 736.6 | O5: 1.1 | P5: 3709717 | Q5: =G5-P5 -> 38463
A6: Billund | B6: 2295847 | C6: 813673 | D6: -135623 | E6: 0 | F6: 0 | G6: 1617797 | H6: 27254 | I6: 59359.984 | J6: 1606620.7 | K6: 11176.3 | L6: 0.7 | M6: 57362.6 | N6: 1997.4 | O6: 3.5 | P6: 1617714 | Q6: =G6-P6 -> 83
A7: Bornholm | B7: 3558834 | C7: 1362789 | D7: -224718 | E7: 248 | F7: 0 | G7: 2420515 | H7: 38798 | I7: 62387.623 | J7: 2402566.1 | K7: 17948.9 | L7: 0.8 | M7: 59398.6 | N7: 2989 | O7: 5 | P7: 2418842 | Q7: =G7-P7 -> 1673
A8: Brøndby | B8: 3707426 | C8: 1266173 | D8: -220830 | E8: 377 | F8: 0 | G8: 2661706 | H8: 41309 | I8: 64434.046 | J8: 2610488.9 | K8: 51217.1 | L8: 2 | M8: 63755.8 | N8: 678.3 | O8: 1.1 | P8: 2629725 | Q8: =G8-P8 -> 31981
A9: Brønderslev | B9: 3041252 | C9: 1109522 | D9: -204970 | E9: 0 | F9: 0 | G9: 2136700 | H9: 36778 | I9: 58097.232 | J9: 2130931.6 | K9: 5768.4 | L9: 0.3 | M9: 56406.8 | N9: 1690.4 | O9: 3 | P9: 2146067 | Q9: =G9-P9 -> -9367
A10: Dragør | B10: 1053631 | C10: 251476 | D10: -43659 | E10: 0 | F10: 0 | G10: 845814 | H10: 14374 | I10: 58843.328 | J10: 823669 | K10: 22145 | L10: 2.8 | M10: 55020.9 | N10: 3822.5 | O10: 6.9 | P10: 828964 | Q10: =G10-P10 -> 16850
A11: Egedal | B11: 3234397 | C11: 861459 | D11: -187404 | E11: 0 | F11: 0 | G11: 2560342 | H11: 45905 | I11: 55774.796 | J11: 2544464.7 | K11: 15877.3 | L11: 0.6 | M11: 53815 | N11: 1959.7 | O11: 3.6 | P11: 2560528 | Q11: =G11-P11 -> -186
A12: Esbjerg | B12: 9437403 | C12: 3512678 | D12: -631121 | E12: 0 | F12: 0 | G12: 6555846 | H12: 115123 | I12: 56946.449 | J12: 6481551.6 | K12: 74294.4 | L12: 1.2 | M12: 54445.6 | N12: 2500.9 | O12: 4.6 | P12: 6530593 | Q12: =G12-P12 -> 25253
A13: Fanø | B13: 286558 | C13: 75779 | D13: -9747 | E13: 0 | F13: 0 | G13: 220526 | H13: 3234 | I13: 68189.858 | J13: 219001.9 | K13: 1524.1 | L13: 0.7 | M13: 63923.3 | N13: 4266.6 | O13: 6.7 | P13: 220174 | Q13: =G13-P13 -> 352
A14: Favrskov | B14: 3507331 | C14: 1150547 | D14: -260620 | E14: 0 | F14: 0 | G14: 2617404 | H14: 49560 | I14: 52812.833 | J14: 2603879.2 | K14: 13524.8 | L14: 0.5 | M14: 50990 | N14: 1822.8 | O14: 3.6 | P14: 2622368 | Q14: =G14-P14 -> -4964
A15: Faxe | B15: 2999905 | C15: 1127430 | D15: -273851 | E15: 83 | F15: 0 | G15: 2146243 | H15: 37994 | I15: 56488.998 | J15: 2123849.7 | K15: 22393.3 | L15: 1.1 | M15: 54327.5 | N15: 2161.5 | O15: 4 | P15: 2139392 | Q15: =G15-P15 -> 6851
... A100: Hele landet | B100: 470309827 | C100: 162132147 | D100: -28868823 | E100: 12545 | F100: 294660 | G100: 336739298 | H100: 6020396 | I100: 55933.081 | J100: 3.3432049e+08 | K100: 2418810.6 | L100: 0.7 | M100: 54186 | N100: 1747.1 | O100: 3.2 | P100: 336754174 | Q100: =G100-P100 -> -14876

Sheet 2023-2025
A1: Kommunernes budgetter, funktioner efter prisenhed, art, tid, kommune og dranst | Z1: PL: 24-25 | AA1: 1.04
A2: Enhed: - | E2: 2023 | H2: Grupper som fratrækkes i alt | K2: 2025PL | O2: 2024 | T2: (2025PL) | U2: 1.04 | Z2: 2025
D3: Kommune | E3: Hovedkonti 0, 2-6 | F3: 1 Driftskonti | G3: 2 Statsrefusion | H3: Drift - 6.52.72 Tjenestemandspension - Grp. 1 Udbetaling af tjenestemandspensioner, kommunale forsyningsvirksomheder | I3: Drift - 6.52.72 Tjenestemandspension - Grp. 2 Udbetaling af tjenestemandspensioner, tidligere kommunale forsyningsvirksomheder | J3: Serviceudgifter i alt | K3: 2023 i 2025-pl | L3: Folketal MTU 23 | M3: udg/indb | O3: Hovedkonti 0, 2-6 | P3: Funktioner der fratrækkes (driftskonti) | Q3: Funktioner der fratrækkes (statsrefusion) | R3: Drift - 6.52.72 Tjenestemandspension - Grp. 1 Udbetaling af tjenestemandspensioner, kommunale forsyningsvirksomheder | S3: Drift - 6.52.72 Tjenestemandspension - Grp. 2 Udbetaling af tjenestemandspensioner, tidligere kommunale forsyningsvirksomheder | T3: Serviceudgifter i alt (2025 PL) | U3: Folketal MTU | V3: udg/indb | X3: Ændring kr/indb | Y3: Ændr pct i alt | Z3: Hovedkonti 0, 2-6 | AA3: Funktioner der fratrækkes (driftskonti) | AB3: Funktioner der fratrækkes (statsrefusion) | AC3: Drift - 6.52.72 Tjenestemandspension - Grp. 1 Udbetaling af tjenestemandspensioner, kommunale forsyningsvirksomheder | AD3: Drift - 6.52.72 Tjenestemandspension - Grp. 2 Udbetaling af tjenestemandspensioner, tidligere kommunale forsyningsvirksomheder | AE3: Serviceudgifter i alt 1.000 kr. | AF3: Folketal MTU | AG3: udg/indb | AH3: Ændring kr/indb | AI3: Ændr pct i alt
A4: Løbende priser (1.000 kr.) | B4: I alt (netto) | C4: 2023 | D4: 1 - Hele landet | E4: 400717769 | F4: 137269506 | G4: -24596059 | H4: 26984 | I4: 259302 | J4: =E4-(F4+G4)-H4-I4 -> 287758036 | K4: =+J4*1.042*1.04 -> 3.1183763e+08 | L4: 5924362 | M4: =+K4/L4*1000 -> 52636.491 | O4: 428284260 | P4: 147928768 | Q4: -26020334 | R4: 11365 | S4: 266561 | T4: =(O4-(P4+Q4)-R4-S4) -> 306097900 | U4: 5958486 | V4: =+T4/U4*1000 -> 51371.758 | W4: Hele landet | X4: =+V4-M4 -> -1264.7334 | Y4: =+(T4/K4-1)*100 -> -1.8406145 | Z4: =SUM(Z5:Z102) -> 452654094 | AA4: =SUM(AA5:AA102) -> 155621744 | AB4: =SUM(AB5:AB102) -> -27525173 | AC4: =SUM(AC5:AC102) -> 12310 | AD4: =SUM(AD5:AD102) -> 277039 | AE4: =Z4-(AA4+AB4)-AC4-AD4 -> 324268174 | AF4: =SUM(AF5:AF102) -> 5984354 | AG4: =AE4/AF4*1000 -> 54185.995 | AH4: =AG4-V4 -> 2814.2368 | AI4: =+(AE4/T4-1)*100 -> 5.9360989
D5: Albertslund | E5: 2402375 | F5: 742134 | G5: -136611 | H5: 275 | I5: 0 | J5: =E5-(F5+G5)-H5-I5 -> 1796577 | K5: =+J5*1.042*1.04 -> 1946914.6 | L5: 27680 | M5: =+K5/L5*1000 -> 70336.509 | O5: 2552961 | P5: 823612 | Q5: -145939 | R5: 288 | S5: 0 | T5: =(O5-(P5+Q5)-R5-S5) -> 1875000 | U5: 27451 | V5: =+T5/U5*1000 -> 68303.523 | W5: Albertslund | X5: =+V5-M5 -> -2032.9862 | Y5: =+(T5/K5-1)*100 -> -3.6937709 | Z5: 2701902 | AA5: 868403 | AB5: -150814 | AC5: 302 | AD5: 0 | AE5: =Z5-(AA5+AB5)-AC5-AD5 -> 1984011 | AF5: 27620 | AG5: =AE5/AF5*1000 -> 71832.404 | AH5: =AG5-V5 -> 3528.8814 | AI5: =+(AE5/T5-1)*100 -> 5.81392
D6: Allerød | E6: 1618985 | F6: 383422 | G6: -90537 | H6: 0 | I6: 0 | J6: =E6-(F6+G6)-H6-I6 -> 1326100 | K6: =+J6*1.042*1.04 -> 1437068 | L6: 26181 | M6: =+K6/L6*1000 -> 54889.731 | O6: 1728180 | P6: 389231 | Q6: -93358 | R6: 0 | S6: 0 | T6: =(O6-(P6+Q6)-R6-S6) -> 1432307 | U6: 26132 | V6: =+T6/U6*1000 -> 54810.462 | W6: Allerød | X6: =+V6-M6 -> -79.268758 | Y6: =+(T6/K6-1)*100 -> -0.33130289 | Z6: 1822795 | AA6: 398805 | AB6: -96934 | AC6: 0 | AD6: 0 | AE6: =Z6-(AA6+AB6)-AC6-AD6 -> 1520924 | AF6: 25959 | AG6: =AE6/AF6*1000 -> 58589.468 | AH6: =AG6-V6 -> 3779.0057 | AI6: =+(AE6/T6-1)*100 -> 6.1870116
D7: Assens | E7: 2896221 | F7: 1073127 | G7: -198908 | H7: 0 | I7: 0 | J7: =E7-(F7+G7)-H7-I7 -> 2022002 | K7: =+J7*1.042*1.04 -> 2191203.1 | L7: 41142 | M7: =+K7/L7*1000 -> 53259.519 | O7: 3134624 | P7: 1188508 | Q7: -204702 | R7: 0 | S7: 0 | T7: =(O7-(P7+Q7)-R7-S7) -> 2150818 | U7: 40894 | V7: =+T7/U7*1000 -> 52594.953 | W7: Assens | X7: =+V7-M7 -> -664.56611 | Y7: =+(T7/K7-1)*100 -> -1.8430572 | Z7: 3288633 | AA7: 1253084 | AB7: -206914 | AC7: 0 | AD7: 0 | AE7: =Z7-(AA7+AB7)-AC7-AD7 -> 2242463 | AF7: 40580 | AG7: =AE7/AF7*1000 -> 55260.301 | AH7: =AG7-V7 -> 2665.3478 | AI7: =+(AE7/T7-1)*100 -> 4.260937
D8: Ballerup | E8: 4090338 | F8: 1243729 | G8: -198001 | H8: 1576 | I8: 0 | J8: =E8-(F8+G8)-H8-I8 -> 3043034 | K8: =+J8*1.042*1.04 -> 3297675.1 | L8: 49689 | M8: =+K8/L8*1000 -> 66366.3 | O8: 4388100 | P8: 1312934 | Q8: -218525 | R8: 1638 | S8: 0 | T8: =(O8-(P8+Q8)-R8-S8) -> 3292053 | U8: 50344 | V8: =+T8/U8*1000 -> 65391.169 | W8: Ballerup | X8: =+V8-M8 -> -975.13133 | Y8: =+(T8/K8-1)*100 -> -0.17048633 | Z8: 4791618 | AA8: 1441948 | AB8: -229079 | AC8: 1721 | AD8: 0 | AE8: =Z8-(AA8+AB8)-AC8-AD8 -> 3577028 | AF8: 51699 | AG8: =AE8/AF8*1000 -> 69189.501 | AH8: =AG8-V8 -> 3798.332 | AI8: =+(AE8/T8-1)*100 -> 8.6564524
D9: Billund | E9: 1936020 | F9: 670433 | G9: -117913 | H9: 0 | I9: 0 | J9: =E9-(F9+G9)-H9-I9 -> 1383500 | K9: =+J9*1.042*1.04 -> 1499271.3 | L9: 26817 | M9: =+K9/L9*1000 -> 55907.494 | O9: 2078054 | P9: 733645 | Q9: -126541 | R9: 0 | S9: 0 | T9: =(O9-(P9+Q9)-R9-S9) -> 1470950 | U9: 27079 | V9: =+T9/U9*1000 -> 54320.691 | W9: Billund | X9: =+V9-M9 -> -1586.8032 | Y9: =+(T9/K9-1)*100 -> -1.889003 | Z9: 2203822 | AA9: 773235 | AB9: -127726 | AC9: 0 | AD9: 0 | AE9: =Z9-(AA9+AB9)-AC9-AD9 -> 1558313 | AF9: 27166 | AG9: =AE9/AF9*1000 -> 57362.622 | AH9: =AG9-V9 -> 3041.9311 | AI9: =+(AE9/T9-1)*100 -> 5.939223
D10: Bornholm | E10: 3136951 | F10: 1214471 | G10: -209179 | H10: 160 | I10: 0 | J10: =E10-(F10+G10)-H10-I10 -> 2131499 | K10: =+J10*1.042*1.04 -> 2309862.8 | L10: 39787 | M10: =+K10/L10*1000 -> 58055.718 | O10: 3274230 | P10: 1255829 | Q10: -211945 | R10: 240 | S10: 0 | T10: =(O10-(P10+Q10)-R10-S10) -> 2230106 | U10: 39616 | V10: =+T10/U10*1000 -> 56293.063 | W10: Bornholm | X10: =+V10-M10 -> -1762.6542 | Y10: =+(T10/K10-1)*100 -> -3.4528819 | Z10: 3423616 | AA10: 1311044 | AB10: -217994 | AC10: 240 | AD10: 0 | AE10: =Z10-(AA10+AB10)-AC10-AD10 -> 2330326 | AF10: 39232 | AG10: =AE10/AF10*1000 -> 59398.603 | AH10: =AG10-V10 -> 3105.5398 | AI10: =+(AE10/T10-1)*100 -> 4.4939568
D11: Brøndby | E11: 3094966 | F11: 1059183 | G11: -180220 | H11: 499 | I11: 0 | J11: =E11-(F11+G11)-H11-I11 -> 2215504 | K11: =+J11*1.042*1.04 -> 2400897.4 | L11: 35786 | M11: =+K11/L11*1000 -> 67090.409 | O11: 3336555 | P11: 1160276 | Q11: -190242 | R11: 517 | S11: 0 | T11: =(O11-(P11+Q11)-R11-S11) -> 2366004 | U11: 37428 | V11: =+T11/U11*1000 -> 63214.812 | W11: Brøndby | X11: =+V11-M11 -> -3875.5965 | Y11: =+(T11/K11-1)*100 -> -1.4533472 | Z11: 3555864 | AA11: 1229297 | AB11: -205794 | AC11: 364 | AD11: 0 | AE11: =Z11-(AA11+AB11)-AC11-AD11 -> 2531997 | AF11: 39714 | AG11: =AE11/AF11*1000 -> 63755.779 | AH11: =AG11-V11 -> 540.96638 | AI11: =+(AE11/T11-1)*100 -> 7.0157531
D12: Brønderslev | E12: 2634649 | F12: 933087 | G12: -188818 | H12: 0 | I12: 0 | J12: =E12-(F12+G12)-H12-I12 -> 1890380 | K12: =+J12*1.042*1.04 -> 2048567 | L12: 36435 | M12: =+K12/L12*1000 -> 56225.25 | O12: 2810857 | P12: 1014808 | Q12: -195836 | R12: 0 | S12: 0 | T12: =(O12-(P12+Q12)-R12-S12) -> 1991885 | U12: 36579 | V12: =+T12/U12*1000 -> 54454.332 | W12: Brønderslev | X12: =+V12-M12 -> -1770.9187 | Y12: =+(T12/K12-1)*100 -> -2.7669097 | Z12: 2935323 | AA12: 1063179 | AB12: -194715 | AC12: 0 | AD12: 0 | AE12: =Z12-(AA12+AB12)-AC12-AD12 -> 2066859 | AF12: 36642 | AG12: =AE12/AF12*1000 -> 56406.828 | AH12: =AG12-V12 -> 1952.4965 | AI12: =+(AE12/T12-1)*100 -> 3.7639723
D13: Dragør | E13: 925259 | F13: 229723 | G13: -42153 | H13: 0 | I13: 0 | J13: =E13-(F13+G13)-H13-I13 -> 737689 | K13: =+J13*1.042*1.04 -> 799418.82 | L13: 14795 | M13: =+K13/L13*1000 -> 54033.039 | O13: 984782 | P13: 245360 | Q13: -44305 | R13: 0 | S13: 0 | T13: =(O13-(P13+Q13)-R13-S13) -> 783727 | U13: 14668 | V13: =+T13/U13*1000 -> 53431.074 | W13: Dragør | X13: =+V13-M13 -> -601.96479 | Y13: =+(T13/K13-1)*100 -> -1.962903 | Z13: 1001337 | AA13: 240914 | AB13: -38480 | AC13: 0 | AD13: 0 | AE13: =Z13-(AA13+AB13)-AC13-AD13 -> 798903 | AF13: 14520 | AG13: =AE13/AF13*1000 -> 55020.868 | AH13: =AG13-V13 -> 1589.7933 | AI13: =+(AE13/T13-1)*100 -> 1.9363886
D14: Egedal | E14: 2704218 | F14: 695253 | G14: -147122 | H14: 0 | I14: 0 | J14: =E14-(F14+G14)-H14-I14 -> 2156087 | K14: =+J14*1.042*1.04 -> 2336508.4 | L14: 44920 | M14: =+K14/L14*1000 -> 52014.879 | O14: 2911417 | P14: 754385 | Q14: -161105 | R14: 0 | S14: 0 | T14: =(O14-(P14+Q14)-R14-S14) -> 2318137 | U14: 45556 | V14: =+T14/U14*1000 -> 50885.438 | W14: Egedal | X14: =+V14-M14 -> -1129.4412 | Y14: =+(T14/K14-1)*100 -> -0.7862741 | Z14: 3092348 | AA14: 794755 | AB14: -170365 | AC14: 0 | AD14: 0 | AE14: =Z14-(AA14+AB14)-AC14-AD14 -> 2467958 | AF14: 45860 | AG14: =AE14/AF14*1000 -> 53815.046 | AH14: =AG14-V14 -> 2929.6081 | AI14: =+(AE14/T14-1)*100 -> 6.4629916
D15: Esbjerg | E15: 8103620 | F15: 2903178 | G15: -499141 | H15: 0 | I15: 0 | J15: =E15-(F15+G15)-H15-I15 -> 5699583 | K15: =+J15*1.042*1.04 -> 6176524.1 | L15: 116036 | M15: =+K15/L15*1000 -> 53229.378 | O15: 8581447 | P15: 3176932 | Q15: -569602 | R15: 0 | S15: 0 | T15: =(O15-(P15+Q15)-R15-S15) -> 5974117 | U15: 115836 | V15: =+T15/U15*1000 -> 51573.923 | W15: Esbjerg | X15: =+V15-M15 -> -1655.4545 | Y15: =+(T15/K15-1)*100 -> -3.277039 | Z15: 9080464 | AA15: 3382524 | AB15: -588725 | AC15: 0 | AD15: 0 | AE15: =Z15-(AA15+AB15)-AC15-AD15 -> 6286665 | AF15: 115467 | AG15: =AE15/AF15*1000 -> 54445.556 | AH15: =AG15-V15 -> 2871.6324 | AI15: =+(AE15/T15-1)*100 -> 5.231702
D16: Fanø | E16: 246570 | F16: 63874 | G16: -8886 | H16: 0 | I16: 0 | J16: =E16-(F16+G16)-H16-I16 -> 191582 | K16: =+J16*1.042*1.04 -> 207613.58 | L16: 3446 | M16: =+K16/L16*1000 -> 60247.702 | O16: 262693 | P16: 69074 | Q16: -10311 | R16: 0 | S16: 0 | T16: =(O16-(P16+Q16)-R16-S16) -> 203930 | U16: 3426 | V16: =+T16/U16*1000 -> 59524.227 | W16: Fanø | X16: =+V16-M16 -> -723.47569 | Y16: =+(T16/K16-1)*100 -> -1.7742489 | Z16: 278654 | AA16: 76429 | AB16: -10192 | AC16: 0 | AD16: 0 | AE16: =Z16-(AA16+AB16)-AC16-AD16 -> 212417 | AF16: 3323 | AG16: =AE16/AF16*1000 -> 63923.262 | AH16: =AG16-V16 -> 4399.0356 | AI16: =+(AE16/T16-1)*100 -> 4.1617222
... D102: Aarhus | E102: 22619973 | F102: 8178470 | G102: -1360255 | H102: 12781 | I102: 0 | J102: =E102-(F102+G102)-H102-I102 -> 15788977 | K102: =+J102*1.042*1.04 -> 17110199 | L102: 360011 | M102: =+K102/L102*1000 -> 47526.877 | O102: 24170475 | P102: 8896216 | Q102: -1605955 | R102: 12215 | S102: 0 | T102: =(O102-(P102+Q102)-R102-S102) -> 16867999 | U102: 364871 | V102: =+T102/U102*1000 -> 46230.035 | W102: Aarhus | X102: =+V102-M102 -> -1296.8425 | Y102: =+(T102/K102-1)*100 -> -1.4155277 | Z102: 25709456 | AA102: 9388671 | AB102: -1717942 | AC102: 12675 | AD102: 0 | AE102: =Z102-(AA102+AB102)-AC102-AD102 -> 18026052 | AF102: 370598 | AG102: =AE102/AF102*1000 -> 48640.446 | AH102: =AG102-V102 -> 2410.4113 | AI102: =+(AE102/T102-1)*100 -> 6.8653846
A104: Beregnet værdi: Funktioner, som fratrækkes i alt Sum (værdi nr. 1 + 2 + 3 + 4 + 5 + 6 + 7 + 8 + 9 + 10 + 11 + 12 + 13 + 14 + 15 + 16 + 17 + 18 + 19 + 20 + 21 + 22 + 23 + 24 + 25 + 26 + 27 + 28 + 29 + 30 + 31) for variablen fnktion. Udelad oprindelige værdier
W105: under 0 | X105: =COUNTIF(X5:X102,"<0") -> 98 | Y105: =COUNTIF(Y5:Y102,"<0") -> 97
W106: under 760 | X106: =COUNTIF(X5:X102,"<760") -> 98 | Y106: =COUNTIF(Y5:Y102,"<2,1") -> 98
